Workbook
Name liste_ope: OFFSET(#REF!,1,MATCH('[1]planning soudure'!XFC1048576,#REF!,0)-1,COUNTA(OFFSET(#REF!,,MATCH(#REF!,#REF!,0)-1))-1)
Name liste_ref: OFFSET('[1]feuille opération'!$A$1,,1,,COUNTA('[1]feuille opération'!$1:$1)-1)
Name tab_produits: OFFSET(' feuille ref designation'!$A$2,,,COUNTA(' feuille ref designation'!$A:$A),2)

Sheet planning soudure
A1: PLANNING SEMAINE : SOUDURE 2014
A3: Date | B3: Nom | C3: Prénom | D3: Référence | E3: Designation | F3: Opération | G3: Quantité | H3: Temps théorique | I3: TEMPS Réel | J3: Différence théorique /réel | K3: Temps restant
A4: Lundi | B4: Decloitre | C4: =VLOOKUP(B4,'base nom prénom'!$A$1:$B$38,2,FALSE) -> Martine | D4: lum10120 | E4: =IF(D4="","",VLOOKUP(D4,tab_produits,2,FALSE)) -> STD 2000 CESL | F4: OP 150 ASSEMBLAGE ,LUM10120 | H4: =IFERROR(VLOOKUP(F4,'feuille temps par opé'!B:C,2,FALSE),"")*G4 -> 0 | J4: =I4-H4 -> 0 | M4: J'aimerais que ce qui apparait dans ce tableaupour lundi apparraisse sur la feuille 1 quand je choisi lundi dans la date pour la feuille 1 ainsi que tte les info pour les 5 premières colonnes de la feuille1 qui sont les mêmes que sur la feuille planning soudure. Merci
D5: lum10120 | E5: =IF(D5="","",VLOOKUP(D5,tab_produits,2,FALSE)) -> STD 2000 CESL | F5: OP 300 EMBALLAGE ,LUM10120 | H5: =IFERROR(VLOOKUP(F5,'feuille temps par opé'!B:C,2,FALSE),"")*G5 -> 0 | J5: =I5-H5 -> 0
A6: Mardi | D6: lum10120 | E6: =IF(D6="","",VLOOKUP(D6,tab_produits,2,FALSE)) -> STD 2000 CESL | F6: OP 300 EMBALLAGE ,LUM10120 | H6: =IFERROR(VLOOKUP(F6,'feuille temps par opé'!B:C,2,FALSE),"")*G6 -> 0 | J6: =I6-H6 -> 0
E7: =IF(D7="","",VLOOKUP(D7,tab_produits,2,FALSE)) | H7: =IFERROR(VLOOKUP(F7,'feuille temps par opé'!B:C,2,FALSE),"")*G7 -> #VALUE! | J7: =I7-H7 -> #VALUE!
E8: =IF(D8="","",VLOOKUP(D8,tab_produits,2,FALSE)) | H8: =IFERROR(VLOOKUP(F8,'feuille temps par opé'!B:C,2,FALSE),"")*G8 -> #VALUE! | J8: =I8-H8 -> #VALUE!
H9: =IFERROR(VLOOKUP(F9,'feuille temps par opé'!B:C,2,FALSE),"")*G9 -> #VALUE! | J9: =I9-H9 -> #VALUE!
H10: =IFERROR(VLOOKUP(F10,'feuille temps par opé'!B:C,2,FALSE),"")*G10 -> #VALUE! | J10: =I10-H10 -> #VALUE!
H11: =IFERROR(VLOOKUP(F11,'feuille temps par opé'!B:C,2,FALSE),"")*G11 -> #VALUE! | J11: =I11-H11 -> #VALUE!
H12: =IFERROR(VLOOKUP(F12,'feuille temps par opé'!B:C,2,FALSE),"")*G12 -> #VALUE! | J12: =I12-H12 -> #VALUE!
H13: =IFERROR(VLOOKUP(F13,'feuille temps par opé'!B:C,2,FALSE),"")*G13 -> #VALUE! | J13: =I13-H13 -> #VALUE!
H14: =IFERROR(VLOOKUP(F14,'feuille temps par opé'!B:C,2,FALSE),"")*G14 -> #VALUE! | J14: =I14-H14 -> #VALUE!
H15: =IFERROR(VLOOKUP(F15,'feuille temps par opé'!B:C,2,FALSE),"")*G15 -> #VALUE! | J15: =I15-H15 -> #VALUE!
H16: =IFERROR(VLOOKUP(F16,'feuille temps par opé'!B:C,2,FALSE),"")*G16 -> #VALUE! | J16: =I16-H16 -> #VALUE!
H17: =IFERROR(VLOOKUP(F17,'feuille temps par opé'!B:C,2,FALSE),"")*G17 -> #VALUE! | J17: =I17-H17 -> #VALUE!
H18: =IFERROR(VLOOKUP(F18,'feuille temps par opé'!B:C,2,FALSE),"")*G18 -> #VALUE! | J18: =I18-H18 -> #VALUE!
H19: =IFERROR(VLOOKUP(F19,'feuille temps par opé'!B:C,2,FALSE),"")*G19 -> #VALUE! | J19: =I19-H19 -> #VALUE!
H20: =IFERROR(VLOOKUP(F20,'feuille temps par opé'!B:C,2,FALSE),"")*G20 -> #VALUE! | J20: =I20-H20 -> #VALUE!
... H89: =IFERROR(VLOOKUP(F89,'feuille temps par opé'!B:C,2,FALSE),"")*G89 -> #VALUE! | J89: =I89-H89 -> #VALUE!
E90: =IF(D90="","",VLOOKUP(D90,tab_produits,2,FALSE)) | F90: =IFERROR(OFFSET('opérations par produit'!$A$1,1,MATCH(D90,'opérations par produit'!$1:$1,0)-1,COUNTA(OFFSET('opérations par produit'!$A:$A,,MATCH(D90,'opérations par produit'!$1:$1,0)-1))-1,),"") | H90: =IFERROR(VLOOKUP(F90,'feuille temps par opé'!B:C,2,FALSE),"")*G90 -> 0 | J90: =I90-H90 -> 0
E91: =IF(D91="","",VLOOKUP(D91,tab_produits,2,FALSE)) | F91: =IFERROR(OFFSET('opérations par produit'!$A$1,1,MATCH(D91,'opérations par produit'!$1:$1,0)-1,COUNTA(OFFSET('opérations par produit'!$A:$A,,MATCH(D91,'opérations par produit'!$1:$1,0)-1))-1,),"") | H91: =IFERROR(VLOOKUP(F91,'feuille temps par opé'!B:C,2,FALSE),"")*G91 -> 0 | J91: =I91-H91 -> 0
E92: =IF(D92="","",VLOOKUP(D92,tab_produits,2,FALSE)) | F92: TOTAL | H92: =SUM(H4:H91) -> #VALUE! | I92: =SUM(I4:I91) -> 0 | J92: =SUM(J4:J91) -> #VALUE! | K92: =K91 -> 0
B93: Decloitre | C93: =VLOOKUP(B93,'base nom prénom'!$A$1:$B$38,2,FALSE) -> Martine | E93: =IF(D93="","",VLOOKUP(D93,tab_produits,2,FALSE)) | H93: =IFERROR(VLOOKUP(F93,'feuille temps par opé'!B:C,2,FALSE),"")*G93 -> #VALUE! | J93: =I93-H93 -> #VALUE!
E94: =IF(D94="","",VLOOKUP(D94,tab_produits,2,FALSE)) | H94: =IFERROR(VLOOKUP(F94,'feuille temps par opé'!B:C,2,FALSE),"")*G94 -> #VALUE! | J94: =I94-H94 -> #VALUE!
E95: =IF(D95="","",VLOOKUP(D95,tab_produits,2,FALSE)) | H95: =IFERROR(VLOOKUP(F95,'feuille temps par opé'!B:C,2,FALSE),"")*G95 -> #VALUE! | J95: =I95-H95 -> #VALUE!
E96: =IF(D96="","",VLOOKUP(D96,tab_produits,2,FALSE)) | H96: =IFERROR(VLOOKUP(F96,'feuille temps par opé'!B:C,2,FALSE),"")*G96 -> #VALUE! | J96: =I96-H96 -> #VALUE!
E97: =IF(D97="","",VLOOKUP(D97,tab_produits,2,FALSE)) | H97: =IFERROR(VLOOKUP(F97,'feuille temps par opé'!B:C,2,FALSE),"")*G97 -> #VALUE! | J97: =I97-H97 -> #VALUE!
H98: =IFERROR(VLOOKUP(F98,'feuille temps par opé'!B:C,2,FALSE),"")*G98 -> #VALUE! | J98: =I98-H98 -> #VALUE!
H99: =IFERROR(VLOOKUP(F99,'feuille temps par opé'!B:C,2,FALSE),"")*G99 -> #VALUE! | J99: =I99-H99 -> #VALUE!
H100: =IFERROR(VLOOKUP(F100,'feuille temps par opé'!B:C,2,FALSE),"")*G100 -> #VALUE! | J100: =I100-H100 -> #VALUE!
H101: =IFERROR(VLOOKUP(F101,'feuille temps par opé'!B:C,2,FALSE),"")*G101 -> #VALUE! | J101: =I101-H101 -> #VALUE!
H102: =IFERROR(VLOOKUP(F102,'feuille temps par opé'!B:C,2,FALSE),"")*G102 -> #VALUE! | J102: =I102-H102 -> #VALUE!
H103: =IFERROR(VLOOKUP(F103,'feuille temps par opé'!B:C,2,FALSE),"")*G103 -> #VALUE! | J103: =I103-H103 -> #VALUE!
H104: =IFERROR(VLOOKUP(F104,'feuille temps par opé'!B:C,2,FALSE),"")*G104 -> #VALUE! | J104: =I104-H104 -> #VALUE!
H105: =IFERROR(VLOOKUP(F105,'feuille temps par opé'!B:C,2,FALSE),"")*G105 -> #VALUE! | J105: =I105-H105 -> #VALUE!
H106: =IFERROR(VLOOKUP(F106,'feuille temps par opé'!B:C,2,FALSE),"")*G106 -> #VALUE! | J106: =I106-H106 -> #VALUE!
H107: =IFERROR(VLOOKUP(F107,'feuille temps par opé'!B:C,2,FALSE),"")*G107 -> #VALUE! | J107: =I107-H107 -> #VALUE!
H108: =IFERROR(VLOOKUP(F108,'feuille temps par opé'!B:C,2,FALSE),"")*G108 -> #VALUE! | J108: =I108-H108 -> #VALUE!
H109: =IFERROR(VLOOKUP(F109,'feuille temps par opé'!B:C,2,FALSE),"")*G109 -> #VALUE! | J109: =I109-H109 -> #VALUE!
...

Sheet Feuil1
A1: ="NOM : "&'planning soudure'!B4 -> NOM : Decloitre | G1: DATE :
A2: OBJECTIFS | G2: REALISATION
A3: Date | B3: Référence | C3: Opération | D3: Quantité à produire | E3: Temps unitaire | F3: Temps théorique | G3: Quantité produite | H3: TEMPS Réalisé | I3: Différence théorique /réel
A4: Lundi | E4: =IF(D4="","",VLOOKUP(D4,tab_produits,2,FALSE))
E5: =IF(D5="","",VLOOKUP(D5,tab_produits,2,FALSE))
E6: =IF(D6="","",VLOOKUP(D6,tab_produits,2,FALSE))
E7: =IF(D7="","",VLOOKUP(D7,tab_produits,2,FALSE))
E8: =IF(D8="","",VLOOKUP(D8,tab_produits,2,FALSE))
E20: =IF(D20="","",VLOOKUP(D20,tab_produits,2,FALSE)) | F20: =IFERROR(OFFSET('opérations par produit'!$A$1,1,MATCH(D20,'opérations par produit'!$1:$1,0)-1,COUNTA(OFFSET('opérations par produit'!$A:$A,,MATCH(D20,'opérations par produit'!$1:$1,0)-1))-1,),"")
E21: =IF(D21="","",VLOOKUP(D21,tab_produits,2,FALSE)) | F21: =IFERROR(OFFSET('opérations par produit'!$A$1,1,MATCH(D21,'opérations par produit'!$1:$1,0)-1,COUNTA(OFFSET('opérations par produit'!$A:$A,,MATCH(D21,'opérations par produit'!$1:$1,0)-1))-1,),"")
B22: TOTAL
A23: ALEAS
A24: TEMPS EN MINUTE | B24: REFERENCE PRODUIT | C24: OBSERVATIONS
A34: REBUTS
A35: NOMBRE | B35: REFERENCE PRODUIT | C35: CAUSES

Sheet Feuil2
A1: ="NOM : "&'planning soudure'!B93 -> NOM : Decloitre | G1: DATE :
A2: OBJECTIFS | G2: REALISATION
A3: Date | B3: Référence | C3: Opération | D3: Quantité à produire | E3: Temps unitaire | F3: Temps théorique | G3: Quantité produite | H3: TEMPS Réalisé | I3: Différence théorique /réel
E4: =IF(D4="","",VLOOKUP(D4,tab_produits,2,FALSE))
E5: =IF(D5="","",VLOOKUP(D5,tab_produits,2,FALSE))
E6: =IF(D6="","",VLOOKUP(D6,tab_produits,2,FALSE))
E7: =IF(D7="","",VLOOKUP(D7,tab_produits,2,FALSE))
E8: =IF(D8="","",VLOOKUP(D8,tab_produits,2,FALSE))
E20: =IF(D20="","",VLOOKUP(D20,tab_produits,2,FALSE)) | F20: =IFERROR(OFFSET('opérations par produit'!$A$1,1,MATCH(D20,'opérations par produit'!$1:$1,0)-1,COUNTA(OFFSET('opérations par produit'!$A:$A,,MATCH(D20,'opérations par produit'!$1:$1,0)-1))-1,),"")
E21: =IF(D21="","",VLOOKUP(D21,tab_produits,2,FALSE)) | F21: =IFERROR(OFFSET('opérations par produit'!$A$1,1,MATCH(D21,'opérations par produit'!$1:$1,0)-1,COUNTA(OFFSET('opérations par produit'!$A:$A,,MATCH(D21,'opérations par produit'!$1:$1,0)-1))-1,),"")
B22: TOTAL
A23: ALEAS
A24: TEMPS EN MINUTE | B24: REFERENCE PRODUIT | C24: OBSERVATIONS
A34: REBUTS
A35: NOMBRE | B35: REFERENCE PRODUIT | C35: CAUSES

Sheet Feuil3
A1: ="NOM : "&'planning soudure'!B182 -> NOM : Decloitre | G1: DATE :
A2: OBJECTIFS | G2: REALISATION
A3: Date | B3: Référence | C3: Opération | D3: Quantité à produire | E3: Temps unitaire | F3: Temps théorique | G3: Quantité produite | H3: TEMPS Réalisé | I3: Différence théorique /réel
E4: =IF(D4="","",VLOOKUP(D4,tab_produits,2,FALSE))
E5: =IF(D5="","",VLOOKUP(D5,tab_produits,2,FALSE))
E6: =IF(D6="","",VLOOKUP(D6,tab_produits,2,FALSE))
E7: =IF(D7="","",VLOOKUP(D7,tab_produits,2,FALSE))
E8: =IF(D8="","",VLOOKUP(D8,tab_produits,2,FALSE))
E20: =IF(D20="","",VLOOKUP(D20,tab_produits,2,FALSE)) | F20: =IFERROR(OFFSET('opérations par produit'!$A$1,1,MATCH(D20,'opérations par produit'!$1:$1,0)-1,COUNTA(OFFSET('opérations par produit'!$A:$A,,MATCH(D20,'opérations par produit'!$1:$1,0)-1))-1,),"")
E21: =IF(D21="","",VLOOKUP(D21,tab_produits,2,FALSE)) | F21: =IFERROR(OFFSET('opérations par produit'!$A$1,1,MATCH(D21,'opérations par produit'!$1:$1,0)-1,COUNTA(OFFSET('opérations par produit'!$A:$A,,MATCH(D21,'opérations par produit'!$1:$1,0)-1))-1,),"")
B22: TOTAL
A23: ALEAS
A24: TEMPS EN MINUTE | B24: REFERENCE PRODUIT | C24: OBSERVATIONS
A34: REBUTS
A35: NOMBRE | B35: REFERENCE PRODUIT | C35: CAUSES

Sheet Feuil4
A1: ="NOM : "&'planning soudure'!B271 -> NOM : Decloitre | G1: DATE :
A2: OBJECTIFS | G2: REALISATION
A3: Date | B3: Référence | C3: Opération | D3: Quantité à produire | E3: Temps unitaire | F3: Temps théorique | G3: Quantité produite | H3: TEMPS Réalisé | I3: Différence théorique /réel
E4: =IF(D4="","",VLOOKUP(D4,tab_produits,2,FALSE))
E5: =IF(D5="","",VLOOKUP(D5,tab_produits,2,FALSE))
E6: =IF(D6="","",VLOOKUP(D6,tab_produits,2,FALSE))
E7: =IF(D7="","",VLOOKUP(D7,tab_produits,2,FALSE))
E8: =IF(D8="","",VLOOKUP(D8,tab_produits,2,FALSE))
E20: =IF(D20="","",VLOOKUP(D20,tab_produits,2,FALSE)) | F20: =IFERROR(OFFSET('opérations par produit'!$A$1,1,MATCH(D20,'opérations par produit'!$1:$1,0)-1,COUNTA(OFFSET('opérations par produit'!$A:$A,,MATCH(D20,'opérations par produit'!$1:$1,0)-1))-1,),"")
E21: =IF(D21="","",VLOOKUP(D21,tab_produits,2,FALSE)) | F21: =IFERROR(OFFSET('opérations par produit'!$A$1,1,MATCH(D21,'opérations par produit'!$1:$1,0)-1,COUNTA(OFFSET('opérations par produit'!$A:$A,,MATCH(D21,'opérations par produit'!$1:$1,0)-1))-1,),"")
B22: TOTAL
A23: ALEAS
A24: TEMPS EN MINUTE | B24: REFERENCE PRODUIT | C24: OBSERVATIONS
A34: REBUTS
A35: NOMBRE | B35: REFERENCE PRODUIT | C35: CAUSES

Sheet base nom prénom
A1: Nom | B1: Prénom
A2: Monteiro.M | B2: Marie José
A3: Martinez | B3: Marie Françoise
A4: Lissorgue | B4: Nadine
A5: Amara | B5: Laurence
A6: Morel | B6: Chantal
A7: Martin | B7: Marielle
A8: Decloitre | B8: Martine
A9: Servagnat | B9: Jean Luc
A10: Mazeron | B10: Claire
A11: Dos Santos | B11: Gloria
A12: Casy | B12: Madelaine
... A20: Monteiro.C | B20: Céline

Sheet  feuille ref designation
A1: Ref | B1: Designation
A2: 739REUR-00N | B2: EMETTEUR RADIO POUR VX402R & BX80NR
A3: AL4590 | B3: AL4590 ALTO Edge light exit sign LF**
A4: I-ON16EURN | B4: CENTRALE ALARME RADIO 16 Z + NOTICES
A5: I-ON16KIT | B5: I-ON16 + 2 x XCELRPT + 9040 + Batt 12 V
A6: LUCBEZ | B6: LUCBEZ CADRE SEMI-ENCASTREMENT
A7: LUM0003100 | B7: Tube Culot G13 - 18 W
A8: LUM0004600 | B8: Tube Culot G13 - 36 W
A9: LUM10102 | B9: STD 65C
A10: LUM10106 | B10: STD 65CES
A11: LUM10118 | B11: STD 2000 CL
A12: LUM10120 | B12: STD 2000 CESL
... A332: NEC0003300 | B332: E ELECT CMS LED 10P ADR
A333: NEC0003600 | B333: #NAME?
A334: NEC00040C0 | B334: #NAME?
A335: NEC00042A0 | B335: E ELECT CMS SAB3 LED 400 ESPL
A336: NEC00044C0 | B336: #NAME?
A337: NEC0004500 | B337: .E ELECT CMS CARTE ALIM. + CDE GDE
A338: NEC0004600 | B338: E ELECT CMS CARTE LEDS GDE
A339: NEC00047B0 | B339: E ELECT CMS ALIM LED 400 ESPL (Ma907)
A340: NEC0005000 | B340: E ELECT CMS RLL 24
A341: NEC0005100 | B341: E ELECT CMS CENTRALE ADR CMS 2006
A342: NEC00052A0 | B342: E ELECT CMS TLU (MA898)
A343: NEC00053B0 | B343: E ELECT CMS BLOC PHARES ADR 2006**
A344: NEC00055C0 | B344: E ELECT CMS PLANETE 15D
A345: NEC0005600 | B345: E ELECT CMS CARTE LED LED 400 IAV**
A346: NEC00056A0 | B346: E ELECT CMS CARTE LED LED400IAV (Mi978)
A347: NEC0005800 | B347: E ELECT CMS SAB2 Bis A
A348: NEC00060A0 | B348: E ELECT CMS LSC DESIGN 230V AC (Ma912)
... A888: VAE64023 | B888: .BAAS MaME - Message Enreg. - Flash

Sheet feuille temps par opé
A1: Ref | B1: Operations/ref | C1: Tps | D1: Operation
A2: 739REUR-00N | B2: =D2 &","& A2 -> OP 300 EMBALLAGE ,739REUR-00N | C2: 1.4 | D2: OP 300 EMBALLAGE
A3: AL4590 | B3: =D3 &","& A3 -> OP 100 INSERTION ,AL4590 | C3: 0.996 | D3: OP 100 INSERTION
A4: AL4590 | B4: =D4 &","& A4 -> OP 100 INSERTION ,AL4590 | C4: 1.662 | D4: OP 100 INSERTION
A5: AL4590 | B5: =D5 &","& A5 -> OP 150 ASSEMBLAGE,AL4590 | C5: 4.56 | D5: OP 150 ASSEMBLAGE
A6: AL4590 | B6: =D6 &","& A6 -> OP 300 EMBALLAGE ,AL4590 | C6: 1.942 | D6: OP 300 EMBALLAGE
A7: I-ON16EURN | B7: =D7 &","& A7 -> OP 300 EMBALLAGE ,I-ON16EURN | C7: 0.71 | D7: OP 300 EMBALLAGE
A8: I-ON16KIT | B8: =D8 &","& A8 -> OP 300 EMBALLAGE,I-ON16KIT | C8: 2.7 | D8: OP 300 EMBALLAGE
A9: LUCBEZ | B9: =D9 &","& A9 -> SS TRAITANCE ,LUCBEZ | C9: 1.8 | D9: SS TRAITANCE
A10: LUM0003100 | B10: =D10 &","& A10 -> OP 300 EMBALLAGE ,LUM0003100 | C10: 1 | D10: OP 300 EMBALLAGE
A11: LUM0004600 | B11: =D11 &","& A11 -> OP 300 EMBALLAGE ,LUM0004600 | C11: 1 | D11: OP 300 EMBALLAGE
A12: LUM10102 | B12: =D12 &","& A12 -> OP 300 EMBALLAGE ,LUM10102 | C12: 0.4 | D12: OP 300 EMBALLAGE
A13: LUM10106 | B13: =D13 &","& A13 -> 300 EMBALLAGE CHAINE ,LUM10106 | C13: 1.612 | D13: 300 EMBALLAGE CHAINE
... A685: NBO4014400 | B685: =D685 &","& A685 -> OP 50 PREPARATION,NBO4014400 | C685: 0.149 | D685: OP 50 PREPARATION
A686: NBO4015300 | B686: =D686 &","& A686 -> ,NBO4015300 | C686: 0.186
A687: NBO7126100 | B687: =D687 &","& A687 -> ARTICLE SS TRAITE VOIR YS,NBO7126100 | C687: 0.312 | D687: ARTICLE SS TRAITE VOIR YS
A688: NBO7145200 | B688: =D688 &","& A688 -> SS TRAITANCE ,NBO7145200 | C688: 1.8 | D688: SS TRAITANCE
A689: NBO7215800 | B689: =D689 &","& A689 -> OP 60 TOLERIE,NBO7215800 | C689: 0.162 | D689: OP 60 TOLERIE
A690: NBO7215900 | B690: =D690 &","& A690 -> OP 60 TOLERIE,NBO7215900 | C690: 2.52 | D690: OP 60 TOLERIE
A691: NBO7269000 | B691: =D691 &","& A691 -> SS TRAITANCE ,NBO7269000 | C691: 0.24 | D691: SS TRAITANCE
A692: NBO7276900 | B692: =D692 &","& A692 -> SS TRAITANCE ,NBO7276900 | C692: 0.534 | D692: SS TRAITANCE
A693: NBO7277000 | B693: =D693 &","& A693 -> SS TRAITANCE ,NBO7277000 | C693: 0.66 | D693: SS TRAITANCE
A694: NBO7285000 | B694: =D694 &","& A694 -> Sous traitance ,NBO7285000 | C694: 1.848 | D694: Sous traitance
A695: NBO7298700 | B695: =D695 &","& A695 -> SS TRAITANCE,NBO7298700 | C695: 0.93 | D695: SS TRAITANCE
A696: NBO7298800 | B696: =D696 &","& A696 -> SS TRAITANCE ,NBO7298800 | C696: 0.918 | D696: SS TRAITANCE
A697: NBO7299002 | B697: =D697 &","& A697 -> OP 60 TOLERIE,NBO7299002 | C697: 6.48 | D697: OP 60 TOLERIE
A698: NBO7299600 | B698: =D698 &","& A698 -> SS TRAITANCE,NBO7299600 | C698: 0.504 | D698: SS TRAITANCE
... A962: NFL4010900 | B962: =D962 &","& A962 -> 400 FABRICATION TORONS,NFL4010900 | C962: 120 | D962: 400 FABRICATION TORONS
A963: NFL7324201 | B963: =D963 &","& A963 -> ,NFL7324201 | C963: 0.06
A964: NFL7324202 | B964: =D964 &","& A964 -> ,NFL7324202 | C964: 0.06
A965: NFL7324203 | B965: =D965 &","& A965 -> ,NFL7324203 | C965: 0.06
A966: NFL7468100 | B966: =D966 &","& A966 -> Preparation Cambrage,NFL7468100 | C966: 1.2 | D966: Preparation Cambrage
A967: NIC1001500 | B967: =D967 &","& A967 -> OP 190 PROGRAMMATION MICRO,NIC1001500 | C967: 0.48 | D967: OP 190 PROGRAMMATION MICRO
A968: NIC1002100 | B968: =D968 &","& A968 -> OP 190 PROGRAMMATION MICRO,NIC1002100 | C968: 0.48 | D968: OP 190 PROGRAMMATION MICRO
A969: NIC1002400 | B969: =D969 &","& A969 -> OP 190 PROGRAMMATION MICRO,NIC1002400 | C969: 0.48 | D969: OP 190 PROGRAMMATION MICRO
A970: NIC1002900 | B970: =D970 &","& A970 -> OP 190 PROGRAMMATION MICRO,NIC1002900 | C970: 0.48 | D970: OP 190 PROGRAMMATION MICRO
A971: NIC1003000 | B971: =D971 &","& A971 -> OP 190 PROGRAMMATION MICRO,NIC1003000 | C971: 0.48 | D971: OP 190 PROGRAMMATION MICRO
A972: NIC1003100 | B972: =D972 &","& A972 -> OP 190 PROGRAMMATION MICRO,NIC1003100 | C972: 0.48 | D972: OP 190 PROGRAMMATION MICRO
A973: NIC1003300 | B973: =D973 &","& A973 -> OP 190 PROGRAMMATION MICRO,NIC1003300 | C973: 0.48 | D973: OP 190 PROGRAMMATION MICRO
A974: NIC1003700 | B974: =D974 &","& A974 -> OP 190 PROGRAMMATION MICRO,NIC1003700 | C974: 0.48 | D974: OP 190 PROGRAMMATION MICRO
...

Sheet opérations par produit
A1: 739REUR-00N | B1: AL4590 | C1: I-ON16EURN | D1: I-ON16KIT | E1: LUCBEZ | F1: LUM0003100 | G1: LUM0004600 | H1: LUM10102 | I1: LUM10106 | J1: LUM10118 | K1: LUM10120 | L1: LUM10132 | M1: LUM10135 | N1: LUM10136 | O1: LUM10208 | P1: LUM10209 | Q1: LUM10219 | R1: LUM10231 | S1: LUM10303 | U1: LUM10312 | V1: LUM10313 | W1: LUM1031401 | X1: LUM10420 | Y1: LUM10469 | Z1: LUM10481 | AA1: LUM10490 | AB1: LUM10493 | AC1: LUM10515 | AD1: LUM10516 | AE1: LUM10517 | AF1: LUM10518 | AG1: LUM10521 | AH1: LUM10522 | AI1: LUM10523 | AJ1: LUM10536 | AK1: LUM10542 | AL1: LUM10543 | AM1: LUM10558 | AN1: LUM10663 | AO1: LUM10664 | AP1: LUM10667 | AQ1: LUM10671 | AR1: LUM10675 | AS1: LUM10771C1 | AT1: LUM10772 | AU1: LUM10773C1 | AV1: LUM10780 | AW1: LUM10789 | AX1: LUM10800 | AY1: LUM10801 | AZ1: LUM10830 | BA1: LUM10879 | BB1: LUM10880 | BC1: LUM10881 | BD1: LUM10883 | BE1: LUM10905 | BF1: LUM10910 | BG1: LUM10911 | BH1: LUM11010 | BI1: LUM11011 | BJ1: LUM11012 | BK1: LUM11013 | BL1: LUM11014 | BM1: LUM11029 | BN1: LUM11041 | BO1: LUM11042 | BP1: LUM11042A0 | BQ1: LUM11043 | BR1: LUM11044 | BS1: LUM11063 | BT1: LUM11064 | BU1: LUM11065 | BV1: LUM11066 | BW1: LUM11067 | BX1: LUM11068 | BY1: LUM11069 | BZ1: LUM11070 | CA1: LUM11075 | CB1: LUM11078 | CC1: LUM11079 | CD1: LUM11080 | CE1: LUM11081 | CF1: LUM11082 | CG1: LUM11083 | CH1: LUM11085 | CI1: LUM11086 | CJ1: LUM11088 | CK1: LUM11090 | CL1: LUM11091 | CM1: LUM11093 | CN1: LUM11095 | CO1: LUM11096 | CP1: LUM11097 | CQ1: LUM11099 | CR1: LUM11103 | CS1: LUM11106 | CT1: LUM11124 | CU1: LUM12001 | CV1: LUM12002 | CW1: LUM12042 | CX1: LUM12044 | CY1: LUM16001 | CZ1: LUM16004 | DA1: LUM16005 | DB1: LUM16025 | DC1: LUM16030 | DD1: LUM16031 | DE1: LUM16032 | DF1: LUM16033 | DG1: LUM16035 | DH1: LUM16040 | DI1: LUM16042 | DJ1: LUM16043 | DK1: LUM16046 | DL1: LUM16047 | DM1: LUM16048 | DN1: LUM16051 | DO1: LUM16064 | DP1: LUM16080 | DQ1: LUM17001 | DR1: LUM17002 | DS1: LUM17003 | DT1: LUM17006 | DU1: LUM17007 | DV1: LUM17010 | DW1: LUM17011 | DX1: LUM17012 | DY1: LUM17013 | DZ1: LUM17014 | EA1: LUM17041 | EB1: LUM17042 | EC1: LUM17043 | ED1: LUM17044 | EE1: LUM17046 | EF1: LUM17047 | EG1: LUM17110 | EH1: LUM20105 | EI1: LUM20107 | EJ1: LUM20801 | EK1: LUM20804 | EL1: LUM20807 | EM1: LUM20817 | EN1: LUM20819 | EO1: LUM20827 | EP1: LUM20829 | EQ1: LUM20830 | ER1: LUM20853 | ES1: LUM20854 | ET1: LUM21004 | EU1: LUM21005 | EV1: LUM21006 | EW1: LUM21007 | EX1: LUM21008 | EY1: LUM21009 | EZ1: LUM21010 | FA1: LUM21011 | FB1: LUM21012 | FC1: LUM21013 | FD1: LUM21022 | FE1: LUM21023 | FF1: LUM21024 | FG1: LUM21046 | FH1: LUM21047 | FI1: LUM21048 | FJ1: LUM21049 | FK1: LUM21050 | FL1: LUM21051 | FM1: LUM21052 | FN1: LUM21053 | FO1: LUM21054A0 | FP1: LUM21055 | FQ1: LUM21056 | FR1: LUM21057 | FS1: LUM21058 | FT1: LUM21059 | FU1: LUM21060 | FV1: LUM21061 | FW1: LUM21087 | FX1: LUM21091 | FY1: LUM21099 | FZ1: LUM21121 | GA1: LUM21122 | GB1: LUM21140 | GC1: LUM21141 | GD1: LUM21142 | GE1: LUM21225 | GF1: LUM21226 | GG1: LUM21238 | GH1: LUM21302 | GI1: LUM21308 | GJ1: LUM21316 | GK1: LUM21317 | GL1: LUM21318 | GM1: LUM21319 | GN1: LUM21323 | GO1: LUM21613 | GP1: LUM21614 | GQ1: LUM21615 | GR1: LUM21629 | GS1: LUM21715 | GT1: LUM21717 | GU1: LUM21718 | GV1: LUM21721 | GW1: LUM21722 | GX1: LUM21723 | GY1: LUM21724 | GZ1: LUM21729 | HA1: LUM21730 | HB1: LUM21731 | HC1: LUM21735 | HD1: LUM21736 | HE1: LUM21739 | HF1: LUM21740 | HG1: LUM21743 | HH1: LUM21746 | HI1: LUM21909 | HJ1: LUM21910 | HL1: LUM21911 | HM1: LUM21912 | HN1: LUM21913 | HO1: LUM21914 | HP1: LUM21915 | HQ1: LUM21916 | HR1: LUM21917 | HS1: LUM21918 | HT1: LUM21919 | HU1: LUM21920 | HV1: LUM21921 | HW1: LUM21953 | HX1: LUM21954 | HY1: LUM21955 | HZ1: LUM21960 | IA1: LUM21961 | IB1: LUM21962 | IC1: LUM21962A1 | ID1: LUM21963 | IE1: LUM22102 | IF1: LUM22107 | IG1: LUM22112 | IH1: LUM22114 | II1: LUM22115 | IJ1: LUM22116 | IK1: LUM22118 | IL1: LUM22119 | IM1: LUM22120 | IN1: LUM22121 | IO1: LUM22122 | IP1: LUM2212220M | IQ1: LUM2212250M | IR1: LUM22123 | IS1: LUM22124 | IT1: LUM22125 | IU1: LUM22126 | IV1: LUM22127 | IW1: LUM22129 | IX1: LUM22131 | IY1: LUM22134 | IZ1: LUM22135 | JA1: LUM22202 | JB1: LUM22203 | JC1: LUM22204 | JD1: LUM22205 | JE1: LUM22208 | JF1: LUM22401 | JG1: LUM22402 | JH1: LUM22403 | JI1: LUM22404 | JJ1: LUM22411 | JK1: LUM22412 | JL1: NAC7236200 | JM1: NBO1001800 | JN1: NBO1004900 | JO1: NBO1007400 | JP1: NBO1009100 | JQ1: NBO4000800 | JR1: NBO4001000 | JS1: NBO4009600 | JT1: NBO4012700 | JU1: NBO4014400 | JV1: NBO4015300 | JW1: NBO7126100 | JX1: NBO7145200 | JY1: NBO7215800 | JZ1: NBO7215900 | KA1: NBO7269000 | KB1: NBO7276900 | KC1: NBO7277000 | KD1: NBO7285000 | KE1: NBO7298700 | KF1: NBO7298800 | KG1: NBO7299002 | KH1: NBO7299600 | KI1: NBO7299700 | KJ1: NBO7301500 | KK1: NBO7301700 | KL1: NBO7303100 | KM1: NBO7311300 | KN1: NBO7314600 | KO1: NBO7316000 | KP1: NBO7321400 | KQ1: NBO7321601 | KR1: NBO7321701 | KS1: NBO7321801 | KT1: NBO7330800 | KU1: NBO7359100 | KV1: NBO7361900 | KW1: NBO7377700 | KX1: NBO7377800 | KY1: NBO7378000 | KZ1: NBO7390300 | LA1: NBO7391500 | LB1: NBP7266100 | LC1: NCH0003403 | LD1: NCO0001801 | LE1: NCO0001802 | LF1: NCO0007703 | LG1: NCO0007705 | LH1: NCO0007803 | LI1: NCO0007805 | LJ1: NCO7158400 | LK1: NCO7283400 | LL1: NDL0000315 | LM1: NDL0001457 | LN1: NDL0002532 | LO1: NEC00003A0 | LP1: NEC0000500 | LQ1: NEC00010C0 | LR1: NEC00015A0 | LS1: NEC00019A0 | LT1: NEC0002900 | LU1: NEC0003300 | LV1: NEC0003600 | LW1: NEC00040C0 | LX1: NEC00042A0 | LY1: NEC00044C0 | LZ1: NEC0004500 | MA1: NEC0004600 | MB1: NEC00047B0 | MC1: NEC0005000 | MD1: NEC0005100 | ME1: NEC00052A0 | MF1: NEC00053B0 | MG1: NEC00055C0 | MH1: NEC0005600 | MI1: NEC00056A0 | MJ1: NEC0005800 | MK1: NEC00060A0 | ML1: NEC00061A0 | MM1: NEC00062A0 | MN1: NEC00063A0 | MO1: NEC0006500 | MP1: NEC0006700 | MQ1: NEC00067A0 | MR1: NEC0006800 | MS1: NEC0007300 | MT1: NEC0007400 | MU1: NEC0007500 | MV1: NEC0007800 | MW1: NEC0008100 | MX1: NEC0008200 | MY1: NEC0008400 | MZ1: NEC0008500 | NA1: NEC0008600 | NB1: NEC0008800 | NC1: NEC0009100 | ND1: NEC0009200 | NE1: NEC0009300 | NF1: NEC0009400 | NG1: NEC0009500 | NH1: NEC0009600 | NI1: NEC0009700 | NJ1: NEC0009900 | NK1: NEC0010000 | NL1: NEC0010300 | NM1: NEC10009B0 | NN1: NEC1030200 | NO1: NEC10303A0 | NP1: NEC1030900 | NQ1: NEC10310A0 | NR1: NEC1060100 | NS1: NEC1090200 | NT1: NEC11001A0 | NU1: NEC1100800 | NV1: NEC1100900 | NW1: NEC1101000 | NX1: NEC1101100 | NY1: NEC1101200 | NZ1: NEC11022A0 | OA1: NEC1110400 | OB1: NEC1110600 | OC1: NEC1110800 | OD1: NEC1120200 | OE1: NEC19801B1 | OF1: NEC19801B2 | OG1: NEC19909A0 | OH1: NEE10008B0 | OI1: NEE10012A0 | OJ1: NEE1020100 | OK1: NEE10206A0 | OL1: NEE10206B0 | OM1: NEE1030200 | ON1: NEE10303A0 | OO1: NEE1030600 | OP1: NEE1030900 | OQ1: NEE10310A0 | OR1: NEE1090200 | OS1: NEE1090201 | OT1: NEE1090300 | OU1: NEE1100600 | OV1: NEE1100700 | OW1: NEE1100800 | OX1: NEE1100900 | OY1: NEE1101000 | OZ1: NEE1101100 | PA1: NEE1101200 | PB1: NEE1101300 | PC1: NEE1101400 | PD1: NEE1101500 | PE1: NEE1101600 | PF1: NEE1110400 | PG1: NEE1110600 | PH1: NEE1110800 | PI1: NEE1120200 | PJ1: NEE19401C0 | PK1: NEE19402B0 | PL1: NEE19602A1 | PM1: NEE19801B1 | PN1: NEE19801B2 | PO1: NEE19909A0 | PP1: NEE3152200 | PQ1: NEE3152300 | PR1: NEE3160401 | PS1: NEE3171900 | PT1: NEE3172000 | PU1: NEE3172300 | PV1: NEE3172700 | PW1: NEE3173400 | PX1: NEE3173500 | PY1: NEE3173600 | PZ1: NEE31736A0 | QA1: NEE3173700 | QB1: NEE3179300 | QC1: NEE31794A0 | QD1: NEE31830A0 | QE1: NEE3184200 | QF1: NEE31865A0 | QG1: NEE31876A0 | QH1: NEE3191000 | QI1: NEE3191100 | QJ1: NEE3191200 | QK1: NEE3191300 | QL1: NEE31916A0 | QM1: NEE3192800 | QN1: NEE3192900 | QO1: NEE3193000 | QP1: NEE3195100 | QQ1: NEE3196600 | QR1: NEE3196800 | QS1: NEE3197700 | QT1: NEE32003A0 | QU1: NEE3200800 | QV1: NEE3200900 | QW1: NEE3201300 | QX1: NEE32015B0 | QY1: NEE3203000 | QZ1: NEE3203800 | RA1: NEE3204300 | RB1: NEE3204400 | RC1: NEE3204600 | RD1: NEE3204900 | RE1: NEE3205300 | RF1: NEE3206000 | RG1: NEE3208600 | RH1: NEE3208900 | RI1: NEE3209000 | RJ1: NER7238813 | RK1: NER7323901 | RL1: NER7333604 | RM1: NFL40107A0 | RN1: NFL4010900 | RO1: NFL7324201 | RP1: NFL7324202 | RQ1: NFL7324203 | RR1: NFL7468100 | RS1: NIC1001500 | RT1: NIC1002100 | RU1: NIC1002400 | RV1: NIC1002900 | RW1: NIC1003000 | RX1: NIC1003100 | RY1: NIC1003300 | RZ1: NIC1003700 | SA1: NIC1004400 | SB1: NIC1005100 | SC1: NIC1005500 | SD1: NIC1005700 | SE1: NIC1006500 | SF1: NIC1006623 | SG1: NIC1006700 | SH1: NIC1007423 | SI1: NIC1007600 | SJ1: NIC1007823 | SK1: NIC1007900 | SL1: NIC1008000 | SM1: NIC1008100 | SN1: NIC1008200 | SO1: NIC1008400 | SP1: NIC1008800 | SQ1: NIC2000323 | SR1: NIC2000423 | SS1: NIC2002223 | ST1: NIC2002323 | SU1: NIC2004123 | SV1: NIC2004223 | SW1: NIC2004323 | SX1: NIC2004623 | SY1: NIC2005023 | SZ1: NIC2005200 | TA1: NIC2005323 | TB1: NIC2005622 | TC1: NIC2005900 | TD1: NIC2006200 | TE1: NIC2006400 | TF1: NIC2006700 | TG1: NIC2006800 | TH1: NIC2006900 | TI1: NIC2007000 | TJ1: NIC2007522 | TK1: NIC2008300 | TL1: NRA0003201 | TM1: NRA0006301 | TN1: NRD7129700 | TO1: NSC20815C0 | TQ1: NSE7401300 | TR1: NTA4005701 | TS1: NTA4005801 | TT1: NTA7135000 | TU1: NTA7177300 | TV1: NTA7197700 | TW1: NTA7244602 | TX1: NTA7244606 | TY1: NTA7244618 | TZ1: NTA7274003 | UA1: NTA7293600 | UB1: NTA7335200 | UC1: NTA7335300 | UD1: NTT0002214 | UE1: NTT0002314 | UF1: NTT0005614 | UG1: NUG30010 | UH1: NUG30011 | UI1: NUG30013 | UJ1: NUG30065 | UK1: NUG30067 | UL1: NUG30068 | UM1: NUG30073 | UN1: NUG30074 | UO1: NUG30075 | UP1: NUG30076 | UQ1: NUG30180 | UR1: NUG30181 | US1: NUG30186 | UT1: NUG30187 | UU1: NUG30188 | UV1: NUG30191 | UW1: NUG30192 | UX1: NUG30193 | UY1: NUG30194 | UZ1: NUG30231 | VA1: NUG30232 | VB1: NUG30233 | VC1: NUG30260 | VD1: NUG30261 | VE1: NUG30262 | VF1: NUG30263 | VG1: NUG30266 | VH1: NUG30286 | VI1: NUG30287 | VJ1: NUG30298 | VK1: NUG30299 | VL1: NUG30464 | VM1: NUG30471 | VO1: NUG30472 | VP1: NUG30474 | VQ1: NUG30475 | VR1: NUG30485 | VS1: NUG30486 | VT1: NUG30998 | VU1: NUG31020 | VV1: NUG31021 | VW1: NUG31023 | VX1: NUG31038 | VY1: NUG31039 | VZ1: NUG31045 | WA1: NUG31047 | WB1: NUG31050 | WC1: NUG31052 | WD1: NUG31054 | WE1: NUG31055 | WF1: NUG31056 | WG1: NUG31057 | WH1: NUG31058 | WI1: NUG31060 | WJ1: NUG31061 | WK1: NUG31064 | WL1: NUG31067 | WM1: NUG31071 | WN1: NUG31103 | WO1: NUG31104 | WP1: NUG31111 | WQ1: NUG31113 | WR1: NUG31114 | WS1: NUG31120 | WT1: NUG31121 | WU1: NUG31125 | WV1: NUG31126 | WW1: NUG31127 | WX1: NUG31128 | WY1: NUG31141 | WZ1: NUG31143 | XA1: NUG31144 | XB1: NUG31156 | XC1: NUG31163 | XD1: NUG31164 | XE1: NUG31165 | XF1: NUG31173 | XG1: NUG31174 | XH1: NUG31175 | XI1: NUG31182 | XJ1: NUG31184 | XK1: NUG31185 | XL1: NUG31186 | XM1: NUG31190 | XN1: NUG31191 | XO1: NUG31192 | XP1: NUG31193 | XQ1: NUG31210 | XR1: NUG31217 | XS1: NUG31218 | XT1: NUG31219 | XU1: NUG31220 | XV1: NUG31221 | XW1: NUG31231 | XX1: NUG31232 | XY1: NUG31234 | XZ1: NUG31240 | YA1: NUG31241 | YB1: NUG31242 | YC1: NUG31243 | YD1: NUG31244 | YE1: NUG31250 | YF1: NUG31251 | YG1: NUG31259 | YH1: NUG31261 | YI1: NUG31265 | YJ1: NUG31267 | YK1: NUG31268 | YL1: NUG31270 | YM1: NUG31272 | YN1: NUG31305 | YO1: NUG31306 | YP1: NUG31309 | YQ1: NUG31310 | YR1: NUG31312 | YS1: NUG31313 | YT1: NUG31314 | YU1: NUG31330 | YV1: NUG31420 | YW1: NUG31430 | YX1: NUG31500 | YY1: NUG31505 | YZ1: NUG31510 | ZA1: NUG3152199 | ZB1: NUG31530 | ZC1: NUG3153099 | ZD1: NUG31535 | ZE1: NUG3153599 | ZF1: NUG31536 | ZG1: NUG3153699 | ZH1: NUG3153799 | ZI1: NUG3155099 | ZJ1: NUG3155199 | ZK1: NUG3162199 | ZL1: NUG3162299 | ZM1: NUG3162399 | ZN1: NUG3162499 | ZO1: NUG3162599 | ZP1: NUG3162699 | ZQ1: NUG31634 | ZR1: NUG3163499 | ZS1: NUG31635 | ZT1: NUG3163599 | ZU1: NUG31636 | ZV1: NUG3163699 | ZW1: NUG31637 | ZX1: NUG3163799 | ZY1: NUG31640 | ZZ1: NUG31641 | AAA1: NUG31643 | AAB1: NUG31644 | AAC1: NUG31645 | AAD1: NUG3172299 | AAE1: NUG3172399 | AAF1: NUG3172499 | AAG1: NUG3172599 | AAH1: NUG3172699 | AAI1: NUG3172799 | AAJ1: NUG3175099 | AAK1: NUG3175199 | AAL1: NUG32042 | AAM1: NUG32045 | AAN1: NUG32056 | AAO1: NUG32063 | AAP1: NUG32064 | AAQ1: NUG32065 | AAR1: NUG32066 | AAS1: NUG32070 | AAT1: NUG32075 | AAU1: NUG32077 | AAV1: NUG32078 | AAW1: NUG32079 | AAX1: NUG32080 | AAY1: NUG32082 | AAZ1: NUG32083 | ABA1: NUG33313 | ABB1: NUG34021 | ABC1: NUG34022 | ABD1: NUG34040 | ABE1: NUG34042 | ABF1: NUG34044 | ABG1: NUG34046 | ABH1: NUG34047 | ABI1: NUG34064 | ABJ1: NUG34065 | ABK1: NUG34066 | ABL1: NUG34067 | ABM1: NUG34068 | ABN1: NUG34069 | ABO1: NUG34070 | ABP1: NUG34071 | ABQ1: NUG34072 | ABR1: NUG34073 | ABS1: NUG35055 | ABT1: NUG35056 | ABU1: NUG35057 | ABV1: NUG35058 | ABW1: NUG35066 | ABX1: NUG35153 | ABY1: NUG38000 | ABZ1: NUG38002 | ACA1: NUG38003 | ACB1: NUG38005 | ACC1: NUG38011 | ACD1: NUG38012 | ACE1: NUG38014 | ACF1: NUG38016 | ACG1: NUG38017 | ACH1: NUG38023 | ACI1: NUG38024 | ACJ1: NUG38033 | ACK1: NUG38034 | ACL1: NUG38035 | ACM1: NUG38036 | ACN1: NUG38037 | ACO1: NUG38038 | ACP1: NUG38039 | ACQ1: NUG38041 | ACR1: NUG38047 | ACS1: NUG38056 | ACT1: NUG38059 | ACU1: NUG38060 | ACV1: NUG38088 | ACW1: NUG38160 | ACX1: NUG38161 | ACY1: NUG38166 | ACZ1: NUG38198 | ADA1: NUG38199 | ADB1: NUG38200 | ADC1: NUG38217 | ADD1: NUG38222 | ADE1: NUG38223 | ADF1: NUG38224 | ADG1: NUG38228 | ADH1: NUG38229 | ADI1: NUG38230 | ADJ1: NUG38233 | ADK1: NUG38245 | ADL1: NUG38270 | ADM1: NUG38271 | ADN1: NUG38272 | ADO1: NUG38273 | ADP1: NUG38274 | ADQ1: NUG38276 | ADR1: NUG38301 | ADS1: NUG38308 | ADT1: NUG38309 | ADU1: NUG38311 | ADV1: NUG38313 | ADW1: NUG38314 | ADX1: NUG38315 | ADY1: NUG38316 | ADZ1: NUG38318 | AEA1: NUG38320 | AEB1: NUG38321 | AEC1: NUG38322 | AED1: NUG38329 | AEE1: NUG38331 | AEF1: NUG38332 | AEG1: NUG38333 | AEH1: NUG38338 | AEI1: NUG38339 | AEJ1: NUG38341 | AEK1: NUG38342 | AEL1: NUG38343 | AEM1: NUG38344 | AEN1: NUG38346 | AEO1: NUG38374 | AEP1: NUG38409 | AEQ1: NUG38420 | AER1: NUG38423 | AES1: NUG38424 | AET1: NUG38425 | AEU1: NUG38426 | AEV1: NUG38427 | AEW1: NUG38435 | AEX1: NUG38436 | AEY1: NUG38440 | AEZ1: NUG38441 | AFA1: NUG38443 | AFB1: NUG38444 | AFC1: NUG38445 | AFD1: NUG38446 | AFE1: NUG38447 | AFF1: NUG38560 | AFG1: NUG38638 | AFH1: NUG38639 | AFI1: NUG38645 | AFJ1: NUG38655 | AFK1: NUG38661 | AFL1: NUG38701 | AFM1: NUG38702 | AFN1: NUG38705 | AFO1: NUG38706 | AFP1: NUG38707 | AFR1: NUG38709 | AFS1: NUG38710 | AFT1: NUG38711 | AFU1: NUG38718 | AFV1: NUG38720 | AFW1: NUG38722 | AFX1: NUG38723 | AFY1: NUG38724 | AFZ1: NUG38725 | AGA1: NUG38726 | AGB1: NUG38730 | AGC1: NUG38731 | AGD1: NUG38801 | AGE1: PSX20801 | AGF1: PSX20802 | AGG1: PSX20803 | AGH1: PSX20814 | AGI1: PSX20815 | AGJ1: PSX20816 | AGK1: PSX20830 | AGL1: PSX20851 | AGM1: PSX22404 | AGN1: PSX22411 | AGO1: PSX22412 | AGP1: SCA00001 | AGQ1: SCA00002 | AGR1: SCA00003 | AGS1: VAE64001 | AGT1: VAE64002 | AGU1: VAE64003 | AGV1: VAE64004 | AGW1: VAE64005 | AGX1: VAE64010 | AGY1: VAE64011 | AGZ1: VAE64012 | AHA1: VAE64013 | AHB1: VAE64020 | AHC1: VAE64021 | AHD1: VAE64022 | AHE1: VAE64023
