Workbook
Name liste_ope: OFFSET(#REF!,1,MATCH('[1]planning soudure'!XFC1048576,#REF!,0)-1,COUNTA(OFFSET(#REF!,,MATCH(#REF!,#REF!,0)-1))-1)
Name liste_ref: OFFSET('[1]feuille opération'!$A$1,,1,,COUNTA('[1]feuille opération'!$1:$1)-1)
Name tab_produits: OFFSET(' feuille ref designation'!$A$2,,,COUNTA(' feuille ref designation'!$A:$A),2)

Sheet planning soudure
A1: PLANNING SEMAINE : SOUDURE 2014
A3: Date | B3: Nom | C3: Prénom | D3: Référence | E3: Designation | F3: Opération | G3: Quantité | H3: Temps théorique | I3: TEMPS Réel | J3: Différence théorique /réel | K3: Temps restant
A4: Lundi | B4: Decloitre | C4: =VLOOKUP(B4,'base nom prénom'!$A$1:$B$38,2,FALSE) -> Martine | D4: lum10120 | E4: =IF(D4="","",VLOOKUP(D4,tab_produits,2,FALSE)) -> STD 2000 CESL | F4: OP 150 ASSEMBLAGE ,LUM10120 | H4: =IFERROR(VLOOKUP(F4,'feuille temps par opé'!B:C,2,FALSE),"")*G4 -> 0 | J4: =I4-H4 -> 0 | M4: J'aimerais que ce qui apparait dans ce tableaupour lundi apparraisse sur la feuille 1 quand je choisi lundi dans la date pour la feuille 1 ainsi que tte les info pour les 5 premières colonnes de la feuille1 qui sont les mêmes que sur la feuille planning soudure. Merci
D5: lum10120 | E5: =IF(D5="","",VLOOKUP(D5,tab_produits,2,FALSE)) -> STD 2000 CESL | F5: OP 300 EMBALLAGE ,LUM10120 | H5: =IFERROR(VLOOKUP(F5,'feuille temps par opé'!B:C,2,FALSE),"")*G5 -> 0 | J5: =I5-H5 -> 0
A6: Mardi | D6: lum10120 | E6: =IF(D6="","",VLOOKUP(D6,tab_produits,2,FALSE)) -> STD 2000 CESL | F6: OP 300 EMBALLAGE ,LUM10120 | H6: =IFERROR(VLOOKUP(F6,'feuille temps par opé'!B:C,2,FALSE),"")*G6 -> 0 | J6: =I6-H6 -> 0
E7: =IF(D7="","",VLOOKUP(D7,tab_produits,2,FALSE)) | H7: =IFERROR(VLOOKUP(F7,'feuille temps par opé'!B:C,2,FALSE),"")*G7 -> #VALUE! | J7: =I7-H7 -> #VALUE!
E8: =IF(D8="","",VLOOKUP(D8,tab_produits,2,FALSE)) | H8: =IFERROR(VLOOKUP(F8,'feuille temps par opé'!B:C,2,FALSE),"")*G8 -> #VALUE! | J8: =I8-H8 -> #VALUE!
H9: =IFERROR(VLOOKUP(F9,'feuille temps par opé'!B:C,2,FALSE),"")*G9 -> #VALUE! | J9: =I9-H9 -> #VALUE!
H10: =IFERROR(VLOOKUP(F10,'feuille temps par opé'!B:C,2,FALSE),"")*G10 -> #VALUE! | J10: =I10-H10 -> #VALUE!
H11: =IFERROR(VLOOKUP(F11,'feuille temps par opé'!B:C,2,FALSE),"")*G11 -> #VALUE! | J11: =I11-H11 -> #VALUE!
H12: =IFERROR(VLOOKUP(F12,'feuille temps par opé'!B:C,2,FALSE),"")*G12 -> #VALUE! | J12: =I12-H12 -> #VALUE!
H13: =IFERROR(VLOOKUP(F13,'feuille temps par opé'!B:C,2,FALSE),"")*G13 -> #VALUE! | J13: =I13-H13 -> #VALUE!
H14: =IFERROR(VLOOKUP(F14,'feuille temps par opé'!B:C,2,FALSE),"")*G14 -> #VALUE! | J14: =I14-H14 -> #VALUE!
H15: =IFERROR(VLOOKUP(F15,'feuille temps par opé'!B:C,2,FALSE),"")*G15 -> #VALUE! | J15: =I15-H15 -> #VALUE!
H16: =IFERROR(VLOOKUP(F16,'feuille temps par opé'!B:C,2,FALSE),"")*G16 -> #VALUE! | J16: =I16-H16 -> #VALUE!
H17: =IFERROR(VLOOKUP(F17,'feuille temps par opé'!B:C,2,FALSE),"")*G17 -> #VALUE! | J17: =I17-H17 -> #VALUE!
H18: =IFERROR(VLOOKUP(F18,'feuille temps par opé'!B:C,2,FALSE),"")*G18 -> #VALUE! | J18: =I18-H18 -> #VALUE!
H19: =IFERROR(VLOOKUP(F19,'feuille temps par opé'!B:C,2,FALSE),"")*G19 -> #VALUE! | J19: =I19-H19 -> #VALUE!
H20: =IFERROR(VLOOKUP(F20,'feuille temps par opé'!B:C,2,FALSE),"")*G20 -> #VALUE! | J20: =I20-H20 -> #VALUE!
... H89: =IFERROR(VLOOKUP(F89,'feuille temps par opé'!B:C,2,FALSE),"")*G89 -> #VALUE! | J89: =I89-H89 -> #VALUE!
E90: =IF(D90="","",VLOOKUP(D90,tab_produits,2,FALSE)) | F90: =IFERROR(OFFSET('opérations par produit'!$A$1,1,MATCH(D90,'opérations par produit'!$1:$1,0)-1,COUNTA(OFFSET('opérations par produit'!$A:$A,,MATCH(D90,'opérations par produit'!$1:$1,0)-1))-1,),"") | H90: =IFERROR(VLOOKUP(F90,'feuille temps par opé'!B:C,2,FALSE),"")*G90 -> 0 | J90: =I90-H90 -> 0
E91: =IF(D91="","",VLOOKUP(D91,tab_produits,2,FALSE)) | F91: =IFERROR(OFFSET('opérations par produit'!$A$1,1,MATCH(D91,'opérations par produit'!$1:$1,0)-1,COUNTA(OFFSET('opérations par produit'!$A:$A,,MATCH(D91,'opérations par produit'!$1:$1,0)-1))-1,),"") | H91: =IFERROR(VLOOKUP(F91,'feuille temps par opé'!B:C,2,FALSE),"")*G91 -> 0 | J91: =I91-H91 -> 0
E92: =IF(D92="","",VLOOKUP(D92,tab_produits,2,FALSE)) | F92: TOTAL | H92: =SUM(H4:H91) -> #VALUE! | I92: =SUM(I4:I91) -> 0 | J92: =SUM(J4:J91) -> #VALUE! | K92: =K91 -> 0
B93: Decloitre | C93: =VLOOKUP(B93,'base nom prénom'!$A$1:$B$38,2,FALSE) -> Martine | E93: =IF(D93="","",VLOOKUP(D93,tab_produits,2,FALSE)) | H93: =IFERROR(VLOOKUP(F93,'feuille temps par opé'!B:C,2,FALSE),"")*G93 -> #VALUE! | J93: =I93-H93 -> #VALUE!
E94: =IF(D94="","",VLOOKUP(D94,tab_produits,2,FALSE)) | H94: =IFERROR(VLOOKUP(F94,'feuille temps par opé'!B:C,2,FALSE),"")*G94 -> #VALUE! | J94: =I94-H94 -> #VALUE!
E95: =IF(D95="","",VLOOKUP(D95,tab_produits,2,FALSE)) | H95: =IFERROR(VLOOKUP(F95,'feuille temps par opé'!B:C,2,FALSE),"")*G95 -> #VALUE! | J95: =I95-H95 -> #VALUE!
E96: =IF(D96="","",VLOOKUP(D96,tab_produits,2,FALSE)) | H96: =IFERROR(VLOOKUP(F96,'feuille temps par opé'!B:C,2,FALSE),"")*G96 -> #VALUE! | J96: =I96-H96 -> #VALUE!
E97: =IF(D97="","",VLOOKUP(D97,tab_produits,2,FALSE)) | H97: =IFERROR(VLOOKUP(F97,'feuille temps par opé'!B:C,2,FALSE),"")*G97 -> #VALUE! | J97: =I97-H97 -> #VALUE!
H98: =IFERROR(VLOOKUP(F98,'feuille temps par opé'!B:C,2,FALSE),"")*G98 -> #VALUE! | J98: =I98-H98 -> #VALUE!
H99: =IFERROR(VLOOKUP(F99,'feuille temps par opé'!B:C,2,FALSE),"")*G99 -> #VALUE! | J99: =I99-H99 -> #VALUE!
H100: =IFERROR(VLOOKUP(F100,'feuille temps par opé'!B:C,2,FALSE),"")*G100 -> #VALUE! | J100: =I100-H100 -> #VALUE!
H101: =IFERROR(VLOOKUP(F101,'feuille temps par opé'!B:C,2,FALSE),"")*G101 -> #VALUE! | J101: =I101-H101 -> #VALUE!
H102: =IFERROR(VLOOKUP(F102,'feuille temps par opé'!B:C,2,FALSE),"")*G102 -> #VALUE! | J102: =I102-H102 -> #VALUE!
H103: =IFERROR(VLOOKUP(F103,'feuille temps par opé'!B:C,2,FALSE),"")*G103 -> #VALUE! | J103: =I103-H103 -> #VALUE!
H104: =IFERROR(VLOOKUP(F104,'feuille temps par opé'!B:C,2,FALSE),"")*G104 -> #VALUE! | J104: =I104-H104 -> #VALUE!
H105: =IFERROR(VLOOKUP(F105,'feuille temps par opé'!B:C,2,FALSE),"")*G105 -> #VALUE! | J105: =I105-H105 -> #VALUE!
H106: =IFERROR(VLOOKUP(F106,'feuille temps par opé'!B:C,2,FALSE),"")*G106 -> #VALUE! | J106: =I106-H106 -> #VALUE!
H107: =IFERROR(VLOOKUP(F107,'feuille temps par opé'!B:C,2,FALSE),"")*G107 -> #VALUE! | J107: =I107-H107 -> #VALUE!
H108: =IFERROR(VLOOKUP(F108,'feuille temps par opé'!B:C,2,FALSE),"")*G108 -> #VALUE! | J108: =I108-H108 -> #VALUE!
H109: =IFERROR(VLOOKUP(F109,'feuille temps par opé'!B:C,2,FALSE),"")*G109 -> #VALUE! | J109: =I109-H109 -> #VALUE!
... H178: =IFERROR(VLOOKUP(F178,'feuille temps par opé'!B:C,2,FALSE),"")*G178 -> #VALUE! | J178: =I178-H178 -> #VALUE!
E179: =IF(D179="","",VLOOKUP(D179,tab_produits,2,FALSE)) | F179: =IFERROR(OFFSET('opérations par produit'!$A$1,1,MATCH(D179,'opérations par produit'!$1:$1,0)-1,COUNTA(OFFSET('opérations par produit'!$A:$A,,MATCH(D179,'opérations par produit'!$1:$1,0)-1))-1,),"") | H179: =IFERROR(VLOOKUP(F179,'feuille temps par opé'!B:C,2,FALSE),"")*G179 -> 0 | J179: =I179-H179 -> 0
E180: =IF(D180="","",VLOOKUP(D180,tab_produits,2,FALSE)) | F180: =IFERROR(OFFSET('opérations par produit'!$A$1,1,MATCH(D180,'opérations par produit'!$1:$1,0)-1,COUNTA(OFFSET('opérations par produit'!$A:$A,,MATCH(D180,'opérations par produit'!$1:$1,0)-1))-1,),"") | H180: =IFERROR(VLOOKUP(F180,'feuille temps par opé'!B:C,2,FALSE),"")*G180 -> 0 | J180: =I180-H180 -> 0
E181: =IF(D181="","",VLOOKUP(D181,tab_produits,2,FALSE)) | F181: TOTAL | H181: =SUM(H93:H180) -> #VALUE! | I181: =SUM(I93:I180) -> 0 | J181: =SUM(J93:J180) -> #VALUE! | K181: =K180 -> 0
B182: Decloitre | C182: =VLOOKUP(B182,'base nom prénom'!$A$1:$B$38,2,FALSE) -> Martine | E182: =IF(D182="","",VLOOKUP(D182,tab_produits,2,FALSE)) | H182: =IFERROR(VLOOKUP(F182,'feuille temps par opé'!B:C,2,FALSE),"")*G182 -> #VALUE! | J182: =I182-H182 -> #VALUE!
E183: =IF(D183="","",VLOOKUP(D183,tab_produits,2,FALSE)) | H183: =IFERROR(VLOOKUP(F183,'feuille temps par opé'!B:C,2,FALSE),"")*G183 -> #VALUE! | J183: =I183-H183 -> #VALUE!
E184: =IF(D184="","",VLOOKUP(D184,tab_produits,2,FALSE)) | H184: =IFERROR(VLOOKUP(F184,'feuille temps par opé'!B:C,2,FALSE),"")*G184 -> #VALUE! | J184: =I184-H184 -> #VALUE!
E185: =IF(D185="","",VLOOKUP(D185,tab_produits,2,FALSE)) | H185: =IFERROR(VLOOKUP(F185,'feuille temps par opé'!B:C,2,FALSE),"")*G185 -> #VALUE! | J185: =I185-H185 -> #VALUE!
E186: =IF(D186="","",VLOOKUP(D186,tab_produits,2,FALSE)) | H186: =IFERROR(VLOOKUP(F186,'feuille temps par opé'!B:C,2,FALSE),"")*G186 -> #VALUE! | J186: =I186-H186 -> #VALUE!
H187: =IFERROR(VLOOKUP(F187,'feuille temps par opé'!B:C,2,FALSE),"")*G187 -> #VALUE! | J187: =I187-H187 -> #VALUE!
H188: =IFERROR(VLOOKUP(F188,'feuille temps par opé'!B:C,2,FALSE),"")*G188 -> #VALUE! | J188: =I188-H188 -> #VALUE!
H189: =IFERROR(VLOOKUP(F189,'feuille temps par opé'!B:C,2,FALSE),"")*G189 -> #VALUE! | J189: =I189-H189 -> #VALUE!
H190: =IFERROR(VLOOKUP(F190,'feuille temps par opé'!B:C,2,FALSE),"")*G190 -> #VALUE! | J190: =I190-H190 -> #VALUE!
H191: =IFERROR(VLOOKUP(F191,'feuille temps par opé'!B:C,2,FALSE),"")*G191 -> #VALUE! | J191: =I191-H191 -> #VALUE!
H192: =IFERROR(VLOOKUP(F192,'feuille temps par opé'!B:C,2,FALSE),"")*G192 -> #VALUE! | J192: =I192-H192 -> #VALUE!
H193: =IFERROR(VLOOKUP(F193,'feuille temps par opé'!B:C,2,FALSE),"")*G193 -> #VALUE! | J193: =I193-H193 -> #VALUE!
H194: =IFERROR(VLOOKUP(F194,'feuille temps par opé'!B:C,2,FALSE),"")*G194 -> #VALUE! | J194: =I194-H194 -> #VALUE!
H195: =IFERROR(VLOOKUP(F195,'feuille temps par opé'!B:C,2,FALSE),"")*G195 -> #VALUE! | J195: =I195-H195 -> #VALUE!
H196: =IFERROR(VLOOKUP(F196,'feuille temps par opé'!B:C,2,FALSE),"")*G196 -> #VALUE! | J196: =I196-H196 -> #VALUE!
H197: =IFERROR(VLOOKUP(F197,'feuille temps par opé'!B:C,2,FALSE),"")*G197 -> #VALUE! | J197: =I197-H197 -> #VALUE!
H198: =IFERROR(VLOOKUP(F198,'feuille temps par opé'!B:C,2,FALSE),"")*G198 -> #VALUE! | J198: =I198-H198 -> #VALUE!
... H267: =IFERROR(VLOOKUP(F267,'feuille temps par opé'!B:C,2,FALSE),"")*G267 -> #VALUE! | J267: =I267-H267 -> #VALUE!
E268: =IF(D268="","",VLOOKUP(D268,tab_produits,2,FALSE)) | F268: =IFERROR(OFFSET('opérations par produit'!$A$1,1,MATCH(D268,'opérations par produit'!$1:$1,0)-1,COUNTA(OFFSET('opérations par produit'!$A:$A,,MATCH(D268,'opérations par produit'!$1:$1,0)-1))-1,),"") | H268: =IFERROR(VLOOKUP(F268,'feuille temps par opé'!B:C,2,FALSE),"")*G268 -> 0 | J268: =I268-H268 -> 0
E269: =IF(D269="","",VLOOKUP(D269,tab_produits,2,FALSE)) | F269: =IFERROR(OFFSET('opérations par produit'!$A$1,1,MATCH(D269,'opérations par produit'!$1:$1,0)-1,COUNTA(OFFSET('opérations par produit'!$A:$A,,MATCH(D269,'opérations par produit'!$1:$1,0)-1))-1,),"") | H269: =IFERROR(VLOOKUP(F269,'feuille temps par opé'!B:C,2,FALSE),"")*G269 -> 0 | J269: =I269-H269 -> 0
E270: =IF(D270="","",VLOOKUP(D270,tab_produits,2,FALSE)) | F270: TOTAL | H270: =SUM(H182:H269) -> #VALUE! | I270: =SUM(I182:I269) -> 0 | J270: =SUM(J182:J269) -> #VALUE! | K270: =K269 -> 0
B271: Decloitre | C271: =VLOOKUP(B271,'base nom prénom'!$A$1:$B$38,2,FALSE) -> Martine | E271: =IF(D271="","",VLOOKUP(D271,tab_produits,2,FALSE)) | H271: =IFERROR(VLOOKUP(F271,'feuille temps par opé'!B:C,2,FALSE),"")*G271 -> #VALUE! | J271: =I271-H271 -> #VALUE!
E272: =IF(D272="","",VLOOKUP(D272,tab_produits,2,FALSE)) | H272: =IFERROR(VLOOKUP(F272,'feuille temps par opé'!B:C,2,FALSE),"")*G272 -> #VALUE! | J272: =I272-H272 -> #VALUE!
E273: =IF(D273="","",VLOOKUP(D273,tab_produits,2,FALSE)) | H273: =IFERROR(VLOOKUP(F273,'feuille temps par opé'!B:C,2,FALSE),"")*G273 -> #VALUE! | J273: =I273-H273 -> #VALUE!
E274: =IF(D274="","",VLOOKUP(D274,tab_produits,2,FALSE)) | H274: =IFERROR(VLOOKUP(F274,'feuille temps par opé'!B:C,2,FALSE),"")*G274 -> #VALUE! | J274: =I274-H274 -> #VALUE!
E275: =IF(D275="","",VLOOKUP(D275,tab_produits,2,FALSE)) | H275: =IFERROR(VLOOKUP(F275,'feuille temps par opé'!B:C,2,FALSE),"")*G275 -> #VALUE! | J275: =I275-H275 -> #VALUE!
H276: =IFERROR(VLOOKUP(F276,'feuille temps par opé'!B:C,2,FALSE),"")*G276 -> #VALUE! | J276: =I276-H276 -> #VALUE!
H277: =IFERROR(VLOOKUP(F277,'feuille temps par opé'!B:C,2,FALSE),"")*G277 -> #VALUE! | J277: =I277-H277 -> #VALUE!
H278: =IFERROR(VLOOKUP(F278,'feuille temps par opé'!B:C,2,FALSE),"")*G278 -> #VALUE! | J278: =I278-H278 -> #VALUE!
H279: =IFERROR(VLOOKUP(F279,'feuille temps par opé'!B:C,2,FALSE),"")*G279 -> #VALUE! | J279: =I279-H279 -> #VALUE!
H280: =IFERROR(VLOOKUP(F280,'feuille temps par opé'!B:C,2,FALSE),"")*G280 -> #VALUE! | J280: =I280-H280 -> #VALUE!
H281: =IFERROR(VLOOKUP(F281,'feuille temps par opé'!B:C,2,FALSE),"")*G281 -> #VALUE! | J281: =I281-H281 -> #VALUE!
H282: =IFERROR(VLOOKUP(F282,'feuille temps par opé'!B:C,2,FALSE),"")*G282 -> #VALUE! | J282: =I282-H282 -> #VALUE!
H283: =IFERROR(VLOOKUP(F283,'feuille temps par opé'!B:C,2,FALSE),"")*G283 -> #VALUE! | J283: =I283-H283 -> #VALUE!
H284: =IFERROR(VLOOKUP(F284,'feuille temps par opé'!B:C,2,FALSE),"")*G284 -> #VALUE! | J284: =I284-H284 -> #VALUE!
H285: =IFERROR(VLOOKUP(F285,'feuille temps par opé'!B:C,2,FALSE),"")*G285 -> #VALUE! | J285: =I285-H285 -> #VALUE!
H286: =IFERROR(VLOOKUP(F286,'feuille temps par opé'!B:C,2,FALSE),"")*G286 -> #VALUE! | J286: =I286-H286 -> #VALUE!
H287: =IFERROR(VLOOKUP(F287,'feuille temps par opé'!B:C,2,FALSE),"")*G287 -> #VALUE! | J287: =I287-H287 -> #VALUE!
... H356: =IFERROR(VLOOKUP(F356,'feuille temps par opé'!B:C,2,FALSE),"")*G356 -> #VALUE! | J356: =I356-H356 -> #VALUE!
E357: =IF(D357="","",VLOOKUP(D357,tab_produits,2,FALSE)) | F357: =IFERROR(OFFSET('opérations par produit'!$A$1,1,MATCH(D357,'opérations par produit'!$1:$1,0)-1,COUNTA(OFFSET('opérations par produit'!$A:$A,,MATCH(D357,'opérations par produit'!$1:$1,0)-1))-1,),"") | H357: =IFERROR(VLOOKUP(F357,'feuille temps par opé'!B:C,2,FALSE),"")*G357 -> 0 | J357: =I357-H357 -> 0
E358: =IF(D358="","",VLOOKUP(D358,tab_produits,2,FALSE)) | F358: =IFERROR(OFFSET('opérations par produit'!$A$1,1,MATCH(D358,'opérations par produit'!$1:$1,0)-1,COUNTA(OFFSET('opérations par produit'!$A:$A,,MATCH(D358,'opérations par produit'!$1:$1,0)-1))-1,),"") | H358: =IFERROR(VLOOKUP(F358,'feuille temps par opé'!B:C,2,FALSE),"")*G358 -> 0 | J358: =I358-H358 -> 0
E359: =IF(D359="","",VLOOKUP(D359,tab_produits,2,FALSE)) | F359: TOTAL | H359: =SUM(H271:H358) -> #VALUE! | I359: =SUM(I271:I358) -> 0 | J359: =SUM(J271:J358) -> #VALUE! | K359: =K358 -> 0
B360: Decloitre | C360: =VLOOKUP(B360,'base nom prénom'!$A$1:$B$38,2,FALSE) -> Martine | E360: =IF(D360="","",VLOOKUP(D360,tab_produits,2,FALSE)) | H360: =IFERROR(VLOOKUP(F360,'feuille temps par opé'!B:C,2,FALSE),"")*G360 -> #VALUE! | J360: =I360-H360 -> #VALUE!
E361: =IF(D361="","",VLOOKUP(D361,tab_produits,2,FALSE)) | H361: =IFERROR(VLOOKUP(F361,'feuille temps par opé'!B:C,2,FALSE),"")*G361 -> #VALUE! | J361: =I361-H361 -> #VALUE!
E362: =IF(D362="","",VLOOKUP(D362,tab_produits,2,FALSE)) | H362: =IFERROR(VLOOKUP(F362,'feuille temps par opé'!B:C,2,FALSE),"")*G362 -> #VALUE! | J362: =I362-H362 -> #VALUE!
E363: =IF(D363="","",VLOOKUP(D363,tab_produits,2,FALSE)) | H363: =IFERROR(VLOOKUP(F363,'feuille temps par opé'!B:C,2,FALSE),"")*G363 -> #VALUE! | J363: =I363-H363 -> #VALUE!
E364: =IF(D364="","",VLOOKUP(D364,tab_produits,2,FALSE)) | H364: =IFERROR(VLOOKUP(F364,'feuille temps par opé'!B:C,2,FALSE),"")*G364 -> #VALUE! | J364: =I364-H364 -> #VALUE!
H365: =IFERROR(VLOOKUP(F365,'feuille temps par opé'!B:C,2,FALSE),"")*G365 -> #VALUE! | J365: =I365-H365 -> #VALUE!
H366: =IFERROR(VLOOKUP(F366,'feuille temps par opé'!B:C,2,FALSE),"")*G366 -> #VALUE! | J366: =I366-H366 -> #VALUE!
H367: =IFERROR(VLOOKUP(F367,'feuille temps par opé'!B:C,2,FALSE),"")*G367 -> #VALUE! | J367: =I367-H367 -> #VALUE!
H368: =IFERROR(VLOOKUP(F368,'feuille temps par opé'!B:C,2,FALSE),"")*G368 -> #VALUE! | J368: =I368-H368 -> #VALUE!
H369: =IFERROR(VLOOKUP(F369,'feuille temps par opé'!B:C,2,FALSE),"")*G369 -> #VALUE! | J369: =I369-H369 -> #VALUE!
H370: =IFERROR(VLOOKUP(F370,'feuille temps par opé'!B:C,2,FALSE),"")*G370 -> #VALUE! | J370: =I370-H370 -> #VALUE!
H371: =IFERROR(VLOOKUP(F371,'feuille temps par opé'!B:C,2,FALSE),"")*G371 -> #VALUE! | J371: =I371-H371 -> #VALUE!
H372: =IFERROR(VLOOKUP(F372,'feuille temps par opé'!B:C,2,FALSE),"")*G372 -> #VALUE! | J372: =I372-H372 -> #VALUE!
H373: =IFERROR(VLOOKUP(F373,'feuille temps par opé'!B:C,2,FALSE),"")*G373 -> #VALUE! | J373: =I373-H373 -> #VALUE!
...

Sheet Feuil1
A1: ="NOM : "&'planning soudure'!B4 -> NOM : Decloitre | G1: DATE :
A2: OBJECTIFS | G2: REALISATION
A3: Date | B3: Référence | C3: Opération | D3: Quantité à produire | E3: Temps unitaire | F3: Temps théorique | G3: Quantité produite | H3: TEMPS Réalisé | I3: Différence théorique /réel
A4: Lundi | E4: =IF(D4="","",VLOOKUP(D4,tab_produits,2,FALSE))
E5: =IF(D5="","",VLOOKUP(D5,tab_produits,2,FALSE))
E6: =IF(D6="","",VLOOKUP(D6,tab_produits,2,FALSE))
E7: =IF(D7="","",VLOOKUP(D7,tab_produits,2,FALSE))
E8: =IF(D8="","",VLOOKUP(D8,tab_produits,2,FALSE))
E20: =IF(D20="","",VLOOKUP(D20,tab_produits,2,FALSE)) | F20: =IFERROR(OFFSET('opérations par produit'!$A$1,1,MATCH(D20,'opérations par produit'!$1:$1,0)-1,COUNTA(OFFSET('opérations par produit'!$A:$A,,MATCH(D20,'opérations par produit'!$1:$1,0)-1))-1,),"")
E21: =IF(D21="","",VLOOKUP(D21,tab_produits,2,FALSE)) | F21: =IFERROR(OFFSET('opérations par produit'!$A$1,1,MATCH(D21,'opérations par produit'!$1:$1,0)-1,COUNTA(OFFSET('opérations par produit'!$A:$A,,MATCH(D21,'opérations par produit'!$1:$1,0)-1))-1,),"")
B22: TOTAL
A23: ALEAS
A24: TEMPS EN MINUTE | B24: REFERENCE PRODUIT | C24: OBSERVATIONS
A34: REBUTS
A35: NOMBRE | B35: REFERENCE PRODUIT | C35: CAUSES

Sheet Feuil2
A1: ="NOM : "&'planning soudure'!B93 -> NOM : Decloitre | G1: DATE :
A2: OBJECTIFS | G2: REALISATION
A3: Date | B3: Référence | C3: Opération | D3: Quantité à produire | E3: Temps unitaire | F3: Temps théorique | G3: Quantité produite | H3: TEMPS Réalisé | I3: Différence théorique /réel
E4: =IF(D4="","",VLOOKUP(D4,tab_produits,2,FALSE))
E5: =IF(D5="","",VLOOKUP(D5,tab_produits,2,FALSE))
E6: =IF(D6="","",VLOOKUP(D6,tab_produits,2,FALSE))
E7: =IF(D7="","",VLOOKUP(D7,tab_produits,2,FALSE))
E8: =IF(D8="","",VLOOKUP(D8,tab_produits,2,FALSE))
E20: =IF(D20="","",VLOOKUP(D20,tab_produits,2,FALSE)) | F20: =IFERROR(OFFSET('opérations par produit'!$A$1,1,MATCH(D20,'opérations par produit'!$1:$1,0)-1,COUNTA(OFFSET('opérations par produit'!$A:$A,,MATCH(D20,'opérations par produit'!$1:$1,0)-1))-1,),"")
E21: =IF(D21="","",VLOOKUP(D21,tab_produits,2,FALSE)) | F21: =IFERROR(OFFSET('opérations par produit'!$A$1,1,MATCH(D21,'opérations par produit'!$1:$1,0)-1,COUNTA(OFFSET('opérations par produit'!$A:$A,,MATCH(D21,'opérations par produit'!$1:$1,0)-1))-1,),"")
B22: TOTAL
A23: ALEAS
A24: TEMPS EN MINUTE | B24: REFERENCE PRODUIT | C24: OBSERVATIONS
A34: REBUTS
A35: NOMBRE | B35: REFERENCE PRODUIT | C35: CAUSES

Sheet Feuil3
A1: ="NOM : "&'planning soudure'!B182 -> NOM : Decloitre | G1: DATE :
A2: OBJECTIFS | G2: REALISATION
A3: Date | B3: Référence | C3: Opération | D3: Quantité à produire | E3: Temps unitaire | F3: Temps théorique | G3: Quantité produite | H3: TEMPS Réalisé | I3: Différence théorique /réel
E4: =IF(D4="","",VLOOKUP(D4,tab_produits,2,FALSE))
E5: =IF(D5="","",VLOOKUP(D5,tab_produits,2,FALSE))
E6: =IF(D6="","",VLOOKUP(D6,tab_produits,2,FALSE))
E7: =IF(D7="","",VLOOKUP(D7,tab_produits,2,FALSE))
E8: =IF(D8="","",VLOOKUP(D8,tab_produits,2,FALSE))
E20: =IF(D20="","",VLOOKUP(D20,tab_produits,2,FALSE)) | F20: =IFERROR(OFFSET('opérations par produit'!$A$1,1,MATCH(D20,'opérations par produit'!$1:$1,0)-1,COUNTA(OFFSET('opérations par produit'!$A:$A,,MATCH(D20,'opérations par produit'!$1:$1,0)-1))-1,),"")
E21: =IF(D21="","",VLOOKUP(D21,tab_produits,2,FALSE)) | F21: =IFERROR(OFFSET('opérations par produit'!$A$1,1,MATCH(D21,'opérations par produit'!$1:$1,0)-1,COUNTA(OFFSET('opérations par produit'!$A:$A,,MATCH(D21,'opérations par produit'!$1:$1,0)-1))-1,),"")
B22: TOTAL
A23: ALEAS
A24: TEMPS EN MINUTE | B24: REFERENCE PRODUIT | C24: OBSERVATIONS
A34: REBUTS
A35: NOMBRE | B35: REFERENCE PRODUIT | C35: CAUSES

Sheet Feuil4
A1: ="NOM : "&'planning soudure'!B271 -> NOM : Decloitre | G1: DATE :
A2: OBJECTIFS | G2: REALISATION
A3: Date | B3: Référence | C3: Opération | D3: Quantité à produire | E3: Temps unitaire | F3: Temps théorique | G3: Quantité produite | H3: TEMPS Réalisé | I3: Différence théorique /réel
E4: =IF(D4="","",VLOOKUP(D4,tab_produits,2,FALSE))
E5: =IF(D5="","",VLOOKUP(D5,tab_produits,2,FALSE))
E6: =IF(D6="","",VLOOKUP(D6,tab_produits,2,FALSE))
E7: =IF(D7="","",VLOOKUP(D7,tab_produits,2,FALSE))
E8: =IF(D8="","",VLOOKUP(D8,tab_produits,2,FALSE))
E20: =IF(D20="","",VLOOKUP(D20,tab_produits,2,FALSE)) | F20: =IFERROR(OFFSET('opérations par produit'!$A$1,1,MATCH(D20,'opérations par produit'!$1:$1,0)-1,COUNTA(OFFSET('opérations par produit'!$A:$A,,MATCH(D20,'opérations par produit'!$1:$1,0)-1))-1,),"")
E21: =IF(D21="","",VLOOKUP(D21,tab_produits,2,FALSE)) | F21: =IFERROR(OFFSET('opérations par produit'!$A$1,1,MATCH(D21,'opérations par produit'!$1:$1,0)-1,COUNTA(OFFSET('opérations par produit'!$A:$A,,MATCH(D21,'opérations par produit'!$1:$1,0)-1))-1,),"")
B22: TOTAL
A23: ALEAS
A24: TEMPS EN MINUTE | B24: REFERENCE PRODUIT | C24: OBSERVATIONS
A34: REBUTS
A35: NOMBRE | B35: REFERENCE PRODUIT | C35: CAUSES

Sheet base nom prénom
A1: Nom | B1: Prénom
A2: Monteiro.M | B2: Marie José
A3: Martinez | B3: Marie Françoise
A4: Lissorgue | B4: Nadine
A5: Amara | B5: Laurence
A6: Morel | B6: Chantal
A7: Martin | B7: Marielle
A8: Decloitre | B8: Martine
A9: Servagnat | B9: Jean Luc
A10: Mazeron | B10: Claire
A11: Dos Santos | B11: Gloria
A12: Casy | B12: Madelaine
... A20: Monteiro.C | B20: Céline

Sheet  feuille ref designation
A1: Ref | B1: Designation
A2: 739REUR-00N | B2: EMETTEUR RADIO POUR VX402R & BX80NR
A3: AL4590 | B3: AL4590 ALTO Edge light exit sign LF**
A4: I-ON16EURN | B4: CENTRALE ALARME RADIO 16 Z + NOTICES
A5: I-ON16KIT | B5: I-ON16 + 2 x XCELRPT + 9040 + Batt 12 V
A6: LUCBEZ | B6: LUCBEZ CADRE SEMI-ENCASTREMENT
A7: LUM0003100 | B7: Tube Culot G13 - 18 W
A8: LUM0004600 | B8: Tube Culot G13 - 36 W
A9: LUM10102 | B9: STD 65C
A10: LUM10106 | B10: STD 65CES
A11: LUM10118 | B11: STD 2000 CL
A12: LUM10120 | B12: STD 2000 CESL
... A332: NEC0003300 | B332: E ELECT CMS LED 10P ADR
A333: NEC0003600 | B333: #NAME?
A334: NEC00040C0 | B334: #NAME?
A335: NEC00042A0 | B335: E ELECT CMS SAB3 LED 400 ESPL
A336: NEC00044C0 | B336: #NAME?
A337: NEC0004500 | B337: .E ELECT CMS CARTE ALIM. + CDE GDE
A338: NEC0004600 | B338: E ELECT CMS CARTE LEDS GDE
A339: NEC00047B0 | B339: E ELECT CMS ALIM LED 400 ESPL (Ma907)
A340: NEC0005000 | B340: E ELECT CMS RLL 24
A341: NEC0005100 | B341: E ELECT CMS CENTRALE ADR CMS 2006
A342: NEC00052A0 | B342: E ELECT CMS TLU (MA898)
A343: NEC00053B0 | B343: E ELECT CMS BLOC PHARES ADR 2006**
A344: NEC00055C0 | B344: E ELECT CMS PLANETE 15D
A345: NEC0005600 | B345: E ELECT CMS CARTE LED LED 400 IAV**
A346: NEC00056A0 | B346: E ELECT CMS CARTE LED LED400IAV (Mi978)
A347: NEC0005800 | B347: E ELECT CMS SAB2 Bis A
A348: NEC00060A0 | B348: E ELECT CMS LSC DESIGN 230V AC (Ma912)
... A888: VAE64023 | B888: .BAAS MaME - Message Enreg. - Flash

Sheet feuille temps par opé
A1: Ref | B1: Operations/ref | C1: Tps | D1: Operation
A2: 739REUR-00N | B2: =D2 &","& A2 -> OP 300 EMBALLAGE ,739REUR-00N | C2: 1.4 | D2: OP 300 EMBALLAGE
A3: AL4590 | B3: =D3 &","& A3 -> OP 100 INSERTION ,AL4590 | C3: 0.996 | D3: OP 100 INSERTION
A4: AL4590 | B4: =D4 &","& A4 -> OP 100 INSERTION ,AL4590 | C4: 1.662 | D4: OP 100 INSERTION
A5: AL4590 | B5: =D5 &","& A5 -> OP 150 ASSEMBLAGE,AL4590 | C5: 4.56 | D5: OP 150 ASSEMBLAGE
A6: AL4590 | B6: =D6 &","& A6 -> OP 300 EMBALLAGE ,AL4590 | C6: 1.942 | D6: OP 300 EMBALLAGE
A7: I-ON16EURN | B7: =D7 &","& A7 -> OP 300 EMBALLAGE ,I-ON16EURN | C7: 0.71 | D7: OP 300 EMBALLAGE
A8: I-ON16KIT | B8: =D8 &","& A8 -> OP 300 EMBALLAGE,I-ON16KIT | C8: 2.7 | D8: OP 300 EMBALLAGE
A9: LUCBEZ | B9: =D9 &","& A9 -> SS TRAITANCE ,LUCBEZ | C9: 1.8 | D9: SS TRAITANCE
A10: LUM0003100 | B10: =D10 &","& A10 -> OP 300 EMBALLAGE ,LUM0003100 | C10: 1 | D10: OP 300 EMBALLAGE
A11: LUM0004600 | B11: =D11 &","& A11 -> OP 300 EMBALLAGE ,LUM0004600 | C11: 1 | D11: OP 300 EMBALLAGE
A12: LUM10102 | B12: =D12 &","& A12 -> OP 300 EMBALLAGE ,LUM10102 | C12: 0.4 | D12: OP 300 EMBALLAGE
A13: LUM10106 | B13: =D13 &","& A13 -> 300 EMBALLAGE CHAINE ,LUM10106 | C13: 1.612 | D13: 300 EMBALLAGE CHAINE
... A685: NBO4014400 | B685: =D685 &","& A685 -> OP 50 PREPARATION,NBO4014400 | C685: 0.149 | D685: OP 50 PREPARATION
A686: NBO4015300 | B686: =D686 &","& A686 -> ,NBO4015300 | C686: 0.186
A687: NBO7126100 | B687: =D687 &","& A687 -> ARTICLE SS TRAITE VOIR YS,NBO7126100 | C687: 0.312 | D687: ARTICLE SS TRAITE VOIR YS
A688: NBO7145200 | B688: =D688 &","& A688 -> SS TRAITANCE ,NBO7145200 | C688: 1.8 | D688: SS TRAITANCE
A689: NBO7215800 | B689: =D689 &","& A689 -> OP 60 TOLERIE,NBO7215800 | C689: 0.162 | D689: OP 60 TOLERIE
A690: NBO7215900 | B690: =D690 &","& A690 -> OP 60 TOLERIE,NBO7215900 | C690: 2.52 | D690: OP 60 TOLERIE
A691: NBO7269000 | B691: =D691 &","& A691 -> SS TRAITANCE ,NBO7269000 | C691: 0.24 | D691: SS TRAITANCE
A692: NBO7276900 | B692: =D692 &","& A692 -> SS TRAITANCE ,NBO7276900 | C692: 0.534 | D692: SS TRAITANCE
A693: NBO7277000 | B693: =D693 &","& A693 -> SS TRAITANCE ,NBO7277000 | C693: 0.66 | D693: SS TRAITANCE
A694: NBO7285000 | B694: =D694 &","& A694 -> Sous traitance ,NBO7285000 | C694: 1.848 | D694: Sous traitance
A695: NBO7298700 | B695: =D695 &","& A695 -> SS TRAITANCE,NBO7298700 | C695: 0.93 | D695: SS TRAITANCE
A696: NBO7298800 | B696: =D696 &","& A696 -> SS TRAITANCE ,NBO7298800 | C696: 0.918 | D696: SS TRAITANCE
A697: NBO7299002 | B697: =D697 &","& A697 -> OP 60 TOLERIE,NBO7299002 | C697: 6.48 | D697: OP 60 TOLERIE
A698: NBO7299600 | B698: =D698 &","& A698 -> SS TRAITANCE,NBO7299600 | C698: 0.504 | D698: SS TRAITANCE
... A962: NFL4010900 | B962: =D962 &","& A962 -> 400 FABRICATION TORONS,NFL4010900 | C962: 120 | D962: 400 FABRICATION TORONS
A963: NFL7324201 | B963: =D963 &","& A963 -> ,NFL7324201 | C963: 0.06
A964: NFL7324202 | B964: =D964 &","& A964 -> ,NFL7324202 | C964: 0.06
A965: NFL7324203 | B965: =D965 &","& A965 -> ,NFL7324203 | C965: 0.06
A966: NFL7468100 | B966: =D966 &","& A966 -> Preparation Cambrage,NFL7468100 | C966: 1.2 | D966: Preparation Cambrage
A967: NIC1001500 | B967: =D967 &","& A967 -> OP 190 PROGRAMMATION MICRO,NIC1001500 | C967: 0.48 | D967: OP 190 PROGRAMMATION MICRO
A968: NIC1002100 | B968: =D968 &","& A968 -> OP 190 PROGRAMMATION MICRO,NIC1002100 | C968: 0.48 | D968: OP 190 PROGRAMMATION MICRO
A969: NIC1002400 | B969: =D969 &","& A969 -> OP 190 PROGRAMMATION MICRO,NIC1002400 | C969: 0.48 | D969: OP 190 PROGRAMMATION MICRO
A970: NIC1002900 | B970: =D970 &","& A970 -> OP 190 PROGRAMMATION MICRO,NIC1002900 | C970: 0.48 | D970: OP 190 PROGRAMMATION MICRO
A971: NIC1003000 | B971: =D971 &","& A971 -> OP 190 PROGRAMMATION MICRO,NIC1003000 | C971: 0.48 | D971: OP 190 PROGRAMMATION MICRO
A972: NIC1003100 | B972: =D972 &","& A972 -> OP 190 PROGRAMMATION MICRO,NIC1003100 | C972: 0.48 | D972: OP 190 PROGRAMMATION MICRO
A973: NIC1003300 | B973: =D973 &","& A973 -> OP 190 PROGRAMMATION MICRO,NIC1003300 | C973: 0.48 | D973: OP 190 PROGRAMMATION MICRO
A974: NIC1003700 | B974: =D974 &","& A974 -> OP 190 PROGRAMMATION MICRO,NIC1003700 | C974: 0.48 | D974: OP 190 PROGRAMMATION MICRO
A975: NIC1004400 | B975: =D975 &","& A975 -> OP 190 PROGRAMMATION MICRO,NIC1004400 | C975: 0.48 | D975: OP 190 PROGRAMMATION MICRO
A976: NIC1005100 | B976: =D976 &","& A976 -> OP 190 PROGRAMMATION MICRO,NIC1005100 | C976: 0.96 | D976: OP 190 PROGRAMMATION MICRO
A977: NIC1005500 | B977: =D977 &","& A977 -> OP 190 PROGRAMMATION MICRO,NIC1005500 | C977: 0.48 | D977: OP 190 PROGRAMMATION MICRO
... A1576: NUG35153 | B1576: =D1576 &","& A1576 -> OP 300 EMBALLAGE,NUG35153 | C1576: 7.02 | D1576: OP 300 EMBALLAGE
A1577: NUG35153 | B1577: =D1577 &","& A1577 -> ,NUG35153 | C1577: 1.02
A1578: NUG38000 | B1578: =D1578 &","& A1578 -> OP 300 EMBALLAGE,NUG38000 | C1578: 0.48 | D1578: OP 300 EMBALLAGE
A1579: NUG38002 | B1579: =D1579 &","& A1579 -> OP 300 EMBALLAGE,NUG38002 | C1579: 0.48 | D1579: OP 300 EMBALLAGE
A1580: NUG38003 | B1580: =D1580 &","& A1580 -> OP 300 EMBALLAGE,NUG38003 | C1580: 0.48 | D1580: OP 300 EMBALLAGE
A1581: NUG38005 | B1581: =D1581 &","& A1581 -> OP 150 ASSEMBLAGE,NUG38005 | C1581: 30 | D1581: OP 150 ASSEMBLAGE
A1582: NUG38005 | B1582: =D1582 &","& A1582 -> OP 300 EMBALLAGE,NUG38005 | C1582: 0.48 | D1582: OP 300 EMBALLAGE
A1583: NUG38011 | B1583: =D1583 &","& A1583 -> OP 300 EMBALLAGE,NUG38011 | C1583: 1 | D1583: OP 300 EMBALLAGE
A1584: NUG38012 | B1584: =D1584 &","& A1584 -> OP 300 EMBALLAGE,NUG38012 | C1584: 1 | D1584: OP 300 EMBALLAGE
A1585: NUG38014 | B1585: =D1585 &","& A1585 -> OP 300 EMBALLAGE,NUG38014 | C1585: 1 | D1585: OP 300 EMBALLAGE
A1586: NUG38016 | B1586: =D1586 &","& A1586 -> OP 300 EMBALLAGE,NUG38016 | C1586: 1 | D1586: OP 300 EMBALLAGE
A1587: NUG38017 | B1587: =D1587 &","& A1587 -> OP 300 EMBALLAGE,NUG38017 | C1587: 1 | D1587: OP 300 EMBALLAGE
A1588: NUG38023 | B1588: =D1588 &","& A1588 -> OP 300 EMBALLAGE,NUG38023 | C1588: 1 | D1588: OP 300 EMBALLAGE
A1589: NUG38024 | B1589: =D1589 &","& A1589 -> OP 300 EMBALLAGE,NUG38024 | C1589: 1 | D1589: OP 300 EMBALLAGE
... A1857: VAE64023 | B1857: =D1857 &","& A1857 -> OP 300 EMBALLAGE ,VAE64023 | C1857: 1.15 | D1857: OP 300 EMBALLAGE
B1858: =E1858&A1858
B1859: =E1859&A1859
B1860: =E1860&A1860
B1861: =E1861&A1861
B1862: =E1862&A1862
B1863: =E1863&A1863
B1864: =E1864&A1864
B1865: =E1865&A1865
B1866: =E1866&A1866
B1867: =E1867&A1867
B1868: =E1868&A1868
B1869: =E1869&A1869
... B1874: =E1874&A1874
C3142: 26485.03

Sheet opérations par produit
A1: 739REUR-00N | B1: AL4590 | C1: I-ON16EURN | D1: I-ON16KIT | E1: LUCBEZ | F1: LUM0003100 | G1: LUM0004600 | H1: LUM10102 | I1: LUM10106 | J1: LUM10118 | K1: LUM10120 | L1: LUM10132 | M1: LUM10135 | N1: LUM10136 | O1: LUM10208 | P1: LUM10209 | Q1: LUM10219 | R1: LUM10231 | S1: LUM10303 | U1: LUM10312 | V1: LUM10313 | W1: LUM1031401 | X1: LUM10420 | Y1: LUM10469 | Z1: LUM10481 | AA1: LUM10490 | AB1: LUM10493 | AC1: LUM10515 | AD1: LUM10516 | AE1: LUM10517 | AF1: LUM10518 | AG1: LUM10521 | AH1: LUM10522 | AI1: LUM10523 | AJ1: LUM10536 | AK1: LUM10542 | AL1: LUM10543 | AM1: LUM10558 | AN1: LUM10663 | AO1: LUM10664 | AP1: LUM10667 | AQ1: LUM10671 | AR1: LUM10675 | AS1: LUM10771C1 | AT1: LUM10772 | AU1: LUM10773C1 | AV1: LUM10780 | AW1: LUM10789 | AX1: LUM10800 | AY1: LUM10801 | AZ1: LUM10830 | BA1: LUM10879 | BB1: LUM10880 | BC1: LUM10881 | BD1: LUM10883 | BE1: LUM10905 | BF1: LUM10910 | BG1: LUM10911 | BH1: LUM11010 | BI1: LUM11011 | BJ1: LUM11012 | BK1: LUM11013 | BL1: LUM11014 | BM1: LUM11029 | BN1: LUM11041 | BO1: LUM11042 | BP1: LUM11042A0 | BQ1: LUM11043 | BR1: LUM11044 | BS1: LUM11063 | BT1: LUM11064 | BU1: LUM11065 | BV1: LUM11066 | BW1: LUM11067 | BX1: LUM11068 | BY1: LUM11069 | BZ1: LUM11070 | CA1: LUM11075 | CB1: LUM11078 | CC1: LUM11079 | CD1: LUM11080 | CE1: LUM11081 | CF1: LUM11082 | CG1: LUM11083 | CH1: LUM11085 | CI1: LUM11086 | CJ1: LUM11088 | CK1: LUM11090 | CL1: LUM11091 | CM1: LUM11093 | CN1: LUM11095 | CO1: LUM11096 | CP1: LUM11097 | CQ1: LUM11099 | CR1: LUM11103 | CS1: LUM11106 | CT1: LUM11124 | CU1: LUM12001 | CV1: LUM12002 | CW1: LUM12042 | CX1: LUM12044 | CY1: LUM16001 | CZ1: LUM16004 | DA1: LUM16005 | DB1: LUM16025 | DC1: LUM16030 | DD1: LUM16031 | DE1: LUM16032 | DF1: LUM16033 | DG1: LUM16035 | DH1: LUM16040 | DI1: LUM16042 | DJ1: LUM16043 | DK1: LUM16046 | DL1: LUM16047 | DM1: LUM16048 | DN1: LUM16051 | DO1: LUM16064 | DP1: LUM16080 | DQ1: LUM17001 | DR1: LUM17002 | DS1: LUM17003 | DT1: LUM17006 | DU1: LUM17007 | DV1: LUM17010 | DW1: LUM17011 | DX1: LUM17012 | DY1: LUM17013 | DZ1: LUM17014 | EA1: LUM17041 | EB1: LUM17042 | EC1: LUM17043 | ED1: LUM17044 | EE1: LUM17046 | EF1: LUM17047 | EG1: LUM17110 | EH1: LUM20105 | EI1: LUM20107 | EJ1: LUM20801 | EK1: LUM20804 | EL1: LUM20807 | EM1: LUM20817 | EN1: LUM20819 | EO1: LUM20827 | EP1: LUM20829 | EQ1: LUM20830 | ER1: LUM20853 | ES1: LUM20854 | ET1: LUM21004 | EU1: LUM21005 | EV1: LUM21006 | EW1: LUM21007 | EX1: LUM21008 | EY1: LUM21009 | EZ1: LUM21010 | FA1: LUM21011 | FB1: LUM21012 | FC1: LUM21013 | FD1: LUM21022 | FE1: LUM21023 | FF1: LUM21024 | FG1: LUM21046 | FH1: LUM21047 | FI1: LUM21048 | FJ1: LUM21049 | FK1: LUM21050 | FL1: LUM21051 | FM1: LUM21052 | FN1: LUM21053 | FO1: LUM21054A0 | FP1: LUM21055 | FQ1: LUM21056 | FR1: LUM21057 | FS1: LUM21058 | FT1: LUM21059 | FU1: LUM21060 | FV1: LUM21061 | FW1: LUM21087 | FX1: LUM21091 | FY1: LUM21099 | FZ1: LUM21121 | GA1: LUM21122 | GB1: LUM21140 | GC1: LUM21141 | GD1: LUM21142 | GE1: LUM21225 | GF1: LUM21226 | GG1: LUM21238 | GH1: LUM21302 | GI1: LUM21308 | GJ1: LUM21316 | GK1: LUM21317 | GL1: LUM21318 | GM1: LUM21319 | GN1: LUM21323 | GO1: LUM21613 | GP1: LUM21614 | GQ1: LUM21615 | GR1: LUM21629 | GS1: LUM21715 | GT1: LUM21717 | GU1: LUM21718 | GV1: LUM21721 | GW1: LUM21722 | GX1: LUM21723 | GY1: LUM21724 | GZ1: LUM21729 | HA1: LUM21730 | HB1: LUM21731 | HC1: LUM21735 | HD1: LUM21736 | HE1: LUM21739 | HF1: LUM21740 | HG1: LUM21743 | HH1: LUM21746 | HI1: LUM21909 | HJ1: LUM21910 | HL1: LUM21911 | HM1: LUM21912 | HN1: LUM21913 | HO1: LUM21914 | HP1: LUM21915 | HQ1: LUM21916 | HR1: LUM21917 | HS1: LUM21918 | HT1: LUM21919 | HU1: LUM21920 | HV1: LUM21921 | HW1: LUM21953 | HX1: LUM21954 | HY1: LUM21955 | HZ1: LUM21960 | IA1: LUM21961 | IB1: LUM21962 | IC1: LUM21962A1 | ID1: LUM21963 | IE1: LUM22102 | IF1: LUM22107 | IG1: LUM22112 | IH1: LUM22114 | II1: LUM22115 | IJ1: LUM22116 | IK1: LUM22118 | IL1: LUM22119 | IM1: LUM22120 | IN1: LUM22121 | IO1: LUM22122 | IP1: LUM2212220M | IQ1: LUM2212250M | IR1: LUM22123 | IS1: LUM22124 | IT1: LUM22125 | IU1: LUM22126 | IV1: LUM22127 | IW1: LUM22129 | IX1: LUM22131 | IY1: LUM22134 | IZ1: LUM22135 | JA1: LUM22202 | JB1: LUM22203 | JC1: LUM22204 | JD1: LUM22205 | JE1: LUM22208 | JF1: LUM22401 | JG1: LUM22402 | JH1: LUM22403 | JI1: LUM22404 | JJ1: LUM22411 | JK1: LUM22412 | JL1: NAC7236200 | JM1: NBO1001800 | JN1: NBO1004900 | JO1: NBO1007400 | JP1: NBO1009100 | JQ1: NBO4000800 | JR1: NBO4001000 | JS1: NBO4009600 | JT1: NBO4012700 | JU1: NBO4014400 | JV1: NBO4015300 | JW1: NBO7126100 | JX1: NBO7145200 | JY1: NBO7215800 | JZ1: NBO7215900 | KA1: NBO7269000 | KB1: NBO7276900 | KC1: NBO7277000 | KD1: NBO7285000 | KE1: NBO7298700 | KF1: NBO7298800 | KG1: NBO7299002 | KH1: NBO7299600 | KI1: NBO7299700 | KJ1: NBO7301500 | KK1: NBO7301700 | KL1: NBO7303100 | KM1: NBO7311300 | KN1: NBO7314600 | KO1: NBO7316000 | KP1: NBO7321400 | KQ1: NBO7321601 | KR1: NBO7321701 | KS1: NBO7321801 | KT1: NBO7330800 | KU1: NBO7359100 | KV1: NBO7361900 | KW1: NBO7377700 | KX1: NBO7377800 | KY1: NBO7378000 | KZ1: NBO7390300 | LA1: NBO7391500 | LB1: NBP7266100 | LC1: NCH0003403 | LD1: NCO0001801 | LE1: NCO0001802 | LF1: NCO0007703 | LG1: NCO0007705 | LH1: NCO0007803 | LI1: NCO0007805 | LJ1: NCO7158400 | LK1: NCO7283400 | LL1: NDL0000315 | LM1: NDL0001457 | LN1: NDL0002532 | LO1: NEC00003A0 | LP1: NEC0000500 | LQ1: NEC00010C0 | LR1: NEC00015A0 | LS1: NEC00019A0 | LT1: NEC0002900 | LU1: NEC0003300 | LV1: NEC0003600 | LW1: NEC00040C0 | LX1: NEC00042A0 | LY1: NEC00044C0 | LZ1: NEC0004500 | MA1: NEC0004600 | MB1: NEC00047B0 | MC1: NEC0005000 | MD1: NEC0005100 | ME1: NEC00052A0 | MF1: NEC00053B0 | MG1: NEC00055C0 | MH1: NEC0005600 | MI1: NEC00056A0 | MJ1: NEC0005800 | MK1: NEC00060A0 | ML1: NEC00061A0 | MM1: NEC00062A0 | MN1: NEC00063A0 | MO1: NEC0006500 | MP1: NEC0006700 | MQ1: NEC00067A0 | MR1: NEC0006800 | MS1: NEC0007300 | MT1: NEC0007400 | MU1: NEC0007500 | MV1: NEC0007800 | MW1: NEC0008100 | MX1: NEC0008200 | MY1: NEC0008400 | MZ1: NEC0008500 | NA1: NEC0008600 | NB1: NEC0008800 | NC1: NEC0009100 | ND1: NEC0009200 | NE1: NEC0009300 | NF1: NEC0009400 | NG1: NEC0009500 | NH1: NEC0009600 | NI1: NEC0009700 | NJ1: NEC0009900 | NK1: NEC0010000 | NL1: NEC0010300 | NM1: NEC10009B0 | NN1: NEC1030200 | NO1: NEC10303A0 | NP1: NEC1030900 | NQ1: NEC10310A0 | NR1: NEC1060100 | NS1: NEC1090200 | NT1: NEC11001A0 | NU1: NEC1100800 | NV1: NEC1100900 | NW1: NEC1101000 | NX1: NEC1101100 | NY1: NEC1101200 | NZ1: NEC11022A0 | OA1: NEC1110400 | OB1: NEC1110600 | OC1: NEC1110800 | OD1: NEC1120200 | OE1: NEC19801B1 | OF1: NEC19801B2 | OG1: NEC19909A0 | OH1: NEE10008B0 | OI1: NEE10012A0 | OJ1: NEE1020100 | OK1: NEE10206A0 | OL1: NEE10206B0 | OM1: NEE1030200 | ON1: NEE10303A0 | OO1: NEE1030600 | OP1: NEE1030900 | OQ1: NEE10310A0 | OR1: NEE1090200 | OS1: NEE1090201 | OT1: NEE1090300 | OU1: NEE1100600 | OV1: NEE1100700 | OW1: NEE1100800 | OX1: NEE1100900 | OY1: NEE1101000 | OZ1: NEE1101100 | PA1: NEE1101200 | PB1: NEE1101300 | PC1: NEE1101400 | PD1: NEE1101500 | PE1: NEE1101600 | PF1: NEE1110400 | PG1: NEE1110600 | PH1: NEE1110800 | PI1: NEE1120200 | PJ1: NEE19401C0 | PK1: NEE19402B0 | PL1: NEE19602A1 | PM1: NEE19801B1 | PN1: NEE19801B2 | PO1: NEE19909A0 | PP1: NEE3152200 | PQ1: NEE3152300 | PR1: NEE3160401 | PS1: NEE3171900 | PT1: NEE3172000 | PU1: NEE3172300 | PV1: NEE3172700 | PW1: NEE3173400 | PX1: NEE3173500 | PY1: NEE3173600 | PZ1: NEE31736A0 | QA1: NEE3173700 | QB1: NEE3179300 | QC1: NEE31794A0 | QD1: NEE31830A0 | QE1: NEE3184200 | QF1: NEE31865A0 | QG1: NEE31876A0 | QH1: NEE3191000 | QI1: NEE3191100 | QJ1: NEE3191200 | QK1: NEE3191300 | QL1: NEE31916A0 | QM1: NEE3192800 | QN1: NEE3192900 | QO1: NEE3193000 | QP1: NEE3195100 | QQ1: NEE3196600 | QR1: NEE3196800 | QS1: NEE3197700 | QT1: NEE32003A0 | QU1: NEE3200800 | QV1: NEE3200900 | QW1: NEE3201300 | QX1: NEE32015B0 | QY1: NEE3203000 | QZ1: NEE3203800 | RA1: NEE3204300 | RB1: NEE3204400 | RC1: NEE3204600 | RD1: NEE3204900 | RE1: NEE3205300 | RF1: NEE3206000 | RG1: NEE3208600 | RH1: NEE3208900 | RI1: NEE3209000 | RJ1: NER7238813 | RK1: NER7323901 | RL1: NER7333604 | RM1: NFL40107A0 | RN1: NFL4010900 | RO1: NFL7324201 | RP1: NFL7324202 | RQ1: NFL7324203 | RR1: NFL7468100 | RS1: NIC1001500 | RT1: NIC1002100 | RU1: NIC1002400 | RV1: NIC1002900 | RW1: NIC1003000 | RX1: NIC1003100 | RY1: NIC1003300 | RZ1: NIC1003700 | SA1: NIC1004400 | SB1: NIC1005100 | SC1: NIC1005500 | SD1: NIC1005700 | SE1: NIC1006500 | SF1: NIC1006623 | SG1: NIC1006700 | SH1: NIC1007423 | SI1: NIC1007600 | SJ1: NIC1007823 | SK1: NIC1007900 | SL1: NIC1008000 | SM1: NIC1008100 | SN1: NIC1008200 | SO1: NIC1008400 | SP1: NIC1008800 | SQ1: NIC2000323 | SR1: NIC2000423 | SS1: NIC2002223 | ST1: NIC2002323 | SU1: NIC2004123 | SV1: NIC2004223 | SW1: NIC2004323 | SX1: NIC2004623 | SY1: NIC2005023 | SZ1: NIC2005200 | TA1: NIC2005323 | TB1: NIC2005622 | TC1: NIC2005900 | TD1: NIC2006200 | TE1: NIC2006400 | TF1: NIC2006700 | TG1: NIC2006800 | TH1: NIC2006900 | TI1: NIC2007000 | TJ1: NIC2007522 | TK1: NIC2008300 | TL1: NRA0003201 | TM1: NRA0006301 | TN1: NRD7129700 | TO1: NSC20815C0 | TQ1: NSE7401300 | TR1: NTA4005701 | TS1: NTA4005801 | TT1: NTA7135000 | TU1: NTA7177300 | TV1: NTA7197700 | TW1: NTA7244602 | TX1: NTA7244606 | TY1: NTA7244618 | TZ1: NTA7274003 | UA1: NTA7293600 | UB1: NTA7335200 | UC1: NTA7335300 | UD1: NTT0002214 | UE1: NTT0002314 | UF1: NTT0005614 | UG1: NUG30010 | UH1: NUG30011 | UI1: NUG30013 | UJ1: NUG30065 | UK1: NUG30067 | UL1: NUG30068 | UM1: NUG30073 | UN1: NUG30074 | UO1: NUG30075 | UP1: NUG30076 | UQ1: NUG30180 | UR1: NUG30181 | US1: NUG30186 | UT1: NUG30187 | UU1: NUG30188 | UV1: NUG30191 | UW1: NUG30192 | UX1: NUG30193 | UY1: NUG30194 | UZ1: NUG30231 | VA1: NUG30232 | VB1: NUG30233 | VC1: NUG30260 | VD1: NUG30261 | VE1: NUG30262 | VF1: NUG30263 | VG1: NUG30266 | VH1: NUG30286 | VI1: NUG30287 | VJ1: NUG30298 | VK1: NUG30299 | VL1: NUG30464 | VM1: NUG30471 | VO1: NUG30472 | VP1: NUG30474 | VQ1: NUG30475 | VR1: NUG30485 | VS1: NUG30486 | VT1: NUG30998 | VU1: NUG31020 | VV1: NUG31021 | VW1: NUG31023 | VX1: NUG31038 | VY1: NUG31039 | VZ1: NUG31045 | WA1: NUG31047 | WB1: NUG31050 | WC1: NUG31052 | WD1: NUG31054 | WE1: NUG31055 | WF1: NUG31056 | WG1: NUG31057 | WH1: NUG31058 | WI1: NUG31060 | WJ1: NUG31061 | WK1: NUG31064 | WL1: NUG31067 | WM1: NUG31071 | WN1: NUG31103 | WO1: NUG31104 | WP1: NUG31111 | WQ1: NUG31113 | WR1: NUG31114 | WS1: NUG31120 | WT1: NUG31121 | WU1: NUG31125 | WV1: NUG31126 | WW1: NUG31127 | WX1: NUG31128 | WY1: NUG31141 | WZ1: NUG31143 | XA1: NUG31144 | XB1: NUG31156 | XC1: NUG31163 | XD1: NUG31164 | XE1: NUG31165 | XF1: NUG31173 | XG1: NUG31174 | XH1: NUG31175 | XI1: NUG31182 | XJ1: NUG31184 | XK1: NUG31185 | XL1: NUG31186 | XM1: NUG31190 | XN1: NUG31191 | XO1: NUG31192 | XP1: NUG31193 | XQ1: NUG31210 | XR1: NUG31217 | XS1: NUG31218 | XT1: NUG31219 | XU1: NUG31220 | XV1: NUG31221 | XW1: NUG31231 | XX1: NUG31232 | XY1: NUG31234 | XZ1: NUG31240 | YA1: NUG31241 | YB1: NUG31242 | YC1: NUG31243 | YD1: NUG31244 | YE1: NUG31250 | YF1: NUG31251 | YG1: NUG31259 | YH1: NUG31261 | YI1: NUG31265 | YJ1: NUG31267 | YK1: NUG31268 | YL1: NUG31270 | YM1: NUG31272 | YN1: NUG31305 | YO1: NUG31306 | YP1: NUG31309 | YQ1: NUG31310 | YR1: NUG31312 | YS1: NUG31313 | YT1: NUG31314 | YU1: NUG31330 | YV1: NUG31420 | YW1: NUG31430 | YX1: NUG31500 | YY1: NUG31505 | YZ1: NUG31510 | ZA1: NUG3152199 | ZB1: NUG31530 | ZC1: NUG3153099 | ZD1: NUG31535 | ZE1: NUG3153599 | ZF1: NUG31536 | ZG1: NUG3153699 | ZH1: NUG3153799 | ZI1: NUG3155099 | ZJ1: NUG3155199 | ZK1: NUG3162199 | ZL1: NUG3162299 | ZM1: NUG3162399 | ZN1: NUG3162499 | ZO1: NUG3162599 | ZP1: NUG3162699 | ZQ1: NUG31634 | ZR1: NUG3163499 | ZS1: NUG31635 | ZT1: NUG3163599 | ZU1: NUG31636 | ZV1: NUG3163699 | ZW1: NUG31637 | ZX1: NUG3163799 | ZY1: NUG31640 | ZZ1: NUG31641 | AAA1: NUG31643 | AAB1: NUG31644 | AAC1: NUG31645 | AAD1: NUG3172299 | AAE1: NUG3172399 | AAF1: NUG3172499 | AAG1: NUG3172599 | AAH1: NUG3172699 | AAI1: NUG3172799 | AAJ1: NUG3175099 | AAK1: NUG3175199 | AAL1: NUG32042 | AAM1: NUG32045 | AAN1: NUG32056 | AAO1: NUG32063 | AAP1: NUG32064 | AAQ1: NUG32065 | AAR1: NUG32066 | AAS1: NUG32070 | AAT1: NUG32075 | AAU1: NUG32077 | AAV1: NUG32078 | AAW1: NUG32079 | AAX1: NUG32080 | AAY1: NUG32082 | AAZ1: NUG32083 | ABA1: NUG33313 | ABB1: NUG34021 | ABC1: NUG34022 | ABD1: NUG34040 | ABE1: NUG34042 | ABF1: NUG34044 | ABG1: NUG34046 | ABH1: NUG34047 | ABI1: NUG34064 | ABJ1: NUG34065 | ABK1: NUG34066 | ABL1: NUG34067 | ABM1: NUG34068 | ABN1: NUG34069 | ABO1: NUG34070 | ABP1: NUG34071 | ABQ1: NUG34072 | ABR1: NUG34073 | ABS1: NUG35055 | ABT1: NUG35056 | ABU1: NUG35057 | ABV1: NUG35058 | ABW1: NUG35066 | ABX1: NUG35153 | ABY1: NUG38000 | ABZ1: NUG38002 | ACA1: NUG38003 | ACB1: NUG38005 | ACC1: NUG38011 | ACD1: NUG38012 | ACE1: NUG38014 | ACF1: NUG38016 | ACG1: NUG38017 | ACH1: NUG38023 | ACI1: NUG38024 | ACJ1: NUG38033 | ACK1: NUG38034 | ACL1: NUG38035 | ACM1: NUG38036 | ACN1: NUG38037 | ACO1: NUG38038 | ACP1: NUG38039 | ACQ1: NUG38041 | ACR1: NUG38047 | ACS1: NUG38056 | ACT1: NUG38059 | ACU1: NUG38060 | ACV1: NUG38088 | ACW1: NUG38160 | ACX1: NUG38161 | ACY1: NUG38166 | ACZ1: NUG38198 | ADA1: NUG38199 | ADB1: NUG38200 | ADC1: NUG38217 | ADD1: NUG38222 | ADE1: NUG38223 | ADF1: NUG38224 | ADG1: NUG38228 | ADH1: NUG38229 | ADI1: NUG38230 | ADJ1: NUG38233 | ADK1: NUG38245 | ADL1: NUG38270 | ADM1: NUG38271 | ADN1: NUG38272 | ADO1: NUG38273 | ADP1: NUG38274 | ADQ1: NUG38276 | ADR1: NUG38301 | ADS1: NUG38308 | ADT1: NUG38309 | ADU1: NUG38311 | ADV1: NUG38313 | ADW1: NUG38314 | ADX1: NUG38315 | ADY1: NUG38316 | ADZ1: NUG38318 | AEA1: NUG38320 | AEB1: NUG38321 | AEC1: NUG38322 | AED1: NUG38329 | AEE1: NUG38331 | AEF1: NUG38332 | AEG1: NUG38333 | AEH1: NUG38338 | AEI1: NUG38339 | AEJ1: NUG38341 | AEK1: NUG38342 | AEL1: NUG38343 | AEM1: NUG38344 | AEN1: NUG38346 | AEO1: NUG38374 | AEP1: NUG38409 | AEQ1: NUG38420 | AER1: NUG38423 | AES1: NUG38424 | AET1: NUG38425 | AEU1: NUG38426 | AEV1: NUG38427 | AEW1: NUG38435 | AEX1: NUG38436 | AEY1: NUG38440 | AEZ1: NUG38441 | AFA1: NUG38443 | AFB1: NUG38444 | AFC1: NUG38445 | AFD1: NUG38446 | AFE1: NUG38447 | AFF1: NUG38560 | AFG1: NUG38638 | AFH1: NUG38639 | AFI1: NUG38645 | AFJ1: NUG38655 | AFK1: NUG38661 | AFL1: NUG38701 | AFM1: NUG38702 | AFN1: NUG38705 | AFO1: NUG38706 | AFP1: NUG38707 | AFR1: NUG38709 | AFS1: NUG38710 | AFT1: NUG38711 | AFU1: NUG38718 | AFV1: NUG38720 | AFW1: NUG38722 | AFX1: NUG38723 | AFY1: NUG38724 | AFZ1: NUG38725 | AGA1: NUG38726 | AGB1: NUG38730 | AGC1: NUG38731 | AGD1: NUG38801 | AGE1: PSX20801 | AGF1: PSX20802 | AGG1: PSX20803 | AGH1: PSX20814 | AGI1: PSX20815 | AGJ1: PSX20816 | AGK1: PSX20830 | AGL1: PSX20851 | AGM1: PSX22404 | AGN1: PSX22411 | AGO1: PSX22412 | AGP1: SCA00001 | AGQ1: SCA00002 | AGR1: SCA00003 | AGS1: VAE64001 | AGT1: VAE64002 | AGU1: VAE64003 | AGV1: VAE64004 | AGW1: VAE64005 | AGX1: VAE64010 | AGY1: VAE64011 | AGZ1: VAE64012 | AHA1: VAE64013 | AHB1: VAE64020 | AHC1: VAE64021 | AHD1: VAE64022 | AHE1: VAE64023
A2: OP 300 EMBALLAGE ,739REUR-00N | B2: OP 100 INSERTION ,AL4590 | C2: OP 300 EMBALLAGE ,I-ON16EURN | D2: OP 300 EMBALLAGE,I-ON16KIT | E2: SS TRAITANCE ,LUCBEZ | F2: OP 300 EMBALLAGE ,LUM0003100 | G2: OP 300 EMBALLAGE ,LUM0004600 | H2: OP 300 EMBALLAGE ,LUM10102 | I2: 300 EMBALLAGE CHAINE ,LUM10106 | J2: 109 AJOUT COMP TRAD SUR CMS ,LUM10118 | K2: 109 AJOUT COMP TRAD SUR CMS ,LUM10120 | L2: OP 100 INSERTION ,LUM10132 | M2: OP 150 ASSEMBLAGE ,LUM10135 | N2: OP 300 EMBALLAGE ,LUM10136 | O2: 100 INSERTION COMPOSANTS,LUM10208 | P2: OP 100 INSERTION ,LUM10209 | Q2: OP 100 INSERTION ,LUM10219 | R2: OP 150 ASSEMBLAGE ,LUM10231 | S2: OP 100 INSERTION ,LUM10303 | U2: OP 100 INSERTION ,LUM10312 | V2: OP 100 INSERTION ,LUM10313 | W2: OP 100 INSERTION ,LUM1031401 | X2: SS TRAITANCE ,LUM10420 | Y2: 300 EMBALLAGE CHAINE ,LUM10469 | Z2: SS TRAITANCE LUM10481 ,LUM10481 | AA2: OP 50 PREPARATION ,LUM10490 | AB2: OP 300 EMBALLAGE ,LUM10493 | AC2: OP 300 EMBALLAGE ,LUM10515 | AD2: OP 300 EMBALLAGE ,LUM10516 | AE2: OP 50 PREPARATION ,LUM10517 | AF2: OP 50 PREPARATION ,LUM10518 | AG2: OP 300 EMBALLAGE ,LUM10521 | AH2: OP 300 EMBALLAGE ,LUM10522 | AI2: 109 AJOUT COMP TRAD SUR CMS ,LUM10523 | AJ2: OP 150 ASSEMBLAGE,LUM10536 | AK2: OP 300 EMBALLAGE ,LUM10542 | AL2: OP 100 INSERTION ,LUM10543 | AM2: OP 300 EMBALLAGE ,LUM10558 | AN2: 100 INSERTION COMPOSANTS ,LUM10663 | AO2: OP 100 INSERTION ,LUM10664 | AP2: OP 100 INSERTION ,LUM10667 | AQ2: OP 100 INSERTION ,LUM10671 | AR2: OP 100 INSERTION ,LUM10675 | AS2: OP 150 ASSEMBLAGE CARTE ALIM LED 400ESPL ,LUM10771C1 | AT2: OP 150 ASSEMBLAGE CARTE ALIM LED 400ESPL ,LUM10772 | AU2: OP 150 ASSEMBLAGE CARTE ALIM LED 400ESPL ,LUM10773C1 | AV2: OP 100 INSERTION ,LUM10780 | AW2: OP 100 INSERTION ,LUM10789 | AX2: OP 150 ASSEMBLAGE,LUM10800 | AY2: OP 150 ASSEMBLAGE ,LUM10801 | AZ2: OP 300 EMBALLAGE ,LUM10830 | BA2: SS TRAITANCE ,LUM10879 | BB2: OP 50 PREPARATION ,LUM10880 | BC2: OP 50 PREPARATION ,LUM10881 | BD2: OP 50 PREPARATION ,LUM10883 | BE2: OP 100 INSERTION ,LUM10905 | BF2: OP 100 INSERTION ,LUM10910 | BG2: OP 100 INSERTION,LUM10911 | BH2: 150 CONTROLE APRES SOUDURE,LUM11010 | BI2: 109 AJOUT COMP TRAD SUR CMS,LUM11011 | BJ2: 150 CONTROLE APRES SOUDURE,LUM11012 | BK2: OP 300 EMBALLAGE,LUM11013 | BL2: OP 300 EMBALLAGE,LUM11014 | BM2: OP 180 TEST NEE,LUM11029 | BN2: OP 150 ASSEMBLAGE,LUM11041 | BO2: OP 100 INSERTION,LUM11042 | BP2: 100 INSERTION COMPOSANTS,LUM11042A0 | BQ2: OP 100 INSERTION,LUM11043 | BR2: OP 100 INSERTION,LUM11044 | BS2: OP 400 FABRICATION TORONS,LUM11063 | BT2: OP 400 FABRICATION TORONS,LUM11064 | BU2: OP 400 FABRICATION TORONS,LUM11065 | BV2: OP 400 FABRICATION TORONS,LUM11066 | BW2: OP 400 FABRICATION TORONS,LUM11067 | BX2: OP 400 FABRICATION TORONS,LUM11068 | BY2: OP 400 FABRICATION TORONS,LUM11069 | BZ2: OP 400 FABRICATION TORONS,LUM11070 | CA2: OP 150 ASSEMBLAGE,LUM11075 | CB2: OP 300 EMBALLAGE,LUM11078 | CC2: OP 300 EMBALLAGE,LUM11079 | CD2: OP 300 EMBALLAGE,LUM11080 | CE2: OP 300 EMBALLAGE,LUM11081 | CF2: OP 300 EMBALLAGE,LUM11082 | CG2: OP 100 INSERTION,LUM11083 | CH2: OP 300 EMBALLAGE,LUM11085 | CI2: OP 300 EMBALLAGE,LUM11086 | CJ2: OP 300 EMBALLAGE,LUM11088 | CK2: OP 100 INSERTION,LUM11090 | CL2: OP 300 EMBALLAGE,LUM11091 | CM2: OP 100 INSERTION,LUM11093 | CN2: OP 300 EMBALLAGE,LUM11095 | CO2: OP 100 INSERTION,LUM11096 | CP2: OP 100 INSERTION,LUM11097 | CQ2: OP 100 INSERTION,LUM11099 | CR2: OP 300 EMBALLAGE,LUM11103 | CS2: OP 300 EMBALLAGE,LUM11106 | CT2: OP 300 EMBALLAGE,LUM11124 | CU2: OP 300 EMBALLAGE,LUM12001 | CV2: OP 100 INSERTION,LUM12002 | CW2: OP 300 EMBALLAGE,LUM12042 | CX2: OP 100 INSERTION,LUM12044 | CY2: 170 SONDE MOBILE,LUM16001 | CZ2: OP 100 INSERTION,LUM16004 | DA2: OP 100 INSERTION,LUM16005 | DB2: OP 100 INSERTION,LUM16025 | DC2: OP 150 ASSEMBLAGE BLOC,LUM16030 | DD2: OP 150 ASSEMBLAGE BLOC,LUM16031 | DE2: OP 150 ASSEMBLAGE BLOC,LUM16032 | DF2: OP 150 ASSEMBLAGE BLOC,LUM16033 | DG2: OP 300 EMBALLAGE,LUM16035 | DH2: OP 100 INSERTION,LUM16040 | DI2: OP 100 INSERTION,LUM16042 | DJ2: OP 100 INSERTION,LUM16043 | DK2: OP 100 INSERTION,LUM16046 | DL2: OP 100 INSERTION,LUM16047 | DM2: OP 100 INSERTION,LUM16048 | DN2: OP 100 INSERTION,LUM16051 | DO2: OP 100 INSERTION,LUM16064 | DP2: OP 300 EMBALLAGE,LUM16080 | DQ2: 170 SONDE MOBILE,LUM17001 | DR2: 170 SONDE MOBILE,LUM17002 | DS2: 170 SONDE MOBILE,LUM17003 | DT2: 170 SONDE MOBILE,LUM17006 | DU2: 170 SONDE MOBILE,LUM17007 | DV2: OP 150 ASSEMBLAGE BLOC,LUM17010 | DW2: OP 150 ASSEMBLAGE BLOC,LUM17011 | DX2: OP 150 ASSEMBLAGE BLOC,LUM17012 | DY2: OP 150 ASSEMBLAGE BLOC,LUM17013 | DZ2: OP 100 INSERTION,LUM17014 | EA2: OP 100 INSERTION,LUM17041 | EB2: OP 100 INSERTION,LUM17042 | EC2: OP 100 INSERTION,LUM17043 | ED2: OP 100 INSERTION,LUM17044 | EE2: OP 100 INSERTION,LUM17046 | EF2: OP 100 INSERTION,LUM17047 | EG2: OP 150 ASSEMBLAGE BLOC,LUM17110 | EH2: OP 100 INSERTION,LUM20105 | EI2: OP 100 INSERTION,LUM20107 | EJ2: OP 550 EMBALLAGE SOURCES,LUM20801 | EK2: OP 400 FABRICATION TORONS,LUM20804 | EL2: OP 400 FABRICATION TORONS,LUM20807 | EM2: OP 400 FABRICATION TORONS,LUM20817 | EN2: OP 400 FABRICATION TORONS,LUM20819 | EO2: OP 500 ASSEMBLAGE SOURCES,LUM20827 | EP2: OP 500 ASSEMBLAGE SOURCES,LUM20829 | EQ2: OP 580 MONTAGE FINAL SOURCES,LUM20830 | ER2: OP 500 ASSEMBLAGE SOURCES,LUM20853 | ES2: OP 500 ASSEMBLAGE SOURCES,LUM20854 | ET2: OP 100 INSERTION,LUM21004 | EU2: 100 INSERTION COMPOSANTS,LUM21005 | EV2: OP 100 INSERTION,LUM21006 | EW2: OP 100 INSERTION,LUM21007 | EX2: OP 100 INSERTION,LUM21008 | EY2: OP 100 INSERTION,LUM21009 | EZ2: OP 100 INSERTION,LUM21010 | FA2: OP 150 ASSEMBLAGE,LUM21011 | FB2: 100 INSERTION COMPOSANTS,LUM21012 | FC2: 100 INSERTION COMPOSANTS,LUM21013 | FD2: OP 100 INSERTION,LUM21022 | FE2: OP 100 INSERTION,LUM21023 | FF2: OP 100 INSERTION,LUM21024 | FG2: OP 100 INSERTION,LUM21046 | FH2: OP 100 INSERTION,LUM21047 | FI2: OP 100 INSERTION,LUM21048 | FJ2: OP 150 ASSEMBLAGE,LUM21049 | FK2: OP 100 INSERTION,LUM21050 | FL2: OP 100 INSERTION,LUM21051 | FM2: OP 100 INSERTION,LUM21052 | FN2: OP 150 ASSEMBLAGE,LUM21053 | FO2: OP 100 INSERTION,LUM21054A0 | FP2: OP 100 INSERTION,LUM21055 | FQ2: OP 100 INSERTION,LUM21056 | FR2: OP 100 INSERTION,LUM21057 | FS2: OP 100 INSERTION,LUM21058 | FT2: OP 100 INSERTION,LUM21059 | FU2: OP 100 INSERTION,LUM21060 | FV2: OP 150 ASSEMBLAGE,LUM21061 | FW2: OP 150 ASSEMBLAGE,LUM21087 | FX2: OP 150 ASSEMBLAGE,LUM21091 | FY2: OP 150 ASSEMBLAGE,LUM21099 | FZ2: OP 500 ASSEMBLAGE SOURCES,LUM21121 | GA2: OP 500 ASSEMBLAGE SOURCES,LUM21122 | GB2: OP 500 ASSEMBLAGE SOURCES,LUM21140 | GC2: OP 500 ASSEMBLAGE SOURCES,LUM21141 | GD2: OP 500 ASSEMBLAGE SOURCES,LUM21142 | GE2: OP 150 ASSEMBLAGE,LUM21225 | GF2: OP 150 ASSEMBLAGE,LUM21226 | GG2: OP 150 ASSEMBLAGE,LUM21238 | GH2: OP 100 INSERTION,LUM21302 | GI2: OP 100 INSERTION,LUM21308 | GJ2: OP 150 ASSEMBLAGE,LUM21316 | GK2: OP 150 ASSEMBLAGE,LUM21317 | GL2: OP 150 ASSEMBLAGE,LUM21318 | GM2: OP 150 ASSEMBLAGE,LUM21319 | GN2: OP 150 ASSEMBLAGE,LUM21323 | GO2: OP 100 INSERTION,LUM21613 | GP2: OP 100 INSERTION,LUM21614 | GQ2: OP 100 INSERTION,LUM21615 | GR2: OP 150 ASSEMBLAGE,LUM21629 | GS2: OP 150 ASSEMBLAGE,LUM21715 | GT2: OP 150 ASSEMBLAGE,LUM21717 | GU2: OP 150 ASSEMBLAGE,LUM21718 | GV2: OP 300 EMBALLAGE,LUM21721 | GW2: OP 150 ASSEMBLAGE,LUM21722 | GX2: OP 150 ASSEMBLAGE,LUM21723 | GY2: OP 150 ASSEMBLAGE,LUM21724 | GZ2: 200 CABLAGE ASSEMBLAGE,LUM21729 | HA2: OP 150 ASSEMBLAGE,LUM21730 | HB2: OP 150 ASSEMBLAGE,LUM21731 | HC2: OP 200 ASSEMBLAGE + EMBALLAGE LUM21735,LUM21735 | HD2: OP 200 ASSEMBLAGE + EMBALLAGE,LUM21736 | HE2: OP 300 EMBALLAGE,LUM21739 | HF2: OP 150 ASSEMBLAGE,LUM21740 | HG2: OP 300 EMBALLAGE,LUM21743 | HH2: OP 150 ASSEMBLAGE CARTE LED,LUM21746 | HI2: OP 150 ASSEMBLAGE,LUM21909 | HJ2: OP 150 ASSEMBLAGE,LUM21910 | HL2: OP 150 ASSEMBLAGE,LUM21911 | HM2: OP 150 ASSEMBLAGE,LUM21912 | HN2: OP 150 ASSEMBLAGE,LUM21913 | HO2: OP 150 ASSEMBLAGE,LUM21914 | HP2: OP 150 ASSEMBLAGE,LUM21915 | HQ2: OP 150 ASSEMBLAGE,LUM21916 | HR2: OP 150 ASSEMBLAGE,LUM21917 | HS2: OP 150 ASSEMBLAGE,LUM21918 | HT2: OP 150 ASSEMBLAGE,LUM21919 | HU2: OP 150 ASSEMBLAGE,LUM21920 | HV2: OP 150 ASSEMBLAGE,LUM21921 | HW2: OP 150 ASSEMBLAGE,LUM21953 | HX2: OP 150 ASSEMBLAGE,LUM21954 | HY2: OP 150 ASSEMBLAGE,LUM21955 | HZ2: OP 150 ASSEMBLAGE,LUM21960 | IA2: OP 150 ASSEMBLAGE,LUM21961 | IB2: OP 150 ASSEMBLAGE,LUM21962 | IC2: OP 150 ASSEMBLAGE,LUM21962A1 | ID2: OP 150 ASSEMBLAGE,LUM21963 | IE2: 200 CABLAGE ASSEMBLAGE,LUM22102 | IF2: OP 150 ASSEMBLAGE,LUM22107 | IG2: OP 150 ASSEMBLAGE,LUM22112 | IH2: OP 150 ASSEMBLAGE,LUM22114 | II2: OP 150 ASSEMBLAGE,LUM22115 | IJ2: OP 150 ASSEMBLAGE,LUM22116 | IK2: 100 INSERTION COMPOSANTS,LUM22118 | IL2: 100 INSERTION COMPOSANTS,LUM22119 | IM2: OP 100 INSERTION,LUM22120 | IN2: OP 100 INSERTION,LUM22121 | IO2: OP 150 ASSEMBLAGE,LUM22122 | IP2: OP 150 ASSEMBLAGE,LUM2212220M | IQ2: OP 150 ASSEMBLAGE,LUM2212250M | IR2: OP 150 ASSEMBLAGE,LUM22123 | IS2: OP 100 INSERTION,LUM22124 | IT2: OP 150 ASSEMBLAGE,LUM22125 | IU2: OP 100 INSERTION,LUM22126 | IV2: OP 100 INSERTION,LUM22127 | IW2: OP 100 INSERTION,LUM22129 | IX2: OP 100 INSERTION,LUM22131 | IY2: OP 100 INSERTION,LUM22134 | IZ2: OP 100 INSERTION,LUM22135 | JA2: OP 100 INSERTION,LUM22202 | JB2: OP 100 INSERTION,LUM22203 | JC2: OP 100 INSERTION,LUM22204 | JD2: OP 150 ASSEMBLAGE,LUM22205 | JE2: OP 150 ASSEMBLAGE,LUM22208 | JF2: OP 400 FABRICATION TORONS,LUM22401 | JG2: OP 400 FABRICATION TORONS,LUM22402 | JH2: OP 400 FABRICATION TORONS,LUM22403 | JI2: OP 580 MONTAGE FINAL SOURCES,LUM22404 | JJ2: OP 580 MONTAGE FINAL SOURCES,LUM22411 | JK2: OP 580 MONTAGE FINAL SOURCES,LUM22412 | JL2: 60 TOLERIE,NAC7236200 | JM2: OP 50 PREPARATION,NBO1001800 | JN2: OP 60 TOLERIE,NBO1004900 | JO2: OP 50 PREPARATION,NBO1007400 | JP2: OP 50 PREPARATION,NBO1009100 | JQ2: SOUS TRAITANCE ,NBO4000800 | JR2: SOUS TRAITANCE ,NBO4001000 | JS2: SOUS TRAITANCE ,NBO4009600 | JT2: OP 50 PREPARATION,NBO4012700 | JU2: OP 50 PREPARATION,NBO4014400 | JV2: ,NBO4015300 | JW2: ARTICLE SS TRAITE VOIR YS,NBO7126100 | JX2: SS TRAITANCE ,NBO7145200 | JY2: OP 60 TOLERIE,NBO7215800 | JZ2: OP 60 TOLERIE,NBO7215900 | KA2: SS TRAITANCE ,NBO7269000 | KB2: SS TRAITANCE ,NBO7276900 | KC2: SS TRAITANCE ,NBO7277000 | KD2: Sous traitance ,NBO7285000 | KE2: SS TRAITANCE,NBO7298700 | KF2: SS TRAITANCE ,NBO7298800 | KG2: OP 60 TOLERIE,NBO7299002 | KH2: SS TRAITANCE,NBO7299600 | KI2: OP 60 TOLERIE,NBO7299700 | KJ2: SS TRAITANCE ,NBO7301500 | KK2: OP 60 TOLERIE,NBO7301700 | KL2: OP 60 TOLERIE,NBO7303100 | KM2: SS TRAITANCE ,NBO7311300 | KN2: OP 60 TOLERIE,NBO7314600 | KO2: OP 60 TOLERIE,NBO7316000 | KP2: ARTICLE SS TRAITE VOIR YS,NBO7321400 | KQ2: SS TRAITANCE ,NBO7321601 | KR2: OP 60 TOLERIE,NBO7321701 | KS2: 60 TOLERIE,NBO7321801 | KT2: 60 TOLERIE,NBO7330800 | KU2: 60 TOLERIE,NBO7359100 | KV2: OP 60 TOLERIE,NBO7361900 | KW2: 60 TOLERIE,NBO7377700 | KX2: SOUS TRAITANCE ,NBO7377800 | KY2: SS TRAITANCE ,NBO7378000 | KZ2: OP 60 TOLERIE,NBO7390300 | LA2: OP 60 TOLERIE,NBO7391500 | LB2: SS TRAITANCE ,NBP7266100 | LC2: SOUS TRAITANCE ,NCH0003403 | LD2: 60 TOLERIE,NCO0001801 | LE2: 60 TOLERIE,NCO0001802 | LF2: SS TRAITANCE ,NCO0007703 | LG2: SS TRAITANCE ,NCO0007705 | LH2: SS TRAITANCE ,NCO0007803 | LI2: SS TRAITANCE ,NCO0007805 | LJ2: SOUS TRAITANCE ,NCO7158400 | LK2: OP 50 PREPARATION,NCO7283400 | LL2: OP 50 PREPARATION,NDL0000315 | LM2: OP 50 PREPARATION,NDL0001457 | LN2: OP 50 PREPARATION,NDL0002532 | LO2: 90 INSERTION C.M.S,NEC00003A0 | LP2: 90 INSERTION C.M.S,NEC0000500 | LQ2: OP 90 CMS,NEC00010C0 | LR2: OP 90 CMS,NEC00015A0 | LS2: OP 90 CMS,NEC00019A0 | LT2: OP 90 CMS,NEC0002900 | LU2: OP 90 CMS,NEC0003300 | LV2: 90 INSERTION C.M.S,NEC0003600 | LW2: OP 90 CMS,NEC00040C0 | LX2: OP 90 CMS,NEC00042A0 | LY2: OP 90 INSERTION CMS,NEC00044C0 | LZ2: OP 90 CMS,NEC0004500 | MA2: OP 90 CMS,NEC0004600 | MB2: OP 90 CMS,NEC00047B0 | MC2: OP 90 CMS,NEC0005000 | MD2: OP 90 CMS,NEC0005100 | ME2: OP 90 CMS,NEC00052A0 | MF2: OP 90 CMS,NEC00053B0 | MG2: OP 90 CMS,NEC00055C0 | MH2: Découpe panneau+rangement dans bacs EDS,NEC0005600 | MI2: Découpe panneau+rangement dans bacs EDS,NEC00056A0 | MJ2: OP 90 CMS,NEC0005800 | MK2: OP 90 CMS,NEC00060A0 | ML2: OP 90 CMS,NEC00061A0 | MM2: OP 90 CMS,NEC00062A0 | MN2: OP 90 CMS,NEC00063A0 | MO2: OP 90 CMS,NEC0006500 | MP2: SOUS TRAITANCE ,NEC0006700 | MQ2: OP 90 CMS,NEC00067A0 | MR2: OP 90 CMS,NEC0006800 | MS2: OP 90 CMS,NEC0007300 | MT2: OP 90 CMS,NEC0007400 | MU2: OP 90 CMS,NEC0007500 | MV2: OP 90 CMS,NEC0007800 | MW2: OP 90 CMS,NEC0008100 | MX2: OP 90 CMS,NEC0008200 | MY2: OP 90 CMS,NEC0008400 | MZ2: OP 90 CMS,NEC0008500 | NA2: OP 90 CMS,NEC0008600 | NB2: OP 90 CMS,NEC0008800 | NC2: OP 90 CMS,NEC0009100 | ND2: OP 90 CMS,NEC0009200 | NE2: OP 90 CMS,NEC0009300 | NF2: OP 90 CMS,NEC0009400 | NG2: OP 90 CMS,NEC0009500 | NH2: OP 90 CMS,NEC0009600 | NI2: OP 90 CMS,NEC0009700 | NJ2: OP 90 CMS,NEC0009900 | NK2: OP 90 CMS,NEC0010000 | NL2: OP 90 CMS ,NEC0010300 | NM2: OP 90 CMS,NEC10009B0 | NN2: OP 90 CMS,NEC1030200 | NO2: OP 90 CMS,NEC10303A0 | NP2: OP 90 CMS,NEC1030900 | NQ2: OP 90 CMS,NEC10310A0 | NR2: OP 90 CMS,NEC1060100 | NS2: OP 90 CMS,NEC1090200 | NT2: OP 90 CMS,NEC11001A0 | NU2: OP 90 CMS,NEC1100800 | NV2: OP 90 CMS,NEC1100900 | NW2: OP 90 CMS,NEC1101000 | NX2: OP 90 CMS,NEC1101100 | NY2: OP 90 CMS,NEC1101200 | NZ2: OP 90 CMS,NEC11022A0 | OA2: OP 90 CMS,NEC1110400 | OB2: OP 90 CMS,NEC1110600 | OC2: OP 90 CMS,NEC1110800 | OD2: OP 90 CMS,NEC1120200 | OE2: OP 90 CMS,NEC19801B1 | OF2: OP 90 CMS,NEC19801B2 | OG2: OP 90 CMS,NEC19909A0 | OH2: 150 CONTROLE APRES SOUDURE,NEE10008B0 | OI2: OP 100 INSERTION,NEE10012A0 | OJ2: OP 100 INSERTION,NEE1020100 | OK2: OP 100 INSERTION,NEE10206A0 | OL2: OP 100 INSERTION,NEE10206B0 | OM2: OP 100 INSERTION,NEE1030200 | ON2: OP 100 INSERTION,NEE10303A0 | OO2: OP 100 INSERTION,NEE1030600 | OP2: OP 100 INSERTION,NEE1030900 | OQ2: OP 100 INSERTION,NEE10310A0 | OR2: 180 TEST NEE,NEE1090200 | OS2: 180 TEST NEE,NEE1090201 | OT2: OP 100 INSERTION,NEE1090300 | OU2: OP 100 INSERTION COMPOSANTS,NEE1100600 | OV2: OP 100 INSERTION COMPOSANTS,NEE1100700 | OW2: OP 100 INSERTION COMPOSANTS,NEE1100800 | OX2: OP 100 INSERTION COMPOSANTS,NEE1100900 | OY2: OP 100 INSERTION COMPOSANTS,NEE1101000 | OZ2: OP 100 INSERTION COMPOSANTS,NEE1101100 | PA2: OP 100 INSERTION COMPOSANTS,NEE1101200 | PB2: OP 100 INSERTION COMPOSANTS,NEE1101300 | PC2: OP 100 INSERTION COMPOSANTS,NEE1101400 | PD2: OP 100 INSERTION COMPOSANTS,NEE1101500 | PE2: OP 100 INSERTION COMPOSANTS,NEE1101600 | PF2: OP 100 INSERTION,NEE1110400 | PG2: OP 100 INSERTION,NEE1110600 | PH2: OP 100 INSERTION,NEE1110800 | PI2: OP 100 INSERTION,NEE1120200 | PJ2: OP 100 INSERTION,NEE19401C0 | PK2: OP 100 INSERTION,NEE19402B0 | PL2: OP 100 INSERTION,NEE19602A1 | PM2: OP 160 PREPARATION NEE,NEE19801B1 | PN2: OP 160 PREPARATION NEE,NEE19801B2 | PO2: OP 100 INSERTION,NEE19909A0 | PP2: OP 100 INSERTION,NEE3152200 | PQ2: OP 100 INSERTION,NEE3152300 | PR2: 150 CONTROLE APRES SOUDURE,NEE3160401 | PS2: OP 100 INSERTION,NEE3171900 | PT2: OP 100 INSERTION,NEE3172000 | PU2: OP 100 INSERTION,NEE3172300 | PV2: OP 100 INSERTION,NEE3172700 | PW2: OP 100 INSERTION,NEE3173400 | PX2: OP 100 INSERTION,NEE3173500 | PY2: OP 100 INSERTION,NEE3173600 | PZ2: OP 100 INSERTION,NEE31736A0 | QA2: OP 100 INSERTION,NEE3173700 | QB2: OP 100 INSERTION,NEE3179300 | QC2: OP 100 INSERTION,NEE31794A0 | QD2: OP 100 INSERTION,NEE31830A0 | QE2: OP 100 INSERTION,NEE3184200 | QF2: OP 100 INSERTION,NEE31865A0 | QG2: OP 100 INSERTION,NEE31876A0 | QH2: OP 100 INSERTION,NEE3191000 | QI2: OP 100 INSERTION,NEE3191100 | QJ2: OP 100 INSERTION,NEE3191200 | QK2: OP 100 INSERTION,NEE3191300 | QL2: OP 100 INSERTION,NEE31916A0 | QM2: OP 100 INSERTION,NEE3192800 | QN2: OP 100 INSERTION,NEE3192900 | QO2: OP 100 INSERTION,NEE3193000 | QP2: OP 100 INSERTION,NEE3195100 | QQ2: OP 100 INSERTION,NEE3196600 | QR2: OP 100 INSERTION,NEE3196800 | QS2: OP 100 INSERTION,NEE3197700 | QT2: OP 100 INSERTION,NEE32003A0 | QU2: OP109 INSERTION COMPOSANTS TRAD SUR CMS,NEE3200800 | QV2: OP109 INSERTION COMPOSANTS TRAD SUR CMS,NEE3200900 | QW2: OP 100 INSERTION,NEE3201300 | QX2: 180 TEST NEE,NEE32015B0 | QY2: OP 100 INSERTION,NEE3203000 | QZ2: OP 100 INSERTION,NEE3203800 | RA2: OP 100 INSERTION,NEE3204300 | RB2: OP 100 INSERTION,NEE3204400 | RC2: OP 100 INSERTION,NEE3204600 | RD2: OP 100 INSERTION,NEE3204900 | RE2: OP 100 INSERTION,NEE3205300 | RF2: 109 AJOUT COMP TRAD SUR CMS,NEE3206000 | RG2: OP 100 INSERTION,NEE3208600 | RH2: OP 100 INSERTION,NEE3208900 | RI2: OP 100 INSERTION,NEE3209000 | RJ2: SOUS TRAITANCE ,NER7238813 | RK2: SOUS TRAITANCE ,NER7323901 | RL2: SOUS TRAITANCE ,NER7333604 | RM2: 400 FABRICATION TORONS,NFL40107A0 | RN2: 400 FABRICATION TORONS,NFL4010900 | RO2: ,NFL7324201 | RP2: ,NFL7324202 | RQ2: ,NFL7324203 | RR2: Preparation Cambrage,NFL7468100 | RS2: OP 190 PROGRAMMATION MICRO,NIC1001500 | RT2: OP 190 PROGRAMMATION MICRO,NIC1002100 | RU2: OP 190 PROGRAMMATION MICRO,NIC1002400 | RV2: OP 190 PROGRAMMATION MICRO,NIC1002900 | RW2: OP 190 PROGRAMMATION MICRO,NIC1003000 | RX2: OP 190 PROGRAMMATION MICRO,NIC1003100 | RY2: OP 190 PROGRAMMATION MICRO,NIC1003300 | RZ2: OP 190 PROGRAMMATION MICRO,NIC1003700 | SA2: OP 190 PROGRAMMATION MICRO,NIC1004400 | SB2: OP 190 PROGRAMMATION MICRO,NIC1005100 | SC2: OP 190 PROGRAMMATION MICRO,NIC1005500 | SD2: OP 190 PROGRAMMATION MICRO,NIC1005700 | SE2: OP 190 PROGRAMMATION MICRO,NIC1006500 | SF2: OP 190 PROGRAMMATION MICRO,NIC1006623 | SG2: OP 190 PROGRAMMATION MICRO,NIC1006700 | SH2: OP 190 PROGRAMMATION MICRO,NIC1007423 | SI2: OP 190 PROGRAMMATION MICRO,NIC1007600 | SJ2: OP 190 PROGRAMMATION MICRO,NIC1007823 | SK2: OP 190 PROGRAMMATION MICRO,NIC1007900 | SL2: OP 190 PROGRAMMATION MICRO,NIC1008000 | SM2: OP 190 PROGRAMMATION MICRO,NIC1008100 | SN2: OP 190 PROGRAMMATION MICRO,NIC1008200 | SO2: OP 190 PROGRAMMATION MICRO,NIC1008400 | SP2: OP 190 PROGRAMMATION MICRO,NIC1008800 | SQ2: OP 190 PROGRAMMATION MICRO,NIC2000323 | SR2: OP 190 PROGRAMMATION MICRO,NIC2000423 | SS2: OP 190 PROGRAMMATION MICRO,NIC2002223 | ST2: OP 190 PROGRAMMATION MICRO,NIC2002323 | SU2: OP 190 PROGRAMMATION MICRO,NIC2004123 | SV2: OP 190 PROGRAMMATION MICRO,NIC2004223 | SW2: OP 190 PROGRAMMATION MICRO,NIC2004323 | SX2: OP 190 PROGRAMMATION MICRO,NIC2004623 | SY2: OP 190 PROGRAMMATION MICRO,NIC2005023 | SZ2: OP 190 PROGRAMMATION MICRO,NIC2005200 | TA2: OP 190 PROGRAMMATION MICRO,NIC2005323 | TB2: OP 190 PROGRAMMATION MICRO,NIC2005622 | TC2: OP 190 PROGRAMMATION MICRO,NIC2005900 | TD2: OP 190 PROGRAMMATION MICRO,NIC2006200 | TE2: OP 190 PROGRAMMATION MICRO,NIC2006400 | TF2: OP 190 PROGRAMMATION MICRO,NIC2006700 | TG2: OP 190 PROGRAMMATION MICRO,NIC2006800 | TH2: OP 190 PROGRAMMATION MICRO,NIC2006900 | TI2: OP 190 PROGRAMMATION MICRO,NIC2007000 | TJ2: OP 190 PROGRAMMATION MICRO,NIC2007522 | TK2: OP 190 PROGRAMMATION MICRO,NIC2008300 | TL2: SOUS TRAITANCE ,NRA0003201 | TM2: SOUS TRAITANCE ,NRA0006301 | TN2: OP 60 TOLERIE,NRD7129700 | TO2: 500 MONTAGE,NSC20815C0 | TQ2: OP 50 PREPARATION,NSE7401300 | TR2: OP 60 TOLERIE,NTA4005701 | TS2: OP 60 TOLERIE,NTA4005801 | TT2: SS TRAITANCE ,NTA7135000 | TU2: 60 TOLERIE,NTA7177300 | TV2: SS TRAITANCE ,NTA7197700 | TW2: OP 60 TOLERIE,NTA7244602 | TX2: OP 60 TOLERIE,NTA7244606 | TY2: OP 60 TOLERIE,NTA7244618 | TZ2: SS TRAITANCE ,NTA7274003 | UA2: OP 60 TOLERIE,NTA7293600 | UB2: SOUS TRAITANCE ,NTA7335200 | UC2: SS TRAITANCE,NTA7335300 | UD2: SOUS TRAITANCE ,NTT0002214 | UE2: OP 50 PREPARATION,NTT0002314 | UF2: OP 50 PREPARATION,NTT0005614 | UG2: OP 300 EMBALLAGE,NUG30010 | UH2: OP 300 EMBALLAGE,NUG30011 | UI2: OP 300 EMBALLAGE,NUG30013 | UJ2: OP 300 EMBALLAGE,NUG30065 | UK2: OP 300 EMBALLAGE,NUG30067 | UL2: OP 300 EMBALLAGE,NUG30068 | UM2: OP 300 EMBALLAGE,NUG30073 | UN2: OP 300 EMBALLAGE,NUG30074 | UO2: OP 300 EMBALLAGE,NUG30075 | UP2: OP 300 EMBALLAGE,NUG30076 | UQ2: OP 300 EMBALLAGE,NUG30180 | UR2: OP 300 EMBALLAGE,NUG30181 | US2: OP 300 EMBALLAGE,NUG30186 | UT2: OP 300 EMBALLAGE,NUG30187 | UU2: OP 300 EMBALLAGE,NUG30188 | UV2: OP 300 EMBALLAGE,NUG30191 | UW2: OP 300 EMBALLAGE,NUG30192 | UX2: OP 300 EMBALLAGE,NUG30193 | UY2: OP 300 EMBALLAGE,NUG30194 | UZ2: OP 300 EMBALLAGE,NUG30231 | VA2: OP 300 EMBALLAGE,NUG30232 | VB2: OP 300 EMBALLAGE,NUG30233 | VC2: OP 300 EMBALLAGE,NUG30260 | VD2: OP 300 EMBALLAGE,NUG30261 | VE2: OP 300 EMBALLAGE,NUG30262 | VF2: OP 300 EMBALLAGE,NUG30263 | VG2: OP 300 EMBALLAGE,NUG30266 | VH2: OP 150 ASSEMBLAGE,NUG30286 | VI2: OP 150 ASSEMBLAGE,NUG30287 | VJ2: OP 300 EMBALLAGE,NUG30298 | VK2: OP 300 EMBALLAGE,NUG30299 | VL2: OP 300 EMBALLAGE,NUG30464 | VM2: OP 300 EMBALLAGE,NUG30471 | VO2: OP 300 EMBALLAGE,NUG30472 | VP2: OP 300 EMBALLAGE,NUG30474 | VQ2: OP 300 EMBALLAGE,NUG30475 | VR2: OP 300 EMBALLAGE,NUG30485 | VS2: OP 300 EMBALLAGE,NUG30486 | VT2: OP 300 EMBALLAGE,NUG30998 | VU2: OP 150 ASSEMBLAGE,NUG31020 | VV2: OP 150 ASSEMBLAGE,NUG31021 | VW2: OP 150 ASSEMBLAGE,NUG31023 | VX2: OP 180 TEST NEE,NUG31038 | VY2: OP 180 TEST NEE,NUG31039 | VZ2: OP 180 TEST NEE,NUG31045 | WA2: OP 220 TEST FINAL,NUG31047 | WB2: OP 150 ASSEMBLAGE,NUG31050 | WC2: OP 150 ASSEMBLAGE,NUG31052 | WD2: OP 150 ASSEMBLAGE,NUG31054 | WE2: OP 150 ASSEMBLAGE,NUG31055 | WF2: OP 150 ASSEMBLAGE,NUG31056 | WG2: OP 150 ASSEMBLAGE,NUG31057 | WH2: OP 150 ASSEMBLAGE,NUG31058 | WI2: OP 150 ASSEMBLAGE,NUG31060 | WJ2: OP 160 PREPARATION NEE,NUG31061 | WK2: OP 150 ASSEMBLAGE,NUG31064 | WL2: OP 150 ASSEMBLAGE,NUG31067 | WM2: OP 150 ASSEMBLAGE,NUG31071 | WN2: OP 220 TEST FINAL,NUG31103 | WO2: OP 150 ASSEMBLAGE,NUG31104 | WP2: OP 160 PREPARATION NEE,NUG31111 | WQ2: OP 160 PREPARATION NEE,NUG31113 | WR2: OP 300 EMBALLAGE,NUG31114 | WS2: OP 300 EMBALLAGE,NUG31120 | WT2: OP 300 EMBALLAGE,NUG31121 | WU2: OP 180 TEST NEE,NUG31125 | WV2: OP 180 TEST NEE,NUG31126 | WW2: OP 300 EMBALLAGE,NUG31127 | WX2: OP 180 TEST NEE,NUG31128 | WY2: OP 150 ASSEMBLAGE,NUG31141 | WZ2: OP 150 ASSEMBLAGE,NUG31143 | XA2: OP 150 ASSEMBLAGE,NUG31144 | XB2: OP 150 ASSEMBLAGE,NUG31156 | XC2: OP 150 ASSEMBLAGE,NUG31163 | XD2: OP 150 ASSEMBLAGE,NUG31164 | XE2: OP 150 ASSEMBLAGE,NUG31165 | XF2: OP 150 ASSEMBLAGE,NUG31173 | XG2: OP 150 ASSEMBLAGE,NUG31174 | XH2: OP 150 ASSEMBLAGE,NUG31175 | XI2: OP 100 INSERTION,NUG31182 | XJ2: OP 100 INSERTION,NUG31184 | XK2: OP 100 INSERTION,NUG31185 | XL2: OP 100 INSERTION,NUG31186 | XM2: OP 100 INSERTION,NUG31190 | XN2: OP 100 INSERTION,NUG31191 | XO2: OP 100 INSERTION,NUG31192 | XP2: OP 100 INSERTION,NUG31193 | XQ2: OP 150 ASSEMBLAGE,NUG31210 | XR2: OP 100 INSERTION,NUG31217 | XS2: OP 100 INSERTION,NUG31218 | XT2: OP 100 INSERTION ,NUG31219 | XU2: OP 100 INSERTION,NUG31220 | XV2: OP 100 INSERTION,NUG31221 | XW2: OP 150 ASSEMBLAGE,NUG31231 | XX2: OP 150 ASSEMBLAGE,NUG31232 | XY2: OP 150 ASSEMBLAGE,NUG31234 | XZ2: OP 150 ASSEMBLAGE,NUG31240 | YA2: OP 150 ASSEMBLAGE,NUG31241 | YB2: OP 150 ASSEMBLAGE,NUG31242 | YC2: OP 150 ASSEMBLAGE,NUG31243 | YD2: OP 150 ASSEMBLAGE,NUG31244 | YE2: OP 150 ASSEMBLAGE,NUG31250 | YF2: OP 150 ASSEMBLAGE,NUG31251 | YG2: OP 180 TEST NEE,NUG31259 | YH2: OP 160 PREPARATION NEE,NUG31261 | YI2: OP 160 PREPARATION NEE,NUG31265 | YJ2: OP 150 ASSEMBLAGE,NUG31267 | YK2: OP 150 ASSEMBLAGE,NUG31268 | YL2: OP 160 PREPARATION NEE,NUG31270 | YM2: OP 180 TEST NEE,NUG31272 | YN2: OP 150 ASSEMBLAGE,NUG31305 | YO2: OP 150 ASSEMBLAGE,NUG31306 | YP2: OP 150 ASSEMBLAGE,NUG31309 | YQ2: OP 150 ASSEMBLAGE,NUG31310 | YR2: OP 150 ASSEMBLAGE,NUG31312 | YS2: OP 220 TEST FINAL,NUG31313 | YT2: OP 150 ASSEMBLAGE,NUG31314 | YU2: OP 150 ASSEMBLAGE,NUG31330 | YV2: OP 150 ASSEMBLAGE,NUG31420 | YW2: OP 150 ASSEMBLAGE,NUG31430 | YX2: OP 150 ASSEMBLAGE,NUG31500 | YY2: OP 300 EMBALLAGE,NUG31505 | YZ2: OP 150 ASSEMBLAGE,NUG31510 | ZA2: 300 EMBALLAGE CHAINE,NUG3152199 | ZB2: OP 300 EMBALLAGE,NUG31530 | ZC2: OP 150 ASSEMBLAGE,NUG3153099 | ZD2: OP 300 EMBALLAGE,NUG31535 | ZE2: OP 150 ASSEMBLAGE,NUG3153599 | ZF2: OP 300 EMBALLAGE,NUG31536 | ZG2: OP 150 ASSEMBLAGE,NUG3153699 | ZH2: OP 150 ASSEMBLAGE,NUG3153799 | ZI2: OP 150 ASSEMBLAGE,NUG3155099 | ZJ2: OP 150 ASSEMBLAGE,NUG3155199 | ZK2: OP 150 ASSEMBLAGE ,NUG3162199 | ZL2: OP 150 ASSEMBLAGE,NUG3162299 | ZM2: OP 150 ASSEMBLAGE,NUG3162399 | ZN2: OP 150 ASSEMBLAGE,NUG3162499 | ZO2: OP 150 ASSEMBLAGE,NUG3162599 | ZP2: OP 150 ASSEMBLAGE,NUG3162699 | ZQ2: OP 150 ASSEMBLAGE,NUG31634 | ZR2: OP 150 ASSEMBLAGE,NUG3163499 | ZS2: OP 300 EMBALLAGE,NUG31635 | ZT2: OP 150 ASSEMBLAGE,NUG3163599 | ZU2: OP 150 ASSEMBLAGE,NUG31636 | ZV2: OP 150 ASSEMBLAGE,NUG3163699 | ZW2: OP 150 ASSEMBLAGE,NUG31637 | ZX2: OP 150 ASSEMBLAGE,NUG3163799 | ZY2: OP 150 ASSEMBLAGE,NUG31640 | ZZ2: OP 150 ASSEMBLAGE,NUG31641 | AAA2: OP 150 ASSEMBLAGE,NUG31643 | AAB2: OP 150 ASSEMBLAGE,NUG31644 | AAC2: OP 150 ASSEMBLAGE,NUG31645 | AAD2: OP 150 ASSEMBLAGE,NUG3172299 | AAE2: OP 150 ASSEMBLAGE,NUG3172399 | AAF2: OP 150 ASSEMBLAGE,NUG3172499 | AAG2: OP 150 ASSEMBLAGE,NUG3172599 | AAH2: OP 150 ASSEMBLAGE,NUG3172699 | AAI2: OP 150 ASSEMBLAGE,NUG3172799 | AAJ2: OP 150 ASSEMBLAGE,NUG3175099 | AAK2: OP 150 ASSEMBLAGE,NUG3175199 | AAL2: OP 150 ASSEMBLAGE,NUG32042 | AAM2: OP 150 ASSEMBLAGE,NUG32045 | AAN2: OP 150 ASSEMBLAGE,NUG32056 | AAO2: OP 150 ASSEMBLAGE,NUG32063 | AAP2: OP 150 ASSEMBLAGE,NUG32064 | AAQ2: OP 150 ASSEMBLAGE,NUG32065 | AAR2: OP 150 ASSEMBLAGE,NUG32066 | AAS2: OP 150 ASSEMBLAGE,NUG32070 | AAT2: OP 160 PREPARATION NEE,NUG32075 | AAU2: OP 160 PREPARATION NEE,NUG32077 | AAV2: OP 150 ASSEMBLAGE,NUG32078 | AAW2: OP 150 ASSEMBLAGE,NUG32079 | AAX2: OP 150 ASSEMBLAGE,NUG32080 | AAY2: OP 150 ASSEMBLAGE,NUG32082 | AAZ2: OP 150 ASSEMBLAGE,NUG32083 | ABA2: OP 150 ASSEMBLAGE,NUG33313 | ABB2: OP 500 ASSEMBLAGE SOURCES,NUG34021 | ABC2: OP 500 ASSEMBLAGE SOURCES,NUG34022 | ABD2: 160 PREPARATION DES NEE,NUG34040 | ABE2: 160 PREPARATION DES NEE,NUG34042 | ABF2: 300 EMBALLAGE CHAINE,NUG34044 | ABG2: 160 PREPARATION DES NEE,NUG34046 | ABH2: 160 PREPARATION DES NEE,NUG34047 | ABI2: OP 150 ASSEMBLAGE,NUG34064 | ABJ2: OP 150 ASSEMBLAGE,NUG34065 | ABK2: OP 150 ASSEMBLAGE,NUG34066 | ABL2: OP 150 ASSEMBLAGE,NUG34067 | ABM2: OP 150 ASSEMBLAGE,NUG34068 | ABN2: OP 150 ASSEMBLAGE,NUG34069 | ABO2: OP 150 ASSEMBLAGE,NUG34070 | ABP2: OP 150 ASSEMBLAGE,NUG34071 | ABQ2: OP 150 ASSEMBLAGE,NUG34072 | ABR2: OP 150 ASSEMBLAGE,NUG34073 | ABS2: OP 300 EMBALLAGE,NUG35055 | ABT2: OP 300 EMBALLAGE,NUG35056 | ABU2: OP 300 EMBALLAGE,NUG35057 | ABV2: OP 300 EMBALLAGE,NUG35058 | ABW2: OP 300 EMBALLAGE,NUG35066 | ABX2: ,NUG35153 | ABY2: OP 300 EMBALLAGE,NUG38000 | ABZ2: OP 300 EMBALLAGE,NUG38002 | ACA2: OP 300 EMBALLAGE,NUG38003 | ACB2: OP 150 ASSEMBLAGE,NUG38005 | ACC2: OP 300 EMBALLAGE,NUG38011 | ACD2: OP 300 EMBALLAGE,NUG38012 | ACE2: OP 300 EMBALLAGE,NUG38014 | ACF2: OP 300 EMBALLAGE,NUG38016 | ACG2: OP 300 EMBALLAGE,NUG38017 | ACH2: OP 300 EMBALLAGE,NUG38023 | ACI2: OP 300 EMBALLAGE,NUG38024 | ACJ2: OP 300 EMBALLAGE,NUG38033 | ACK2: OP 300 EMBALLAGE,NUG38034 | ACL2: OP 300 EMBALLAGE,NUG38035 | ACM2: OP 300 EMBALLAGE,NUG38036 | ACN2: OP 300 EMBALLAGE,NUG38037 | ACO2: OP 300 EMBALLAGE,NUG38038 | ACP2: OP 300 EMBALLAGE,NUG38039 | ACQ2: OP 300 EMBALLAGE,NUG38041 | ACR2: OP 220 TEST FINAL,NUG38047 | ACS2: OP 300 EMBALLAGE,NUG38056 | ACT2: OP 300 EMBALLAGE,NUG38059 | ACU2: OP 50 PREPARATION,NUG38060 | ACV2: OP 180 TEST NEE,NUG38088 | ACW2: OP 300 EMBALLAGE,NUG38160 | ACX2: OP 300 EMBALLAGE,NUG38161 | ACY2: OP 300 EMBALLAGE,NUG38166 | ACZ2: OP 180 TEST NEE,NUG38198 | ADA2: OP 150 ASSEMBLAGE,NUG38199 | ADB2: OP 160 PREPARATION NEE,NUG38200 | ADC2: OP 180 TEST NEE,NUG38217 | ADD2: OP 150 ASSEMBLAGE ,NUG38222 | ADE2: OP 150 ASSEMBLAGE ,NUG38223 | ADF2: OP 160 PREPARATION NEE ,NUG38224 | ADG2: OP 180 TEST NEE ,NUG38228 | ADH2: OP 160 PREPARATION NEE ,NUG38229 | ADI2: OP 220 TEST FINAL ,NUG38230 | ADJ2: OP 160 PREPARATION NEE ,NUG38233 | ADK2: OP 150 ASSEMBLAGE ,NUG38245 | ADL2: OP 160 PREPARATION NEE ,NUG38270 | ADM2: OP 160 PREPARATION NEE ,NUG38271 | ADN2: OP 160 PREPARATION NEE ,NUG38272 | ADO2: OP 160 PREPARATION NEE ,NUG38273 | ADP2: OP 180 TEST NEE ,NUG38274 | ADQ2: OP 220 TEST FINAL ,NUG38276 | ADR2: OP 150 ASSEMBLAGE ,NUG38301 | ADS2: OP 180 TEST NEE ,NUG38308 | ADT2: OP 180 TEST NEE ,NUG38309 | ADU2: OP 180 TEST NEE ,NUG38311 | ADV2: OP 220 TEST FINAL ,NUG38313 | ADW2: OP 160 PREPARATION NEE ,NUG38314 | ADX2: OP 150 ASSEMBLAGE ,NUG38315 | ADY2: OP 160 PREPARATION NEE ,NUG38316 | ADZ2: OP 300 EMBALLAGE ,NUG38318 | AEA2: OP 300 EMBALLAGE ,NUG38320 | AEB2: OP 180 TEST NEE ,NUG38321 | AEC2: OP 180 TEST NEE ,NUG38322 | AED2: OP 180 TEST NEE ,NUG38329 | AEE2: OP 180 TEST NEE ,NUG38331 | AEF2: OP 300 EMBALLAGE ,NUG38332 | AEG2: OP 180 TEST NEE ,NUG38333 | AEH2: OP 180 TEST NEE ,NUG38338 | AEI2: OP 180 TEST NEE ,NUG38339 | AEJ2: OP 220 TEST FINAL ,NUG38341 | AEK2: OP 180 TEST NEE ,NUG38342 | AEL2: OP 220 TEST FINAL ,NUG38343 | AEM2: OP 160 PREPARATION NEE ,NUG38344 | AEN2: OP 160 PREPARATION NEE ,NUG38346 | AEO2: OP 300 EMBALLAGE ,NUG38374 | AEP2: OP 300 EMBALLAGE ,NUG38409 | AEQ2: OP 300 EMBALLAGE ,NUG38420 | AER2: OP 300 EMBALLAGE ,NUG38423 | AES2: OP 300 EMBALLAGE ,NUG38424 | AET2: OP 300 EMBALLAGE ,NUG38425 | AEU2: OP 300 EMBALLAGE ,NUG38426 | AEV2: OP 300 EMBALLAGE ,NUG38427 | AEW2: OP 300 EMBALLAGE ,NUG38435 | AEX2: OP 300 EMBALLAGE ,NUG38436 | AEY2: OP 300 EMBALLAGE ,NUG38440 | AEZ2: OP 300 EMBALLAGE ,NUG38441 | AFA2: OP 300 EMBALLAGE ,NUG38443 | AFB2: OP 300 EMBALLAGE ,NUG38444 | AFC2: OP 300 EMBALLAGE ,NUG38445 | AFD2: OP 300 EMBALLAGE ,NUG38446 | AFE2: OP 300 EMBALLAGE ,NUG38447 | AFF2: OP 100 INSERTION ,NUG38560 | AFG2: OP 180 TEST NEE ,NUG38638 | AFH2: OP 180 TEST NEE ,NUG38639 | AFI2: OP 180 TEST NEE ,NUG38645 | AFJ2: OP 100 INSERTION ,NUG38655 | AFK2: OP 160 PREPARATION NEE ,NUG38661 | AFL2: OP 300 EMBALLAGE ,NUG38701 | AFM2: OP 300 EMBALLAGE ,NUG38702 | AFN2: OP 300 EMBALLAGE ,NUG38705 | AFO2: OP 300 EMBALLAGE ,NUG38706 | AFP2: OP 300 EMBALLAGE ,NUG38707 | AFR2: OP 300 EMBALLAGE ,NUG38709 | AFS2: OP 300 EMBALLAGE ,NUG38710 | AFT2: OP 180 TEST NEE ,NUG38711 | AFU2: OP 300 EMBALLAGE ,NUG38718 | AFV2: OP 300 EMBALLAGE ,NUG38720 | AFW2: OP 300 EMBALLAGE ,NUG38722 | AFX2: OP 300 EMBALLAGE ,NUG38723 | AFY2: OP 300 EMBALLAGE,NUG38724 | AFZ2: OP 300 EMBALLAGE ,NUG38725 | AGA2: OP 180 TEST NEE ,NUG38726 | AGB2: OP 150 ASSEMBLAGE ,NUG38730 | AGC2: OP 150 ASSEMBLAGE ,NUG38731 | AGD2: OP 300 EMBALLAGE ,NUG38801 | AGE2: OP 500 ASSEMBLAGE SOURCES ,PSX20801 | AGF2: OP 500 ASSEMBLAGE SOURCES ,PSX20802 | AGG2: OP 500 ASSEMBLAGE SOURCES ,PSX20803 | AGH2: OP 500 ASSEMBLAGE SOURCES ,PSX20814 | AGI2: OP 500 ASSEMBLAGE SOURCES ,PSX20815 | AGJ2: OP 500 ASSEMBLAGE SOURCES ,PSX20816 | AGK2: OP 500 ASSEMBLAGE SOURCES ,PSX20830 | AGL2: OP 500 ASSEMBLAGE SOURCES ,PSX20851 | AGM2: OP 400 FABRICATION TORONS ,PSX22404 | AGN2: OP 400 FABRICATION TORONS ,PSX22411 | AGO2: OP 400 FABRICATION TORONS ,PSX22412 | AGP2: OP 300 EMBALLAGE ,SCA00001 | AGQ2: OP 300 EMBALLAGE ,SCA00002 | AGR2: OP 300 EMBALLAGE ,SCA00003 | AGS2: OP 100 INSERTION,VAE64001 | AGT2: OP 100 INSERTION ,VAE64002 | AGU2: OP 100 INSERTION ,VAE64003 | AGV2: OP 100 INSERTION ,VAE64004 | AGW2: OP 100 INSERTION ,VAE64005 | AGX2: OP 100 INSERTION ,VAE64010 | AGY2: OP 100 INSERTION,VAE64011 | AGZ2: OP 100 INSERTION ,VAE64012 | AHA2: OP 100 INSERTION ,VAE64013 | AHB2: OP 100 INSERTION ,VAE64020 | AHC2: OP 100 INSERTION ,VAE64021 | AHD2: OP 100 INSERTION ,VAE64022 | AHE2: OP 100 INSERTION ,VAE64023
B3: OP 150 ASSEMBLAGE,AL4590 | J3: 170 SONDE MOBILE ,LUM10118 | K3: 170 SONDE MOBILE ,LUM10120 | L3: OP 150 ASSEMBLAGE ,LUM10132 | M3: OP 300 EMBALLAGE ,LUM10135 | O3: 150 CONTROLE APRES SOUDURE ,LUM10208 | P3: OP 150 ASSEMBLAGE ,LUM10209 | Q3: OP 150 ASSEMBLAGE ,LUM10219 | R3: OP 300 EMBALLAGE ,LUM10231 | S3: OP 150 ASSEMBLAGE ,LUM10303 | U3: OP 150 ASSEMBLAGE ,LUM10312 | V3: OP 150 ASSEMBLAGE ,LUM10313 | W3: OP 150 ASSEMBLAGE ,LUM1031401 | AI3: 170 SONDE MOBILE ,LUM10523 | AJ3: OP 300 EMBALLAGE ,LUM10536 | AL3: OP 150 ASSEMBLAGE ,LUM10543 | AN3: 150 CONTROLE APRES SOUDURE ,LUM10663 | AO3: OP 150 ASSEMBLAGE ,LUM10664 | AP3: OP 150 ASSEMBLAGE ,LUM10667 | AQ3: OP 150 ASSEMBLAGE ,LUM10671 | AR3: OP 150 ASSEMBLAGE ,LUM10675 | AS3: OP 150 ASSEMBLAGE CARTE LED LED 400ESPL ,LUM10771C1 | AT3: OP 150 ASSEMBLAGE CARTE LED LED 400IAV ,LUM10772 | AU3: OP 150 ASSEMBLAGE CARTE LED LED 400ESPL ,LUM10773C1 | AV3: OP 100 INSERTION ,LUM10780 | AW3: OP 100 INSERTION ,LUM10789 | AX3: OP 300 EMBALLAGE ,LUM10800 | AY3: OP 300 EMBALLAGE ,LUM10801 | BE3: OP 150 ASSEMBLAGE ,LUM10905 | BF3: OP 150 ASSEMBLAGE ,LUM10910 | BG3: OP 150 ASSEMBLAGE,LUM10911 | BH3: 170 SONDE MOBILE,LUM11010 | BI3: 150 CONTROLE APRES SOUDURE,LUM11011 | BJ3: 170 SONDE MOBILE,LUM11012 | BM3: OP 300 EMBALLAGE,LUM11029 | BN3: OP 300 EMBALLAGE,LUM11041 | BO3: OP 300 EMBALLAGE,LUM11042 | BP3: 200 CABLAGE ASSEMBLAGE,LUM11042A0 | BQ3: OP 300 EMBALLAGE,LUM11043 | BR3: OP 300 EMBALLAGE,LUM11044 | CA3: OP 300 EMBALLAGE,LUM11075 | CG3: OP 300 EMBALLAGE,LUM11083 | CK3: OP 150 ASSEMBLAGE,LUM11090 | CM3: OP 150 ASSEMBLAGE,LUM11093 | CO3: OP 150 ASSEMBLAGE,LUM11096 | CP3: OP 150 ASSEMBLAGE,LUM11097 | CQ3: OP 150 ASSEMBLAGE,LUM11099 | CV3: OP 150 ASSEMBLAGE,LUM12002 | CX3: OP 150 ASSEMBLAGE,LUM12044 | CY3: OP 100 INSERTION,LUM16001 | CZ3: OP 150 ASSEMBLAGE,LUM16004 | DA3: OP 150 ASSEMBLAGE,LUM16005 | DB3: OP 150 ASSEMBLAGE,LUM16025 | DC3: OP 150 ASSEMBLAGE DES 2 PHARES,LUM16030 | DD3: OP 150 ASSEMBLAGE DES 2 PHARES,LUM16031 | DE3: OP 150 ASSEMBLAGE DES 2 PHARES,LUM16032 | DF3: OP 150 ASSEMBLAGE DES 2 PHARES,LUM16033 | DH3: OP 150 ASSEMBLAGE,LUM16040 | DI3: OP 150 ASSEMBLAGE,LUM16042 | DJ3: OP 150 ASSEMBLAGE,LUM16043 | DK3: OP 150 ASSEMBLAGE,LUM16046 | DL3: OP 150 ASSEMBLAGE,LUM16047 | DM3: OP 150 ASSEMBLAGE,LUM16048 | DN3: OP 150 ASSEMBLAGE,LUM16051 | DO3: OP 150 ASSEMBLAGE,LUM16064 | DQ3: OP 100 INSERTION,LUM17001 | DR3: OP 100 INSERTION,LUM17002 | DS3: OP 100 INSERTION,LUM17003 | DT3: OP 100 INSERTION,LUM17006 | DU3: OP 100 INSERTION,LUM17007 | DV3: OP 150 ASSEMBLAGE DES 2 PHARES,LUM17010 | DW3: OP 150 ASSEMBLAGE DES 2 PHARES,LUM17011 | DX3: OP 150 ASSEMBLAGE DES 2 PHARES,LUM17012 | DY3: OP 150 ASSEMBLAGE DES 2 PHARES,LUM17013 | DZ3: OP 150 ASSEMBLAGE,LUM17014 | EA3: OP 150 ASSEMBLAGE,LUM17041 | EB3: OP 150 ASSEMBLAGE,LUM17042 | EC3: OP 150 ASSEMBLAGE,LUM17043 | ED3: OP 150 ASSEMBLAGE,LUM17044 | EE3: OP 150 ASSEMBLAGE,LUM17046 | EF3: OP 150 ASSEMBLAGE,LUM17047 | EG3: OP 150 ASSEMBLAGE DES 2 PHARES,LUM17110 | EH3: OP 150 ASSEMBLAGE,LUM20105 | EI3: OP 150 ASSEMBLAGE,LUM20107 | EK3: OP 500 ASSEMBLAGE SOURCES,LUM20804 | EL3: OP 500 ASSEMBLAGE SOURCES,LUM20807 | EM3: OP 500 ASSEMBLAGE SOURCES,LUM20817 | EN3: OP 500 ASSEMBLAGE SOURCES,LUM20819 | EO3: OP 520 REGLAGE NEE,LUM20827 | EP3: OP 520 REGLAGE NEE,LUM20829 | ER3: OP 520 REGLAGE NEE,LUM20853 | ES3: OP 520 REGLAGE NEE,LUM20854 | ET3: OP 150 ASSEMBLAGE,LUM21004 | EU3: 150 CONTROLE APRES SOUDURE,LUM21005 | EV3: OP 150 ASSEMBLAGE,LUM21006 | EW3: OP 150 ASSEMBLAGE,LUM21007 | EX3: OP 150 ASSEMBLAGE,LUM21008 | EY3: OP 150 ASSEMBLAGE,LUM21009 | EZ3: OP 150 ASSEMBLAGE,LUM21010 | FA3: OP 300 EMBALLAGE,LUM21011 | FB3: 150 CONTROLE APRES SOUDURE,LUM21012 | FC3: 150 CONTROLE APRES SOUDURE,LUM21013 | FD3: OP 150 ASSEMBLAGE,LUM21022 | FE3: OP 150 ASSEMBLAGE,LUM21023 | FF3: OP 150 ASSEMBLAGE,LUM21024 | FG3: OP 150 ASSEMBLAGE,LUM21046 | FH3: OP 150 ASSEMBLAGE,LUM21047 | FI3: OP 150 ASSEMBLAGE,LUM21048 | FJ3: OP 300 EMBALLAGE,LUM21049 | FK3: OP 150 ASSEMBLAGE,LUM21050 | FL3: OP 150 ASSEMBLAGE,LUM21051 | FM3: OP 150 ASSEMBLAGE,LUM21052 | FN3: OP 300 EMBALLAGE,LUM21053 | FO3: OP 150 ASSEMBLAGE,LUM21054A0 | FP3: OP 150 ASSEMBLAGE,LUM21055 | FQ3: OP 150 ASSEMBLAGE,LUM21056 | FR3: OP 150 ASSEMBLAGE,LUM21057 | FS3: OP 150 ASSEMBLAGE,LUM21058 | FT3: OP 150 ASSEMBLAGE,LUM21059 | FU3: OP 150 ASSEMBLAGE,LUM21060 | FV3: OP 300 EMBALLAGE,LUM21061 | FW3: OP 300 EMBALLAGE,LUM21087 | FX3: OP 300 EMBALLAGE,LUM21091 | FY3: OP 300 EMBALLAGE,LUM21099 | FZ3: OP 550 EMBALLAGE SOURCES,LUM21121 | GA3: OP 550 EMBALLAGE SOURCES,LUM21122 | GB3: OP 550 EMBALLAGE SOURCES,LUM21140 | GC3: OP 550 EMBALLAGE SOURCES,LUM21141 | GD3: OP 550 EMBALLAGE SOURCES,LUM21142 | GE3: OP 300 EMBALLAGE,LUM21225 | GF3: OP 300 EMBALLAGE,LUM21226 | GG3: OP 300 EMBALLAGE,LUM21238 | GH3: OP 150 ASSEMBLAGE,LUM21302 | GI3: OP 150 ASSEMBLAGE,LUM21308 | GJ3: OP 300 EMBALLAGE,LUM21316 | GK3: OP 300 EMBALLAGE,LUM21317 | GL3: OP 300 EMBALLAGE,LUM21318 | GM3: OP 300 EMBALLAGE,LUM21319 | GN3: OP 300 EMBALLAGE,LUM21323 | GO3: OP 150 ASSEMBLAGE,LUM21613 | GP3: OP 150 ASSEMBLAGE,LUM21614 | GQ3: OP 150 ASSEMBLAGE,LUM21615 | GR3: OP 300 EMBALLAGE,LUM21629 | GS3: OP 300 EMBALLAGE,LUM21715 | GT3: OP 220 TEST FINAL,LUM21717 | GU3: OP 220 TEST FINAL,LUM21718 | GW3: OP 300 EMBALLAGE,LUM21722 | GX3: OP 300 EMBALLAGE,LUM21723 | GY3: OP 300 EMBALLAGE,LUM21724 | GZ3: OP 150 ASSEMBLAGE,LUM21729 | HA3: OP 300 EMBALLAGE,LUM21730 | HB3: OP 300 EMBALLAGE,LUM21731 | HH3: OP 150 ASSEMBLAGE CARTE REPETEUR,LUM21746 | HI3: OP 300 EMBALLAGE,LUM21909 | HJ3: OP 300 EMBALLAGE,LUM21910 | HL3: OP 300 EMBALLAGE,LUM21911 | HM3: OP 300 EMBALLAGE,LUM21912 | HN3: OP 300 EMBALLAGE,LUM21913 | HO3: OP 300 EMBALLAGE,LUM21914 | HP3: OP 300 EMBALLAGE,LUM21915 | HQ3: OP 300 EMBALLAGE,LUM21916 | HR3: OP 300 EMBALLAGE,LUM21917 | HS3: OP 300 EMBALLAGE,LUM21918 | HT3: OP 300 EMBALLAGE,LUM21919 | HU3: OP 300 EMBALLAGE,LUM21920 | HV3: OP 300 EMBALLAGE,LUM21921 | HW3: OP 300 EMBALLAGE,LUM21953 | HX3: OP 300 EMBALLAGE,LUM21954 | HY3: OP 300 EMBALLAGE,LUM21955 | HZ3: OP 300 EMBALLAGE,LUM21960 | IA3: OP 300 EMBALLAGE,LUM21961 | IB3: OP 300 EMBALLAGE,LUM21962 | IC3: OP 300 EMBALLAGE,LUM21962A1 | ID3: OP 300 EMBALLAGE,LUM21963 | IE3: 300 EMBALLAGE CHAINE,LUM22102 | IF3: OP 300 EMBALLAGE,LUM22107 | IG3: OP 300 EMBALLAGE,LUM22112 | IH3: OP 300 EMBALLAGE,LUM22114 | II3: OP 300 EMBALLAGE,LUM22115 | IJ3: OP 300 EMBALLAGE,LUM22116 | IK3: 150 CONTROLE APRES SOUDURE,LUM22118 | IL3: 150 CONTROLE APRES SOUDURE,LUM22119 | IM3: OP 150 ASSEMBLAGE,LUM22120 | IN3: OP 150 ASSEMBLAGE,LUM22121 | IO3: OP 300 EMBALLAGE,LUM22122 | IP3: OP 300 EMBALLAGE,LUM2212220M | IQ3: OP 300 EMBALLAGE,LUM2212250M | IR3: OP 300 EMBALLAGE,LUM22123 | IS3: OP 150 ASSEMBLAGE,LUM22124 | IT3: OP 300 EMBALLAGE,LUM22125 | IU3: OP 150 ASSEMBLAGE,LUM22126 | IV3: OP 150 ASSEMBLAGE,LUM22127 | IW3: OP 150 ASSEMBLAGE,LUM22129 | IX3: OP 150 ASSEMBLAGE,LUM22131 | IY3: OP 150 ASSEMBLAGE,LUM22134 | IZ3: OP 150 ASSEMBLAGE,LUM22135 | JA3: OP 150 ASSEMBLAGE,LUM22202 | JB3: OP 150 ASSEMBLAGE,LUM22203 | JC3: OP 150 ASSEMBLAGE,LUM22204 | JD3: OP 300 EMBALLAGE,LUM22205 | JE3: OP 300 EMBALLAGE,LUM22208 | JF3: OP 500 ASSEMBLAGE SOURCES,LUM22401 | JG3: OP 500 ASSEMBLAGE SOURCES,LUM22402 | JH3: OP 500 ASSEMBLAGE SOURCES,LUM22403 | LO3: OP 90 CMS,NEC00003A0 | LX3: OP 91 DECOUPE & RANGEMENT PANNEAUX NEC,NEC00042A0 | MC3: OP 91 DECOUPE & RANGEMENT PANNEAUX NEC,NEC0005000 | MH3: OP 90 INSERTION CMS,NEC0005600 | MI3: OP 90 INSERTION CMS,NEC00056A0 | NE3: OP 91 DECOUPE & RANGEMENT PANNEAUX NEC,NEC0009300 | OH3: OP 100 INSERTION,NEE10008B0 | OI3: OP 160 PREPARATION NEE,NEE10012A0 | OJ3: OP 160 PREPARATION NEE,NEE1020100 | OK3: OP 160 PREPARATION NEE,NEE10206A0 | OL3: OP 160 PREPARATION NEE,NEE10206B0 | OM3: OP 160 PREPARATION NEE,NEE1030200 | ON3: OP 160 PREPARATION NEE,NEE10303A0 | OO3: OP 180 TEST NEE,NEE1030600 | OP3: OP 180 TEST NEE,NEE1030900 | OQ3: OP 180 TEST NEE,NEE10310A0 | OR3: OP 100 INSERTION,NEE1090200 | OS3: OP 100 INSERTION,NEE1090201 | OT3: OP 180 TEST NEE,NEE1090300 | PF3: OP 180 TEST NEE,NEE1110400 | PG3: OP 180 TEST NEE,NEE1110600 | PI3: OP 180 TEST NEE,NEE1120200 | PJ3: OP 160 PREPARATION NEE,NEE19401C0 | PK3: OP 160 PREPARATION NEE,NEE19402B0 | PO3: OP 160 PREPARATION NEE,NEE19909A0 | PR3: OP 100 INSERTION,NEE3160401 | PS3: OP 160 PREPARATION NEE,NEE3171900 | PT3: OP 160 PREPARATION NEE,NEE3172000 | PU3: OP 160 PREPARATION NEE,NEE3172300 | PV3: OP 160 PREPARATION NEE,NEE3172700 | PW3: OP 160 PREPARATION NEE,NEE3173400 | PX3: OP 160 PREPARATION NEE,NEE3173500 | PY3: OP 160 PREPARATION NEE,NEE3173600 | PZ3: OP 160 PREPARATION NEE,NEE31736A0 | QA3: OP 160 PREPARATION NEE,NEE3173700 | QC3: OP 160 PREPARATION NEE,NEE31794A0 | QD3: OP 160 PREPARATION NEE,NEE31830A0 | QE3: OP 160 PREPARATION NEE,NEE3184200 | QF3: OP 160 PREPARATION NEE,NEE31865A0 | QG3: OP 160 PREPARATION NEE,NEE31876A0 | QH3: OP 160 PREPARATION NEE,NEE3191000 | QI3: OP 160 PREPARATION NEE,NEE3191100 | QJ3: OP 160 PREPARATION NEE,NEE3191200 | QK3: OP 160 PREPARATION NEE,NEE3191300 | QL3: OP 160 PREPARATION NEE,NEE31916A0 | QM3: OP 160 PREPARATION NEE,NEE3192800 | QN3: OP 160 PREPARATION NEE,NEE3192900 | QO3: OP 160 PREPARATION NEE,NEE3193000 | QP3: OP 170 SONDE MOBILE,NEE3195100 | QQ3: OP 170 SONDE MOBILE,NEE3196600 | QR3: OP 160 PREPARATION NEE,NEE3196800 | QS3: OP 160 PREPARATION NEE,NEE3197700 | QX3: OP 100 INSERTION,NEE32015B0 | QZ3: OP 160 PREPARATION NEE,NEE3203800 | RC3: OP 180 Test NEE3204600,NEE3204600 | RH3: OP 180 TEST NEE,NEE3208900 | TO3: 520 REGLAGE CONFIG NEE,NSC20815C0 | VH3: OP 180 TEST NEE,NUG30286 | VI3: OP 180 TEST NEE,NUG30287 | VU3: OP 160 PREPARATION NEE,NUG31020 | VV3: OP 160 PREPARATION NEE,NUG31021 | VW3: OP 160 PREPARATION NEE,NUG31023 | VX3: OP 300 EMBALLAGE,NUG31038 | VY3: OP 220 TEST FINAL,NUG31039 | VZ3: OP 220 TEST FINAL,NUG31045 | WA3: OP 300 EMBALLAGE,NUG31047 | WB3: OP 160 PREPARATION NEE,NUG31050 | WC3: OP 160 PREPARATION NEE,NUG31052 | WD3: OP 160 PREPARATION NEE,NUG31054 | WE3: OP 160 PREPARATION NEE,NUG31055 | WF3: OP 160 PREPARATION NEE,NUG31056 | WG3: OP 160 PREPARATION NEE,NUG31057 | WH3: OP 160 PREPARATION NEE,NUG31058 | WI3: OP 160 PREPARATION NEE,NUG31060 | WJ3: OP 220 TEST FINAL,NUG31061 | WK3: OP 300 EMBALLAGE,NUG31064 | WL3: OP 160 PREPARATION NEE,NUG31067 | WM3: OP 160 PREPARATION NEE,NUG31071 | WN3: OP 300 EMBALLAGE,NUG31103 | WO3: OP 300 EMBALLAGE,NUG31104 | WP3: OP 180 TEST NEE,NUG31111 | WQ3: OP 180 TEST NEE,NUG31113 | WU3: OP 300 EMBALLAGE,NUG31125 | WV3: OP 300 EMBALLAGE,NUG31126 | WX3: OP 300 EMBALLAGE,NUG31128 | WY3: OP 180 TEST NEE,NUG31141 | WZ3: OP 160 PREPARATION NEE,NUG31143 | XA3: OP 160 PREPARATION NEE,NUG31144 | XB3: OP 160 PREPARATION NEE,NUG31156 | XC3: OP 180 TEST NEE,NUG31163 | XD3: OP 180 TEST NEE,NUG31164 | XE3: OP 220 TEST FINAL,NUG31165 | XF3: OP 180 TEST NEE,NUG31173 | XG3: OP 180 TEST NEE,NUG31174 | XH3: OP 180 TEST NEE,NUG31175 | XI3: OP 150 ASSEMBLAGE,NUG31182 | XJ3: OP 150 ASSEMBLAGE ,NUG31184 | XK3: OP 150 ASSEMBLAGE,NUG31185 | XL3: OP 150 ASSEMBLAGE,NUG31186 | XM3: OP 150 ASSEMBLAGE,NUG31190 | XN3: OP 150 ASSEMBLAGE,NUG31191 | XO3: OP 150 ASSEMBLAGE,NUG31192 | XP3: OP 150 ASSEMBLAGE NUG31193,NUG31193 | XQ3: OP 220 TEST FINAL,NUG31210 | XR3: OP 150 ASSEMBLAGE,NUG31217 | XS3: OP 150 ASSEMBLAGE,NUG31218 | XT3: OP 150 ASSEMBLAGE ,NUG31219 | XU3: OP 150 ASSEMBLAGE,NUG31220 | XV3: OP 150 ASSEMBLAGE ,NUG31221 | XW3: OP 180 TEST NEE,NUG31231 | XX3: OP 220 TEST FINAL,NUG31232 | XY3: OP 220 TEST FINAL,NUG31234 | XZ3: OP 160 PREPARATION NEE,NUG31240 | YA3: OP 160 PREPARATION NEE,NUG31241 | YB3: OP 160 PREPARATION NEE,NUG31242 | YC3: OP 160 PREPARATION NEE,NUG31243 | YD3: OP 160 PREPARATION NEE,NUG31244 | YE3: OP 160 PREPARATION NEE,NUG31250 | YF3: OP 160 PREPARATION NEE,NUG31251 | YG3: OP 300 EMBALLAGE,NUG31259 | YH3: OP 180 TEST NEE,NUG31261 | YI3: OP 180 TEST NEE,NUG31265 | YK3: OP 180 TEST NEE,NUG31268 | YL3: OP 180 TEST NEE,NUG31270 | YM3: OP 300 EMBALLAGE,NUG31272 | YN3: OP 180 TEST NEE,NUG31305 | YO3: OP 160 PREPARATION NEE,NUG31306 | YP3: OP 160 PREPARATION NEE,NUG31309 | YQ3: OP 160 PREPARATION NEE,NUG31310 | YR3: OP 180 TEST NEE,NUG31312 | YS3: OP 300 EMBALLAGE,NUG31313 | YT3: OP 180 TEST NEE,NUG31314 | YU3: OP 300 EMBALLAGE,NUG31330 | YV3: OP 220 TEST FINAL,NUG31420 | YW3: OP 220 TEST FINAL,NUG31430 | YX3: OP 220 TEST FINAL,NUG31500 | YZ3: OP 220 TEST FINAL,NUG31510 | ZA3: OP 150 ASSEMBLAGE,NUG3152199 | ZC3: OP 220 TEST FINAL,NUG3153099 | ZE3: OP 220 TEST FINAL,NUG3153599 | ZG3: OP 220 TEST FINAL,NUG3153699 | ZH3: OP 220 TEST FINAL,NUG3153799 | ZI3: OP 220 TEST FINAL,NUG3155099 | ZJ3: OP 180 TEST NEE,NUG3155199 | ZK3: OP 150 ASSEMBLAGE,NUG3162199 | ZL3: OP 220 TEST FINAL,NUG3162299 | ZM3: OP 220 TEST FINAL,NUG3162399 | ZN3: OP 220 TEST FINAL,NUG3162499 | ZO3: OP 220 TEST FINAL,NUG3162599 | ZP3: OP 220 TEST FINAL,NUG3162699 | ZZ3: OP 180 TEST NEE,NUG31641 | AAA3: OP 180 TEST NEE,NUG31643 | AAB3: OP 180 TEST NEE,NUG31644 | AAC3: OP 180 TEST NEE,NUG31645 | AAD3: OP 220 TEST FINAL,NUG3172299 | AAE3: OP 220 TEST FINAL,NUG3172399 | AAF3: OP 220 TEST FINAL,NUG3172499 | AAG3: OP 220 TEST FINAL,NUG3172599 | AAH3: OP 220 TEST FINAL,NUG3172699 | AAI3: OP 220 TEST FINAL,NUG3172799 | AAL3: OP 160 PREPARATION NEE,NUG32042 | AAM3: OP 160 PREPARATION NEE,NUG32045 | AAN3: OP 180 TEST NEE,NUG32056 | AAO3: OP 220 TEST FINAL,NUG32063 | AAP3: OP 220 TEST FINAL,NUG32064 | AAQ3: OP 220 TEST FINAL,NUG32065 | AAR3: OP 220 TEST FINAL,NUG32066 | AAS3: OP 160 PREPARATION NEE,NUG32070 | AAT3: OP 180 TEST NEE,NUG32075 | AAU3: OP 180 TEST NEE,NUG32077 | AAV3: OP 180 TEST NEE,NUG32078 | AAW3: OP 180 TEST NEE,NUG32079 | AAX3: OP 180 TEST NEE,NUG32080 | AAY3: OP 160 PREPARATION NEE,NUG32082 | AAZ3: OP 160 PREPARATION NEE,NUG32083 | ABA3: OP 220 TEST FINAL,NUG33313 | ABD3: OP 150 ASSEMBLAGE,NUG34040 | ABE3: OP 150 ASSEMBLAGE,NUG34042 | ABF3: OP 150 ASSEMBLAGE,NUG34044 | ABG3: OP 150 ASSEMBLAGE,NUG34046 | ABH3: OP 150 ASSEMBLAGE,NUG34047 | ABI3: OP 180 TEST NEE,NUG34064 | ABJ3: OP 180 TEST NEE,NUG34065 | ABK3: OP 180 TEST NEE,NUG34066 | ABL3: OP 180 TEST NEE,NUG34067 | ABM3: OP 180 TEST NEE,NUG34068 | ABN3: OP 180 TEST NEE,NUG34069 | ABO3: OP 180 TEST NEE,NUG34070 | ABP3: OP 180 TEST NEE,NUG34071 | ABQ3: OP 180 TEST NEE,NUG34072 | ABR3: OP 180 TEST NEE,NUG34073 | ABX3: OP 300 EMBALLAGE,NUG35153 | ACB3: OP 300 EMBALLAGE,NUG38005 | ACR3: OP 300 EMBALLAGE,NUG38047 | ACV3: OP 300 EMBALLAGE,NUG38088 | ACZ3: OP 300 EMBALLAGE,NUG38198 | ADB3: OP 180 TEST NEE,NUG38200 | ADC3: OP 300 EMBALLAGE,NUG38217 | ADF3: OP 180 TEST NEE ,NUG38224 | ADG3: OP 300 EMBALLAGE ,NUG38228 | ADH3: OP 180 TEST NEE ,NUG38229 | ADI3: OP 300 EMBALLAGE ,NUG38230 | ADJ3: OP 180 TEST NEE ,NUG38233 | ADL3: OP 180 TEST NEE ,NUG38270 | ADM3: OP 180 TEST NEE ,NUG38271 | ADN3: OP 180 TEST NEE ,NUG38272 | ADO3: OP 180 TEST NEE ,NUG38273 | ADP3: OP 300 EMBALLAGE ,NUG38274 | ADQ3: OP 300 EMBALLAGE ,NUG38276 | ADS3: OP 300 EMBALLAGE ,NUG38308 | ADT3: OP 300 EMBALLAGE ,NUG38309 | ADU3: OP 300 EMBALLAGE ,NUG38311 | ADV3: OP 300 EMBALLAGE ,NUG38313 | ADW3: OP 220 TEST FINAL ,NUG38314 | ADX3: OP 300 EMBALLAGE ,NUG38315 | ADY3: OP 220 TEST FINAL ,NUG38316 | AEB3: OP 300 EMBALLAGE ,NUG38321 | AEC3: OP 300 EMBALLAGE ,NUG38322 | AED3: OP 300 EMBALLAGE ,NUG38329 | AEE3: OP 300 EMBALLAGE ,NUG38331 | AEG3: OP 300 EMBALLAGE ,NUG38333 | AEH3: OP 220 TEST FINAL ,NUG38338 | AEI3: OP 220 TEST FINAL ,NUG38339 | AEJ3: OP 300 EMBALLAGE ,NUG38341 | AEK3: OP 300 EMBALLAGE ,NUG38342 | AEL3: OP 300 EMBALLAGE ,NUG38343 | AEM3: OP 220 TEST FINAL ,NUG38344 | AEN3: OP 220 TEST FINAL ,NUG38346 | AFF3: OP 150 ASSEMBLAGE ,NUG38560 | AFG3: OP 300 EMBALLAGE ,NUG38638 | AFH3: OP 220 TEST FINAL ,NUG38639 | AFI3: OP 220 TEST FINAL ,NUG38645 | AFJ3: OP 150 ASSEMBLAGE ,NUG38655 | AFK3: OP 220 TEST FINAL ,NUG38661 | AFT3: OP 300 EMBALLAGE ,NUG38711 | AGA3: OP 300 EMBALLAGE ,NUG38726 | AGB3: OP 160 PREPARATION NEE ,NUG38730 | AGC3: OP 180 TEST NEE ,NUG38731 | AGE3: OP 520 REGLAGE NEE ,PSX20801 | AGF3: OP 520 REGLAGE NEE ,PSX20802 | AGG3: OP 520 REGLAGE NEE ,PSX20803 | AGH3: OP 520 REGLAGE NEE ,PSX20814 | AGI3: OP 520 REGLAGE NEE ,PSX20815 | AGJ3: OP 520 REGLAGE NEE ,PSX20816 | AGK3: OP 520 REGLAGE NEE ,PSX20830 | AGL3: OP 520 REGLAGE NEE ,PSX20851 | AGM3: OP 500 ASSEMBLAGE SOURCES ,PSX22404 | AGN3: OP 500 ASSEMBLAGE SOURCES ,PSX22411 | AGO3: OP 500 ASSEMBLAGE SOURCES ,PSX22412 | AGS3: OP 150 ASSEMBLAGE ,VAE64001 | AGT3: OP 150 ASSEMBLAGE ,VAE64002 | AGU3: OP 150 ASSEMBLAGE ,VAE64003 | AGV3: OP 150 ASSEMBLAGE ,VAE64004 | AGW3: OP 150 ASSEMBLAGE ,VAE64005 | AGX3: OP 150 ASSEMBLAGE ,VAE64010 | AGY3: OP 150 ASSEMBLAGE ,VAE64011 | AGZ3: OP 150 ASSEMBLAGE ,VAE64012 | AHA3: OP 150 ASSEMBLAGE ,VAE64013 | AHB3: OP 150 ASSEMBLAGE ,VAE64020 | AHC3: OP 150 ASSEMBLAGE ,VAE64021 | AHD3: OP 150 ASSEMBLAGE ,VAE64022 | AHE3: OP 150 ASSEMBLAGE ,VAE64023
B4: OP 300 EMBALLAGE ,AL4590 | J4: OP 150 ASSEMBLAGE ,LUM10118 | K4: OP 150 ASSEMBLAGE ,LUM10120 | L4: OP 300 EMBALLAGE,LUM10132 | M4: OP 60 TOLERIE ,LUM10135 | O4: 300 EMBALLAGE CHAINE ,LUM10208 | P4: OP 300 EMBALLAGE ,LUM10209 | Q4: OP 160 PREPARATION NEE ,LUM10219 | S4: OP 300 EMBALLAGE ,LUM10303 | U4: OP 300 EMBALLAGE ,LUM10312 | V4: OP 300 EMBALLAGE ,LUM10313 | W4: OP 300 EMBALLAGE ,LUM1031401 | AI4: OP 300 EMBALLAGE ,LUM10523 | AL4: OP 300 EMBALLAGE ,LUM10543 | AN4: 300 EMBALLAGE CHAINE ,LUM10663 | AO4: OP 160 PREPARATION NEE ,LUM10664 | AP4: OP 160 PREPARATION NEE ,LUM10667 | AQ4: OP 160 PREPARATION NEE ,LUM10671 | AR4: OP 300 EMBALLAGE ,LUM10675 | AS4: OP 150 ASSEMBLAGE CARTE SAB3 LED 400ESPL ,LUM10771C1 | AT4: OP 150 ASSEMBLAGE CARTE SAB3 LED 400ESP ,LUM10772 | AU4: OP 150 ASSEMBLAGE CARTE SAB3 LED 400ESPL ,LUM10773C1 | AV4: OP 150 ASSEMBLAGE ,LUM10780 | AW4: OP 150 ASSEMBLAGE ,LUM10789 | AX4: OP109 INSERTION COMP TRAD SUR CMS ,LUM10800 | BE4: OP 160 PREPARATION NEE ,LUM10905 | BF4: OP 160 PREPARATION NEE ,LUM10910 | BG4: OP 160 PREPARATION NEE ,LUM10911 | BH4: 90 INSERTION C.M.S,LUM11010 | BI4: 90 INSERTION C.M.S,LUM11011 | BJ4: 90 INSERTION C.M.S,LUM11012 | BN4: OP A DEFINIR,LUM11041 | CK4: OP 300 EMBALLAGE,LUM11090 | CM4: OP 300 EMBALLAGE,LUM11093 | CP4: OP 300 EMBALLAGE,LUM11097 | CQ4: OP 300 EMBALLAGE,LUM11099 | CV4: OP 300 EMBALLAGE,LUM12002 | CX4: OP 160 PREPARATION NEE,LUM12044 | CY4: OP 150 ASSEMBLAGE,LUM16001 | CZ4: OP 300 EMBALLAGE,LUM16004 | DA4: OP 300 EMBALLAGE,LUM16005 | DB4: OP 300 EMBALLAGE,LUM16025 | DC4: OP 300 EMBALLAGE,LUM16030 | DD4: OP 300 EMBALLAGE,LUM16031 | DE4: OP 300 EMBALLAGE,LUM16032 | DF4: OP 300 EMBALLAGE,LUM16033 | DH4: OP 300 EMBALLAGE,LUM16040 | DI4: OP 300 EMBALLAGE,LUM16042 | DJ4: OP 300 EMBALLAGE,LUM16043 | DK4: OP 300 EMBALLAGE,LUM16046 | DL4: OP 300 EMBALLAGE,LUM16047 | DM4: OP 300 EMBALLAGE,LUM16048 | DN4: OP 300 EMBALLAGE,LUM16051 | DO4: OP 300 EMBALLAGE,LUM16064 | DQ4: OP 150 ASSEMBLAGE,LUM17001 | DR4: OP 150 ASSEMBLAGE,LUM17002 | DS4: OP 150 ASSEMBLAGE,LUM17003 | DT4: OP 150 ASSEMBLAGE,LUM17006 | DU4: OP 150 ASSEMBLAGE,LUM17007 | DV4: OP 300 EMBALLAGE,LUM17010 | DW4: OP 300 EMBALLAGE,LUM17011 | DX4: OP 300 EMBALLAGE,LUM17012 | DY4: OP 300 EMBALLAGE,LUM17013 | DZ4: OP 300 EMBALLAGE,LUM17014 | EA4: OP 300 EMBALLAGE,LUM17041 | EB4: OP 300 EMBALLAGE,LUM17042 | EC4: OP 300 EMBALLAGE,LUM17043 | ED4: OP 300 EMBALLAGE,LUM17044 | EE4: OP 300 EMBALLAGE,LUM17046 | EF4: OP 300 EMBALLAGE,LUM17047 | EG4: OP 300 EMBALLAGE,LUM17110 | EH4: OP 300 EMBALLAGE,LUM20105 | EI4: OP 300 EMBALLAGE,LUM20107 | EK4: OP 520 REGLAGE NEE,LUM20804 | EL4: OP 520 REGLAGE NEE,LUM20807 | EM4: OP 520 REGLAGE NEE,LUM20817 | EN4: OP 520 REGLAGE NEE,LUM20819 | EO4: OP 540 REGLAGE TEST SOURCES,LUM20827 | EP4: OP 540 REGLAGE TEST SOURCES,LUM20829 | ER4: OP 540 REGLAGE TEST SOURCES,LUM20853 | ES4: OP 540 REGLAGE TEST SOURCES,LUM20854 | ET4: OP 300 EMBALLAGE,LUM21004 | EU4: 300 EMBALLAGE CHAINE,LUM21005 | EV4: OP 300 EMBALLAGE,LUM21006 | EW4: OP 300 EMBALLAGE,LUM21007 | EX4: OP 300 EMBALLAGE,LUM21008 | EY4: OP 300 EMBALLAGE,LUM21009 | EZ4: OP 300 EMBALLAGE,LUM21010 | FB4: OP 100 INSERTION,LUM21012 | FC4: OP 100 INSERTION,LUM21013 | FD4: OP 300 EMBALLAGE,LUM21022 | FE4: OP 300 EMBALLAGE,LUM21023 | FF4: OP 300 EMBALLAGE,LUM21024 | FG4: OP 300 EMBALLAGE,LUM21046 | FH4: OP 300 EMBALLAGE,LUM21047 | FI4: OP 300 EMBALLAGE,LUM21048 | FK4: OP 300 EMBALLAGE,LUM21050 | FL4: OP 300 EMBALLAGE,LUM21051 | FM4: OP 300 EMBALLAGE,LUM21052 | FO4: OP 300 EMBALLAGE,LUM21054A0 | FP4: OP 300 EMBALLAGE,LUM21055 | FQ4: OP 300 EMBALLAGE,LUM21056 | FR4: OP 300 EMBALLAGE,LUM21057 | FS4: OP 300 EMBALLAGE,LUM21058 | FT4: OP 300 EMBALLAGE,LUM21059 | FU4: OP 300 EMBALLAGE,LUM21060 | GH4: OP 300 EMBALLAGE,LUM21302 | GI4: OP 300 EMBALLAGE,LUM21308 | GO4: OP 300 EMBALLAGE,LUM21613 | GP4: OP 300 EMBALLAGE,LUM21614 | GQ4: OP 300 EMBALLAGE,LUM21615 | GT4: OP 300 EMBALLAGE,LUM21717 | GU4: OP 300 EMBALLAGE,LUM21718 | GZ4: OP 300 EMBALLAGE,LUM21729 | HH4: OP 150 ASSEMBLAGE CARTE SAB3 LED 400ESPL,LUM21746 | IK4: 300 EMBALLAGE CHAINE,LUM22118 | IL4: OP 100 INSERTION,LUM22119 | IM4: OP 300 EMBALLAGE,LUM22120 | IN4: OP 300 EMBALLAGE,LUM22121 | IS4: OP 300 EMBALLAGE,LUM22124 | JA4: OP 160 PREPARATION NEE,LUM22202 | JB4: OP 160 PREPARATION NEE,LUM22203 | JC4: OP 160 PREPARATION NEE,LUM22204 | JF4: OP 520 REGLAGE NEE,LUM22401 | JG4: OP 520 REGLAGE NEE,LUM22402 | JH4: OP 520 REGLAGE NEE,LUM22403 | OH4: OP 170 SONDE MOBILE,NEE10008B0 | OJ4: OP 180 TEST NEE,NEE1020100 | OK4: OP 170 SONDE MOBILE,NEE10206A0 | OL4: OP 170 SONDE MOBILE,NEE10206B0 | OM4: OP 170 SONDE MOBILE,NEE1030200 | ON4: OP 170 SONDE MOBILE,NEE10303A0 | OR4: OP 160 PREPARATION NEE,NEE1090200 | OS4: OP 160 PREPARATION NEE,NEE1090201 | QC4: OP 180 TEST NEE,NEE31794A0 | QE4: OP 180 TEST NEE,NEE3184200 | QF4: OP 180 TEST NEE,NEE31865A0 | QS4: OP 180 TEST NEE,NEE3197700 | QX4: OP 170 SONDE MOBILE,NEE32015B0 | QZ4: OP 180 TEST NEE,NEE3203800 | TO4: 540 REGLAGE TEST ARMOIRE,NSC20815C0 | VH4: OP 300 EMBALLAGE,NUG30286 | VI4: OP 300 EMBALLAGE,NUG30287 | VU4: OP 180 TEST NEE,NUG31020 | VV4: OP 180 TEST NEE,NUG31021 | VW4: OP 180 TEST NEE,NUG31023 | VY4: OP 300 EMBALLAGE,NUG31039 | VZ4: OP 300 EMBALLAGE,NUG31045 | WB4: OP 180 TEST NEE,NUG31050 | WC4: OP 180 TEST NEE,NUG31052 | WD4: OP 180 TEST NEE,NUG31054 | WE4: OP 180 TEST NEE,NUG31055 | WF4: OP 180 TEST NEE,NUG31056 | WG4: OP 180 TEST NEE,NUG31057 | WH4: OP 180 TEST NEE,NUG31058 | WI4: OP 180 TEST NEE,NUG31060 | WJ4: OP 300 EMBALLAGE,NUG31061 | WL4: OP 180 TEST NEE,NUG31067 | WM4: OP 180 TEST NEE,NUG31071 | WP4: OP 300 EMBALLAGE,NUG31111 | WQ4: OP 300 EMBALLAGE,NUG31113 | WY4: OP 220 TEST FINAL,NUG31141 | WZ4: OP 220 TEST FINAL,NUG31143 | XA4: OP 220 TEST FINAL,NUG31144 | XB4: OP 180 TEST NEE,NUG31156 | XC4: OP 220 TEST FINAL,NUG31163 | XD4: OP 220 TEST FINAL,NUG31164 | XE4: OP 300 EMBALLAGE,NUG31165 | XF4: OP 220 TEST FINAL,NUG31173 | XG4: OP 220 TEST FINAL,NUG31174 | XH4: OP 220 TEST FINAL,NUG31175 | XI4: OP 220 TEST FINAL,NUG31182 | XJ4: OP 220 TEST FINAL ,NUG31184 | XK4: OP 220 TEST FINAL,NUG31185 | XL4: OP 220 TEST FINAL,NUG31186 | XM4: OP 220 TEST FINAL,NUG31190 | XN4: OP 220 TEST FINAL,NUG31191 | XO4: OP 220 TEST FINAL,NUG31192 | XP4: OP 220 TEST FINAL,NUG31193 | XQ4: OP 300 EMBALLAGE,NUG31210 | XR4: OP 220 TEST FINAL,NUG31217 | XS4: OP 220 TEST FINAL,NUG31218 | XT4: OP 220 TEST FINAL ,NUG31219 | XU4: OP 220 TEST FINAL,NUG31220 | XV4: OP 220 TEST FINAL,NUG31221 | XW4: OP 220 TEST FINAL,NUG31231 | XX4: OP 300 EMBALLAGE,NUG31232 | XY4: OP 300 EMBALLAGE,NUG31234 | XZ4: OP 180 TEST NEE,NUG31240 | YA4: OP 180 TEST NEE,NUG31241 | YB4: OP 180 TEST NEE,NUG31242 | YC4: OP 180 TEST NEE,NUG31243 | YD4: OP 180 TEST NEE,NUG31244 | YE4: OP 180 TEST NEE,NUG31250 | YF4: OP 180 TEST NEE,NUG31251 | YH4: OP 220 TEST FINAL,NUG31261 | YI4: OP 220 TEST FINAL,NUG31265 | YK4: OP 300 EMBALLAGE,NUG31268 | YL4: OP 300 EMBALLAGE,NUG31270 | YN4: OP 300 EMBALLAGE,NUG31305 | YO4: OP 180 TEST NEE,NUG31306 | YP4: OP 220 TEST FINAL,NUG31309 | YQ4: OP 180 TEST NEE,NUG31310 | YR4: OP 300 EMBALLAGE,NUG31312 | YT4: OP 300 EMBALLAGE,NUG31314 | YV4: OP 300 EMBALLAGE,NUG31420 | YW4: OP 300 EMBALLAGE,NUG31430 | YX4: OP 300 EMBALLAGE,NUG31500 | YZ4: OP 300 EMBALLAGE,NUG31510 | ZA4: OP 220 TEST FINAL,NUG3152199 | ZJ4: OP 220 TEST FINAL,NUG3155199 | ZK4: OP 220 TEST FINAL ,NUG3162199 | ZZ4: OP 300 EMBALLAGE,NUG31641 | AAA4: OP 300 EMBALLAGE,NUG31643 | AAB4: OP 300 EMBALLAGE,NUG31644 | AAC4: OP 300 EMBALLAGE,NUG31645 | AAL4: OP 220 TEST FINAL,NUG32042 | AAM4: OP 180 TEST NEE,NUG32045 | AAN4: OP 300 EMBALLAGE,NUG32056 | AAO4: OP 300 EMBALLAGE,NUG32063 | AAP4: OP 300 EMBALLAGE,NUG32064 | AAQ4: OP 300 EMBALLAGE,NUG32065 | AAR4: OP 300 EMBALLAGE,NUG32066 | AAS4: OP 180 TEST NEE,NUG32070 | AAT4: OP 300 EMBALLAGE,NUG32075 | AAU4: OP 300 EMBALLAGE,NUG32077 | AAV4: OP 300 EMBALLAGE,NUG32078 | AAW4: OP 300 EMBALLAGE,NUG32079 | AAX4: OP 300 EMBALLAGE,NUG32080 | AAY4: OP 180 TEST NEE,NUG32082 | AAZ4: OP 180 TEST NEE,NUG32083 | ABA4: OP 300 EMBALLAGE,NUG33313 | ABD4: OP 180 TEST NEE,NUG34040 | ABE4: OP 180 TEST NEE,NUG34042 | ABF4: OP 180 TEST NEE,NUG34044 | ABG4: OP 180 TEST NEE,NUG34046 | ABH4: OP 180 TEST NEE,NUG34047 | ABI4: OP 220 TEST FINAL,NUG34064 | ABJ4: OP 220 TEST FINAL,NUG34065 | ABK4: OP 220 TEST FINAL,NUG34066 | ABL4: OP 220 TEST FINAL,NUG34067 | ABM4: OP 220 TEST FINAL,NUG34068 | ABN4: OP 220 TEST FINAL,NUG34069 | ABO4: OP 220 TEST FINAL,NUG34070 | ABP4: OP 220 TEST FINAL,NUG34071 | ABQ4: OP 220 TEST FINAL,NUG34072 | ABR4: OP 220 TEST FINAL,NUG34073 | ADB4: OP 220 TEST FINAL,NUG38200 | ADF4: OP 300 EMBALLAGE ,NUG38224 | ADH4: OP 300 EMBALLAGE ,NUG38229 | ADJ4: OP 220 TEST FINAL ,NUG38233 | ADL4: OP 300 EMBALLAGE ,NUG38270 | ADM4: OP 300 EMBALLAGE ,NUG38271 | ADN4: OP 300 EMBALLAGE ,NUG38272 | ADO4: OP 300 EMBALLAGE ,NUG38273 | ADW4: OP 300 EMBALLAGE ,NUG38314 | ADY4: OP 300 EMBALLAGE ,NUG38316 | AEH4: OP 300 EMBALLAGE ,NUG38338 | AEI4: OP 300 EMBALLAGE ,NUG38339 | AEM4: OP 300 EMBALLAGE ,NUG38344 | AEN4: OP 300 EMBALLAGE ,NUG38346 | AFF4: OP 160 PREPARATION NEE ,NUG38560 | AFH4: OP 300 EMBALLAGE ,NUG38639 | AFI4: OP 300 EMBALLAGE ,NUG38645 | AFJ4: OP 170 SONDE MOBILE ,NUG38655 | AFK4: OP 300 EMBALLAGE ,NUG38661 | AGB4: OP 180 TEST NEE ,NUG38730 | AGC4: OP 300 EMBALLAGE ,NUG38731 | AGE4: OP 540 REGLAGE TEST SOURCES ,PSX20801 | AGF4: OP 540 REGLAGE TEST SOURCES ,PSX20802 | AGG4: OP 540 REGLAGE TEST SOURCES ,PSX20803 | AGH4: OP 540 REGLAGE TEST SOURCES ,PSX20814 | AGI4: OP 540 REGLAGE TEST SOURCES ,PSX20815 | AGJ4: OP 540 REGLAGE TEST SOURCES ,PSX20816 | AGK4: OP 540 REGLAGE TEST SOURCES ,PSX20830 | AGL4: OP 540 REGLAGE TEST SOURCES ,PSX20851 | AGM4: OP 520 REGLAGE NEE ,PSX22404 | AGN4: OP 520 REGLAGE NEE ,PSX22411 | AGO4: OP 520 REGLAGE NEE ,PSX22412 | AGS4: OP 220 TEST FINAL ,VAE64001 | AGT4: OP 220 TEST FINAL ,VAE64002 | AGU4: OP 220 TEST FINAL ,VAE64003 | AGV4: OP 220 TEST FINAL ,VAE64004 | AGW4: OP 220 TEST FINAL ,VAE64005 | AGX4: OP 220 TEST FINAL ,VAE64010 | AGY4: OP 220 TEST FINAL ,VAE64011 | AGZ4: OP 220 TEST FINAL ,VAE64012 | AHA4: OP 220 TEST FINAL ,VAE64013 | AHB4: OP 220 TEST FINAL ,VAE64020 | AHC4: OP 220 TEST FINAL ,VAE64021 | AHD4: OP 220 TEST FINAL ,VAE64022 | AHE4: OP 220 TEST FINAL ,VAE64023
J5: OP 300 EMBALLAGE ,LUM10118 | K5: OP 300 EMBALLAGE ,LUM10120 | Q5: OP 300 EMBALLAGE,LUM10219 | AN5: OP 300 EMBALLAGE ,LUM10663 | AO5: OP 300 EMBALLAGE ,LUM10664 | AP5: OP 300 EMBALLAGE ,LUM10667 | AQ5: OP 300 EMBALLAGE ,LUM10671 | AS5: OP 220 TEST FINAL ,LUM10771C1 | AT5: OP 300 EMBALLAGE ,LUM10772 | AU5: OP 220 TEST FINAL ,LUM10773C1 | AV5: OP 300 EMBALLAGE ,LUM10780 | AW5: OP 300 EMBALLAGE,LUM10789 | AX5: OP150 MONTAGE CONTROLE APRES SOUDURE ,LUM10800 | BE5: OP 180 TEST NEE ,LUM10905 | BF5: OP 180 TEST NEE,LUM10910 | BG5: OP 180 TEST NEE,LUM10911 | BH5: OP 150 ASSEMBLAGE,LUM11010 | BI5: OP 150 ASSEMBLAGE,LUM11011 | BJ5: OP 150 ASSEMBLAGE,LUM11012 | CX5: OP 300 EMBALLAGE,LUM12044 | CY5: OP 300 EMBALLAGE,LUM16001 | DQ5: OP 220 TEST FINAL,LUM17001 | DR5: OP 220 TEST FINAL,LUM17002 | DS5: OP 220 TEST FINAL,LUM17003 | DT5: OP 220 TEST FINAL,LUM17006 | DU5: OP 220 TEST FINAL,LUM17007 | EK5: OP 540 REGLAGE TEST SOURCES,LUM20804 | EL5: OP 540 REGLAGE TEST SOURCES,LUM20807 | EM5: OP 540 REGLAGE TEST SOURCES,LUM20817 | EN5: OP 540 REGLAGE TEST SOURCES,LUM20819 | EO5: OP 580 MONTAGE FINAL SOURCES,LUM20827 | EP5: OP 580 MONTAGE FINAL SOURCES,LUM20829 | ER5: OP 580 MONTAGE FINAL SOURCES,LUM20853 | ES5: OP 580 MONTAGE FINAL SOURCES,LUM20854 | FB5: OP 150 ASSEMBLAGE,LUM21012 | FC5: OP 150 ASSEMBLAGE,LUM21013 | HH5: OP 220 TEST FINAL,LUM21746 | IK5: OP 100 INSERTION,LUM22118 | IL5: OP 150 ASSEMBLAGE,LUM22119 | JA5: OP 300 EMBALLAGE,LUM22202 | JB5: OP 300 EMBALLAGE,LUM22203 | JC5: OP 300 EMBALLAGE,LUM22204 | JF5: OP 540 REGLAGE TEST SOURCES,LUM22401 | JG5: OP 540 REGLAGE TEST SOURCES,LUM22402 | JH5: OP 540 REGLAGE TEST SOURCES,LUM22403 | OK5: OP 180 TEST NEE,NEE10206A0 | OL5: OP 180 TEST NEE,NEE10206B0 | OM5: OP 180 TEST NEE,NEE1030200 | ON5: OP 180 TEST NEE,NEE10303A0 | OR5: OP 170 SONDE MOBILE,NEE1090200 | OS5: OP 170 SONDE MOBILE,NEE1090201 | VU5: OP 220 TEST FINAL,NUG31020 | VV5: OP 220 TEST FINAL,NUG31021 | VW5: OP 220 TEST FINAL,NUG31023 | WB5: OP 220 TEST FINAL,NUG31050 | WC5: OP 220 TEST FINAL,NUG31052 | WD5: OP 220 TEST FINAL,NUG31054 | WE5: OP 220 TEST FINAL,NUG31055 | WF5: OP 220 TEST FINAL,NUG31056 | WG5: OP 220 TEST FINAL,NUG31057 | WH5: OP 220 TEST FINAL,NUG31058 | WI5: OP 220 TEST FINAL,NUG31060 | WL5: OP 220 TEST FINAL,NUG31067 | WM5: OP 220 TEST FINAL,NUG31071 | WY5: OP 300 EMBALLAGE,NUG31141 | WZ5: OP 300 EMBALLAGE,NUG31143 | XA5: OP 300 EMBALLAGE,NUG31144 | XB5: OP 220 TEST FINAL,NUG31156 | XC5: OP 300 EMBALLAGE,NUG31163 | XD5: OP 300 EMBALLAGE,NUG31164 | XF5: OP 300 EMBALLAGE,NUG31173 | XG5: OP 300 EMBALLAGE,NUG31174 | XH5: OP 300 EMBALLAGE,NUG31175 | XI5: OP 300 EMBALLAGE,NUG31182 | XJ5: OP 300 EMBALLAGE ,NUG31184 | XK5: OP 300 EMBALLAGE,NUG31185 | XL5: OP 300 EMBALLAGE,NUG31186 | XM5: OP 300 EMBALLAGE,NUG31190 | XN5: OP 300 EMBALLAGE,NUG31191 | XO5: OP 300 EMBALLAGE,NUG31192 | XP5: OP 300 EMBALLAGE NUG31193,NUG31193 | XR5: OP 300 EMBALLAGE,NUG31217 | XS5: OP 300 EMBALLAGE,NUG31218 | XT5: OP 300 EMBALLAGE ,NUG31219 | XU5: OP 300 EMBALLAGE,NUG31220 | XV5: OP 300 EMBALLAGE ,NUG31221 | XW5: OP 300 EMBALLAGE,NUG31231 | XZ5: OP 220 TEST FINAL,NUG31240 | YA5: OP 220 TEST FINAL,NUG31241 | YB5: OP 220 TEST FINAL,NUG31242 | YC5: OP 220 TEST FINAL,NUG31243 | YD5: OP 220 TEST FINAL,NUG31244 | YE5: OP 220 TEST FINAL,NUG31250 | YF5: OP 220 TEST FINAL,NUG31251 | YH5: OP 300 EMBALLAGE,NUG31261 | YI5: OP 300 EMBALLAGE,NUG31265 | YO5: OP 300 EMBALLAGE,NUG31306 | YP5: OP 300 EMBALLAGE,NUG31309 | YQ5: OP 300 EMBALLAGE,NUG31310 | ZA5: NUG3152399 | ZK5: OP 220 TEST FINAL,NUG3162199 | AAL5: OP 300 EMBALLAGE,NUG32042 | AAM5: OP 300 EMBALLAGE,NUG32045 | AAS5: OP 220 TEST FINAL,NUG32070 | AAY5: OP 220 TEST FINAL,NUG32082 | AAZ5: OP 220 TEST FINAL,NUG32083 | ABD5: OP 300 EMBALLAGE,NUG34040 | ABE5: OP 300 EMBALLAGE,NUG34042 | ABF5: OP 300 EMBALLAGE,NUG34044 | ABG5: OP 300 EMBALLAGE,NUG34046 | ABH5: OP 300 EMBALLAGE,NUG34047 | ABI5: OP 300 EMBALLAGE,NUG34064 | ABJ5: OP 300 EMBALLAGE,NUG34065 | ABK5: OP 300 EMBALLAGE,NUG34066 | ABL5: OP 300 EMBALLAGE,NUG34067 | ABM5: OP 300 EMBALLAGE,NUG34068 | ABN5: OP 300 EMBALLAGE,NUG34069 | ABO5: OP 300 EMBALLAGE,NUG34070 | ABP5: OP 300 EMBALLAGE,NUG34071 | ABQ5: OP 300 EMBALLAGE,NUG34072 | ABR5: OP 300 EMBALLAGE,NUG34073 | ADB5: OP 300 EMBALLAGE,NUG38200 | ADJ5: OP 300 EMBALLAGE ,NUG38233 | AFF5: OP 300 EMBALLAGE ,NUG38560 | AFJ5: OP 220 TEST FINAL ,NUG38655 | AGB5: OP 300 EMBALLAGE ,NUG38730 | AGE5: OP 580 MONTAGE FINAL SOURCES ,PSX20801 | AGF5: OP 580 MONTAGE FINAL SOURCES ,PSX20802 | AGG5: OP 580 MONTAGE FINAL SOURCES ,PSX20803 | AGH5: OP 580 MONTAGE FINAL SOURCES ,PSX20814 | AGI5: OP 580 MONTAGE FINAL SOURCES ,PSX20815 | AGJ5: OP 580 MONTAGE FINAL SOURCES ,PSX20816 | AGL5: OP 580 MONTAGE FINAL SOURCES ,PSX20851 | AGM5: OP 540 REGLAGE TEST SOURCES ,PSX22404 | AGN5: OP 540 REGLAGE TEST SOURCES ,PSX22411 | AGO5: OP 540 REGLAGE TEST SOURCES ,PSX22412 | AGS5: OP 300 EMBALLAGE ,VAE64001 | AGT5: OP 300 EMBALLAGE ,VAE64002 | AGU5: OP 300 EMBALLAGE ,VAE64003 | AGV5: OP 300 EMBALLAGE ,VAE64004 | AGW5: OP 300 EMBALLAGE ,VAE64005 | AGX5: OP 300 EMBALLAGE ,VAE64010 | AGY5: OP 300 EMBALLAGE ,VAE64011 | AGZ5: OP 300 EMBALLAGE ,VAE64012 | AHA5: OP 300 EMBALLAGE ,VAE64013 | AHB5: OP 300 EMBALLAGE ,VAE64020 | AHC5: OP 300 EMBALLAGE ,VAE64021 | AHD5: OP 300 EMBALLAGE ,VAE64022 | AHE5: OP 300 EMBALLAGE ,VAE64023
AS6: OP 300 EMBALLAGE ,LUM10771C1 | AU6: OP 300 EMBALLAGE ,LUM10773C1 | AX6: OP300 EMBALLAGE ,LUM10800 | BE6: OP 300 EMBALLAGE ,LUM10905 | BF6: OP 300 EMBALLAGE ,LUM10910 | BG6: OP 300 EMBALLAGE ,LUM10911 | BH6: OP 300 EMBALLAGE,LUM11010 | BI6: OP 300 EMBALLAGE,LUM11011 | BJ6: OP 300 EMBALLAGE,LUM11012 | DQ6: OP 300 EMBALLAGE,LUM17001 | DR6: OP 300 EMBALLAGE,LUM17002 | DS6: OP 300 EMBALLAGE,LUM17003 | DT6: OP 300 EMBALLAGE,LUM17006 | DU6: OP 300 EMBALLAGE,LUM17007 | EK6: OP 580 MONTAGE FINAL SOURCES,LUM20804 | EL6: OP 580 MONTAGE FINAL SOURCES,LUM20807 | EM6: OP 580 MONTAGE FINAL SOURCES,LUM20817 | EN6: OP 580 MONTAGE FINAL SOURCES,LUM20819 | FB6: OP 300 EMBALLAGE,LUM21012 | FC6: OP 300 EMBALLAGE,LUM21013 | HH6: OP 300 EMBALLAGE,LUM21746 | IK6: OP 150 ASSEMBLAGE,LUM22118 | IL6: OP 300 EMBALLAGE,LUM22119 | JF6: OP 580 MONTAGE FINAL SOURCES,LUM22401 | JG6: OP 580 MONTAGE FINAL SOURCES,LUM22402 | JH6: OP 580 MONTAGE FINAL SOURCES,LUM22403 | VU6: OP 300 EMBALLAGE,NUG31020 | VV6: OP 300 EMBALLAGE,NUG31021 | VW6: OP 300 EMBALLAGE,NUG31023 | WB6: OP 300 EMBALLAGE,NUG31050 | WC6: OP 300 EMBALLAGE,NUG31052 | WD6: OP 300 EMBALLAGE,NUG31054 | WE6: OP 300 EMBALLAGE,NUG31055 | WF6: OP 300 EMBALLAGE,NUG31056 | WG6: OP 300 EMBALLAGE,NUG31057 | WH6: OP 300 EMBALLAGE,NUG31058 | WI6: OP 300 EMBALLAGE,NUG31060 | WL6: OP 300 EMBALLAGE,NUG31067 | WM6: OP 300 EMBALLAGE,NUG31071 | XB6: OP 300 EMBALLAGE,NUG31156 | XI6: NUG31183 | XZ6: OP 300 EMBALLAGE,NUG31240 | YA6: OP 300 EMBALLAGE,NUG31241 | YB6: OP 300 EMBALLAGE,NUG31242 | YC6: OP 300 EMBALLAGE,NUG31243 | YD6: OP 300 EMBALLAGE,NUG31244 | YE6: OP 300 EMBALLAGE,NUG31250 | YF6: OP 300 EMBALLAGE,NUG31251 | YH6: NUG31263 | ZA6: OP 150 ASSEMBLAGE,NUG3152399 | AAS6: OP 300 EMBALLAGE,NUG32070 | AAY6: OP 300 EMBALLAGE,NUG32082 | AAZ6: OP 300 EMBALLAGE,NUG32083 | AFJ6: OP 300 EMBALLAGE ,NUG38655
IK7: OP 300 EMBALLAGE,LUM22118 | XI7: OP 100 INSERTION,NUG31183 | YH7: OP 180 TEST NEE,NUG31263 | ZA7: OP 220 TEST FINAL,NUG3152399
XI8: OP 150 ASSEMBLAGE,NUG31183 | YH8: OP 220 TEST FINAL,NUG31263
XI9: OP 220 TEST FINAL,NUG31183 | YH9: OP 300 EMBALLAGE,NUG31263

Sheet feuille jour de la semaine 
A1: Lundi
A2: Mardi
A3: Mercredi
A4: Jeudi
A5: Vendredi
A6: Samedi
A7: Dimanche
