Workbook

Sheet donnees
A1: date 1 | B1: d | C1: fd | D1: f | E1: d | F1: sn | G1: s
A2: 44256
A3: 44256
A4: 44256
A5: 44256
A6: 45032
A7: 45032
A8: 45032
A9: 45032
A10: 45033
A11: 45034
A12: 45035
A13: 45036
... A26: 45047

Sheet tableau
A1: DATE | B1: date 1
A2: 44228 | B2: =COUNTIFS(INDIRECT("'donnees '!C"&MATCH(B$1,donnees!$1:$1,0),FALSE),">="&$A2,INDIRECT("'donnees '!C"&MATCH(B$1,donnees!$1:$1,0),FALSE),"<"&$A3) -> #REF! | C2: >-- trouve la colonne de l'autre onglet portant le meme nom qu'a la ligne 1, et compte de nombre de date du bon mois
A3: 44256 | B3: =COUNTIFS(INDIRECT("'donnees '!C"&MATCH(B$1,donnees!$1:$1,0),FALSE),">="&$A3,INDIRECT("'donnees '!C"&MATCH(B$1,donnees!$1:$1,0),FALSE),"<"&$A4) -> #REF!
A4: 44287 | B4: =COUNTIFS(INDIRECT("'donnees '!C"&MATCH(B$1,donnees!$1:$1,0),FALSE),">="&$A4,INDIRECT("'donnees '!C"&MATCH(B$1,donnees!$1:$1,0),FALSE),"<"&$A5) -> #REF!
A5: 44317 | B5: =COUNTIFS(INDIRECT("'donnees '!C"&MATCH(B$1,donnees!$1:$1,0),FALSE),">="&$A5,INDIRECT("'donnees '!C"&MATCH(B$1,donnees!$1:$1,0),FALSE),"<"&$A6) -> #REF!
A6: 44348 | B6: =COUNTIFS(INDIRECT("'donnees '!C"&MATCH(B$1,donnees!$1:$1,0),FALSE),">="&$A6,INDIRECT("'donnees '!C"&MATCH(B$1,donnees!$1:$1,0),FALSE),"<"&$A7) -> #REF!
A7: 44378 | B7: =COUNTIFS(INDIRECT("'donnees '!C"&MATCH(B$1,donnees!$1:$1,0),FALSE),">="&$A7,INDIRECT("'donnees '!C"&MATCH(B$1,donnees!$1:$1,0),FALSE),"<"&$A8) -> #REF!
A8: 44409 | B8: =COUNTIFS(INDIRECT("'donnees '!C"&MATCH(B$1,donnees!$1:$1,0),FALSE),">="&$A8,INDIRECT("'donnees '!C"&MATCH(B$1,donnees!$1:$1,0),FALSE),"<"&$A9) -> #REF!
A9: 44440 | B9: =COUNTIFS(INDIRECT("'donnees '!C"&MATCH(B$1,donnees!$1:$1,0),FALSE),">="&$A9,INDIRECT("'donnees '!C"&MATCH(B$1,donnees!$1:$1,0),FALSE),"<"&$A10) -> #REF!
A10: 44470 | B10: =COUNTIFS(INDIRECT("'donnees '!C"&MATCH(B$1,donnees!$1:$1,0),FALSE),">="&$A10,INDIRECT("'donnees '!C"&MATCH(B$1,donnees!$1:$1,0),FALSE),"<"&$A11) -> #REF!
A11: 44501 | B11: =COUNTIFS(INDIRECT("'donnees '!C"&MATCH(B$1,donnees!$1:$1,0),FALSE),">="&$A11,INDIRECT("'donnees '!C"&MATCH(B$1,donnees!$1:$1,0),FALSE),"<"&$A12) -> #REF!
A12: 44531 | B12: =COUNTIFS(INDIRECT("'donnees '!C"&MATCH(B$1,donnees!$1:$1,0),FALSE),">="&$A12,INDIRECT("'donnees '!C"&MATCH(B$1,donnees!$1:$1,0),FALSE),"<"&$A13) -> #REF!
A13: 44562 | B13: =COUNTIFS(INDIRECT("'donnees '!C"&MATCH(B$1,donnees!$1:$1,0),FALSE),">="&$A13,INDIRECT("'donnees '!C"&MATCH(B$1,donnees!$1:$1,0),FALSE),"<"&$A14) -> #REF!
A14: 44593 | B14: =COUNTIFS(INDIRECT("'donnees '!C"&MATCH(B$1,donnees!$1:$1,0),FALSE),">="&$A14,INDIRECT("'donnees '!C"&MATCH(B$1,donnees!$1:$1,0),FALSE),"<"&$A15) -> #REF!
... A25: 44927 | B25: =COUNTIFS(INDIRECT("'donnees '!C"&MATCH(B$1,donnees!$1:$1,0),FALSE),">="&$A25,INDIRECT("'donnees '!C"&MATCH(B$1,donnees!$1:$1,0),FALSE),"<"&$A26) -> #REF!
A26: 44958
