Workbook
Name _CAL03: #REF!
Name _CAL03: #REF!
Name _CAL1: #REF!
Name _CAL1: #REF!
Name _NOM1: #REF!
Name _NOM1: #REF!
Name ACCOMPTE: '[1]EMPLOYEE LISTE NON'!$F$23:$F$25
Name ACCOMPTE: #REF!
Name AFAIRE: #REF!
Name ANN: '[1]EMPLOYEE LISTE'!#REF!
Name ANN: #REF!
Name ANNEE: #REF!
Name ASS: '[1]EMPLOYEE LISTE'!$M$61:$M$63
Name ASS: #REF!
Name AVANCE: '[2]EMPLOYEE LISTE'!$H$23:$H$94
Name BON: #REF!
Name C_POST: #REF!
Name CALEND: #REF!
Name CALEND: #REF!
Name CALEND1: #REF!
Name CASH: '[1]EMPLOYEE LISTE NON'!$F$28:$F$29
Name CASH: #REF!
Name CHARGEM: '[1]EMPLOYEE LISTE'!$M$23:$M$54
Name CHARGEM: #REF!
Name CONCLU: '[1]EMPLOYEE LISTE'!$K$52:$K$58
Name CONCLU: #REF!
Name CONCLURE: '[1]EMPLOYEE LISTE'!#REF!
Name CONCLURE: #REF!
Name CONCLUSION: '[1]EMPLOYEE LISTE'!#REF!
Name CONCLUSION: #REF!
Name CONCLUT: '[1]EMPLOYEE LISTE'!$K$56:$K$58
Name CONCLUT: #REF!
Name COUTASS: '[1]EMPLOYEE LISTE'!$D$16:$D$19
Name COUTASS: #REF!
Name DA: '[1]EMPLOYEE LISTE'!#REF!
Name DA: #REF!
Name DAT: '[1]EMPLOYEE LISTE'!#REF!
Name DAT: #REF!
Name DATE: #REF!
Name DATESPRIX: '[3]DATE-TAUX'!$B$2:$B$64
Name DEP: #REF!
Name DEP: #REF!
Name DEPR: #REF!
Name DEPR: #REF!
Name DEPRI: #REF!
Name DEPRI: #REF!
Name DEPRIM: #REF!
Name DESTI: #REF!
Name DESTIN: '[1]EMPLOYEE LISTE'!$P$2:$P$45
Name DESTIN: #REF!
Name DESTINAT: '[1]EMPLOYEE LISTE'!$P$2:$P$45
Name DESTINAT: #REF!
Name DIP: '[1]ESTIME-DEVIS'!#REF!
Name DIP: #REF!
Name DISTVIL: #REF!
Name DISVIL: #REF!
Name DIVERS: '[1]EMPLOYEE LISTE'!#REF!
Name DIVERS: #REF!
Name efsad: #REF!
Name EGA: '[1]EMPLOYEE LISTE'!#REF!

Sheet BONNE CORECTION
A1: DATE | B1: DATES+JOURS | C1: TAUX | D1: DÉPART | E1: ÉVALUATION | F1: LOCATION | H1: CHARGEMENT | J1: 41640 | K1: =IF(ISERROR(VLOOKUP(J1,'BONNE CORECTION'!A2:C5,3,0)),"126.00",VLOOKUP(J1,'BONNE CORECTION'!A2:C5,3,0)) -> 126 | L1: =IF(ISERROR(VLOOKUP(J1,'BONNE CORECTION'!A3:E5,4,0))," 8.00",VLOOKUP(J1,'BONNE CORECTION'!A3:E5,4,0)) -> 8.00 | M1: =IF(ISERROR(VLOOKUP(J1,'BONNE CORECTION'!A3:E5,5,0)),"0.50",VLOOKUP(J1,'BONNE CORECTION'!A3:E5,5,0)) -> 0.50 | O1: 2 | P1: {=MIN(IF((M14:O16=K1)*(COLUMN(M:O)-12)=0,"",COLUMN(M:O)-12))} -> 1
A2: =B2 -> 41640 | B2: 41640 | C2: 126 | D2: 8 | E2: 0.5 | F2: 150 | L2: HRS DÉPART | M2: ÉVALUATION | O2: NBR HOM
A3: =B3 -> 42142 | B3: 42142 | C3: 134.85 | D3: 7 | E3: 0.8 | F3: 150 | Q3: la formule qui convertit
A4: =B4 -> 42171 | B4: 42171 | C4: 134.85 | D4: 7 | E4: 0.8 | F4: 150 | J4: si ma date est 18 mai 2015 a J1 avec 1 homme devrait etre 100.00 a k15
A5: =B5 -> 41895 | B5: 41895 | C5: 180 | D5: 8 | E5: 0.5 | F5: 75 | J5: si ma date est 18 mai 2015 a J1 avec 2 homme devrait etre 110.00 a k15
J6: si ma date est 18 mai 2015 a J1 avec 3 homme devrait etre 134.50 a k15
J8: si ma date est samedi 13 septembre 2014 a J1 avec 1 homme devrait etre 75.00 a k15
J9: si ma date est samedi 13 septembre 2014 a J1 avec 2 homme devrait etre 85.00 a k15
J10: si ma date est samedi 13 septembre 2014 a J1 avec 3 homme devrait etre 110.00 a k15
A11: Bonjour a vous tous voici donc mon probleme j`aimerais que selon la date choisi J1 et le nombre d`homme requis O3
A12: que le bon montant s`inscrive en K15
L13: N-HOMMES | M13: regulier | N13: 1/2 saison | O13: forte saison
L14: 1 | M14: 75 | N14: 100 | O14: 120
I15: =K1/3/115.595*100 -> 36.333751 | J15: TAUX / HOMME | K15: =VLOOKUP(O1,L14:O16,P1+1,0) -> 85 | L15: 2 | M15: 85 | N15: 110 | O15: 130
L16: 3 | M16: 126 | N16: 155 | O16: 180
J18: si ma date est mercredi le 01 janviere 2014 a J1 avec 1 homme devrait etre 120.00 a k15
J19: si ma date est mercredi le 01 janviere 2014 a J1 avec 2 homme devrait etre 130.00 a k15
J20: si ma date est mercredi le 01 janviere 2014 a J1 avec 3 homme devrait etre 156.75 a k15

Sheet Feuil1

Sheet A CORRIGER
A1: DATE | B1: DATES+JOURS | C1: TAUX | D1: DÉPART | E1: ÉVALUATION | F1: LOCATION | H1: CHARGEMENT | J1: ='[1]ENTESTTRER N-CLIENT+VILLE'!F10 -> 42090 | K1: =IF(ISERROR(VLOOKUP(J1,'A CORRIGER'!A2:C22,3,0)),"126.00",VLOOKUP(J1,'A CORRIGER'!A2:C22,3,0)) -> 126.00 | L1: =IF(ISERROR(VLOOKUP(J1,'A CORRIGER'!A6:E22,4,0))," 8.00",VLOOKUP(J1,'A CORRIGER'!A6:E22,4,0)) -> 8.00 | M1: =IF(ISERROR(VLOOKUP(J1,'A CORRIGER'!A6:E22,5,0)),"0.50",VLOOKUP(J1,'A CORRIGER'!A6:E22,5,0)) -> 0.50 | O1: 2 | P1: {=MIN(IF((M14:O16=K1)*(COLUMN(M:O)-12)=0,"",COLUMN(M:O)-12))} -> 0
A2: =B2 -> 41640 | B2: 41640 | C2: 300 | D2: 8 | E2: 0.5 | F2: 150 | L2: HRS DÉPART | M2: ÉVALUATION | O2: NBR HOM
A3: =B3 -> 41641 | B3: 41641 | C3: 250 | D3: 8 | E3: 0.5 | F3: 150 | H3: LIVRAISON | J3: ='[1]ESTIME-DEVIS'!F28 -> 0 | K3: =IF(ISERROR(VLOOKUP(J3,'A CORRIGER'!A6:C22,3,0)),"126.00",VLOOKUP(J3,'A CORRIGER'!A6:C22,3,0)) -> 126.00 | L3: =IF(ISERROR(VLOOKUP(J3,'A CORRIGER'!A8:E22,4,0)),"8.00",VLOOKUP(J3,'A CORRIGER'!A8:E22,4,0)) -> 8.00 | M3: =IF(ISERROR(VLOOKUP(J3,'A CORRIGER'!A8:E22,5,0)),"0.50",VLOOKUP(J3,'A CORRIGER'!A8:E22,5,0)) -> 0.50 | Q3: la formule qui convertit
A4: =B4 -> 41643 | B4: 41643 | C4: 126 | D4: 8 | E4: 0.5 | F4: 75
A5: =B5 -> 41644 | B5: 41644 | C5: 126 | D5: 8 | E5: 0.5 | F5: 75 | J5: CAMION LOCATION | K5: =IF(ISERROR(VLOOKUP(J1,'A CORRIGER'!A2:F22,6,0)),"75.00",VLOOKUP(J1,'A CORRIGER'!A2:F22,6,0)) -> 75.00
A6: =B6 -> 41650 | B6: 41650 | C6: 126 | D6: 8 | E6: 0.5 | F6: 75
A7: 40972 | B7: 41651 | C7: 126 | D7: 8 | E7: 0.5 | F7: 75 | J7: ASSURANCE | K7: =IF(ISERROR(VLOOKUP(J1,'A CORRIGER'!A2:F22,5,0)),"0.50",VLOOKUP(J1,'A CORRIGER'!A2:F22,5,0)) -> 0.50
A8: =B8 -> 41657 | B8: 41657 | C8: 126 | D8: 8 | E8: 0.5 | F8: 75
A9: =B9 -> 41658 | B9: 41658 | C9: 126 | D9: 8 | E9: 0.5 | F9: 75
A10: =B10 -> 41664 | B10: 41664 | C10: 126 | D10: 8 | E10: 0.5 | F10: 75
A11: =B11 -> 41665 | B11: 41665 | C11: 126 | D11: 8 | E11: 0.5 | F11: 75
A12: =B12 -> 41671 | B12: 41671 | C12: 126 | D12: 8 | E12: 0.5 | F12: 75
A13: =B13 -> 41672 | B13: 41672 | C13: 126 | D13: 8 | E13: 0.5 | F13: 75 | L13: N-HOMMES | M13: regulier | N13: 1/2 saison | O13: forte saison
A14: =B14 -> 41678 | B14: 41678 | C14: 126 | D14: 8 | E14: 0.5 | F14: 75 | L14: 1 | M14: 75 | N14: 100 | O14: 120
A15: =B15 -> 41679 | B15: 41679 | C15: 126 | D15: 8 | E15: 0.5 | F15: 75 | K15: =VLOOKUP(O1,L14:O16,P1+1,0) -> 2 | L15: 2 | M15: 85 | N15: 110 | O15: 130
A16: =B16 -> 41685 | B16: 41685 | C16: 126 | D16: 8 | E16: 0.5 | F16: 75 | L16: 3 | M16: 126 | N16: 155 | O16: 180
A17: =B17 -> 41686 | B17: 41686 | C17: 126 | D17: 8 | E17: 0.5 | F17: 75
A18: =B18 -> 41692 | B18: 41692 | C18: 126 | D18: 8 | E18: 0.5 | F18: 75 | J18: devrait m`inscrire 85.00 parcec que 2 hommes temps regulier est a 85.00 par heures
A19: =B19 -> 41693 | B19: 41693 | C19: 126 | D19: 8 | E19: 0.5 | F19: 75 | J19: dans la filliere bonne correction ta solution marche a merveille le ne sais pas ou se situe mon erreur
A20: =B20 -> 41699 | B20: 41699 | C20: 126 | D20: 8 | E20: 0.5 | F20: 75 | I20: =K1/3/115.595*100 -> 36.333751 | J20: j`ai galerer une partie de l`avant midi et je ne trouve pas mon erreur j`ai encore besoin d`un coup de main
A21: =B21 -> 41700 | B21: 41700 | C21: 126 | D21: 8 | E21: 0.5 | F21: 75
A22: 40972 | B22: 41706 | C22: 126 | D22: 8 | E22: 0.5 | F22: 75
