Workbook
Name actions: [1]Renouvellement!$S$1:$S$10
Name DECLARATION: [2]menus!$C$1:$C$5
Name statut: #REF!
Name statut: #REF!
Name TYPE_DEPENSE: [2]menus!$B$1:$B$9

Sheet Base
A3: ID | B3: Nom | C3: Prénom | D3: Date livraison | E3: Date restitution
A4: AL429EC12604 | B4: DURANT | C4: Dorothée | D4: 41198
A5: AL972LM1795 | B5: DUPONT | C5: Eric | D5: 40239 | E5: 41558
A6: AN874EL6842 | B6: MAURICE | C6: Arnaud | D6: 40259
A7: AL444XN1490 | B7: DUTOUR | C7: Pierre | D7: 40267
A8: AQ219FR2188 | B8: PARTRE | C8: Thierry | D8: 40312 | E8: 41585

Sheet Tableau 1
F1: Date début période | G1: 41671
F2: Date fin période | G2: 41698
A3: ID | B3: Nom | C3: Nom | D3: Date livraison | E3: Date restitution | F3: Date début | G3: Date fin | H3: Nb jour période
A6: =[2]Flotte!C5 -> AL429EC12604 | B6: =INDEX(Base!B:B,MATCH(A6,Base!A:A,FALSE),1) -> DURANT | C6: =INDEX(Base!C:C,MATCH(B6,Base!B:B,FALSE),1) -> Dorothée | D6: =INDEX(Base!D:D,MATCH(C6,Base!C:C,FALSE),1) -> 41198 | E6: =INDEX(Base!E:E,MATCH(D6,Base!D:D,FALSE),1) -> 0 | F6: =IF(D6>$G$2,"",IF(AND(D6>$G$1,D6<$G$2),D6,IF(D6<$G$1,$G$1,D6))) -> 41671 | G6: =IF(F6="","",IF(E6>$G$2,$G$2,IF(E6="",$G$2,IF(E6<$G$1,"",IF(AND(E6>$G$1,E6<$G$2),E6,$G$2))))) | H6: =IFERROR(IF(AND(F6=$G$1,G6=$G$2),30,(G6-F6)+1),"")
A7: =[2]Flotte!C6 -> AL972LM1795 | B7: =INDEX(Base!B:B,MATCH(A7,Base!A:A,FALSE),1) -> DUPONT | C7: =INDEX(Base!C:C,MATCH(B7,Base!B:B,FALSE),1) -> Eric | D7: =IF(ISBLANK([2]Flotte!AC6),"",[2]Flotte!AC6) -> 40239 | E7: =IF(ISBLANK([2]Flotte!AD6),"",[2]Flotte!AD6) -> 41558
A8: =[2]Flotte!C7 -> AN874EL6842 | B8: =INDEX(Base!B:B,MATCH(A8,Base!A:A,FALSE),1) -> MAURICE | C8: =INDEX(Base!C:C,MATCH(B8,Base!B:B,FALSE),1) -> Arnaud | D8: =IF(ISBLANK([2]Flotte!AC7),"",[2]Flotte!AC7) -> 40259 | E8: =IF(ISBLANK([2]Flotte!AD7),"",[2]Flotte!AD7) | F8: =IF(D8>$G$2,"",IF(AND(D8>$G$1,D8<$G$2),D8,IF(D8<$G$1,$G$1,D8))) -> 41671 | G8: =IF(F8="","",IF(E8>$G$2,$G$2,IF(E8="",$G$2,IF(E8<$G$1,"",IF(AND(E8>$G$1,E8<$G$2),E8,$G$2))))) -> 41698 | H8: =IFERROR(IF(AND(F8=$G$1,G8=$G$2),30,(G8-F8)+1),"") -> 30
A9: =[2]Flotte!C8 -> AL444XN1490 | B9: =INDEX(Base!B:B,MATCH(A9,Base!A:A,FALSE),1) -> DUTOUR | C9: =INDEX(Base!C:C,MATCH(B9,Base!B:B,FALSE),1) -> Pierre | D9: =IF(ISBLANK([2]Flotte!AC8),"",[2]Flotte!AC8) -> 40267 | E9: =IF(ISBLANK([2]Flotte!AD8),"",[2]Flotte!AD8) | F9: =IF(D9>$G$2,"",IF(AND(D9>$G$1,D9<$G$2),D9,IF(D9<$G$1,$G$1,D9))) -> 41671 | G9: =IF(F9="","",IF(E9>$G$2,$G$2,IF(E9="",$G$2,IF(E9<$G$1,"",IF(AND(E9>$G$1,E9<$G$2),E9,$G$2))))) -> 41698 | H9: =IFERROR(IF(AND(F9=$G$1,G9=$G$2),30,(G9-F9)+1),"") -> 30
A10: =[2]Flotte!C9 -> AQ219FR2188 | B10: =INDEX(Base!B:B,MATCH(A10,Base!A:A,FALSE),1) -> PARTRE | C10: =INDEX(Base!C:C,MATCH(B10,Base!B:B,FALSE),1) -> Thierry | D10: =IF(ISBLANK([2]Flotte!AC9),"",[2]Flotte!AC9) -> 40312 | E10: =IF(ISBLANK([2]Flotte!AD9),"",[2]Flotte!AD9) -> 41585
D14: si(estvide(INDEX(Base!E:E;EQUIV(D7;Base!D:D;FAUX);1);"";INDEX(Base!E:E;EQUIV(D7;Base!D:D;FAUX);1)))
