Workbook

Sheet Exraction
B6: Etat définitif
H8: Feuille de journée | W8: Journée cloturée
K10: 41709
M11: Jour | O11: Mois | U11: Année | AB11: Mois | AH11: Année
E14: Indicateurs
C16: Chambres construites (A) | M16: 148 | O16: 1628 | U16: 10360 | AB16: 1628 | AG16: 10360
C17: dont Chambres Hors service (B) | M17: 2 | O17: 124 | U17: 1259 | AB17: 33 | AG17: 120
C18: dont Offerts Internes (C) | O18: 1 | U18: 2
C19: Chambres louables (A-B) | M19: 146 | O19: 1504 | U19: 9101 | AB19: 1595 | AG19: 10240
C20: Chambres facturées (D) | M20: 144 | O20: 973 | U20: 5236 | AB20: 614 | AG20: 6278
C21: dont Chambres gratuites | O21: 2 | U21: 9 | AG21: 10
C22: dont Day Use | U22: 3 | AB22: 2 | AG22: 6
C23: Taux d'occupation (D/A) | M23: 97,30 % | O23: 59,77 % | U23: 50,54 % | AB23: 37,71 % | AG23: 60,60 %
C24: CA Hébergement TTC (F) | M24: 17387,17 | O24: 97720,80 | U24: 561277,19 | AB24: 50349,35 | AG24: 671117,81
C25: CA Chambres TTC (K) | M25: 17387,17 | O25: 97639,88 | U25: 562163,29 | AB25: 50428,68 | AG25: 671909,98
C26: Prix moyen (F/D) | M26: 120,74 | O26: 100,43 | U26: 107,20 | AB26: 82,00 | AG26: 106,90
C27: REVPAR (F/(A-C)) | M27: 117,48 | O27: 60,06 | U27: 54,19 | AB27: 30,93 | AG27: 64,78
C28: Rack Double | O28: 129,00 | U28: 136,05 | AB28: 123,18 | AG28: 135,70
C29: CA Théorique TTC (I) | O29: 30138,00 | U29: 654141,00 | AB29: 76086,00 | AG29: 899316,00
C30: Taux de discount ((F-I)/I*100) | O30: 224,24 % | U30: -14,20 % | AB30: -33,83 % | AG30: -25,37 %
C31: Nombre d'adultes (G) | M31: 183 | O31: 1353 | U31: 7252 | AB31: 864 | AG31: 8775
C32: dont Nombre d'enfants | M32: 2 | O32: 131 | U32: 569 | AB32: 96 | AG32: 820
C33: Indice de fréquentation (G/D) | M33: 1,27 | O33: 1,39 | U33: 1,39 | AB33: 1,41 | AG33: 1,40
C34: No Show | M34: 3 | O34: 23 | U34: 76 | AB34: 5 | AG34: 88
C35: No Show à traiter | M35: 1 | O35: 31 | U35: 110 | AB35: 9 | AG35: 128
C36: No Show Annulés | M36: 1 | O36: 4 | U36: 14 | AB36: 6 | AG36: 43
C37: PDJ vendus la veille (J-1) | M37: 90 | O37: 611 | U37: 3441 | AB37: 365 | AG37: 4178
C38: Taux de captage PDJ | M38: 55,21 % | O38: 48,15 % | U38: 48,68 % | AB38: 39,29 % | AG38: 48,05 %
E43: Synthèse Chiffre d'affaires
C45: Hébergement | M45: 17387,17 | O45: 97720,80 | U45: 561277,19 | AB45: 50349,35 | AG45: 671117,81
C46: Petits Déjeuners | M46: 1262,00 | O46: 7512,00 | U46: 39707,50 | AB46: 4451,00 | AG46: 50693,00
C47: Restauration
C49: Restaurants et Banquets
C50: Bar | M50: 79,50 | O50: 692,40 | U50: 4841,11 | AB50: 599,90 | AG50: 7800,10
C51: Mini Bar
C53: Distributeurs | M53: 15,00 | O53: 40,00 | U53: 57,40 | AB53: 15,00 | AG53: 6532,58
C54: Restauration Divers
C56: Restauration Divers
C57: En-Cas
C58: Boutique Gourmande | M58: 388,89 | O58: 3339,08 | U58: 18553,54 | AB58: 2140,19 | AG58: 12816,68
...

Sheet alimentation
A1: 41709 | H1: MOIS | I1: =+VLOOKUP(A8,J:M,4,FALSE) -> Mars
H2: JOUR | I2: =+VLOOKUP(A8,J:K,2,FALSE) -> 11
B7: Chambres louables (A-B) | C7: Prix moyen (F/D) | D7: CA Hébergement TTC (F) | E7: Boutique Gourmande | F7: Petits Déjeuners | G7: Bar | H7: ca | J7: 41640 | K7: 1 | L7: =MONTH(J7) -> 1 | M7: =+VLOOKUP(L7,$C$15:$D$26,2,FALSE) -> Janvier
A8: =Exraction!K10 -> 41709 | B8: =+VLOOKUP(B7,Exraction!$C$16:$AE$73,11,FALSE) -> 146 | C8: =+VLOOKUP(C7,Exraction!$C$16:$AE$73,11,FALSE) -> 120,74 | D8: =+VLOOKUP(D7,Exraction!$C$16:$AE$73,11,FALSE) -> 17387,17 | E8: =+VLOOKUP(E7,Exraction!$C$16:$AE$73,11,FALSE) -> 388,89 | F8: =+VLOOKUP(F7,Exraction!$C$16:$AE$73,11,FALSE) -> 1262,00 | G8: =+VLOOKUP(G7,Exraction!$C$16:$AE$73,11,FALSE) -> 79,50 | H8: =E8+F8+G8 -> 1730.39 | J8: 41641 | K8: 2 | L8: =MONTH(J8) -> 1 | M8: =+VLOOKUP(L8,$C$15:$D$26,2,FALSE) -> Janvier
J9: 41642 | K9: 3 | L9: =MONTH(J9) -> 1 | M9: =+VLOOKUP(L9,$C$15:$D$26,2,FALSE) -> Janvier
J10: 41643 | K10: 4 | L10: =MONTH(J10) -> 1 | M10: =+VLOOKUP(L10,$C$15:$D$26,2,FALSE) -> Janvier
J11: 41644 | K11: 5 | L11: =MONTH(J11) -> 1 | M11: =+VLOOKUP(L11,$C$15:$D$26,2,FALSE) -> Janvier
J12: 41645 | K12: 6 | L12: =MONTH(J12) -> 1 | M12: =+VLOOKUP(L12,$C$15:$D$26,2,FALSE) -> Janvier
J13: 41646 | K13: 7 | L13: =MONTH(J13) -> 1 | M13: =+VLOOKUP(L13,$C$15:$D$26,2,FALSE) -> Janvier
J14: 41647 | K14: 8 | L14: =MONTH(J14) -> 1 | M14: =+VLOOKUP(L14,$C$15:$D$26,2,FALSE) -> Janvier
C15: 1 | D15: Janvier | J15: 41648 | K15: 9 | L15: =MONTH(J15) -> 1 | M15: =+VLOOKUP(L15,$C$15:$D$26,2,FALSE) -> Janvier
C16: 2 | D16: Février | J16: 41649 | K16: 10 | L16: =MONTH(J16) -> 1 | M16: =+VLOOKUP(L16,$C$15:$D$26,2,FALSE) -> Janvier
C17: 3 | D17: Mars | J17: 41650 | K17: 11 | L17: =MONTH(J17) -> 1 | M17: =+VLOOKUP(L17,$C$15:$D$26,2,FALSE) -> Janvier
C18: 4 | D18: Avril | J18: 41651 | K18: 12 | L18: =MONTH(J18) -> 1 | M18: =+VLOOKUP(L18,$C$15:$D$26,2,FALSE) -> Janvier
C19: 5 | D19: Mai | J19: 41652 | K19: 13 | L19: =MONTH(J19) -> 1 | M19: =+VLOOKUP(L19,$C$15:$D$26,2,FALSE) -> Janvier
C20: 6 | D20: Juin | J20: 41653 | K20: 14 | L20: =MONTH(J20) -> 1 | M20: =+VLOOKUP(L20,$C$15:$D$26,2,FALSE) -> Janvier
C21: 7 | D21: Juillet | J21: 41654 | K21: 15 | L21: =MONTH(J21) -> 1 | M21: =+VLOOKUP(L21,$C$15:$D$26,2,FALSE) -> Janvier
C22: 8 | D22: Aout | J22: 41655 | K22: 16 | L22: =MONTH(J22) -> 1 | M22: =+VLOOKUP(L22,$C$15:$D$26,2,FALSE) -> Janvier
C23: 9 | D23: Septembre | J23: 41656 | K23: 17 | L23: =MONTH(J23) -> 1 | M23: =+VLOOKUP(L23,$C$15:$D$26,2,FALSE) -> Janvier
C24: 10 | D24: Octobre | J24: 41657 | K24: 18 | L24: =MONTH(J24) -> 1 | M24: =+VLOOKUP(L24,$C$15:$D$26,2,FALSE) -> Janvier
C25: 11 | D25: Novémbre | J25: 41658 | K25: 19 | L25: =MONTH(J25) -> 1 | M25: =+VLOOKUP(L25,$C$15:$D$26,2,FALSE) -> Janvier
C26: 12 | D26: Décembre | J26: 41659 | K26: 20 | L26: =MONTH(J26) -> 1 | M26: =+VLOOKUP(L26,$C$15:$D$26,2,FALSE) -> Janvier
J27: 41660 | K27: 21 | L27: =MONTH(J27) -> 1 | M27: =+VLOOKUP(L27,$C$15:$D$26,2,FALSE) -> Janvier
J28: 41661 | K28: 22 | L28: =MONTH(J28) -> 1 | M28: =+VLOOKUP(L28,$C$15:$D$26,2,FALSE) -> Janvier
J29: 41662 | K29: 23 | L29: =MONTH(J29) -> 1 | M29: =+VLOOKUP(L29,$C$15:$D$26,2,FALSE) -> Janvier
J30: 41663 | K30: 24 | L30: =MONTH(J30) -> 1 | M30: =+VLOOKUP(L30,$C$15:$D$26,2,FALSE) -> Janvier
J31: 41664 | K31: 25 | L31: =MONTH(J31) -> 1 | M31: =+VLOOKUP(L31,$C$15:$D$26,2,FALSE) -> Janvier
J32: 41665 | K32: 26 | L32: =MONTH(J32) -> 1 | M32: =+VLOOKUP(L32,$C$15:$D$26,2,FALSE) -> Janvier
J33: 41666 | K33: 27 | L33: =MONTH(J33) -> 1 | M33: =+VLOOKUP(L33,$C$15:$D$26,2,FALSE) -> Janvier
J34: 41667 | K34: 28 | L34: =MONTH(J34) -> 1 | M34: =+VLOOKUP(L34,$C$15:$D$26,2,FALSE) -> Janvier
J35: 41668 | K35: 29 | L35: =MONTH(J35) -> 1 | M35: =+VLOOKUP(L35,$C$15:$D$26,2,FALSE) -> Janvier
J36: 41669 | K36: 30 | L36: =MONTH(J36) -> 1 | M36: =+VLOOKUP(L36,$C$15:$D$26,2,FALSE) -> Janvier
J37: 41670 | K37: 31 | L37: =MONTH(J37) -> 1 | M37: =+VLOOKUP(L37,$C$15:$D$26,2,FALSE) -> Janvier
J38: 41671 | K38: 1 | L38: =MONTH(J38) -> 2 | M38: =+VLOOKUP(L38,$C$15:$D$26,2,FALSE) -> Février
... J371: 42004 | K371: 31 | L371: =MONTH(J371) -> 12 | M371: =+VLOOKUP(L371,$C$15:$D$26,2,FALSE) -> Décembre

Sheet Suivi
L1: x
D3: 41640 | M3: =+IF(L1="X",B6-364,D3-365) -> 41276
D4: HEBERGEMENT | G4: RESTAURATION | M4: HEBERGEMENT | P4: RESTAURATION
B5: Mois | D5: RN | E5: PM | F5: CA | G5: Btq Gmde | H5: Petit déjeuner | I5: Bar | J5: CA | K5: =+M3 -> 41276 | M5: RN | N5: PM | O5: CA | P5: Btq Gmde | Q5: Petit déjeuner | R5: Bar | S5: CA
A6: Janvier | B6: =+D3 -> 41640 | C6: =B6 -> 41640 | K6: =+L6 -> 41276 | L6: =+M3 -> 41276
B7: =+B6+1 -> 41641 | C7: =B7 -> 41641 | K7: =+L7 -> 41277 | L7: =+L6+1 -> 41277
B8: =+B7+1 -> 41642 | C8: =B8 -> 41642 | K8: =+L8 -> 41278 | L8: =+L7+1 -> 41278
B9: =+B8+1 -> 41643 | C9: =B9 -> 41643 | K9: =+L9 -> 41279 | L9: =+L8+1 -> 41279
B10: =+B9+1 -> 41644 | C10: =B10 -> 41644 | K10: =+L10 -> 41280 | L10: =+L9+1 -> 41280
B11: =+B10+1 -> 41645 | C11: =B11 -> 41645 | K11: =+L11 -> 41281 | L11: =+L10+1 -> 41281
B12: =+B11+1 -> 41646 | C12: =B12 -> 41646 | K12: =+L12 -> 41282 | L12: =+L11+1 -> 41282
B13: =+B12+1 -> 41647 | C13: =B13 -> 41647 | K13: =+L13 -> 41283 | L13: =+L12+1 -> 41283
B14: =+B13+1 -> 41648 | C14: =B14 -> 41648 | K14: =+L14 -> 41284 | L14: =+L13+1 -> 41284
B15: =+B14+1 -> 41649 | C15: =B15 -> 41649 | K15: =+L15 -> 41285 | L15: =+L14+1 -> 41285
B16: =+B15+1 -> 41650 | C16: =B16 -> 41650 | K16: =+L16 -> 41286 | L16: =+L15+1 -> 41286
B17: =+B16+1 -> 41651 | C17: =B17 -> 41651 | K17: =+L17 -> 41287 | L17: =+L16+1 -> 41287
B18: =+B17+1 -> 41652 | C18: =B18 -> 41652 | K18: =+L18 -> 41288 | L18: =+L17+1 -> 41288
... B36: =+B35+1 -> 41670 | C36: =B36 -> 41670 | K36: =+L36 -> 41306 | L36: =+L35+1 -> 41306
A37: Février | B37: =+B36+1 -> 41671 | C37: =B37 -> 41671 | K37: =+L37 -> 41307 | L37: =+L36+1 -> 41307
B38: =+B37+1 -> 41672 | C38: =B38 -> 41672 | K38: =+L38 -> 41308 | L38: =+L37+1 -> 41308
B39: =+B38+1 -> 41673 | C39: =B39 -> 41673 | K39: =+L39 -> 41309 | L39: =+L38+1 -> 41309
B40: =+B39+1 -> 41674 | C40: =B40 -> 41674 | K40: =+L40 -> 41310 | L40: =+L39+1 -> 41310
B41: =+B40+1 -> 41675 | C41: =B41 -> 41675 | K41: =+L41 -> 41311 | L41: =+L40+1 -> 41311
B42: =+B41+1 -> 41676 | C42: =B42 -> 41676 | K42: =+L42 -> 41312 | L42: =+L41+1 -> 41312
B43: =+B42+1 -> 41677 | C43: =B43 -> 41677 | K43: =+L43 -> 41313 | L43: =+L42+1 -> 41313
B44: =+B43+1 -> 41678 | C44: =B44 -> 41678 | K44: =+L44 -> 41314 | L44: =+L43+1 -> 41314
B45: =+B44+1 -> 41679 | C45: =B45 -> 41679 | K45: =+L45 -> 41315 | L45: =+L44+1 -> 41315
B46: =+B45+1 -> 41680 | C46: =B46 -> 41680 | K46: =+L46 -> 41316 | L46: =+L45+1 -> 41316
B47: =+B46+1 -> 41681 | C47: =B47 -> 41681 | K47: =+L47 -> 41317 | L47: =+L46+1 -> 41317
B48: =+B47+1 -> 41682 | C48: =B48 -> 41682 | K48: =+L48 -> 41318 | L48: =+L47+1 -> 41318
B49: =+B48+1 -> 41683 | C49: =B49 -> 41683 | K49: =+L49 -> 41319 | L49: =+L48+1 -> 41319
... B64: =+B63+1 -> 41698 | C64: =B64 -> 41698 | K64: =+L64 -> 41334 | L64: =+L63+1 -> 41334
A65: Mars | B65: =+B64+1 -> 41699 | C65: =B65 -> 41699 | K65: =+L65 -> 41335 | L65: =+L64+1 -> 41335
B66: =+B65+1 -> 41700 | C66: =B66 -> 41700 | K66: =+L66 -> 41336 | L66: =+L65+1 -> 41336
B67: =+B66+1 -> 41701 | C67: =B67 -> 41701 | K67: =+L67 -> 41337 | L67: =+L66+1 -> 41337
B68: =+B67+1 -> 41702 | C68: =B68 -> 41702 | K68: =+L68 -> 41338 | L68: =+L67+1 -> 41338
B69: =+B68+1 -> 41703 | C69: =B69 -> 41703 | K69: =+L69 -> 41339 | L69: =+L68+1 -> 41339
B70: =+B69+1 -> 41704 | C70: =B70 -> 41704 | K70: =+L70 -> 41340 | L70: =+L69+1 -> 41340
B71: =+B70+1 -> 41705 | C71: =B71 -> 41705 | K71: =+L71 -> 41341 | L71: =+L70+1 -> 41341
B72: =+B71+1 -> 41706 | C72: =B72 -> 41706 | K72: =+L72 -> 41342 | L72: =+L71+1 -> 41342
...
