Workbook

Sheet Depenses
C1: Dépense
A2: Matricule | B2: Nom | C2: Prénom | D2: 2010 | E2: 2011 | F2: 2012 | G2: 2013 | H2: 2014
A3: 4948 | B3: =VLOOKUP(A3,DATA!$A$1:$C$7,2,0) -> Duval | C3: =VLOOKUP(A3,DATA!$A$1:$C$7,3,0) -> Franck | D3: =VLOOKUP($A3,DATA!$A$12:$F$17,2,0) -> 3000 | E3: =VLOOKUP($A3,DATA!$A$12:$F$17,3,0) -> 4000 | F3: =VLOOKUP($A3,DATA!$A$12:$F$17,4,0) -> 5000 | G3: =VLOOKUP($A3,DATA!$A$12:$F$17,5,0) -> 6000 | H3: =VLOOKUP($A3,DATA!$A$12:$F$17,6,0) -> 7000
A4: 4949 | B4: =VLOOKUP(A4,DATA!$A$1:$C$7,2,0) -> Dupont | C4: =VLOOKUP(A4,DATA!$A$1:$C$7,3,0) -> Francis | D4: =VLOOKUP($A4,DATA!$A$12:$F$17,2,0) -> 1500 | E4: =VLOOKUP($A4,DATA!$A$12:$F$17,3,0) -> 2000 | F4: =VLOOKUP($A4,DATA!$A$12:$F$17,4,0) -> 2500 | G4: =VLOOKUP($A4,DATA!$A$12:$F$17,5,0) -> 3000 | H4: =VLOOKUP($A4,DATA!$A$12:$F$17,6,0) -> 3500
A5: 4950 | B5: =VLOOKUP(A5,DATA!$A$1:$C$7,2,0) -> Durand | C5: =VLOOKUP(A5,DATA!$A$1:$C$7,3,0) -> Paul | D5: =VLOOKUP($A5,DATA!$A$12:$F$17,2,0) -> 3000 | E5: =VLOOKUP($A5,DATA!$A$12:$F$17,3,0) -> 4000 | F5: =VLOOKUP($A5,DATA!$A$12:$F$17,4,0) -> 5000 | G5: =VLOOKUP($A5,DATA!$A$12:$F$17,5,0) -> 6000 | H5: =VLOOKUP($A5,DATA!$A$12:$F$17,6,0) -> 7000 | J5: L'idée est que sur cet onglet, toutes les formules RechercheV sont écraser par une valeur
A6: 4951 | B6: =VLOOKUP(A6,DATA!$A$1:$C$7,2,0) -> Bernard | C6: =VLOOKUP(A6,DATA!$A$1:$C$7,3,0) -> Jacques | D6: =VLOOKUP($A6,DATA!$A$12:$F$17,2,0) -> 3000 | E6: =VLOOKUP($A6,DATA!$A$12:$F$17,3,0) -> 4000 | F6: =VLOOKUP($A6,DATA!$A$12:$F$17,4,0) -> 5000 | G6: =VLOOKUP($A6,DATA!$A$12:$F$17,5,0) -> 6000 | H6: =VLOOKUP($A6,DATA!$A$12:$F$17,6,0) -> 7000 | J6: La macro doit regarder sur toute la feuille "dépenses" et remplacer la formule par la valeur
A7: 4952 | B7: =VLOOKUP(A7,DATA!$A$1:$C$7,2,0) -> Martin | C7: =VLOOKUP(A7,DATA!$A$1:$C$7,3,0) -> Olivier | D7: =VLOOKUP($A7,DATA!$A$12:$F$17,2,0) -> 1500 | E7: =VLOOKUP($A7,DATA!$A$12:$F$17,3,0) -> 2000 | F7: =VLOOKUP($A7,DATA!$A$12:$F$17,4,0) -> 2500 | G7: =VLOOKUP($A7,DATA!$A$12:$F$17,5,0) -> 3000 | H7: =VLOOKUP($A7,DATA!$A$12:$F$17,6,0) -> 3500
A8: 4953 | B8: =VLOOKUP(A8,DATA!$A$1:$C$7,2,0) -> Monts | C8: =VLOOKUP(A8,DATA!$A$1:$C$7,3,0) -> Francis | D8: =VLOOKUP($A8,DATA!$A$12:$F$17,2,0) -> 3000 | E8: =VLOOKUP($A8,DATA!$A$12:$F$17,3,0) -> 4000 | F8: =VLOOKUP($A8,DATA!$A$12:$F$17,4,0) -> 5000 | G8: =VLOOKUP($A8,DATA!$A$12:$F$17,5,0) -> 6000 | H8: =VLOOKUP($A8,DATA!$A$12:$F$17,6,0) -> 7000
C9: TOTAL | D9: =SUM(D3:D8) -> 15000 | E9: =SUM(E3:E8) -> 20000 | F9: =SUM(F3:F8) -> 25000 | G9: =SUM(G3:G8) -> 30000 | H9: =SUM(H3:H8) -> 35000
C10: MOYENNE | D10: =AVERAGE(D3:D8) -> 2500 | E10: =AVERAGE(E3:E8) -> 3333.3333 | F10: =AVERAGE(F3:F8) -> 4166.6667 | G10: =AVERAGE(G3:G8) -> 5000 | H10: =AVERAGE(H3:H8) -> 5833.3333

Sheet DATA
A1: Matricule | B1: Nom | C1: Prénom
A2: 4948 | B2: Duval | C2: Franck
A3: 4949 | B3: Dupont | C3: Francis
A4: 4950 | B4: Durand | C4: Paul
A5: 4951 | B5: Bernard | C5: Jacques
A6: 4952 | B6: Martin | C6: Olivier
A7: 4953 | B7: Monts | C7: Francis
A11: dépenses | B11: 2010 | C11: 2011 | D11: 2012 | E11: 2013 | F11: 2014
A12: 4948 | B12: 3000 | C12: 4000 | D12: 5000 | E12: 6000 | F12: 7000
A13: 4949 | B13: 1500 | C13: 2000 | D13: 2500 | E13: 3000 | F13: 3500
A14: 4950 | B14: 3000 | C14: 4000 | D14: 5000 | E14: 6000 | F14: 7000
A15: 4951 | B15: 3000 | C15: 4000 | D15: 5000 | E15: 6000 | F15: 7000
A16: 4952 | B16: 1500 | C16: 2000 | D16: 2500 | E16: 3000 | F16: 3500
A17: 4953 | B17: 3000 | C17: 4000 | D17: 5000 | E17: 6000 | F17: 7000

Sheet Sheet3
