Workbook

Sheet tableau
B6: GROUPE A | F6: pts | I6: GROUPE B | M6: pts
A7: =IF(OR(C7="",D7=""),"",IF(C7>D7,"V",IF(C7<D7,"P","N"))) | B7: PSG | E7: Malmo FF | F7: =IF(A7="","",IF('feuille référence'!A5="","",IF(A7='feuille référence'!A5,1,0)+IF(AND(tableau!C7='feuille référence'!C5,tableau!D7='feuille référence'!D5),1,0))) | H7: =IF(OR(J7="",K7=""),"",IF(J7>K7,"V",IF(J7<K7,"P","N"))) | I7: PSV Eindhoven | L7: Manchester United | M7: =IF(H7="","",IF('feuille référence'!G5="","",IF(H7='feuille référence'!G5,1,0)+IF(AND(tableau!J7='feuille référence'!I5,tableau!K7='feuille référence'!J5),1,0)))
A8: =IF(OR(C8="",D8=""),"",IF(C8>D8,"V",IF(C8<D8,"P","N"))) | B8: Real Madrid | E8: Chaktior Donetsk | F8: =IF(A8="","",IF('feuille référence'!A6="","",IF(A8='feuille référence'!A6,1,0)+IF(AND(tableau!C8='feuille référence'!C6,tableau!D8='feuille référence'!D6),1,0))) | H8: =IF(OR(J8="",K8=""),"",IF(J8>K8,"V",IF(J8<K8,"P","N"))) | I8: Vfl Wolfsburg | L8: CSKA Moscou
A9: =IF(OR(C9="",D9=""),"",IF(C9>D9,"V",IF(C9<D9,"P","N"))) | B9: Chaktior Donetsk | E9: PSG | F9: =IF(A9="","",IF('feuille référence'!A7="","",IF(A9='feuille référence'!A7,1,0)+IF(AND(tableau!C9='feuille référence'!C7,tableau!D9='feuille référence'!D7),1,0))) | H9: =IF(OR(J9="",K9=""),"",IF(J9>K9,"V",IF(J9<K9,"P","N"))) | I9: Manchester United | L9: Vfl Wolfsburg
A10: =IF(OR(C10="",D10=""),"",IF(C10>D10,"V",IF(C10<D10,"P","N"))) | B10: Malmo FF | E10: Real Madrid | F10: =IF(A10="","",IF('feuille référence'!A8="","",IF(A10='feuille référence'!A8,1,0)+IF(AND(tableau!C10='feuille référence'!C8,tableau!D10='feuille référence'!D8),1,0))) | H10: =IF(OR(J10="",K10=""),"",IF(J10>K10,"V",IF(J10<K10,"P","N"))) | I10: CSKA Moscou | L10: PSV Eindhoven
A11: =IF(OR(C11="",D11=""),"",IF(C11>D11,"V",IF(C11<D11,"P","N"))) | B11: PSG | E11: Real Madrid | F11: =IF(A11="","",IF('feuille référence'!A9="","",IF(A11='feuille référence'!A9,1,0)+IF(AND(tableau!C11='feuille référence'!C9,tableau!D11='feuille référence'!D9),1,0))) | H11: =IF(OR(J11="",K11=""),"",IF(J11>K11,"V",IF(J11<K11,"P","N"))) | I11: CSKA Moscou | L11: Manchester United
A12: =IF(OR(C12="",D12=""),"",IF(C12>D12,"V",IF(C12<D12,"P","N"))) | B12: Malmo FF | E12: Chaktior Donetsk | F12: =IF(A12="","",IF('feuille référence'!A10="","",IF(A12='feuille référence'!A10,1,0)+IF(AND(tableau!C12='feuille référence'!C10,tableau!D12='feuille référence'!D10),1,0))) | H12: =IF(OR(J12="",K12=""),"",IF(J12>K12,"V",IF(J12<K12,"P","N"))) | I12: Vfl Wolfsburg | L12: PSV Eindhoven
A13: =IF(OR(C13="",D13=""),"",IF(C13>D13,"V",IF(C13<D13,"P","N"))) | B13: Real Madrid | E13: PSG | F13: =IF(A13="","",IF('feuille référence'!A11="","",IF(A13='feuille référence'!A11,1,0)+IF(AND(tableau!C13='feuille référence'!C11,tableau!D13='feuille référence'!D11),1,0))) | H13: =IF(OR(J13="",K13=""),"",IF(J13>K13,"V",IF(J13<K13,"P","N"))) | I13: PSV Eindhoven | L13: Vfl Wolfsburg
A14: =IF(OR(C14="",D14=""),"",IF(C14>D14,"V",IF(C14<D14,"P","N"))) | B14: Chaktior Donetsk | E14: Malmo FF | F14: =IF(A14="","",IF('feuille référence'!A12="","",IF(A14='feuille référence'!A12,1,0)+IF(AND(tableau!C14='feuille référence'!C12,tableau!D14='feuille référence'!D12),1,0))) | H14: =IF(OR(J14="",K14=""),"",IF(J14>K14,"V",IF(J14<K14,"P","N"))) | I14: Manchester United | L14: CSKA Moscou
A15: =IF(OR(C15="",D15=""),"",IF(C15>D15,"V",IF(C15<D15,"P","N"))) | B15: Malmo FF | E15: PSG | F15: =IF(A15="","",IF('feuille référence'!A13="","",IF(A15='feuille référence'!A13,1,0)+IF(AND(tableau!C15='feuille référence'!C13,tableau!D15='feuille référence'!D13),1,0))) | H15: =IF(OR(J15="",K15=""),"",IF(J15>K15,"V",IF(J15<K15,"P","N"))) | I15: CSKA Moscou | L15: Vfl Wolfsburg
A16: =IF(OR(C16="",D16=""),"",IF(C16>D16,"V",IF(C16<D16,"P","N"))) | B16: Chaktior Donetsk | E16: Real Madrid | F16: =IF(A16="","",IF('feuille référence'!A14="","",IF(A16='feuille référence'!A14,1,0)+IF(AND(tableau!C16='feuille référence'!C14,tableau!D16='feuille référence'!D14),1,0))) | H16: =IF(OR(J16="",K16=""),"",IF(J16>K16,"V",IF(J16<K16,"P","N"))) | I16: Manchester United | L16: PSV Eindhoven
A17: =IF(OR(C17="",D17=""),"",IF(C17>D17,"V",IF(C17<D17,"P","N"))) | B17: Real Madrid | E17: Malmo FF | F17: =IF(A17="","",IF('feuille référence'!A15="","",IF(A17='feuille référence'!A15,1,0)+IF(AND(tableau!C17='feuille référence'!C15,tableau!D17='feuille référence'!D15),1,0))) | H17: =IF(OR(J17="",K17=""),"",IF(J17>K17,"V",IF(J17<K17,"P","N"))) | I17: Vfl Wolfsburg | L17: Manchester United
A18: =IF(OR(C18="",D18=""),"",IF(C18>D18,"V",IF(C18<D18,"P","N"))) | B18: PSG | E18: Chaktior Donetsk | F18: =IF(A18="","",IF('feuille référence'!A16="","",IF(A18='feuille référence'!A16,1,0)+IF(AND(tableau!C18='feuille référence'!C16,tableau!D18='feuille référence'!D16),1,0))) | H18: =IF(OR(J18="",K18=""),"",IF(J18>K18,"V",IF(J18<K18,"P","N"))) | I18: PSV Eindhoven | L18: CSKA Moscou
E19: TOTAL | F19: =IFERROR(SUM(F7:F18)+F21,0) -> 0 | L19: TOTAL | M19: =IFERROR(SUM(M7:M18)+M21,0) -> 0
B21: EQUIPES Qualifiées Gr A | F21: =IF(OR(E21="",E22=""),"",IF(OR(E21&E22='feuille référence'!E19&'feuille référence'!E20,E21&E22='feuille référence'!E20&'feuille référence'!E19),1,0)) | I21: EQUIPES Qualifiées Gr B | M21: =IF(OR(L21="",L22=""),"",IF(OR(L21&L22='feuille référence'!K19&'feuille référence'!K20,L21&L22='feuille référence'!K20&'feuille référence'!K19),1,0))
B24: GROUPE C | F24: pts | I24: GROUPE D | M24: pts
A25: =IF(OR(C25="",D25=""),"",IF(C25>D25,"V",IF(C25<D25,"P","N"))) | B25: Galatasaray | E25: Atlético Madrid | F25: =IF(A25="","",IF('feuille référence'!A23="","",IF(A25='feuille référence'!A23,1,0)+IF(AND(tableau!C25='feuille référence'!C23,tableau!D25='feuille référence'!D23),1,0))) | H25: =IF(OR(J25="",K25=""),"",IF(J25>K25,"V",IF(J25<K25,"P","N"))) | I25: Manchester City | L25: Juventus Turin | M25: =IF(H25="","",IF('feuille référence'!G23="","",IF(H25='feuille référence'!G23,1,0)+IF(AND(tableau!J25='feuille référence'!I23,tableau!K25='feuille référence'!J23),1,0)))
A26: =IF(OR(C26="",D26=""),"",IF(C26>D26,"V",IF(C26<D26,"P","N"))) | B26: Benfica | E26: FC Astana | F26: =IF(A26="","",IF('feuille référence'!A24="","",IF(A26='feuille référence'!A24,1,0)+IF(AND(tableau!C26='feuille référence'!C24,tableau!D26='feuille référence'!D24),1,0))) | H26: =IF(OR(J26="",K26=""),"",IF(J26>K26,"V",IF(J26<K26,"P","N"))) | I26: Séville FC | L26: Borussia M'Gladbach
A27: =IF(OR(C27="",D27=""),"",IF(C27>D27,"V",IF(C27<D27,"P","N"))) | B27: FC Astana | E27: Galatasaray | F27: =IF(A27="","",IF('feuille référence'!A25="","",IF(A27='feuille référence'!A25,1,0)+IF(AND(tableau!C27='feuille référence'!C25,tableau!D27='feuille référence'!D25),1,0))) | H27: =IF(OR(J27="",K27=""),"",IF(J27>K27,"V",IF(J27<K27,"P","N"))) | I27: Juventus Turin | L27: Séville FC
A28: =IF(OR(C28="",D28=""),"",IF(C28>D28,"V",IF(C28<D28,"P","N"))) | B28: Atlético Madrid | E28: Benfica | F28: =IF(A28="","",IF('feuille référence'!A26="","",IF(A28='feuille référence'!A26,1,0)+IF(AND(tableau!C28='feuille référence'!C26,tableau!D28='feuille référence'!D26),1,0))) | H28: =IF(OR(J28="",K28=""),"",IF(J28>K28,"V",IF(J28<K28,"P","N"))) | I28: Borussia M'Gladbach | L28: Manchester City
A29: =IF(OR(C29="",D29=""),"",IF(C29>D29,"V",IF(C29<D29,"P","N"))) | B29: Galatasaray | E29: Benfica | F29: =IF(A29="","",IF('feuille référence'!A27="","",IF(A29='feuille référence'!A27,1,0)+IF(AND(tableau!C29='feuille référence'!C27,tableau!D29='feuille référence'!D27),1,0))) | H29: =IF(OR(J29="",K29=""),"",IF(J29>K29,"V",IF(J29<K29,"P","N"))) | I29: Juventus Turin | L29: Borussia M'Gladbach
A30: =IF(OR(C30="",D30=""),"",IF(C30>D30,"V",IF(C30<D30,"P","N"))) | B30: Atlético Madrid | E30: FC Astana | F30: =IF(A30="","",IF('feuille référence'!A28="","",IF(A30='feuille référence'!A28,1,0)+IF(AND(tableau!C30='feuille référence'!C28,tableau!D30='feuille référence'!D28),1,0))) | H30: =IF(OR(J30="",K30=""),"",IF(J30>K30,"V",IF(J30<K30,"P","N"))) | I30: Manchester City | L30: Séville FC
A31: =IF(OR(C31="",D31=""),"",IF(C31>D31,"V",IF(C31<D31,"P","N"))) | B31: FC Astana | E31: Atlético Madrid | F31: =IF(A31="","",IF('feuille référence'!A29="","",IF(A31='feuille référence'!A29,1,0)+IF(AND(tableau!C31='feuille référence'!C29,tableau!D31='feuille référence'!D29),1,0))) | H31: =IF(OR(J31="",K31=""),"",IF(J31>K31,"V",IF(J31<K31,"P","N"))) | I31: Borussia M'Gladbach | L31: Juventus Turin
A32: =IF(OR(C32="",D32=""),"",IF(C32>D32,"V",IF(C32<D32,"P","N"))) | B32: Benfica | E32: Galatasaray | F32: =IF(A32="","",IF('feuille référence'!A30="","",IF(A32='feuille référence'!A30,1,0)+IF(AND(tableau!C32='feuille référence'!C30,tableau!D32='feuille référence'!D30),1,0))) | H32: =IF(OR(J32="",K32=""),"",IF(J32>K32,"V",IF(J32<K32,"P","N"))) | I32: Séville FC | L32: Manchester City
A33: =IF(OR(C33="",D33=""),"",IF(C33>D33,"V",IF(C33<D33,"P","N"))) | B33: Atlético Madrid | E33: Galatasaray | F33: =IF(A33="","",IF('feuille référence'!A31="","",IF(A33='feuille référence'!A31,1,0)+IF(AND(tableau!C33='feuille référence'!C31,tableau!D33='feuille référence'!D31),1,0))) | H33: =IF(OR(J33="",K33=""),"",IF(J33>K33,"V",IF(J33<K33,"P","N"))) | I33: Borussia M'Gladbach | L33: Séville FC
A34: =IF(OR(C34="",D34=""),"",IF(C34>D34,"V",IF(C34<D34,"P","N"))) | B34: FC Astana | E34: Benfica | F34: =IF(A34="","",IF('feuille référence'!A32="","",IF(A34='feuille référence'!A32,1,0)+IF(AND(tableau!C34='feuille référence'!C32,tableau!D34='feuille référence'!D32),1,0))) | H34: =IF(OR(J34="",K34=""),"",IF(J34>K34,"V",IF(J34<K34,"P","N"))) | I34: Juventus Turin | L34: Manchester City
A35: =IF(OR(C35="",D35=""),"",IF(C35>D35,"V",IF(C35<D35,"P","N"))) | B35: Benfica | E35: Atlético Madrid | F35: =IF(A35="","",IF('feuille référence'!A33="","",IF(A35='feuille référence'!A33,1,0)+IF(AND(tableau!C35='feuille référence'!C33,tableau!D35='feuille référence'!D33),1,0))) | H35: =IF(OR(J35="",K35=""),"",IF(J35>K35,"V",IF(J35<K35,"P","N"))) | I35: Séville FC | L35: Juventus Turin
A36: =IF(OR(C36="",D36=""),"",IF(C36>D36,"V",IF(C36<D36,"P","N"))) | B36: Galatasaray | E36: FC Astana | F36: =IF(A36="","",IF('feuille référence'!A34="","",IF(A36='feuille référence'!A34,1,0)+IF(AND(tableau!C36='feuille référence'!C34,tableau!D36='feuille référence'!D34),1,0))) | H36: =IF(OR(J36="",K36=""),"",IF(J36>K36,"V",IF(J36<K36,"P","N"))) | I36: Manchester City | L36: Borussia M'Gladbach
E37: TOTAL | F37: =IFERROR(SUM(F25:F36)+F39,0) -> 0 | L37: TOTAL | M37: =IFERROR(SUM(M25:M36)+M39,0) -> 0
B39: EQUIPES Qualifiées Gr C | F39: =IF(OR(E39="",E40=""),"",IF(OR(E39&E40='feuille référence'!E37&'feuille référence'!E38,E39&E40='feuille référence'!E38&'feuille référence'!E37),1,0)) | I39: EQUIPES Qualifiées Gr D | M39: =IF(OR(L39="",L40=""),"",IF(OR(L39&L40='feuille référence'!K37&'feuille référence'!K38,L39&L40='feuille référence'!K38&'feuille référence'!K37),1,0))
B42: GROUPE E | F42: pts | I42: GROUPE F | M42: pts
A43: =IF(OR(C43="",D43=""),"",IF(C43>D43,"V",IF(C43<D43,"P","N"))) | B43: AS Roma | E43: FC Barcelone | F43: =IF(A43="","",IF('feuille référence'!A41="","",IF(A43='feuille référence'!A41,1,0)+IF(AND(tableau!C43='feuille référence'!C41,tableau!D43='feuille référence'!D41),1,0))) | H43: =IF(OR(J43="",K43=""),"",IF(J43>K43,"V",IF(J43<K43,"P","N"))) | I43: Olympiakos | L43: Bayern Munich | M43: =IF(H43="","",IF('feuille référence'!G41="","",IF(H43='feuille référence'!G41,1,0)+IF(AND(tableau!J43='feuille référence'!I41,tableau!K43='feuille référence'!J41),1,0)))
A44: =IF(OR(C44="",D44=""),"",IF(C44>D44,"V",IF(C44<D44,"P","N"))) | B44: Bayer Leverkusen | E44: BATE Borisov | F44: =IF(A44="","",IF('feuille référence'!A42="","",IF(A44='feuille référence'!A42,1,0)+IF(AND(tableau!C44='feuille référence'!C42,tableau!D44='feuille référence'!D42),1,0))) | H44: =IF(OR(J44="",K44=""),"",IF(J44>K44,"V",IF(J44<K44,"P","N"))) | I44: Dinamo Zagreb | L44: Arsenal
A45: =IF(OR(C45="",D45=""),"",IF(C45>D45,"V",IF(C45<D45,"P","N"))) | B45: FC Barcelone | E45: Bayer Leverkusen | F45: =IF(A45="","",IF('feuille référence'!A43="","",IF(A45='feuille référence'!A43,1,0)+IF(AND(tableau!C45='feuille référence'!C43,tableau!D45='feuille référence'!D43),1,0))) | H45: =IF(OR(J45="",K45=""),"",IF(J45>K45,"V",IF(J45<K45,"P","N"))) | I45: Bayern Munich | L45: Dinamo Zagreb
A46: =IF(OR(C46="",D46=""),"",IF(C46>D46,"V",IF(C46<D46,"P","N"))) | B46: BATE Borisov | E46: AS Roma | F46: =IF(A46="","",IF('feuille référence'!A44="","",IF(A46='feuille référence'!A44,1,0)+IF(AND(tableau!C46='feuille référence'!C44,tableau!D46='feuille référence'!D44),1,0))) | H46: =IF(OR(J46="",K46=""),"",IF(J46>K46,"V",IF(J46<K46,"P","N"))) | I46: Arsenal | L46: Olympiakos
A47: =IF(OR(C47="",D47=""),"",IF(C47>D47,"V",IF(C47<D47,"P","N"))) | B47: BATE Borisov | E47: FC Barcelone | F47: =IF(A47="","",IF('feuille référence'!A45="","",IF(A47='feuille référence'!A45,1,0)+IF(AND(tableau!C47='feuille référence'!C45,tableau!D47='feuille référence'!D45),1,0))) | H47: =IF(OR(J47="",K47=""),"",IF(J47>K47,"V",IF(J47<K47,"P","N"))) | I47: Arsenal | L47: Bayern Munich
A48: =IF(OR(C48="",D48=""),"",IF(C48>D48,"V",IF(C48<D48,"P","N"))) | B48: Bayer Leverkusen | E48: AS Roma | F48: =IF(A48="","",IF('feuille référence'!A46="","",IF(A48='feuille référence'!A46,1,0)+IF(AND(tableau!C48='feuille référence'!C46,tableau!D48='feuille référence'!D46),1,0))) | H48: =IF(OR(J48="",K48=""),"",IF(J48>K48,"V",IF(J48<K48,"P","N"))) | I48: Dinamo Zagreb | L48: Olympiakos
A49: =IF(OR(C49="",D49=""),"",IF(C49>D49,"V",IF(C49<D49,"P","N"))) | B49: AS Roma | E49: Bayer Leverkusen | F49: =IF(A49="","",IF('feuille référence'!A47="","",IF(A49='feuille référence'!A47,1,0)+IF(AND(tableau!C49='feuille référence'!C47,tableau!D49='feuille référence'!D47),1,0))) | H49: =IF(OR(J49="",K49=""),"",IF(J49>K49,"V",IF(J49<K49,"P","N"))) | I49: Bayern Munich | L49: Arsenal
A50: =IF(OR(C50="",D50=""),"",IF(C50>D50,"V",IF(C50<D50,"P","N"))) | B50: FC Barcelone | E50: BATE Borisov | F50: =IF(A50="","",IF('feuille référence'!A48="","",IF(A50='feuille référence'!A48,1,0)+IF(AND(tableau!C50='feuille référence'!C48,tableau!D50='feuille référence'!D48),1,0))) | H50: =IF(OR(J50="",K50=""),"",IF(J50>K50,"V",IF(J50<K50,"P","N"))) | I50: Olympiakos | L50: Dinamo Zagreb
A51: =IF(OR(C51="",D51=""),"",IF(C51>D51,"V",IF(C51<D51,"P","N"))) | B51: BATE Borisov | E51: Bayer Leverkusen | F51: =IF(A51="","",IF('feuille référence'!A49="","",IF(A51='feuille référence'!A49,1,0)+IF(AND(tableau!C51='feuille référence'!C49,tableau!D51='feuille référence'!D49),1,0))) | H51: =IF(OR(J51="",K51=""),"",IF(J51>K51,"V",IF(J51<K51,"P","N"))) | I51: Arsenal | L51: Dinamo Zagreb
A52: =IF(OR(C52="",D52=""),"",IF(C52>D52,"V",IF(C52<D52,"P","N"))) | B52: FC Barcelone | E52: AS Roma | F52: =IF(A52="","",IF('feuille référence'!A50="","",IF(A52='feuille référence'!A50,1,0)+IF(AND(tableau!C52='feuille référence'!C50,tableau!D52='feuille référence'!D50),1,0))) | H52: =IF(OR(J52="",K52=""),"",IF(J52>K52,"V",IF(J52<K52,"P","N"))) | I52: Bayern Munich | L52: Olympiakos
A53: =IF(OR(C53="",D53=""),"",IF(C53>D53,"V",IF(C53<D53,"P","N"))) | B53: Bayer Leverkusen | E53: FC Barcelone | F53: =IF(A53="","",IF('feuille référence'!A51="","",IF(A53='feuille référence'!A51,1,0)+IF(AND(tableau!C53='feuille référence'!C51,tableau!D53='feuille référence'!D51),1,0))) | H53: =IF(OR(J53="",K53=""),"",IF(J53>K53,"V",IF(J53<K53,"P","N"))) | I53: Dinamo Zagreb | L53: Bayern Munich
A54: =IF(OR(C54="",D54=""),"",IF(C54>D54,"V",IF(C54<D54,"P","N"))) | B54: AS Roma | E54: BATE Borisov | F54: =IF(A54="","",IF('feuille référence'!A52="","",IF(A54='feuille référence'!A52,1,0)+IF(AND(tableau!C54='feuille référence'!C52,tableau!D54='feuille référence'!D52),1,0))) | H54: =IF(OR(J54="",K54=""),"",IF(J54>K54,"V",IF(J54<K54,"P","N"))) | I54: Olympiakos | L54: Arsenal
E55: TOTAL | F55: =IFERROR(SUM(F43:F54)+F57,0) -> 0 | L55: TOTAL | M55: =IFERROR(SUM(M43:M54)+M57,0) -> 0
B57: EQUIPES Qualifiées Gr E | F57: =IF(OR(E57="",E58=""),"",IF(OR(E57&E58='feuille référence'!E55&'feuille référence'!E56,E57&E58='feuille référence'!E56&'feuille référence'!E55),1,0)) | I57: EQUIPES Qualifiées Gr F | M57: =IF(OR(L57="",L58=""),"",IF(OR(L57&L58='feuille référence'!K55&'feuille référence'!K56,L57&L58='feuille référence'!K56&'feuille référence'!K55),1,0))
F58: =IFERROR(IF(OR(E58&E59='feuille référence'!E56&'feuille référence'!E57,E58&E59='feuille référence'!E57&'feuille référence'!E56),1,0),"") -> 1
B60: GROUPE G | F60: pts | I60: GROUPE H | M60: pts
A61: =IF(OR(C61="",D61=""),"",IF(C61>D61,"V",IF(C61<D61,"P","N"))) | B61: Dynamo Kiev | E61: FC Porto | F61: =IF(A61="","",IF('feuille référence'!A59="","",IF(A61='feuille référence'!A59,1,0)+IF(AND(tableau!C61='feuille référence'!C59,tableau!D61='feuille référence'!D59),1,0))) | H61: =IF(OR(J61="",K61=""),"",IF(J61>K61,"V",IF(J61<K61,"P","N"))) | I61: La Gantoise | L61: Lyon | M61: =IF(H61="","",IF('feuille référence'!G59="","",IF(H61='feuille référence'!G59,1,0)+IF(AND(tableau!J61='feuille référence'!I59,tableau!K61='feuille référence'!J59),1,0)))
A62: =IF(OR(C62="",D62=""),"",IF(C62>D62,"V",IF(C62<D62,"P","N"))) | B62: Chelsea | E62: Maccabi Tel-Aviv | F62: =IF(A62="","",IF('feuille référence'!A60="","",IF(A62='feuille référence'!A60,1,0)+IF(AND(tableau!C62='feuille référence'!C60,tableau!D62='feuille référence'!D60),1,0))) | H62: =IF(OR(J62="",K62=""),"",IF(J62>K62,"V",IF(J62<K62,"P","N"))) | I62: Valence CF | L62: Zenith Saint-Pétersbourg
A63: =IF(OR(C63="",D63=""),"",IF(C63>D63,"V",IF(C63<D63,"P","N"))) | B63: FC Porto | E63: Chelsea | F63: =IF(A63="","",IF('feuille référence'!A61="","",IF(A63='feuille référence'!A61,1,0)+IF(AND(tableau!C63='feuille référence'!C61,tableau!D63='feuille référence'!D61),1,0))) | H63: =IF(OR(J63="",K63=""),"",IF(J63>K63,"V",IF(J63<K63,"P","N"))) | I63: Lyon | L63: Valence CF
A64: =IF(OR(C64="",D64=""),"",IF(C64>D64,"V",IF(C64<D64,"P","N"))) | B64: Maccabi Tel-Aviv | E64: Dynamo Kiev | F64: =IF(A64="","",IF('feuille référence'!A62="","",IF(A64='feuille référence'!A62,1,0)+IF(AND(tableau!C64='feuille référence'!C62,tableau!D64='feuille référence'!D62),1,0))) | H64: =IF(OR(J64="",K64=""),"",IF(J64>K64,"V",IF(J64<K64,"P","N"))) | I64: Zénith Saint-Pétersbourg | L64: La Gantoise
A65: =IF(OR(C65="",D65=""),"",IF(C65>D65,"V",IF(C65<D65,"P","N"))) | B65: Dynamo Kiev | E65: Chelsea | F65: =IF(A65="","",IF('feuille référence'!A63="","",IF(A65='feuille référence'!A63,1,0)+IF(AND(tableau!C65='feuille référence'!C63,tableau!D65='feuille référence'!D63),1,0))) | H65: =IF(OR(J65="",K65=""),"",IF(J65>K65,"V",IF(J65<K65,"P","N"))) | I65: Zénith Saint-Pétersbourg | L65: Lyon
A66: =IF(OR(C66="",D66=""),"",IF(C66>D66,"V",IF(C66<D66,"P","N"))) | B66: FC Porto | E66: Maccabi Tel-Aviv | F66: =IF(A66="","",IF('feuille référence'!A64="","",IF(A66='feuille référence'!A64,1,0)+IF(AND(tableau!C66='feuille référence'!C64,tableau!D66='feuille référence'!D64),1,0))) | H66: =IF(OR(J66="",K66=""),"",IF(J66>K66,"V",IF(J66<K66,"P","N"))) | I66: Valence CF | L66: La Gantoise
A67: =IF(OR(C67="",D67=""),"",IF(C67>D67,"V",IF(C67<D67,"P","N"))) | B67: Chelsea | E67: Dynamo Kiev | F67: =IF(A67="","",IF('feuille référence'!A65="","",IF(A67='feuille référence'!A65,1,0)+IF(AND(tableau!C67='feuille référence'!C65,tableau!D67='feuille référence'!D65),1,0))) | H67: =IF(OR(J67="",K67=""),"",IF(J67>K67,"V",IF(J67<K67,"P","N"))) | I67: La Gantoise | L67: Valence CF
A68: =IF(OR(C68="",D68=""),"",IF(C68>D68,"V",IF(C68<D68,"P","N"))) | B68: Maccabi Tel-Aviv | E68: FC Porto | F68: =IF(A68="","",IF('feuille référence'!A66="","",IF(A68='feuille référence'!A66,1,0)+IF(AND(tableau!C68='feuille référence'!C66,tableau!D68='feuille référence'!D66),1,0))) | H68: =IF(OR(J68="",K68=""),"",IF(J68>K68,"V",IF(J68<K68,"P","N"))) | I68: Lyon | L68: Zenith Saint-Pétersbourg
A69: =IF(OR(C69="",D69=""),"",IF(C69>D69,"V",IF(C69<D69,"P","N"))) | B69: Maccabi Tel-Aviv | E69: Chelsea | F69: =IF(A69="","",IF('feuille référence'!A67="","",IF(A69='feuille référence'!A67,1,0)+IF(AND(tableau!C69='feuille référence'!C67,tableau!D69='feuille référence'!D67),1,0))) | H69: =IF(OR(J69="",K69=""),"",IF(J69>K69,"V",IF(J69<K69,"P","N"))) | I69: Zénith Saint-Pétersbourg | L69: Valence CF
A70: =IF(OR(C70="",D70=""),"",IF(C70>D70,"V",IF(C70<D70,"P","N"))) | B70: FC Porto | E70: Dynamo Kiev | F70: =IF(A70="","",IF('feuille référence'!A68="","",IF(A70='feuille référence'!A68,1,0)+IF(AND(tableau!C70='feuille référence'!C68,tableau!D70='feuille référence'!D68),1,0))) | H70: =IF(OR(J70="",K70=""),"",IF(J70>K70,"V",IF(J70<K70,"P","N"))) | I70: Lyon | L70: La Gantoise
A71: =IF(OR(C71="",D71=""),"",IF(C71>D71,"V",IF(C71<D71,"P","N"))) | B71: Chelsea | E71: FC Porto | F71: =IF(A71="","",IF('feuille référence'!A69="","",IF(A71='feuille référence'!A69,1,0)+IF(AND(tableau!C71='feuille référence'!C69,tableau!D71='feuille référence'!D69),1,0))) | H71: =IF(OR(J71="",K71=""),"",IF(J71>K71,"V",IF(J71<K71,"P","N"))) | I71: Valence CF | L71: Lyon
A72: =IF(OR(C72="",D72=""),"",IF(C72>D72,"V",IF(C72<D72,"P","N"))) | B72: Dynamo Kiev | E72: Maccabi Tel-Aviv | F72: =IF(A72="","",IF('feuille référence'!A70="","",IF(A72='feuille référence'!A70,1,0)+IF(AND(tableau!C72='feuille référence'!C70,tableau!D72='feuille référence'!D70),1,0))) | H72: =IF(OR(J72="",K72=""),"",IF(J72>K72,"V",IF(J72<K72,"P","N"))) | I72: La Gantoise | L72: Zenith Saint-Pétersbourg
E73: TOTAL | F73: =IFERROR(SUM(F61:F72)+F75,0) -> 0 | L73: TOTAL | M73: =IFERROR(SUM(M61:M72)+M75,0) -> 0
B75: EQUIPES Qualifiées Gr G | F75: =IF(OR(E75="",E76=""),"",IF(OR(E75&E76='feuille référence'!E73&'feuille référence'!E74,E75&E76='feuille référence'!E74&'feuille référence'!E73),1,0)) | I75: EQUIPES Qualifiées Gr H | M75: =IF(OR(L75="",L76=""),"",IF(OR(L75&L76='feuille référence'!K73&'feuille référence'!K74,L75&L76='feuille référence'!K74&'feuille référence'!K73),1,0))
L79: TOTAL poules | M79: =SUM(F19+M19+F37+M37+F55+M55+F73+M73) -> 0
B82: 1: La mise pour participer au concours est de 5 euros.
B83: 2: Placer vos résultats dans les cases appropriées, ainsi que le nom des deux équipes qualifiées pour les 8eme et me faire parvenir votre feuille en main
B84: propre ou par mail, ainsi qu'une adresse mail à l'adresse suivante (totony59@yahoo.fr).
B85: 3: Répartition des points:
B86: résultat correct: 1 point
B87: résultat + score corrects: 2 points
B88: équipe qualifiée trouvé 1 point
B89: 4: Le vainqueur du concours remporte 50% de la mise totale des joueurs.
B90: Le second remporte 30% de la mise totale des joueurs.
B91: Le troisième remporte 20% de la mise totale des joueurs.
B92: 5: En cas d'égalité parfaite au nombre de point on compare le total des buts donnés avec ceux réellement inscrits.
B93: 6: Les résultats vous seront envoyé par email à la fin de la compétition.
B94: 7: le tableau des phases finales sera fait au fur et à mesure et envoyé par mail.

Sheet feuille référence
Q2: POINT GROUPE A | T2: Recap Groupe A
B4: GROUPE A | H4: GROUPE B | N4: Classement Groupe A | O4: Pts | Q4: =IF(C5="","",IF(C5>D5,3,IF(C5=D5,1,0))) | R4: =IF(D5="","",IF(D5>C5,3,IF(D5=C5,1,0))) | T4: Classement | U4: Equipe | V4: Victoire | W4: Nul | X4: Defaite | Y4: But marqué | Z4: But Encaissé | AA4: Goal Average | AB4: Total point | AC4: Critere classement
A5: =IF(OR(C5="",D5=""),"",IF(C5>D5,"V",IF(C5<D5,"P","N"))) | B5: PSG | E5: Malmo FF | G5: =IF(OR(I5="",J5=""),"",IF(I5>J5,"V",IF(I5<J5,"P","N"))) | H5: PSV Eindhoven | K5: Manchester United | M5: 1 | N5: =IFERROR(OFFSET($T$4,MATCH($M5,$T$5:$T$8,0),1.1,1),"") -> PSG | O5: =IFERROR(OFFSET($T$4,MATCH($M5,$T$5:$T$8,0),8.1,1),"") -> 0 | Q5: =IF(C6="","",IF(C6>D6,3,IF(C6=D6,1,0))) | R5: =IF(D6="","",IF(D6>C6,3,IF(D6=C6,1,0))) | T5: =RANK($AC5,$AC$5:$AC$8,0) -> 1 | U5: PSG | V5: =COUNTIFS($B$5:$B$16,$U5,$Q$4:$Q$15,3)+COUNTIFS($E$5:$E$16,$U5,$R$4:$R$15,3) -> 0 | W5: =COUNTIFS($B$5:$B$16,$U5,$Q$4:$Q$15,1)+COUNTIFS($E$5:$E$16,$U5,$R$4:$R$15,1) -> 0 | X5: =COUNTIFS($B$5:$B$16,$U5,$Q$4:$Q$15,0)+COUNTIFS($E$5:$E$16,$U5,$R$4:$R$15,0) -> 0 | Y5: =SUMIF($B$5:$B$16,$U5,$C$5:$C$16)+SUMIF($E$5:$E$16,$U5,$D$5:$D$16) -> 0 | Z5: =SUMIF($B$5:$B$16,$U5,$D$5:$D$16)+SUMIF($E$5:$E$16,$U5,$C$5:$C$16) -> 0 | AA5: =Y5-Z5 -> 0 | AB5: =SUMIF($B$5:$B$16,$U5,$Q$4:$Q$15)+SUMIF($E$5:$E$16,$U5,$R$4:$R$15) -> 0 | AC5: =SUM(AB5*1000000,AA5*1000,Y5*100,V5*10) -> 0
A6: =IF(OR(C6="",D6=""),"",IF(C6>D6,"V",IF(C6<D6,"P","N"))) | B6: Real Madrid | E6: Chaktior Donetsk | G6: =IF(OR(I6="",J6=""),"",IF(I6>J6,"V",IF(I6<J6,"P","N"))) | H6: Vfl Wolfsburg | K6: CSKA Moscou | M6: 2 | N6: =IFERROR(OFFSET($T$4,MATCH($M6,$T$5:$T$8,0),1.1,1),"") | O6: =IFERROR(OFFSET($T$4,MATCH($M6,$T$5:$T$8,0),8.1,1),"") | Q6: =IF(C7="","",IF(C7>D7,3,IF(C7=D7,1,0))) | R6: =IF(D7="","",IF(D7>C7,3,IF(D7=C7,1,0))) | T6: =RANK($AC6,$AC$5:$AC$8,0) -> 1 | U6: Real Madrid | V6: =COUNTIFS($B$5:$B$16,$U6,$Q$4:$Q$15,3)+COUNTIFS($E$5:$E$16,$U6,$R$4:$R$15,3) -> 0 | W6: =COUNTIFS($B$5:$B$16,$U6,$Q$4:$Q$15,1)+COUNTIFS($E$5:$E$16,$U6,$R$4:$R$15,1) -> 0 | X6: =COUNTIFS($B$5:$B$16,$U6,$Q$4:$Q$15,0)+COUNTIFS($E$5:$E$16,$U6,$R$4:$R$15,0) -> 0 | Y6: =SUMIF($B$5:$B$16,$U6,$C$5:$C$16)+SUMIF($E$5:$E$16,$U6,$D$5:$D$16) -> 0 | Z6: =SUMIF($B$5:$B$16,$U6,$D$5:$D$16)+SUMIF($E$5:$E$16,$U6,$C$5:$C$16) -> 0 | AA6: =Y6-Z6 -> 0 | AB6: =SUMIF($B$5:$B$16,$U6,$Q$4:$Q$15)+SUMIF($E$5:$E$16,$U6,$R$4:$R$15) -> 0 | AC6: =SUM(AB6*1000000,AA6*1000,Y6*100,V6*10) -> 0
A7: =IF(OR(C7="",D7=""),"",IF(C7>D7,"V",IF(C7<D7,"P","N"))) | B7: Chaktior Donetsk | E7: PSG | G7: =IF(OR(I7="",J7=""),"",IF(I7>J7,"V",IF(I7<J7,"P","N"))) | H7: Manchester United | K7: Vfl Wolfsburg | M7: 3 | N7: =IFERROR(OFFSET($T$4,MATCH($M7,$T$5:$T$8,0),1.1,1),"") | O7: =IFERROR(OFFSET($T$4,MATCH($M7,$T$5:$T$8,0),8.1,1),"") | Q7: =IF(C8="","",IF(C8>D8,3,IF(C8=D8,1,0))) | R7: =IF(D8="","",IF(D8>C8,3,IF(D8=C8,1,0))) | T7: =RANK($AC7,$AC$5:$AC$8,0) -> 1 | U7: Chaktior Donetsk | V7: =COUNTIFS($B$5:$B$16,$U7,$Q$4:$Q$15,3)+COUNTIFS($E$5:$E$16,$U7,$R$4:$R$15,3) -> 0 | W7: =COUNTIFS($B$5:$B$16,$U7,$Q$4:$Q$15,1)+COUNTIFS($E$5:$E$16,$U7,$R$4:$R$15,1) -> 0 | X7: =COUNTIFS($B$5:$B$16,$U7,$Q$4:$Q$15,0)+COUNTIFS($E$5:$E$16,$U7,$R$4:$R$15,0) -> 0 | Y7: =SUMIF($B$5:$B$16,$U7,$C$5:$C$16)+SUMIF($E$5:$E$16,$U7,$D$5:$D$16) -> 0 | Z7: =SUMIF($B$5:$B$16,$U7,$D$5:$D$16)+SUMIF($E$5:$E$16,$U7,$C$5:$C$16) -> 0 | AA7: =Y7-Z7 -> 0 | AB7: =SUMIF($B$5:$B$16,$U7,$Q$4:$Q$15)+SUMIF($E$5:$E$16,$U7,$R$4:$R$15) -> 0 | AC7: =SUM(AB7*1000000,AA7*1000,Y7*100,V7*10) -> 0
A8: =IF(OR(C8="",D8=""),"",IF(C8>D8,"V",IF(C8<D8,"P","N"))) | B8: Malmo FF | E8: Real Madrid | G8: =IF(OR(I8="",J8=""),"",IF(I8>J8,"V",IF(I8<J8,"P","N"))) | H8: CSKA Moscou | K8: PSV Eindhoven | M8: 4 | N8: =IFERROR(OFFSET($T$4,MATCH($M8,$T$5:$T$8,0),1.1,1),"") | O8: =IFERROR(OFFSET($T$4,MATCH($M8,$T$5:$T$8,0),8.1,1),"") | Q8: =IF(C9="","",IF(C9>D9,3,IF(C9=D9,1,0))) | R8: =IF(D9="","",IF(D9>C9,3,IF(D9=C9,1,0))) | T8: =RANK($AC8,$AC$5:$AC$8,0) -> 1 | U8: Malmo FF | V8: =COUNTIFS($B$5:$B$16,$U8,$Q$4:$Q$15,3)+COUNTIFS($E$5:$E$16,$U8,$R$4:$R$15,3) -> 0 | W8: =COUNTIFS($B$5:$B$16,$U8,$Q$4:$Q$15,1)+COUNTIFS($E$5:$E$16,$U8,$R$4:$R$15,1) -> 0 | X8: =COUNTIFS($B$5:$B$16,$U8,$Q$4:$Q$15,0)+COUNTIFS($E$5:$E$16,$U8,$R$4:$R$15,0) -> 0 | Y8: =SUMIF($B$5:$B$16,$U8,$C$5:$C$16)+SUMIF($E$5:$E$16,$U8,$D$5:$D$16) -> 0 | Z8: =SUMIF($B$5:$B$16,$U8,$D$5:$D$16)+SUMIF($E$5:$E$16,$U8,$C$5:$C$16) -> 0 | AA8: =Y8-Z8 -> 0 | AB8: =SUMIF($B$5:$B$16,$U8,$Q$4:$Q$15)+SUMIF($E$5:$E$16,$U8,$R$4:$R$15) -> 0 | AC8: =SUM(AB8*1000000,AA8*1000,Y8*100,V8*10) -> 0
A9: =IF(OR(C9="",D9=""),"",IF(C9>D9,"V",IF(C9<D9,"P","N"))) | B9: PSG | E9: Real Madrid | G9: =IF(OR(I9="",J9=""),"",IF(I9>J9,"V",IF(I9<J9,"P","N"))) | H9: CSKA Moscou | K9: Manchester United | Q9: =IF(C10="","",IF(C10>D10,3,IF(C10=D10,1,0))) | R9: =IF(D10="","",IF(D10>C10,3,IF(D10=C10,1,0)))
A10: =IF(OR(C10="",D10=""),"",IF(C10>D10,"V",IF(C10<D10,"P","N"))) | B10: Malmo FF | E10: Chaktior Donetsk | G10: =IF(OR(I10="",J10=""),"",IF(I10>J10,"V",IF(I10<J10,"P","N"))) | H10: Vfl Wolfsburg | K10: PSV Eindhoven | N10: Classement Groupe B | O10: Pts | Q10: =IF(C11="","",IF(C11>D11,3,IF(C11=D11,1,0))) | R10: =IF(D11="","",IF(D11>C11,3,IF(D11=C11,1,0)))
A11: =IF(OR(C11="",D11=""),"",IF(C11>D11,"V",IF(C11<D11,"P","N"))) | B11: Real Madrid | E11: PSG | G11: =IF(OR(I11="",J11=""),"",IF(I11>J11,"V",IF(I11<J11,"P","N"))) | H11: PSV Eindhoven | K11: Vfl Wolfsburg | M11: 1 | N11: =IFERROR(OFFSET($T$19,MATCH($M11,$T$20:$T$23,0),1.1,1),"") -> PSV Eindhoven | O11: =IFERROR(OFFSET($T$19,MATCH($M11,$T$20:$T$23,0),8.1,1),"") -> 0 | Q11: =IF(C12="","",IF(C12>D12,3,IF(C12=D12,1,0))) | R11: =IF(D12="","",IF(D12>C12,3,IF(D12=C12,1,0)))
A12: =IF(OR(C12="",D12=""),"",IF(C12>D12,"V",IF(C12<D12,"P","N"))) | B12: Chaktior Donetsk | E12: Malmo FF | G12: =IF(OR(I12="",J12=""),"",IF(I12>J12,"V",IF(I12<J12,"P","N"))) | H12: Manchester United | K12: CSKA Moscou | M12: 2 | N12: =IFERROR(OFFSET($T$19,MATCH($M12,$T$20:$T$23,0),1.1,1),"") | O12: =IFERROR(OFFSET($T$19,MATCH($M12,$T$20:$T$23,0),8.1,1),"") | Q12: =IF(C13="","",IF(C13>D13,3,IF(C13=D13,1,0))) | R12: =IF(D13="","",IF(D13>C13,3,IF(D13=C13,1,0)))
A13: =IF(OR(C13="",D13=""),"",IF(C13>D13,"V",IF(C13<D13,"P","N"))) | B13: Malmo FF | E13: PSG | G13: =IF(OR(I13="",J13=""),"",IF(I13>J13,"V",IF(I13<J13,"P","N"))) | H13: CSKA Moscou | K13: Vfl Wolfsburg | M13: 3 | N13: =IFERROR(OFFSET($T$19,MATCH($M13,$T$20:$T$23,0),1.1,1),"") | O13: =IFERROR(OFFSET($T$19,MATCH($M13,$T$20:$T$23,0),8.1,1),"") | Q13: =IF(C14="","",IF(C14>D14,3,IF(C14=D14,1,0))) | R13: =IF(D14="","",IF(D14>C14,3,IF(D14=C14,1,0)))
A14: =IF(OR(C14="",D14=""),"",IF(C14>D14,"V",IF(C14<D14,"P","N"))) | B14: Chaktior Donetsk | E14: Real Madrid | G14: =IF(OR(I14="",J14=""),"",IF(I14>J14,"V",IF(I14<J14,"P","N"))) | H14: Manchester United | K14: PSV Eindhoven | M14: 4 | N14: =IFERROR(OFFSET($T$19,MATCH($M14,$T$20:$T$23,0),1.1,1),"") | O14: =IFERROR(OFFSET($T$19,MATCH($M14,$T$20:$T$23,0),8.1,1),"") | Q14: =IF(C15="","",IF(C15>D15,3,IF(C15=D15,1,0))) | R14: =IF(D15="","",IF(D15>C15,3,IF(D15=C15,1,0)))
A15: =IF(OR(C15="",D15=""),"",IF(C15>D15,"V",IF(C15<D15,"P","N"))) | B15: Real Madrid | E15: Malmo FF | G15: =IF(OR(I15="",J15=""),"",IF(I15>J15,"V",IF(I15<J15,"P","N"))) | H15: Vfl Wolfsburg | K15: Manchester United | Q15: =IF(C16="","",IF(C16>D16,3,IF(C16=D16,1,0))) | R15: =IF(D16="","",IF(D16>C16,3,IF(D16=C16,1,0)))
A16: =IF(OR(C16="",D16=""),"",IF(C16>D16,"V",IF(C16<D16,"P","N"))) | B16: PSG | E16: Chaktior Donetsk | G16: =IF(OR(I16="",J16=""),"",IF(I16>J16,"V",IF(I16<J16,"P","N"))) | H16: PSV Eindhoven | K16: CSKA Moscou | N16: Classement Groupe C | O16: Pts
M17: 1 | N17: =IFERROR(OFFSET($T$34,MATCH($M17,$T$35:$T$38,0),1.1,1),"") -> Galatasaray | O17: =IFERROR(OFFSET($T$34,MATCH($M17,$T$35:$T$38,0),8.1,1),"") -> 0 | Q17: POINT GROUPE B | T17: Recap Groupe B
M18: 2 | N18: =IFERROR(OFFSET($T$34,MATCH($M18,$T$35:$T$38,0),1.1,1),"") | O18: =IFERROR(OFFSET($T$34,MATCH($M18,$T$35:$T$38,0),8.1,1),"")
B19: EQUIPES Qualifiées Gr A | E19: =IF(N5="","",N5) -> PSG | H19: EQUIPES Qualifiées Gr B | K19: =IF(N11="","",N11) -> PSV Eindhoven | M19: 3 | N19: =IFERROR(OFFSET($T$34,MATCH($M19,$T$35:$T$38,0),1.1,1),"") | O19: =IFERROR(OFFSET($T$34,MATCH($M19,$T$35:$T$38,0),8.1,1),"") | Q19: =IF(I5="","",IF(I5>J5,3,IF(I5=J5,1,0))) | R19: =IF(J5="","",IF(J5>I5,3,IF(J5=I5,1,0))) | T19: Classement | U19: Equipe | V19: Victoire | W19: Nul | X19: Defaite | Y19: But marqué | Z19: But Encaissé | AA19: Goal Average | AB19: Total point | AC19: Critere classement
E20: =IF(N6="","",N6) | K20: =IF(N12="","",N12) | M20: 4 | N20: =IFERROR(OFFSET($T$34,MATCH($M20,$T$35:$T$38,0),1.1,1),"") | O20: =IFERROR(OFFSET($T$34,MATCH($M20,$T$35:$T$38,0),8.1,1),"") | Q20: =IF(I6="","",IF(I6>J6,3,IF(I6=J6,1,0))) | R20: =IF(J6="","",IF(J6>I6,3,IF(J6=I6,1,0))) | T20: =RANK($AC20,$AC$20:$AC$23,0) -> 1 | U20: PSV Eindhoven | V20: =COUNTIFS($H$5:$H$16,$U20,$Q$19:$Q$30,3)+COUNTIFS($K$5:$K$16,$U20,$R$19:$R$30,3) -> 0 | W20: =COUNTIFS($H$5:$H$16,$U20,$Q$19:$Q$30,1)+COUNTIFS($K$5:$K$16,$U20,$R$19:$R$30,1) -> 0 | X20: =COUNTIFS($H$5:$H$16,$U20,$Q$19:$Q$30,0)+COUNTIFS($K$5:$K$16,$U20,$R$19:$R$30,0) -> 0 | Y20: =SUMIF($H$5:$H$16,$U20,$J$5:$J$16)+SUMIF($K$5:$K$16,$U20,$I$5:$I$16) -> 0 | Z20: =SUMIF($H$5:$H$16,$U20,$J$5:$J$16)+SUMIF($K$5:$K$16,$U20,$I$5:$I$16) -> 0 | AA20: =Y20-Z20 -> 0 | AB20: =SUMIF($H$5:$H$16,$U20,$Q$19:$Q$30)+SUMIF($K$5:$K$16,$U20,$R$19:$R$30) -> 0 | AC20: =SUM(AB20*1000000,AA20*1000,Y20*100,V20*10) -> 0
Q21: =IF(I7="","",IF(I7>J7,3,IF(I7=J7,1,0))) | R21: =IF(J7="","",IF(J7>I7,3,IF(J7=I7,1,0))) | T21: =RANK($AC21,$AC$20:$AC$23,0) -> 1 | U21: Vfl Wolfsburg | V21: =COUNTIFS($H$5:$H$16,$U21,$Q$19:$Q$30,3)+COUNTIFS($K$5:$K$16,$U21,$R$19:$R$30,3) -> 0 | W21: =COUNTIFS($H$5:$H$16,$U21,$Q$19:$Q$30,1)+COUNTIFS($K$5:$K$16,$U21,$R$19:$R$30,1) -> 0 | X21: =COUNTIFS($H$5:$H$16,$U21,$Q$19:$Q$30,0)+COUNTIFS($K$5:$K$16,$U21,$R$19:$R$30,0) -> 0 | Y21: =SUMIF($H$5:$H$16,$U21,$J$5:$J$16)+SUMIF($K$5:$K$16,$U21,$I$5:$I$16) -> 0 | Z21: =SUMIF($H$5:$H$16,$U21,$J$5:$J$16)+SUMIF($K$5:$K$16,$U21,$I$5:$I$16) -> 0 | AA21: =Y21-Z21 -> 0 | AB21: =SUMIF($H$5:$H$16,$U21,$Q$19:$Q$30)+SUMIF($K$5:$K$16,$U21,$R$19:$R$30) -> 0 | AC21: =SUM(AB21*1000000,AA21*1000,Y21*100,V21*10) -> 0
B22: GROUPE C | H22: GROUPE D | N22: Classement Groupe D | O22: Pts | Q22: =IF(I8="","",IF(I8>J8,3,IF(I8=J8,1,0))) | R22: =IF(J8="","",IF(J8>I8,3,IF(J8=I8,1,0))) | T22: =RANK($AC22,$AC$20:$AC$23,0) -> 1 | U22: Manchester United | V22: =COUNTIFS($H$5:$H$16,$U22,$Q$19:$Q$30,3)+COUNTIFS($K$5:$K$16,$U22,$R$19:$R$30,3) -> 0 | W22: =COUNTIFS($H$5:$H$16,$U22,$Q$19:$Q$30,1)+COUNTIFS($K$5:$K$16,$U22,$R$19:$R$30,1) -> 0 | X22: =COUNTIFS($H$5:$H$16,$U22,$Q$19:$Q$30,0)+COUNTIFS($K$5:$K$16,$U22,$R$19:$R$30,0) -> 0 | Y22: =SUMIF($H$5:$H$16,$U22,$J$5:$J$16)+SUMIF($K$5:$K$16,$U22,$I$5:$I$16) -> 0 | Z22: =SUMIF($H$5:$H$16,$U22,$J$5:$J$16)+SUMIF($K$5:$K$16,$U22,$I$5:$I$16) -> 0 | AA22: =Y22-Z22 -> 0 | AB22: =SUMIF($H$5:$H$16,$U22,$Q$19:$Q$30)+SUMIF($K$5:$K$16,$U22,$R$19:$R$30) -> 0 | AC22: =SUM(AB22*1000000,AA22*1000,Y22*100,V22*10) -> 0
A23: =IF(OR(C23="",D23=""),"",IF(C23>D23,"V",IF(C23<D23,"P","N"))) | B23: Galatasaray | E23: Atlético Madrid | G23: =IF(OR(I23="",J23=""),"",IF(I23>J23,"V",IF(I23<J23,"P","N"))) | H23: Manchester City | K23: Juventus Turin | M23: 1 | N23: =IFERROR(OFFSET($T$49,MATCH($M23,$T$50:$T$53,0),1.1,1),"") -> Manchester City | O23: =IFERROR(OFFSET($T$49,MATCH($M23,$T$50:$T$53,0),8.1,1),"") -> 0 | Q23: =IF(I9="","",IF(I9>J9,3,IF(I9=J9,1,0))) | R23: =IF(J9="","",IF(J9>I9,3,IF(J9=I9,1,0))) | T23: =RANK($AC23,$AC$20:$AC$23,0) -> 1 | U23: CSKA Moscou | V23: =COUNTIFS($H$5:$H$16,$U23,$Q$19:$Q$30,3)+COUNTIFS($K$5:$K$16,$U23,$R$19:$R$30,3) -> 0 | W23: =COUNTIFS($H$5:$H$16,$U23,$Q$19:$Q$30,1)+COUNTIFS($K$5:$K$16,$U23,$R$19:$R$30,1) -> 0 | X23: =COUNTIFS($H$5:$H$16,$U23,$Q$19:$Q$30,0)+COUNTIFS($K$5:$K$16,$U23,$R$19:$R$30,0) -> 0 | Y23: =SUMIF($H$5:$H$16,$U23,$J$5:$J$16)+SUMIF($K$5:$K$16,$U23,$I$5:$I$16) -> 0 | Z23: =SUMIF($H$5:$H$16,$U23,$J$5:$J$16)+SUMIF($K$5:$K$16,$U23,$I$5:$I$16) -> 0 | AA23: =Y23-Z23 -> 0 | AB23: =SUMIF($H$5:$H$16,$U23,$Q$19:$Q$30)+SUMIF($K$5:$K$16,$U23,$R$19:$R$30) -> 0 | AC23: =SUM(AB23*1000000,AA23*1000,Y23*100,V23*10) -> 0
A24: =IF(OR(C24="",D24=""),"",IF(C24>D24,"V",IF(C24<D24,"P","N"))) | B24: Benfica | E24: FC Astana | G24: =IF(OR(I24="",J24=""),"",IF(I24>J24,"V",IF(I24<J24,"P","N"))) | H24: Séville FC | K24: Borussia M'Gladbach | M24: 2 | N24: =IFERROR(OFFSET($T$49,MATCH($M24,$T$50:$T$53,0),1.1,1),"") | O24: =IFERROR(OFFSET($T$49,MATCH($M24,$T$50:$T$53,0),8.1,1),"") | Q24: =IF(I10="","",IF(I10>J10,3,IF(I10=J10,1,0))) | R24: =IF(J10="","",IF(J10>I10,3,IF(J10=I10,1,0)))
A25: =IF(OR(C25="",D25=""),"",IF(C25>D25,"V",IF(C25<D25,"P","N"))) | B25: FC Astana | E25: Galatasaray | G25: =IF(OR(I25="",J25=""),"",IF(I25>J25,"V",IF(I25<J25,"P","N"))) | H25: Juventus Turin | K25: Séville FC | M25: 3 | N25: =IFERROR(OFFSET($T$49,MATCH($M25,$T$50:$T$53,0),1.1,1),"") | O25: =IFERROR(OFFSET($T$49,MATCH($M25,$T$50:$T$53,0),8.1,1),"") | Q25: =IF(I11="","",IF(I11>J11,3,IF(I11=J11,1,0))) | R25: =IF(J11="","",IF(J11>I11,3,IF(J11=I11,1,0)))
A26: =IF(OR(C26="",D26=""),"",IF(C26>D26,"V",IF(C26<D26,"P","N"))) | B26: Atlético Madrid | E26: Benfica | G26: =IF(OR(I26="",J26=""),"",IF(I26>J26,"V",IF(I26<J26,"P","N"))) | H26: Borussia M'Gladbach | K26: Manchester City | M26: 4 | N26: =IFERROR(OFFSET($T$49,MATCH($M26,$T$50:$T$53,0),1.1,1),"") | O26: =IFERROR(OFFSET($T$49,MATCH($M26,$T$50:$T$53,0),8.1,1),"") | Q26: =IF(I12="","",IF(I12>J12,3,IF(I12=J12,1,0))) | R26: =IF(J12="","",IF(J12>I12,3,IF(J12=I12,1,0)))
A27: =IF(OR(C27="",D27=""),"",IF(C27>D27,"V",IF(C27<D27,"P","N"))) | B27: Galatasaray | E27: Benfica | G27: =IF(OR(I27="",J27=""),"",IF(I27>J27,"V",IF(I27<J27,"P","N"))) | H27: Juventus Turin | K27: Borussia M'Gladbach | Q27: =IF(I13="","",IF(I13>J13,3,IF(I13=J13,1,0))) | R27: =IF(J13="","",IF(J13>I13,3,IF(J13=I13,1,0)))
A28: =IF(OR(C28="",D28=""),"",IF(C28>D28,"V",IF(C28<D28,"P","N"))) | B28: Atlético Madrid | E28: FC Astana | G28: =IF(OR(I28="",J28=""),"",IF(I28>J28,"V",IF(I28<J28,"P","N"))) | H28: Manchester City | K28: Séville FC | N28: Classement Groupe E | O28: Pts | Q28: =IF(I14="","",IF(I14>J14,3,IF(I14=J14,1,0))) | R28: =IF(J14="","",IF(J14>I14,3,IF(J14=I14,1,0)))
A29: =IF(OR(C29="",D29=""),"",IF(C29>D29,"V",IF(C29<D29,"P","N"))) | B29: FC Astana | E29: Atlético Madrid | G29: =IF(OR(I29="",J29=""),"",IF(I29>J29,"V",IF(I29<J29,"P","N"))) | H29: Borussia M'Gladbach | K29: Juventus Turin | M29: 1 | N29: =IFERROR(OFFSET($T$64,MATCH($M29,$T$65:$T$68,0),1.1,1),"") -> AS Roma | O29: =IFERROR(OFFSET($T$64,MATCH($M29,$T$65:$T$68,0),8.1,1),"") -> 0 | Q29: =IF(I15="","",IF(I15>J15,3,IF(I15=J15,1,0))) | R29: =IF(J15="","",IF(J15>I15,3,IF(J15=I15,1,0)))
A30: =IF(OR(C30="",D30=""),"",IF(C30>D30,"V",IF(C30<D30,"P","N"))) | B30: Benfica | E30: Galatasaray | G30: =IF(OR(I30="",J30=""),"",IF(I30>J30,"V",IF(I30<J30,"P","N"))) | H30: Séville FC | K30: Manchester City | M30: 2 | N30: =IFERROR(OFFSET($T$64,MATCH($M30,$T$65:$T$68,0),1.1,1),"") | O30: =IFERROR(OFFSET($T$64,MATCH($M30,$T$65:$T$68,0),8.1,1),"") | Q30: =IF(I16="","",IF(I16>J16,3,IF(I16=J16,1,0))) | R30: =IF(J16="","",IF(J16>I16,3,IF(J16=I16,1,0)))
A31: =IF(OR(C31="",D31=""),"",IF(C31>D31,"V",IF(C31<D31,"P","N"))) | B31: Atlético Madrid | E31: Galatasaray | G31: =IF(OR(I31="",J31=""),"",IF(I31>J31,"V",IF(I31<J31,"P","N"))) | H31: Borussia M'Gladbach | K31: Séville FC | M31: 3 | N31: =IFERROR(OFFSET($T$64,MATCH($M31,$T$65:$T$68,0),1.1,1),"") | O31: =IFERROR(OFFSET($T$64,MATCH($M31,$T$65:$T$68,0),8.1,1),"")
A32: =IF(OR(C32="",D32=""),"",IF(C32>D32,"V",IF(C32<D32,"P","N"))) | B32: FC Astana | E32: Benfica | G32: =IF(OR(I32="",J32=""),"",IF(I32>J32,"V",IF(I32<J32,"P","N"))) | H32: Juventus Turin | K32: Manchester City | M32: 4 | N32: =IFERROR(OFFSET($T$64,MATCH($M32,$T$65:$T$68,0),1.1,1),"") | O32: =IFERROR(OFFSET($T$64,MATCH($M32,$T$65:$T$68,0),8.1,1),"") | Q32: POINT GROUPE C | T32: Recap Groupe C
A33: =IF(OR(C33="",D33=""),"",IF(C33>D33,"V",IF(C33<D33,"P","N"))) | B33: Benfica | E33: Atlético Madrid | G33: =IF(OR(I33="",J33=""),"",IF(I33>J33,"V",IF(I33<J33,"P","N"))) | H33: Séville FC | K33: Juventus Turin
A34: =IF(OR(C34="",D34=""),"",IF(C34>D34,"V",IF(C34<D34,"P","N"))) | B34: Galatasaray | E34: FC Astana | G34: =IF(OR(I34="",J34=""),"",IF(I34>J34,"V",IF(I34<J34,"P","N"))) | H34: Manchester City | K34: Borussia M'Gladbach | N34: Classement Groupe F | O34: Pts | Q34: =IF(C23="","",IF(C23>D23,3,IF(C23=D23,1,0))) | R34: =IF(D23="","",IF(D23>C23,3,IF(D23=C23,1,0))) | T34: Classement | U34: Equipe | V34: Victoire | W34: Nul | X34: Defaite | Y34: But marqué | Z34: But Encaissé | AA34: Goal Average | AB34: Total point | AC34: Critere classement
M35: 1 | N35: =IFERROR(OFFSET($T$79,MATCH($M35,$T$80:$T$83,0),1.1,1),"") -> Olympiakos | O35: =IFERROR(OFFSET($T$79,MATCH($M35,$T$80:$T$83,0),8.1,1),"") -> 0 | Q35: =IF(C24="","",IF(C24>D24,3,IF(C24=D24,1,0))) | R35: =IF(D24="","",IF(D24>C24,3,IF(D24=C24,1,0))) | T35: =RANK($AC35,$AC$35:$AC$38,0) -> 1 | U35: Galatasaray | V35: =COUNTIFS($B$23:$B$34,$U35,$Q$34:$Q$45,3)+COUNTIFS($E$23:$E$34,$U35,$R$34:$R$45,3) -> 0 | W35: =COUNTIFS($B$23:$B$34,$U35,$Q$34:$Q$45,1)+COUNTIFS($E$23:$E$34,$U35,$R$34:$R$45,1) -> 0 | X35: =COUNTIFS($B$23:$B$34,$U35,$Q$34:$Q$45,0)+COUNTIFS($E$23:$E$34,$U35,$R$34:$R$45,0) -> 0 | Y35: =SUMIF($B$23:$B$34,$U35,$C$23:$C$34)+SUMIF($E$23:$E$34,$U35,$D$23:$D$34) -> 0 | Z35: =SUMIF($B$23:$B$34,$U35,$D$23:$D$34)+SUMIF($E$23:$E$34,$U35,$C$23:$C$34) -> 0 | AA35: =Y35-Z35 -> 0 | AB35: =SUMIF($B$23:$B$34,$U35,$Q$34:$Q$45)+SUMIF($E$23:$E$34,$U35,$R$34:$R$45) -> 0 | AC35: =SUM(AB35*1000000,AA35*1000,Y35*100,V35*10) -> 0
M36: 2 | N36: =IFERROR(OFFSET($T$79,MATCH($M36,$T$80:$T$83,0),1.1,1),"") | O36: =IFERROR(OFFSET($T$79,MATCH($M36,$T$80:$T$83,0),8.1,1),"") | Q36: =IF(C25="","",IF(C25>D25,3,IF(C25=D25,1,0))) | R36: =IF(D25="","",IF(D25>C25,3,IF(D25=C25,1,0))) | T36: =RANK($AC36,$AC$35:$AC$38,0) -> 1 | U36: Benfica | V36: =COUNTIFS($B$23:$B$34,$U36,$Q$34:$Q$45,3)+COUNTIFS($E$23:$E$34,$U36,$R$34:$R$45,3) -> 0 | W36: =COUNTIFS($B$23:$B$34,$U36,$Q$34:$Q$45,1)+COUNTIFS($E$23:$E$34,$U36,$R$34:$R$45,1) -> 0 | X36: =COUNTIFS($B$23:$B$34,$U36,$Q$34:$Q$45,0)+COUNTIFS($E$23:$E$34,$U36,$R$34:$R$45,0) -> 0 | Y36: =SUMIF($B$23:$B$34,$U36,$C$23:$C$34)+SUMIF($E$23:$E$34,$U36,$D$23:$D$34) -> 0 | Z36: =SUMIF($B$23:$B$34,$U36,$D$23:$D$34)+SUMIF($E$23:$E$34,$U36,$C$23:$C$34) -> 0 | AA36: =Y36-Z36 -> 0 | AB36: =SUMIF($B$23:$B$34,$U36,$Q$34:$Q$45)+SUMIF($E$23:$E$34,$U36,$R$34:$R$45) -> 0 | AC36: =SUM(AB36*1000000,AA36*1000,Y36*100,V36*10) -> 0
B37: EQUIPES Qualifiées Gr C | E37: =IF(N17="","",N17) -> Galatasaray | H37: EQUIPES Qualifiées Gr D | K37: =IF(N23="","",N23) -> Manchester City | M37: 3 | N37: =IFERROR(OFFSET($T$79,MATCH($M37,$T$80:$T$83,0),1.1,1),"") | O37: =IFERROR(OFFSET($T$79,MATCH($M37,$T$80:$T$83,0),8.1,1),"") | Q37: =IF(C26="","",IF(C26>D26,3,IF(C26=D26,1,0))) | R37: =IF(D26="","",IF(D26>C26,3,IF(D26=C26,1,0))) | T37: =RANK($AC37,$AC$35:$AC$38,0) -> 1 | U37: FC Astana | V37: =COUNTIFS($B$23:$B$34,$U37,$Q$34:$Q$45,3)+COUNTIFS($E$23:$E$34,$U37,$R$34:$R$45,3) -> 0 | W37: =COUNTIFS($B$23:$B$34,$U37,$Q$34:$Q$45,1)+COUNTIFS($E$23:$E$34,$U37,$R$34:$R$45,1) -> 0 | X37: =COUNTIFS($B$23:$B$34,$U37,$Q$34:$Q$45,0)+COUNTIFS($E$23:$E$34,$U37,$R$34:$R$45,0) -> 0 | Y37: =SUMIF($B$23:$B$34,$U37,$C$23:$C$34)+SUMIF($E$23:$E$34,$U37,$D$23:$D$34) -> 0 | Z37: =SUMIF($B$23:$B$34,$U37,$D$23:$D$34)+SUMIF($E$23:$E$34,$U37,$C$23:$C$34) -> 0 | AA37: =Y37-Z37 -> 0 | AB37: =SUMIF($B$23:$B$34,$U37,$Q$34:$Q$45)+SUMIF($E$23:$E$34,$U37,$R$34:$R$45) -> 0 | AC37: =SUM(AB37*1000000,AA37*1000,Y37*100,V37*10) -> 0
E38: =IF(N18="","",N18) | K38: =IF(N24="","",N24) | M38: 4 | N38: =IFERROR(OFFSET($T$79,MATCH($M38,$T$80:$T$83,0),1.1,1),"") | O38: =IFERROR(OFFSET($T$79,MATCH($M38,$T$80:$T$83,0),8.1,1),"") | Q38: =IF(C27="","",IF(C27>D27,3,IF(C27=D27,1,0))) | R38: =IF(D27="","",IF(D27>C27,3,IF(D27=C27,1,0))) | T38: =RANK($AC38,$AC$35:$AC$38,0) -> 1 | U38: Atlético Madrid | V38: =COUNTIFS($B$23:$B$34,$U38,$Q$34:$Q$45,3)+COUNTIFS($E$23:$E$34,$U38,$R$34:$R$45,3) -> 0 | W38: =COUNTIFS($B$23:$B$34,$U38,$Q$34:$Q$45,1)+COUNTIFS($E$23:$E$34,$U38,$R$34:$R$45,1) -> 0 | X38: =COUNTIFS($B$23:$B$34,$U38,$Q$34:$Q$45,0)+COUNTIFS($E$23:$E$34,$U38,$R$34:$R$45,0) -> 0 | Y38: =SUMIF($B$23:$B$34,$U38,$C$23:$C$34)+SUMIF($E$23:$E$34,$U38,$D$23:$D$34) -> 0 | Z38: =SUMIF($B$23:$B$34,$U38,$D$23:$D$34)+SUMIF($E$23:$E$34,$U38,$C$23:$C$34) -> 0 | AA38: =Y38-Z38 -> 0 | AB38: =SUMIF($B$23:$B$34,$U38,$Q$34:$Q$45)+SUMIF($E$23:$E$34,$U38,$R$34:$R$45) -> 0 | AC38: =SUM(AB38*1000000,AA38*1000,Y38*100,V38*10) -> 0
Q39: =IF(C28="","",IF(C28>D28,3,IF(C28=D28,1,0))) | R39: =IF(D28="","",IF(D28>C28,3,IF(D28=C28,1,0)))
B40: GROUPE E | H40: GROUPE F | N40: Classement Groupe G | O40: Pts | Q40: =IF(C29="","",IF(C29>D29,3,IF(C29=D29,1,0))) | R40: =IF(D29="","",IF(D29>C29,3,IF(D29=C29,1,0)))
A41: =IF(OR(C41="",D41=""),"",IF(C41>D41,"V",IF(C41<D41,"P","N"))) | B41: AS Roma | E41: FC Barcelone | G41: =IF(OR(I41="",J41=""),"",IF(I41>J41,"V",IF(I41<J41,"P","N"))) | H41: Olympiakos | K41: Bayern Munich | M41: 1 | N41: =IFERROR(OFFSET($T$94,MATCH($M41,$T$95:$T$98,0),1.1,1),"") -> Dynamo Kiev | O41: =IFERROR(OFFSET($T$94,MATCH($M41,$T$95:$T$98,0),8.1,1),"") -> 0 | Q41: =IF(C30="","",IF(C30>D30,3,IF(C30=D30,1,0))) | R41: =IF(D30="","",IF(D30>C30,3,IF(D30=C30,1,0)))
A42: =IF(OR(C42="",D42=""),"",IF(C42>D42,"V",IF(C42<D42,"P","N"))) | B42: Bayer Leverkusen | E42: BATE Borisov | G42: =IF(OR(I42="",J42=""),"",IF(I42>J42,"V",IF(I42<J42,"P","N"))) | H42: Dinamo Zagreb | K42: Arsenal | M42: 2 | N42: =IFERROR(OFFSET($T$94,MATCH($M42,$T$95:$T$98,0),1.1,1),"") | O42: =IFERROR(OFFSET($T$94,MATCH($M42,$T$95:$T$98,0),8.1,1),"") | Q42: =IF(C31="","",IF(C31>D31,3,IF(C31=D31,1,0))) | R42: =IF(D31="","",IF(D31>C31,3,IF(D31=C31,1,0)))
A43: =IF(OR(C43="",D43=""),"",IF(C43>D43,"V",IF(C43<D43,"P","N"))) | B43: FC Barcelone | E43: Bayer Leverkusen | G43: =IF(OR(I43="",J43=""),"",IF(I43>J43,"V",IF(I43<J43,"P","N"))) | H43: Bayern Munich | K43: Dinamo Zagreb | M43: 3 | N43: =IFERROR(OFFSET($T$94,MATCH($M43,$T$95:$T$98,0),1.1,1),"") | O43: =IFERROR(OFFSET($T$94,MATCH($M43,$T$95:$T$98,0),8.1,1),"") | Q43: =IF(C32="","",IF(C32>D32,3,IF(C32=D32,1,0))) | R43: =IF(D32="","",IF(D32>C32,3,IF(D32=C32,1,0)))
A44: =IF(OR(C44="",D44=""),"",IF(C44>D44,"V",IF(C44<D44,"P","N"))) | B44: BATE Borisov | E44: AS Roma | G44: =IF(OR(I44="",J44=""),"",IF(I44>J44,"V",IF(I44<J44,"P","N"))) | H44: Arsenal | K44: Olympiakos | M44: 4 | N44: =IFERROR(OFFSET($T$94,MATCH($M44,$T$95:$T$98,0),1.1,1),"") | O44: =IFERROR(OFFSET($T$94,MATCH($M44,$T$95:$T$98,0),8.1,1),"") | Q44: =IF(C33="","",IF(C33>D33,3,IF(C33=D33,1,0))) | R44: =IF(D33="","",IF(D33>C33,3,IF(D33=C33,1,0)))
A45: =IF(OR(C45="",D45=""),"",IF(C45>D45,"V",IF(C45<D45,"P","N"))) | B45: BATE Borisov | E45: FC Barcelone | G45: =IF(OR(I45="",J45=""),"",IF(I45>J45,"V",IF(I45<J45,"P","N"))) | H45: Arsenal | K45: Bayern Munich | Q45: =IF(C34="","",IF(C34>D34,3,IF(C34=D34,1,0))) | R45: =IF(D34="","",IF(D34>C34,3,IF(D34=C34,1,0)))
A46: =IF(OR(C46="",D46=""),"",IF(C46>D46,"V",IF(C46<D46,"P","N"))) | B46: Bayer Leverkusen | E46: AS Roma | G46: =IF(OR(I46="",J46=""),"",IF(I46>J46,"V",IF(I46<J46,"P","N"))) | H46: Dinamo Zagreb | K46: Olympiakos | N46: Classement Groupe H | O46: Pts
A47: =IF(OR(C47="",D47=""),"",IF(C47>D47,"V",IF(C47<D47,"P","N"))) | B47: AS Roma | E47: Bayer Leverkusen | G47: =IF(OR(I47="",J47=""),"",IF(I47>J47,"V",IF(I47<J47,"P","N"))) | H47: Bayern Munich | K47: Arsenal | M47: 1 | N47: =IFERROR(OFFSET($T$109,MATCH($M47,$T$110:$T$113,0),1.1,1),"") -> La Gantoise | O47: =IFERROR(OFFSET($T$109,MATCH($M47,$T$110:$T$113,0),8.1,1),"") -> 0 | Q47: POINT GROUPE D | T47: Recap Groupe D
A48: =IF(OR(C48="",D48=""),"",IF(C48>D48,"V",IF(C48<D48,"P","N"))) | B48: FC Barcelone | E48: BATE Borisov | G48: =IF(OR(I48="",J48=""),"",IF(I48>J48,"V",IF(I48<J48,"P","N"))) | H48: Olympiakos | K48: Dinamo Zagreb | M48: 2 | N48: =IFERROR(OFFSET($T$109,MATCH($M48,$T$110:$T$113,0),1.1,1),"") | O48: =IFERROR(OFFSET($T$109,MATCH($M48,$T$110:$T$113,0),8.1,1),"")
A49: =IF(OR(C49="",D49=""),"",IF(C49>D49,"V",IF(C49<D49,"P","N"))) | B49: BATE Borisov | E49: Bayer Leverkusen | G49: =IF(OR(I49="",J49=""),"",IF(I49>J49,"V",IF(I49<J49,"P","N"))) | H49: Arsenal | K49: Dinamo Zagreb | M49: 3 | N49: =IFERROR(OFFSET($T$109,MATCH($M49,$T$110:$T$113,0),1.1,1),"") | O49: =IFERROR(OFFSET($T$109,MATCH($M49,$T$110:$T$113,0),8.1,1),"") | Q49: =IF(I23="","",IF(I23>J23,3,IF(I23=J23,1,0))) | R49: =IF(J23="","",IF(J23>I23,3,IF(J23=I23,1,0))) | T49: Classement | U49: Equipe | V49: Victoire | W49: Nul | X49: Defaite | Y49: But marqué | Z49: But Encaissé | AA49: Goal Average | AB49: Total point | AC49: Critere classement
A50: =IF(OR(C50="",D50=""),"",IF(C50>D50,"V",IF(C50<D50,"P","N"))) | B50: FC Barcelone | E50: AS Roma | G50: =IF(OR(I50="",J50=""),"",IF(I50>J50,"V",IF(I50<J50,"P","N"))) | H50: Bayern Munich | K50: Olympiakos | M50: 4 | N50: =IFERROR(OFFSET($T$109,MATCH($M50,$T$110:$T$113,0),1.1,1),"") | O50: =IFERROR(OFFSET($T$109,MATCH($M50,$T$110:$T$113,0),8.1,1),"") | Q50: =IF(I24="","",IF(I24>J24,3,IF(I24=J24,1,0))) | R50: =IF(J24="","",IF(J24>I24,3,IF(J24=I24,1,0))) | T50: =RANK($AC50,$AC$50:$AC$53,0) -> 1 | U50: Manchester City | V50: =COUNTIFS($H$23:$H$34,$U50,$Q$49:$Q$60,3)+COUNTIFS($K$23:$K$34,$U50,$R$49:$R$60,3) -> 0 | W50: =COUNTIFS($H$23:$H$34,$U50,$Q$49:$Q$60,1)+COUNTIFS($K$23:$K$34,$U50,$R$49:$R$60,1) -> 0 | X50: =COUNTIFS($H$23:$H$34,$U50,$Q$49:$Q$60,0)+COUNTIFS($K$23:$K$34,$U50,$R$49:$R$60,0) -> 0 | Y50: =SUMIF($H$23:$H$34,$U50,$J$23:$J$34)+SUMIF($K$23:$K$34,$U50,$I$23:$I$34) -> 0 | Z50: =SUMIF($H$23:$H$34,$U50,$J$23:$J$34)+SUMIF($K$23:$K$34,$U50,$I$23:$I$34) -> 0 | AA50: =Y50-Z50 -> 0 | AB50: =SUMIF($H$23:$H$34,$U50,$Q$49:$Q$60)+SUMIF($K$23:$K$34,$U50,$R$49:$R$60) -> 0 | AC50: =SUM(AB50*1000000,AA50*1000,Y50*100,V50*10) -> 0
A51: =IF(OR(C51="",D51=""),"",IF(C51>D51,"V",IF(C51<D51,"P","N"))) | B51: Bayer Leverkusen | E51: FC Barcelone | G51: =IF(OR(I51="",J51=""),"",IF(I51>J51,"V",IF(I51<J51,"P","N"))) | H51: Dinamo Zagreb | K51: Bayern Munich | Q51: =IF(I25="","",IF(I25>J25,3,IF(I25=J25,1,0))) | R51: =IF(J25="","",IF(J25>I25,3,IF(J25=I25,1,0))) | T51: =RANK($AC51,$AC$50:$AC$53,0) -> 1 | U51: Séville FC | V51: =COUNTIFS($H$23:$H$34,$U51,$Q$49:$Q$60,3)+COUNTIFS($K$23:$K$34,$U51,$R$49:$R$60,3) -> 0 | W51: =COUNTIFS($H$23:$H$34,$U51,$Q$49:$Q$60,1)+COUNTIFS($K$23:$K$34,$U51,$R$49:$R$60,1) -> 0 | X51: =COUNTIFS($H$23:$H$34,$U51,$Q$49:$Q$60,0)+COUNTIFS($K$23:$K$34,$U51,$R$49:$R$60,0) -> 0 | Y51: =SUMIF($H$23:$H$34,$U51,$J$23:$J$34)+SUMIF($K$23:$K$34,$U51,$I$23:$I$34) -> 0 | Z51: =SUMIF($H$23:$H$34,$U51,$J$23:$J$34)+SUMIF($K$23:$K$34,$U51,$I$23:$I$34) -> 0 | AA51: =Y51-Z51 -> 0 | AB51: =SUMIF($H$23:$H$34,$U51,$Q$49:$Q$60)+SUMIF($K$23:$K$34,$U51,$R$49:$R$60) -> 0 | AC51: =SUM(AB51*1000000,AA51*1000,Y51*100,V51*10) -> 0
A52: =IF(OR(C52="",D52=""),"",IF(C52>D52,"V",IF(C52<D52,"P","N"))) | B52: AS Roma | E52: BATE Borisov | G52: =IF(OR(I52="",J52=""),"",IF(I52>J52,"V",IF(I52<J52,"P","N"))) | H52: Olympiakos | K52: Arsenal | Q52: =IF(I26="","",IF(I26>J26,3,IF(I26=J26,1,0))) | R52: =IF(J26="","",IF(J26>I26,3,IF(J26=I26,1,0))) | T52: =RANK($AC52,$AC$50:$AC$53,0) -> 1 | U52: Juventus Turin | V52: =COUNTIFS($H$23:$H$34,$U52,$Q$49:$Q$60,3)+COUNTIFS($K$23:$K$34,$U52,$R$49:$R$60,3) -> 0 | W52: =COUNTIFS($H$23:$H$34,$U52,$Q$49:$Q$60,1)+COUNTIFS($K$23:$K$34,$U52,$R$49:$R$60,1) -> 0 | X52: =COUNTIFS($H$23:$H$34,$U52,$Q$49:$Q$60,0)+COUNTIFS($K$23:$K$34,$U52,$R$49:$R$60,0) -> 0 | Y52: =SUMIF($H$23:$H$34,$U52,$J$23:$J$34)+SUMIF($K$23:$K$34,$U52,$I$23:$I$34) -> 0 | Z52: =SUMIF($H$23:$H$34,$U52,$J$23:$J$34)+SUMIF($K$23:$K$34,$U52,$I$23:$I$34) -> 0 | AA52: =Y52-Z52 -> 0 | AB52: =SUMIF($H$23:$H$34,$U52,$Q$49:$Q$60)+SUMIF($K$23:$K$34,$U52,$R$49:$R$60) -> 0 | AC52: =SUM(AB52*1000000,AA52*1000,Y52*100,V52*10) -> 0
Q53: =IF(I27="","",IF(I27>J27,3,IF(I27=J27,1,0))) | R53: =IF(J27="","",IF(J27>I27,3,IF(J27=I27,1,0))) | T53: =RANK($AC53,$AC$50:$AC$53,0) -> 1 | U53: Borussia M'Gladbach | V53: =COUNTIFS($H$23:$H$34,$U53,$Q$49:$Q$60,3)+COUNTIFS($K$23:$K$34,$U53,$R$49:$R$60,3) -> 0 | W53: =COUNTIFS($H$23:$H$34,$U53,$Q$49:$Q$60,1)+COUNTIFS($K$23:$K$34,$U53,$R$49:$R$60,1) -> 0 | X53: =COUNTIFS($H$23:$H$34,$U53,$Q$49:$Q$60,0)+COUNTIFS($K$23:$K$34,$U53,$R$49:$R$60,0) -> 0 | Y53: =SUMIF($H$23:$H$34,$U53,$J$23:$J$34)+SUMIF($K$23:$K$34,$U53,$I$23:$I$34) -> 0 | Z53: =SUMIF($H$23:$H$34,$U53,$J$23:$J$34)+SUMIF($K$23:$K$34,$U53,$I$23:$I$34) -> 0 | AA53: =Y53-Z53 -> 0 | AB53: =SUMIF($H$23:$H$34,$U53,$Q$49:$Q$60)+SUMIF($K$23:$K$34,$U53,$R$49:$R$60) -> 0 | AC53: =SUM(AB53*1000000,AA53*1000,Y53*100,V53*10) -> 0
Q54: =IF(I28="","",IF(I28>J28,3,IF(I28=J28,1,0))) | R54: =IF(J28="","",IF(J28>I28,3,IF(J28=I28,1,0)))
B55: EQUIPES Qualifiées Gr E | E55: =IF(N29="","",N29) -> AS Roma | H55: EQUIPES Qualifiées Gr F | K55: =IF(N35="","",N35) -> Olympiakos | Q55: =IF(I29="","",IF(I29>J29,3,IF(I29=J29,1,0))) | R55: =IF(J29="","",IF(J29>I29,3,IF(J29=I29,1,0)))
E56: =IF(N30="","",N30) | K56: =IF(N36="","",N36) | Q56: =IF(I30="","",IF(I30>J30,3,IF(I30=J30,1,0))) | R56: =IF(J30="","",IF(J30>I30,3,IF(J30=I30,1,0)))
Q57: =IF(I31="","",IF(I31>J31,3,IF(I31=J31,1,0))) | R57: =IF(J31="","",IF(J31>I31,3,IF(J31=I31,1,0)))
B58: GROUPE G | H58: GROUPE H | Q58: =IF(I32="","",IF(I32>J32,3,IF(I32=J32,1,0))) | R58: =IF(J32="","",IF(J32>I32,3,IF(J32=I32,1,0)))
A59: =IF(OR(C59="",D59=""),"",IF(C59>D59,"V",IF(C59<D59,"P","N"))) | B59: Dynamo Kiev | E59: FC Porto | G59: =IF(OR(I59="",J59=""),"",IF(I59>J59,"V",IF(I59<J59,"P","N"))) | H59: La Gantoise | K59: Lyon | Q59: =IF(I33="","",IF(I33>J33,3,IF(I33=J33,1,0))) | R59: =IF(J33="","",IF(J33>I33,3,IF(J33=I33,1,0)))
A60: =IF(OR(C60="",D60=""),"",IF(C60>D60,"V",IF(C60<D60,"P","N"))) | B60: Chelsea | E60: Maccabi Tel-Aviv | G60: =IF(OR(I60="",J60=""),"",IF(I60>J60,"V",IF(I60<J60,"P","N"))) | H60: Valence CF | K60: Zenith Saint-Pétersbourg | Q60: =IF(I34="","",IF(I34>J34,3,IF(I34=J34,1,0))) | R60: =IF(J34="","",IF(J34>I34,3,IF(J34=I34,1,0)))
A61: =IF(OR(C61="",D61=""),"",IF(C61>D61,"V",IF(C61<D61,"P","N"))) | B61: FC Porto | E61: Chelsea | G61: =IF(OR(I61="",J61=""),"",IF(I61>J61,"V",IF(I61<J61,"P","N"))) | H61: Lyon | K61: Valence CF
A62: =IF(OR(C62="",D62=""),"",IF(C62>D62,"V",IF(C62<D62,"P","N"))) | B62: Maccabi Tel-Aviv | E62: Dynamo Kiev | G62: =IF(OR(I62="",J62=""),"",IF(I62>J62,"V",IF(I62<J62,"P","N"))) | H62: Zénith Saint-Pétersbourg | K62: La Gantoise | Q62: POINT GROUPE E | T62: Recap Groupe E
A63: =IF(OR(C63="",D63=""),"",IF(C63>D63,"V",IF(C63<D63,"P","N"))) | B63: Dynamo Kiev | E63: Chelsea | G63: =IF(OR(I63="",J63=""),"",IF(I63>J63,"V",IF(I63<J63,"P","N"))) | H63: Zénith Saint-Pétersbourg | K63: Lyon
A64: =IF(OR(C64="",D64=""),"",IF(C64>D64,"V",IF(C64<D64,"P","N"))) | B64: FC Porto | E64: Maccabi Tel-Aviv | G64: =IF(OR(I64="",J64=""),"",IF(I64>J64,"V",IF(I64<J64,"P","N"))) | H64: Valence CF | K64: La Gantoise | Q64: =IF(C41="","",IF(C41>D41,3,IF(C41=D41,1,0))) | R64: =IF(D41="","",IF(D41>C41,3,IF(D41=C41,1,0))) | T64: Classement | U64: Equipe | V64: Victoire | W64: Nul | X64: Defaite | Y64: But marqué | Z64: But Encaissé | AA64: Goal Average | AB64: Total point | AC64: Critere classement
A65: =IF(OR(C65="",D65=""),"",IF(C65>D65,"V",IF(C65<D65,"P","N"))) | B65: Chelsea | E65: Dynamo Kiev | G65: =IF(OR(I65="",J65=""),"",IF(I65>J65,"V",IF(I65<J65,"P","N"))) | H65: La Gantoise | K65: Valence CF | Q65: =IF(C42="","",IF(C42>D42,3,IF(C42=D42,1,0))) | R65: =IF(D42="","",IF(D42>C42,3,IF(D42=C42,1,0))) | T65: =RANK($AC65,$AC$65:$AC$68,0) -> 1 | U65: AS Roma | V65: =COUNTIFS($B$41:$B$52,$U65,$Q$64:$Q$75,3)+COUNTIFS($E$41:$E$52,$U65,$R$64:$R$75,3) -> 0 | W65: =COUNTIFS($B$41:$B$52,$U65,$Q$64:$Q$75,1)+COUNTIFS($E$41:$E$52,$U65,$R$64:$R$75,1) -> 0 | X65: =COUNTIFS($B$41:$B$52,$U65,$Q$64:$Q$75,0)+COUNTIFS($E$41:$E$52,$U65,$R$64:$R$75,0) -> 0 | Y65: =SUMIF($B$41:$B$52,$U65,$C$41:$C$52)+SUMIF($E$41:$E$52,$U65,$D$41:$D$52) -> 0 | Z65: =SUMIF($B$41:$B$52,$U65,$D$41:$D$52)+SUMIF($E$41:$E$52,$U65,$C$41:$C$52) -> 0 | AA65: =Y65-Z65 -> 0 | AB65: =SUMIF($B$41:$B$52,$U65,$Q$64:$Q$75)+SUMIF($E$41:$E$52,$U65,$R$64:$R$75) -> 0 | AC65: =SUM(AB65*1000000,AA65*1000,Y65*100,V65*10) -> 0
A66: =IF(OR(C66="",D66=""),"",IF(C66>D66,"V",IF(C66<D66,"P","N"))) | B66: Maccabi Tel-Aviv | E66: FC Porto | G66: =IF(OR(I66="",J66=""),"",IF(I66>J66,"V",IF(I66<J66,"P","N"))) | H66: Lyon | K66: Zenith Saint-Pétersbourg | Q66: =IF(C43="","",IF(C43>D43,3,IF(C43=D43,1,0))) | R66: =IF(D43="","",IF(D43>C43,3,IF(D43=C43,1,0))) | T66: =RANK($AC66,$AC$65:$AC$68,0) -> 1 | U66: Bayer Leverkusen | V66: =COUNTIFS($B$41:$B$52,$U66,$Q$64:$Q$75,3)+COUNTIFS($E$41:$E$52,$U66,$R$64:$R$75,3) -> 0 | W66: =COUNTIFS($B$41:$B$52,$U66,$Q$64:$Q$75,1)+COUNTIFS($E$41:$E$52,$U66,$R$64:$R$75,1) -> 0 | X66: =COUNTIFS($B$41:$B$52,$U66,$Q$64:$Q$75,0)+COUNTIFS($E$41:$E$52,$U66,$R$64:$R$75,0) -> 0 | Y66: =SUMIF($B$41:$B$52,$U66,$C$41:$C$52)+SUMIF($E$41:$E$52,$U66,$D$41:$D$52) -> 0 | Z66: =SUMIF($B$41:$B$52,$U66,$D$41:$D$52)+SUMIF($E$41:$E$52,$U66,$C$41:$C$52) -> 0 | AA66: =Y66-Z66 -> 0 | AB66: =SUMIF($B$41:$B$52,$U66,$Q$64:$Q$75)+SUMIF($E$41:$E$52,$U66,$R$64:$R$75) -> 0 | AC66: =SUM(AB66*1000000,AA66*1000,Y66*100,V66*10) -> 0
A67: =IF(OR(C67="",D67=""),"",IF(C67>D67,"V",IF(C67<D67,"P","N"))) | B67: Maccabi Tel-Aviv | E67: Chelsea | G67: =IF(OR(I67="",J67=""),"",IF(I67>J67,"V",IF(I67<J67,"P","N"))) | H67: Zénith Saint-Pétersbourg | K67: Valence CF | Q67: =IF(C44="","",IF(C44>D44,3,IF(C44=D44,1,0))) | R67: =IF(D44="","",IF(D44>C44,3,IF(D44=C44,1,0))) | T67: =RANK($AC67,$AC$65:$AC$68,0) -> 1 | U67: FC Barcelone | V67: =COUNTIFS($B$41:$B$52,$U67,$Q$64:$Q$75,3)+COUNTIFS($E$41:$E$52,$U67,$R$64:$R$75,3) -> 0 | W67: =COUNTIFS($B$41:$B$52,$U67,$Q$64:$Q$75,1)+COUNTIFS($E$41:$E$52,$U67,$R$64:$R$75,1) -> 0 | X67: =COUNTIFS($B$41:$B$52,$U67,$Q$64:$Q$75,0)+COUNTIFS($E$41:$E$52,$U67,$R$64:$R$75,0) -> 0 | Y67: =SUMIF($B$41:$B$52,$U67,$C$41:$C$52)+SUMIF($E$41:$E$52,$U67,$D$41:$D$52) -> 0 | Z67: =SUMIF($B$41:$B$52,$U67,$D$41:$D$52)+SUMIF($E$41:$E$52,$U67,$C$41:$C$52) -> 0 | AA67: =Y67-Z67 -> 0 | AB67: =SUMIF($B$41:$B$52,$U67,$Q$64:$Q$75)+SUMIF($E$41:$E$52,$U67,$R$64:$R$75) -> 0 | AC67: =SUM(AB67*1000000,AA67*1000,Y67*100,V67*10) -> 0
A68: =IF(OR(C68="",D68=""),"",IF(C68>D68,"V",IF(C68<D68,"P","N"))) | B68: FC Porto | E68: Dynamo Kiev | G68: =IF(OR(I68="",J68=""),"",IF(I68>J68,"V",IF(I68<J68,"P","N"))) | H68: Lyon | K68: La Gantoise | Q68: =IF(C45="","",IF(C45>D45,3,IF(C45=D45,1,0))) | R68: =IF(D45="","",IF(D45>C45,3,IF(D45=C45,1,0))) | T68: =RANK($AC68,$AC$65:$AC$68,0) -> 1 | U68: BATE Borisov | V68: =COUNTIFS($B$41:$B$52,$U68,$Q$64:$Q$75,3)+COUNTIFS($E$41:$E$52,$U68,$R$64:$R$75,3) -> 0 | W68: =COUNTIFS($B$41:$B$52,$U68,$Q$64:$Q$75,1)+COUNTIFS($E$41:$E$52,$U68,$R$64:$R$75,1) -> 0 | X68: =COUNTIFS($B$41:$B$52,$U68,$Q$64:$Q$75,0)+COUNTIFS($E$41:$E$52,$U68,$R$64:$R$75,0) -> 0 | Y68: =SUMIF($B$41:$B$52,$U68,$C$41:$C$52)+SUMIF($E$41:$E$52,$U68,$D$41:$D$52) -> 0 | Z68: =SUMIF($B$41:$B$52,$U68,$D$41:$D$52)+SUMIF($E$41:$E$52,$U68,$C$41:$C$52) -> 0 | AA68: =Y68-Z68 -> 0 | AB68: =SUMIF($B$41:$B$52,$U68,$Q$64:$Q$75)+SUMIF($E$41:$E$52,$U68,$R$64:$R$75) -> 0 | AC68: =SUM(AB68*1000000,AA68*1000,Y68*100,V68*10) -> 0
A69: =IF(OR(C69="",D69=""),"",IF(C69>D69,"V",IF(C69<D69,"P","N"))) | B69: Chelsea | E69: FC Porto | G69: =IF(OR(I69="",J69=""),"",IF(I69>J69,"V",IF(I69<J69,"P","N"))) | H69: Valence CF | K69: Lyon | Q69: =IF(C46="","",IF(C46>D46,3,IF(C46=D46,1,0))) | R69: =IF(D46="","",IF(D46>C46,3,IF(D46=C46,1,0)))
A70: =IF(OR(C70="",D70=""),"",IF(C70>D70,"V",IF(C70<D70,"P","N"))) | B70: Dynamo Kiev | E70: Maccabi Tel-Aviv | G70: =IF(OR(I70="",J70=""),"",IF(I70>J70,"V",IF(I70<J70,"P","N"))) | H70: La Gantoise | K70: Zenith Saint-Pétersbourg | Q70: =IF(C47="","",IF(C47>D47,3,IF(C47=D47,1,0))) | R70: =IF(D47="","",IF(D47>C47,3,IF(D47=C47,1,0)))
Q71: =IF(C48="","",IF(C48>D48,3,IF(C48=D48,1,0))) | R71: =IF(D48="","",IF(D48>C48,3,IF(D48=C48,1,0)))
Q72: =IF(C49="","",IF(C49>D49,3,IF(C49=D49,1,0))) | R72: =IF(D49="","",IF(D49>C49,3,IF(D49=C49,1,0)))
B73: EQUIPES Qualifiées Gr G | E73: =IF(N41="","",N41) -> Dynamo Kiev | H73: EQUIPES Qualifiées Gr H | K73: =IF(N47="","",N47) -> La Gantoise | Q73: =IF(C50="","",IF(C50>D50,3,IF(C50=D50,1,0))) | R73: =IF(D50="","",IF(D50>C50,3,IF(D50=C50,1,0)))
E74: =IF(N42="","",N42) | K74: =IF(N48="","",N48) | Q74: =IF(C51="","",IF(C51>D51,3,IF(C51=D51,1,0))) | R74: =IF(D51="","",IF(D51>C51,3,IF(D51=C51,1,0)))
Q75: =IF(C52="","",IF(C52>D52,3,IF(C52=D52,1,0))) | R75: =IF(D52="","",IF(D52>C52,3,IF(D52=C52,1,0)))
Q77: POINT GROUPE F | T77: Recap Groupe F
Q79: =IF(I41="","",IF(I41>J41,3,IF(I41=J41,1,0))) | R79: =IF(J41="","",IF(J41>I41,3,IF(J41=I41,1,0))) | T79: Classement | U79: Equipe | V79: Victoire | W79: Nul | X79: Defaite | Y79: But marqué | Z79: But Encaissé | AA79: Goal Average | AB79: Total point | AC79: Critere classement
Q80: =IF(I42="","",IF(I42>J42,3,IF(I42=J42,1,0))) | R80: =IF(J42="","",IF(J42>I42,3,IF(J42=I42,1,0))) | T80: =RANK($AC80,$AC$80:$AC$83,0) -> 1 | U80: Olympiakos | V80: =COUNTIFS($H$41:$H$52,$U80,$Q$79:$Q$90,3)+COUNTIFS($K$41:$K$52,$U80,$R$79:$R$90,3) -> 0 | W80: =COUNTIFS($H$41:$H$52,$U80,$Q$79:$Q$90,1)+COUNTIFS($K$41:$K$52,$U80,$R$79:$R$90,1) -> 0 | X80: =COUNTIFS($H$41:$H$52,$U80,$Q$79:$Q$90,0)+COUNTIFS($K$41:$K$52,$U80,$R$79:$R$90,0) -> 0 | Y80: =SUMIF($H$41:$H$52,$U80,$J$41:$J$52)+SUMIF($K$41:$K$52,$U80,$I$41:$I$52) -> 0 | Z80: =SUMIF($H$41:$H$52,$U80,$J$41:$J$52)+SUMIF($K$41:$K$52,$U80,$I$41:$I$52) -> 0 | AA80: =Y80-Z80 -> 0 | AB80: =SUMIF($H$41:$H$52,$U80,$Q$79:$Q$90)+SUMIF($K$41:$K$52,$U80,$R$79:$R$90) -> 0 | AC80: =SUM(AB80*1000000,AA80*1000,Y80*100,V80*10) -> 0
Q81: =IF(I43="","",IF(I43>J43,3,IF(I43=J43,1,0))) | R81: =IF(J43="","",IF(J43>I43,3,IF(J43=I43,1,0))) | T81: =RANK($AC81,$AC$80:$AC$83,0) -> 1 | U81: Dinamo Zagreb | V81: =COUNTIFS($H$41:$H$52,$U81,$Q$79:$Q$90,3)+COUNTIFS($K$41:$K$52,$U81,$R$79:$R$90,3) -> 0 | W81: =COUNTIFS($H$41:$H$52,$U81,$Q$79:$Q$90,1)+COUNTIFS($K$41:$K$52,$U81,$R$79:$R$90,1) -> 0 | X81: =COUNTIFS($H$41:$H$52,$U81,$Q$79:$Q$90,0)+COUNTIFS($K$41:$K$52,$U81,$R$79:$R$90,0) -> 0 | Y81: =SUMIF($H$41:$H$52,$U81,$J$41:$J$52)+SUMIF($K$41:$K$52,$U81,$I$41:$I$52) -> 0 | Z81: =SUMIF($H$41:$H$52,$U81,$J$41:$J$52)+SUMIF($K$41:$K$52,$U81,$I$41:$I$52) -> 0 | AA81: =Y81-Z81 -> 0 | AB81: =SUMIF($H$41:$H$52,$U81,$Q$79:$Q$90)+SUMIF($K$41:$K$52,$U81,$R$79:$R$90) -> 0 | AC81: =SUM(AB81*1000000,AA81*1000,Y81*100,V81*10) -> 0
Q82: =IF(I44="","",IF(I44>J44,3,IF(I44=J44,1,0))) | R82: =IF(J44="","",IF(J44>I44,3,IF(J44=I44,1,0))) | T82: =RANK($AC82,$AC$80:$AC$83,0) -> 1 | U82: Bayern Munich | V82: =COUNTIFS($H$41:$H$52,$U82,$Q$79:$Q$90,3)+COUNTIFS($K$41:$K$52,$U82,$R$79:$R$90,3) -> 0 | W82: =COUNTIFS($H$41:$H$52,$U82,$Q$79:$Q$90,1)+COUNTIFS($K$41:$K$52,$U82,$R$79:$R$90,1) -> 0 | X82: =COUNTIFS($H$41:$H$52,$U82,$Q$79:$Q$90,0)+COUNTIFS($K$41:$K$52,$U82,$R$79:$R$90,0) -> 0 | Y82: =SUMIF($H$41:$H$52,$U82,$J$41:$J$52)+SUMIF($K$41:$K$52,$U82,$I$41:$I$52) -> 0 | Z82: =SUMIF($H$41:$H$52,$U82,$J$41:$J$52)+SUMIF($K$41:$K$52,$U82,$I$41:$I$52) -> 0 | AA82: =Y82-Z82 -> 0 | AB82: =SUMIF($H$41:$H$52,$U82,$Q$79:$Q$90)+SUMIF($K$41:$K$52,$U82,$R$79:$R$90) -> 0 | AC82: =SUM(AB82*1000000,AA82*1000,Y82*100,V82*10) -> 0
Q83: =IF(I45="","",IF(I45>J45,3,IF(I45=J45,1,0))) | R83: =IF(J45="","",IF(J45>I45,3,IF(J45=I45,1,0))) | T83: =RANK($AC83,$AC$80:$AC$83,0) -> 1 | U83: Arsenal | V83: =COUNTIFS($H$41:$H$52,$U83,$Q$79:$Q$90,3)+COUNTIFS($K$41:$K$52,$U83,$R$79:$R$90,3) -> 0 | W83: =COUNTIFS($H$41:$H$52,$U83,$Q$79:$Q$90,1)+COUNTIFS($K$41:$K$52,$U83,$R$79:$R$90,1) -> 0 | X83: =COUNTIFS($H$41:$H$52,$U83,$Q$79:$Q$90,0)+COUNTIFS($K$41:$K$52,$U83,$R$79:$R$90,0) -> 0 | Y83: =SUMIF($H$41:$H$52,$U83,$J$41:$J$52)+SUMIF($K$41:$K$52,$U83,$I$41:$I$52) -> 0 | Z83: =SUMIF($H$41:$H$52,$U83,$J$41:$J$52)+SUMIF($K$41:$K$52,$U83,$I$41:$I$52) -> 0 | AA83: =Y83-Z83 -> 0 | AB83: =SUMIF($H$41:$H$52,$U83,$Q$79:$Q$90)+SUMIF($K$41:$K$52,$U83,$R$79:$R$90) -> 0 | AC83: =SUM(AB83*1000000,AA83*1000,Y83*100,V83*10) -> 0
Q84: =IF(I46="","",IF(I46>J46,3,IF(I46=J46,1,0))) | R84: =IF(J46="","",IF(J46>I46,3,IF(J46=I46,1,0)))
Q85: =IF(I47="","",IF(I47>J47,3,IF(I47=J47,1,0))) | R85: =IF(J47="","",IF(J47>I47,3,IF(J47=I47,1,0)))
Q86: =IF(I48="","",IF(I48>J48,3,IF(I48=J48,1,0))) | R86: =IF(J48="","",IF(J48>I48,3,IF(J48=I48,1,0)))
Q87: =IF(I49="","",IF(I49>J49,3,IF(I49=J49,1,0))) | R87: =IF(J49="","",IF(J49>I49,3,IF(J49=I49,1,0)))
Q88: =IF(I50="","",IF(I50>J50,3,IF(I50=J50,1,0))) | R88: =IF(J50="","",IF(J50>I50,3,IF(J50=I50,1,0)))
Q89: =IF(I51="","",IF(I51>J51,3,IF(I51=J51,1,0))) | R89: =IF(J51="","",IF(J51>I51,3,IF(J51=I51,1,0)))
Q90: =IF(I52="","",IF(I52>J52,3,IF(I52=J52,1,0))) | R90: =IF(J52="","",IF(J52>I52,3,IF(J52=I52,1,0)))
Q92: POINT GROUPE G | T92: Recap Groupe G
Q94: =IF(C59="","",IF(C59>D59,3,IF(C59=D59,1,0))) | R94: =IF(D59="","",IF(D59>C59,3,IF(D59=C59,1,0))) | T94: Classement | U94: Equipe | V94: Victoire | W94: Nul | X94: Defaite | Y94: But marqué | Z94: But Encaissé | AA94: Goal Average | AB94: Total point | AC94: Critere classement
Q95: =IF(C60="","",IF(C60>D60,3,IF(C60=D60,1,0))) | R95: =IF(D60="","",IF(D60>C60,3,IF(D60=C60,1,0))) | T95: =RANK($AC95,$AC$95:$AC$98,0) -> 1 | U95: Dynamo Kiev | V95: =COUNTIFS($B$59:$B$70,$U95,$Q$94:$Q$105,3)+COUNTIFS($E$59:$E$70,$U95,$R$94:$R$105,3) -> 0 | W95: =COUNTIFS($B$59:$B$70,$U95,$Q$94:$Q$105,1)+COUNTIFS($E$59:$E$70,$U95,$R$94:$R$105,1) -> 0 | X95: =COUNTIFS($B$59:$B$70,$U95,$Q$94:$Q$105,0)+COUNTIFS($E$59:$E$70,$U95,$R$94:$R$105,0) -> 0 | Y95: =SUMIF($B$59:$B$70,$U95,$C$59:$C$70)+SUMIF($E$59:$E$70,$U95,$D$59:$D$70) -> 0 | Z95: =SUMIF($B$59:$B$70,$U95,$D$59:$D$70)+SUMIF($E$59:$E$70,$U95,$C$59:$C$70) -> 0 | AA95: =Y95-Z95 -> 0 | AB95: =SUMIF($B$59:$B$70,$U95,$Q$94:$Q$105)+SUMIF($E$59:$E$70,$U95,$R$94:$R$105) -> 0 | AC95: =SUM(AB95*1000000,AA95*1000,Y95*100,V95*10) -> 0
Q96: =IF(C61="","",IF(C61>D61,3,IF(C61=D61,1,0))) | R96: =IF(D61="","",IF(D61>C61,3,IF(D61=C61,1,0))) | T96: =RANK($AC96,$AC$95:$AC$98,0) -> 1 | U96: Chelsea | V96: =COUNTIFS($B$59:$B$70,$U96,$Q$94:$Q$105,3)+COUNTIFS($E$59:$E$70,$U96,$R$94:$R$105,3) -> 0 | W96: =COUNTIFS($B$59:$B$70,$U96,$Q$94:$Q$105,1)+COUNTIFS($E$59:$E$70,$U96,$R$94:$R$105,1) -> 0 | X96: =COUNTIFS($B$59:$B$70,$U96,$Q$94:$Q$105,0)+COUNTIFS($E$59:$E$70,$U96,$R$94:$R$105,0) -> 0 | Y96: =SUMIF($B$59:$B$70,$U96,$C$59:$C$70)+SUMIF($E$59:$E$70,$U96,$D$59:$D$70) -> 0 | Z96: =SUMIF($B$59:$B$70,$U96,$D$59:$D$70)+SUMIF($E$59:$E$70,$U96,$C$59:$C$70) -> 0 | AA96: =Y96-Z96 -> 0 | AB96: =SUMIF($B$59:$B$70,$U96,$Q$94:$Q$105)+SUMIF($E$59:$E$70,$U96,$R$94:$R$105) -> 0 | AC96: =SUM(AB96*1000000,AA96*1000,Y96*100,V96*10) -> 0
Q97: =IF(C62="","",IF(C62>D62,3,IF(C62=D62,1,0))) | R97: =IF(D62="","",IF(D62>C62,3,IF(D62=C62,1,0))) | T97: =RANK($AC97,$AC$95:$AC$98,0) -> 1 | U97: FC Porto | V97: =COUNTIFS($B$59:$B$70,$U97,$Q$94:$Q$105,3)+COUNTIFS($E$59:$E$70,$U97,$R$94:$R$105,3) -> 0 | W97: =COUNTIFS($B$59:$B$70,$U97,$Q$94:$Q$105,1)+COUNTIFS($E$59:$E$70,$U97,$R$94:$R$105,1) -> 0 | X97: =COUNTIFS($B$59:$B$70,$U97,$Q$94:$Q$105,0)+COUNTIFS($E$59:$E$70,$U97,$R$94:$R$105,0) -> 0 | Y97: =SUMIF($B$59:$B$70,$U97,$C$59:$C$70)+SUMIF($E$59:$E$70,$U97,$D$59:$D$70) -> 0 | Z97: =SUMIF($B$59:$B$70,$U97,$D$59:$D$70)+SUMIF($E$59:$E$70,$U97,$C$59:$C$70) -> 0 | AA97: =Y97-Z97 -> 0 | AB97: =SUMIF($B$59:$B$70,$U97,$Q$94:$Q$105)+SUMIF($E$59:$E$70,$U97,$R$94:$R$105) -> 0 | AC97: =SUM(AB97*1000000,AA97*1000,Y97*100,V97*10) -> 0
Q98: =IF(C63="","",IF(C63>D63,3,IF(C63=D63,1,0))) | R98: =IF(D63="","",IF(D63>C63,3,IF(D63=C63,1,0))) | T98: =RANK($AC98,$AC$95:$AC$98,0) -> 1 | U98: Maccabi Tel-Aviv | V98: =COUNTIFS($B$59:$B$70,$U98,$Q$94:$Q$105,3)+COUNTIFS($E$59:$E$70,$U98,$R$94:$R$105,3) -> 0 | W98: =COUNTIFS($B$59:$B$70,$U98,$Q$94:$Q$105,1)+COUNTIFS($E$59:$E$70,$U98,$R$94:$R$105,1) -> 0 | X98: =COUNTIFS($B$59:$B$70,$U98,$Q$94:$Q$105,0)+COUNTIFS($E$59:$E$70,$U98,$R$94:$R$105,0) -> 0 | Y98: =SUMIF($B$59:$B$70,$U98,$C$59:$C$70)+SUMIF($E$59:$E$70,$U98,$D$59:$D$70) -> 0 | Z98: =SUMIF($B$59:$B$70,$U98,$D$59:$D$70)+SUMIF($E$59:$E$70,$U98,$C$59:$C$70) -> 0 | AA98: =Y98-Z98 -> 0 | AB98: =SUMIF($B$59:$B$70,$U98,$Q$94:$Q$105)+SUMIF($E$59:$E$70,$U98,$R$94:$R$105) -> 0 | AC98: =SUM(AB98*1000000,AA98*1000,Y98*100,V98*10) -> 0
Q99: =IF(C64="","",IF(C64>D64,3,IF(C64=D64,1,0))) | R99: =IF(D64="","",IF(D64>C64,3,IF(D64=C64,1,0)))
Q100: =IF(C65="","",IF(C65>D65,3,IF(C65=D65,1,0))) | R100: =IF(D65="","",IF(D65>C65,3,IF(D65=C65,1,0)))
Q101: =IF(C66="","",IF(C66>D66,3,IF(C66=D66,1,0))) | R101: =IF(D66="","",IF(D66>C66,3,IF(D66=C66,1,0)))
Q102: =IF(C67="","",IF(C67>D67,3,IF(C67=D67,1,0))) | R102: =IF(D67="","",IF(D67>C67,3,IF(D67=C67,1,0)))
Q103: =IF(C68="","",IF(C68>D68,3,IF(C68=D68,1,0))) | R103: =IF(D68="","",IF(D68>C68,3,IF(D68=C68,1,0)))
Q104: =IF(C69="","",IF(C69>D69,3,IF(C69=D69,1,0))) | R104: =IF(D69="","",IF(D69>C69,3,IF(D69=C69,1,0)))
Q105: =IF(C70="","",IF(C70>D70,3,IF(C70=D70,1,0))) | R105: =IF(D70="","",IF(D70>C70,3,IF(D70=C70,1,0)))
Q107: POINT GROUPE H | T107: Recap Groupe H
...
