Workbook

Sheet test tableaux sur une feuille
A1: Semaine -1
A3: Région | B3: Agence comm. | C3: Commercial | D3: Client | E3: Connaissance de l'Affaire
A4: R1 | B4: Ventes Suc 1 | C4: Commercial 1 | D4: Client 1 | E4: Oui
C5: Commercial 1 | D5: Client 2 | E5: Non
C6: Commercial 1 | D6: Client 3 | E6: Non
B7: Ventes Suc 2 | C7: Commercial 1 bis | D7: Client 4 | E7: Oui
C8: Commercial 2 bis | D8: Client 5 | E8: Non
C9: Commercial 2 bis | D9: Client 6 | E9: Oui
A13: Semaine en cours
A15: Région | B15: Agence comm. | C15: Commercial | D15: Client FV25 | E15: Connaissance de l'Affaire
A16: R1 | B16: ventes Suc 1 | C16: Commercial 1 | D16: Client 1 | E16: {=INDEX($E$4:$E$9,MAX(IF((C16=$C$4:$C$9)*(D16=$D$4:$D$9),ROW($E$4:$E$9),0)))} -> Oui | F16: TRUE
C17: Commercial 1 | D17: Client 2 | E17: {=INDEX($E$4:$E$9,MAX(IF((C17=$C$4:$C$9)*(D17=$D$4:$D$9),ROW($E$4:$E$9),0)))} -> Non | F17: TRUE
C18: Commercial 1 | D18: Client 3 | E18: {=INDEX($E$4:$E$9,MAX(IF((C18=$C$4:$C$9)*(D18=$D$4:$D$9),ROW($E$4:$E$9),0)))} -> Oui | F18: FALSE
C19: Commercial 1 | D19: Client 4 | E19: {=INDEX($E$4:$E$9,MAX(IF((C19=$C$4:$C$9)*(D19=$D$4:$D$9),ROW($E$4:$E$9),0)))} -> Oui | F19: FALSE
C20: Commercial 1 | D20: Client 5 | E20: {=INDEX($E$4:$E$9,MAX(IF((C20=$C$4:$C$9)*(D20=$D$4:$D$9),ROW($E$4:$E$9),0)))} -> Oui | F20: FALSE
C21: Commercial 1 | D21: Client 6 | E21: {=INDEX($E$4:$E$9,MAX(IF((C21=$C$4:$C$9)*(D21=$D$4:$D$9),ROW($E$4:$E$9),0)))} -> Oui | F21: FALSE
C22: Commercial 1 | D22: Client 7 | E22: {=INDEX($E$4:$E$9,MAX(IF((C22=$C$4:$C$9)*(D22=$D$4:$D$9),ROW($E$4:$E$9),0)))} -> Oui | F22: FALSE
C23: Commercial 1 | D23: Client 8 | E23: {=INDEX($E$4:$E$9,MAX(IF((C23=$C$4:$C$9)*(D23=$D$4:$D$9),ROW($E$4:$E$9),0)))} -> Oui | F23: FALSE
B24: ventes Suc 2 | C24: Commercial 1 | D24: Client 9 | E24: {=INDEX($E$4:$E$9,MAX(IF((C24=$C$4:$C$9)*(D24=$D$4:$D$9),ROW($E$4:$E$9),0)))} -> Oui | F24: FALSE
C25: Commercial 1 bis | D25: Client 1 | E25: {=INDEX($E$4:$E$9,MAX(IF((C25=$C$4:$C$9)*(D25=$D$4:$D$9),ROW($E$4:$E$9),0)))} -> Oui | F25: FALSE
C26: Commercial 1 bis | D26: Client 4 | E26: {=INDEX($E$4:$E$9,MAX(IF((C26=$C$4:$C$9)*(D26=$D$4:$D$9),ROW($E$4:$E$9),0)))} -> #REF! | F26: FALSE
C27: Commercial 1 bis | D27: Client 10 | E27: {=INDEX($E$4:$E$9,MAX(IF((C27=$C$4:$C$9)*(D27=$D$4:$D$9),ROW($E$4:$E$9),0)))} -> Oui | F27: FALSE
C28: Commercial 2 bis | D28: Client 5 | E28: {=INDEX($E$4:$E$9,MAX(IF((C28=$C$4:$C$9)*(D28=$D$4:$D$9),ROW($E$4:$E$9),0)))} -> #REF! | F28: FALSE
C29: Commercial 2 bis | D29: Client 6 | E29: {=INDEX($E$4:$E$9,MAX(IF((C29=$C$4:$C$9)*(D29=$D$4:$D$9),ROW($E$4:$E$9),0)))} -> #REF! | F29: FALSE
C30: Commercial 4 Bis | D30: Client 13 | E30: {=INDEX($E$4:$E$9,MAX(IF((C30=$C$4:$C$9)*(D30=$D$4:$D$9),ROW($E$4:$E$9),0)))} -> Oui | F30: FALSE
C31: Commercial 4 Bis | D31: Client 14 | E31: {=INDEX($E$4:$E$9,MAX(IF((C31=$C$4:$C$9)*(D31=$D$4:$D$9),ROW($E$4:$E$9),0)))} -> Oui | F31: FALSE
C32: Commercial 4 Bis | D32: Client 15 | E32: {=INDEX($E$4:$E$9,MAX(IF((C32=$C$4:$C$9)*(D32=$D$4:$D$9),ROW($E$4:$E$9),0)))} -> Oui | F32: FALSE
C33: Commercial 4 Bis | D33: Client 16 | E33: {=INDEX($E$4:$E$9,MAX(IF((C33=$C$4:$C$9)*(D33=$D$4:$D$9),ROW($E$4:$E$9),0)))} -> Oui | F33: FALSE
C34: Commercial 4 Bis | D34: Client 17 | E34: {=INDEX($E$4:$E$9,MAX(IF((C34=$C$4:$C$9)*(D34=$D$4:$D$9),ROW($E$4:$E$9),0)))} -> Oui | F34: FALSE
C35: Commercial 5 Bis | D35: Client 18 | E35: {=INDEX($E$4:$E$9,MAX(IF((C35=$C$4:$C$9)*(D35=$D$4:$D$9),ROW($E$4:$E$9),0)))} -> Oui | F35: FALSE

Sheet Semaine -1
A1: Région | B1: Agence comm. | C1: Commercial | D1: Client | E1: Connaissance de l'Affaire
A2: R1 | B2: Ventes Suc 1 | C2: Commercial 1 | D2: Client 1 | E2: Oui
C3: Commercial 1 | D3: Client 2 | E3: Oui
C4: Commercial 1 | D4: Client 3 | E4: Oui
B5: Ventes Suc 2 | C5: Commercial 1 bis | D5: Client 4 | E5: Oui
C6: Commercial 2 bis | D6: Client 5 | E6: Oui
C7: Commercial 2 bis | D7: Client 6 | E7: Oui

Sheet Semaine en cours
A1: Région | B1: Agence comm. | C1: Commercial | D1: Client FV25 | E1: Connaissance de l'Affaire
A2: R1 | B2: ventes Suc 1 | C2: Commercial 1 | D2: Client 1 | E2: =IFERROR(IF($C2=INDEX('Semaine -1'!$C$2:$E$7,MATCH('Semaine en cours'!$D2,'Semaine -1'!$D$2:$D$7,0),1),INDEX('Semaine -1'!$C$2:$E$7,MATCH('Semaine en cours'!$D2,'Semaine -1'!$D$2:$D$7,0),3),""),"") -> Oui
A3: R1 | C3: Commercial 1 | D3: Client 2 | E3: =IFERROR(IF($C3=INDEX('Semaine -1'!$C$2:$E$7,MATCH('Semaine en cours'!$D3,'Semaine -1'!$D$2:$D$7,0),1),INDEX('Semaine -1'!$C$2:$E$7,MATCH('Semaine en cours'!$D3,'Semaine -1'!$D$2:$D$7,0),3),""),"") -> Oui | G3: Info à rechercher dans l'autre tableau = 6 lignes doivent matcher
A4: R1 | C4: Commercial 1 | D4: Client 3 | E4: =IFERROR(IF($C4=INDEX('Semaine -1'!$C$2:$E$7,MATCH('Semaine en cours'!$D4,'Semaine -1'!$D$2:$D$7,0),1),INDEX('Semaine -1'!$C$2:$E$7,MATCH('Semaine en cours'!$D4,'Semaine -1'!$D$2:$D$7,0),3),""),"") -> Oui | G4: les autres doivent afficher un msg d'erreur ou rester vides
A5: R1 | C5: Commercial 1 | D5: Client 4 | E5: =IFERROR(IF($C5=INDEX('Semaine -1'!$C$2:$E$7,MATCH('Semaine en cours'!$D5,'Semaine -1'!$D$2:$D$7,0),1),INDEX('Semaine -1'!$C$2:$E$7,MATCH('Semaine en cours'!$D5,'Semaine -1'!$D$2:$D$7,0),3),""),"")
A6: R1 | C6: Commercial 1 | D6: Client 5 | E6: =IFERROR(IF($C6=INDEX('Semaine -1'!$C$2:$E$7,MATCH('Semaine en cours'!$D6,'Semaine -1'!$D$2:$D$7,0),1),INDEX('Semaine -1'!$C$2:$E$7,MATCH('Semaine en cours'!$D6,'Semaine -1'!$D$2:$D$7,0),3),""),"")
A7: R1 | C7: Commercial 1 | D7: Client 6 | E7: =IFERROR(IF($C7=INDEX('Semaine -1'!$C$2:$E$7,MATCH('Semaine en cours'!$D7,'Semaine -1'!$D$2:$D$7,0),1),INDEX('Semaine -1'!$C$2:$E$7,MATCH('Semaine en cours'!$D7,'Semaine -1'!$D$2:$D$7,0),3),""),"")
A8: R1 | C8: Commercial 1 | D8: Client 7 | E8: =IFERROR(IF($C8=INDEX('Semaine -1'!$C$2:$E$7,MATCH('Semaine en cours'!$D8,'Semaine -1'!$D$2:$D$7,0),1),INDEX('Semaine -1'!$C$2:$E$7,MATCH('Semaine en cours'!$D8,'Semaine -1'!$D$2:$D$7,0),3),""),"")
A9: R1 | C9: Commercial 1 | D9: Client 8 | E9: =IFERROR(IF($C9=INDEX('Semaine -1'!$C$2:$E$7,MATCH('Semaine en cours'!$D9,'Semaine -1'!$D$2:$D$7,0),1),INDEX('Semaine -1'!$C$2:$E$7,MATCH('Semaine en cours'!$D9,'Semaine -1'!$D$2:$D$7,0),3),""),"")
A10: R1 | B10: ventes Suc 2 | C10: Commercial 1 | D10: Client 9 | E10: =IFERROR(IF($C10=INDEX('Semaine -1'!$C$2:$E$7,MATCH('Semaine en cours'!$D10,'Semaine -1'!$D$2:$D$7,0),1),INDEX('Semaine -1'!$C$2:$E$7,MATCH('Semaine en cours'!$D10,'Semaine -1'!$D$2:$D$7,0),3),""),"")
A11: R1 | C11: Commercial 1 bis | D11: Client 1 | E11: =IFERROR(IF($C11=INDEX('Semaine -1'!$C$2:$E$7,MATCH('Semaine en cours'!$D11,'Semaine -1'!$D$2:$D$7,0),1),INDEX('Semaine -1'!$C$2:$E$7,MATCH('Semaine en cours'!$D11,'Semaine -1'!$D$2:$D$7,0),3),""),"")
A12: R1 | C12: Commercial 1 bis | D12: Client 4 | E12: =IFERROR(IF($C12=INDEX('Semaine -1'!$C$2:$E$7,MATCH('Semaine en cours'!$D12,'Semaine -1'!$D$2:$D$7,0),1),INDEX('Semaine -1'!$C$2:$E$7,MATCH('Semaine en cours'!$D12,'Semaine -1'!$D$2:$D$7,0),3),""),"") -> Oui
A13: R1 | C13: Commercial 1 bis | D13: Client 10 | E13: =IFERROR(IF($C13=INDEX('Semaine -1'!$C$2:$E$7,MATCH('Semaine en cours'!$D13,'Semaine -1'!$D$2:$D$7,0),1),INDEX('Semaine -1'!$C$2:$E$7,MATCH('Semaine en cours'!$D13,'Semaine -1'!$D$2:$D$7,0),3),""),"")
A14: R1 | C14: Commercial 2 bis | D14: Client 5 | E14: =IFERROR(IF($C14=INDEX('Semaine -1'!$C$2:$E$7,MATCH('Semaine en cours'!$D14,'Semaine -1'!$D$2:$D$7,0),1),INDEX('Semaine -1'!$C$2:$E$7,MATCH('Semaine en cours'!$D14,'Semaine -1'!$D$2:$D$7,0),3),""),"") -> Oui
A15: R1 | C15: Commercial 2 bis | D15: Client 6 | E15: =IFERROR(IF($C15=INDEX('Semaine -1'!$C$2:$E$7,MATCH('Semaine en cours'!$D15,'Semaine -1'!$D$2:$D$7,0),1),INDEX('Semaine -1'!$C$2:$E$7,MATCH('Semaine en cours'!$D15,'Semaine -1'!$D$2:$D$7,0),3),""),"") -> Oui
A16: R1 | C16: Commercial 4 Bis | D16: Client 13 | E16: =IFERROR(IF($C16=INDEX('Semaine -1'!$C$2:$E$7,MATCH('Semaine en cours'!$D16,'Semaine -1'!$D$2:$D$7,0),1),INDEX('Semaine -1'!$C$2:$E$7,MATCH('Semaine en cours'!$D16,'Semaine -1'!$D$2:$D$7,0),3),""),"")
A17: R1 | C17: Commercial 4 Bis | D17: Client 14 | E17: =IFERROR(IF($C17=INDEX('Semaine -1'!$C$2:$E$7,MATCH('Semaine en cours'!$D17,'Semaine -1'!$D$2:$D$7,0),1),INDEX('Semaine -1'!$C$2:$E$7,MATCH('Semaine en cours'!$D17,'Semaine -1'!$D$2:$D$7,0),3),""),"")
A18: R1 | C18: Commercial 4 Bis | D18: Client 15 | E18: =IFERROR(IF($C18=INDEX('Semaine -1'!$C$2:$E$7,MATCH('Semaine en cours'!$D18,'Semaine -1'!$D$2:$D$7,0),1),INDEX('Semaine -1'!$C$2:$E$7,MATCH('Semaine en cours'!$D18,'Semaine -1'!$D$2:$D$7,0),3),""),"")
A19: R1 | C19: Commercial 4 Bis | D19: Client 16 | E19: =IFERROR(IF($C19=INDEX('Semaine -1'!$C$2:$E$7,MATCH('Semaine en cours'!$D19,'Semaine -1'!$D$2:$D$7,0),1),INDEX('Semaine -1'!$C$2:$E$7,MATCH('Semaine en cours'!$D19,'Semaine -1'!$D$2:$D$7,0),3),""),"")
A20: R1 | C20: Commercial 4 Bis | D20: Client 17 | E20: =IFERROR(IF($C20=INDEX('Semaine -1'!$C$2:$E$7,MATCH('Semaine en cours'!$D20,'Semaine -1'!$D$2:$D$7,0),1),INDEX('Semaine -1'!$C$2:$E$7,MATCH('Semaine en cours'!$D20,'Semaine -1'!$D$2:$D$7,0),3),""),"")
A21: R1 | C21: Commercial 5 Bis | D21: Client 18 | E21: =IFERROR(IF($C21=INDEX('Semaine -1'!$C$2:$E$7,MATCH('Semaine en cours'!$D21,'Semaine -1'!$D$2:$D$7,0),1),INDEX('Semaine -1'!$C$2:$E$7,MATCH('Semaine en cours'!$D21,'Semaine -1'!$D$2:$D$7,0),3),""),"")
