Workbook

Sheet Mercurial
A1: Clé | B1: ID | C1: FRS | D1: IDFRS | E1: PRIX
A2: =C2&"_"&COUNTIF($C$2:$C2,$C2) -> A_1 | B2: 000001 | C2: A | D2: A1 | E2: 1
A3: =C3&"_"&COUNTIF($C$2:$C3,$C3) -> A_2 | B3: 000002 | C3: A | D3: A2 | E3: 1.1
A4: =C4&"_"&COUNTIF($C$2:$C4,$C4) -> A_3 | B4: 000003 | C4: A | D4: A3 | E4: 1.2
A5: =C5&"_"&COUNTIF($C$2:$C5,$C5) -> B_1 | B5: 000004 | C5: B | D5: B1 | E5: 1.3
A6: =C6&"_"&COUNTIF($C$2:$C6,$C6) -> C_1 | B6: 000005 | C6: C | D6: C1 | E6: 1.4
A7: =C7&"_"&COUNTIF($C$2:$C7,$C7) -> B_2 | B7: 000006 | C7: B | D7: B2 | E7: 1.5
A8: =C8&"_"&COUNTIF($C$2:$C8,$C8) -> B_3 | B8: 000007 | C8: B | D8: B3 | E8: 1.6
A9: =C9&"_"&COUNTIF($C$2:$C9,$C9) -> D_1 | B9: 000008 | C9: D | D9: D1 | E9: 1.7
A10: =C10&"_"&COUNTIF($C$2:$C10,$C10) -> A_4 | B10: 000009 | C10: A | D10: A4 | E10: 1.8
A11: =C11&"_"&COUNTIF($C$2:$C11,$C11) -> A_5 | B11: 000010 | C11: A | D11: A5 | E11: 1.9
A12: =C12&"_"&COUNTIF($C$2:$C12,$C12) -> B_4 | B12: 000011 | C12: B | D12: B4 | E12: 2
A13: =C13&"_"&COUNTIF($C$2:$C13,$C13) -> C_2 | B13: 000012 | C13: C | D13: C2 | E13: 2.1
... A21: =C21&"_"&COUNTIF($C$2:$C21,$C21) -> A_6 | B21: 000020 | C21: A | D21: A6 | E21: 2.9

Sheet commande
A1: FRS | B1: A
A2: ID | B2: IDFRS | C2: PRIX | D2: QTE à commander à saisir | G2: le résultat obtenue trop ilisible
A3: =IF(Mercurial!C2=$B$1,INDEX(Mercurial!B2:C21,,1)) -> 000002 | B3: =VLOOKUP(A3,Mercurial!B:E,3,FALSE) -> A2 | C3: =VLOOKUP(A3,Mercurial!B2:E21,3,FALSE) -> A2
A4: =IF(Mercurial!C3=$B$1,INDEX(Mercurial!B3:C21,,1)) -> 000003 | B4: =VLOOKUP(A4,Mercurial!B:E,3,FALSE) -> A3 | C4: =VLOOKUP(A4,Mercurial!B3:E21,3,FALSE) -> A3
A5: =IF(Mercurial!C4=$B$1,INDEX(Mercurial!B4:C21,,1)) -> 000004 | B5: =VLOOKUP(A5,Mercurial!B:E,3,FALSE) -> B1 | C5: =VLOOKUP(A5,Mercurial!B4:E21,3,FALSE) -> B1
A6: =IF(Mercurial!C5=$B$1,INDEX(Mercurial!B5:C22,,1)) -> FALSE | B6: =VLOOKUP(A6,Mercurial!B:E,3,FALSE) -> #N/A | C6: =VLOOKUP(A6,Mercurial!B5:E22,3,FALSE) -> #N/A
A7: =IF(Mercurial!C6=$B$1,INDEX(Mercurial!B6:C23,,1)) -> FALSE | B7: =VLOOKUP(A7,Mercurial!B:E,3,FALSE) -> #N/A | C7: =VLOOKUP(A7,Mercurial!B6:E23,3,FALSE) -> #N/A
A8: =IF(Mercurial!C7=$B$1,INDEX(Mercurial!B7:C24,,1)) -> FALSE | B8: =VLOOKUP(A8,Mercurial!B:E,3,FALSE) -> #N/A | C8: =VLOOKUP(A8,Mercurial!B7:E24,3,FALSE) -> #N/A
A9: =IF(Mercurial!C8=$B$1,INDEX(Mercurial!B8:C25,,1)) -> FALSE | B9: =VLOOKUP(A9,Mercurial!B:E,3,FALSE) -> #N/A | C9: =VLOOKUP(A9,Mercurial!B8:E25,3,FALSE) -> #N/A
A10: =IF(Mercurial!C9=$B$1,INDEX(Mercurial!B9:C26,,1)) -> FALSE | B10: =VLOOKUP(A10,Mercurial!B:E,3,FALSE) -> #N/A | C10: =VLOOKUP(A10,Mercurial!B9:E26,3,FALSE) -> #N/A
A11: =IF(Mercurial!C10=$B$1,INDEX(Mercurial!B10:C27,,1)) -> 000010 | B11: =VLOOKUP(A11,Mercurial!B:E,3,FALSE) -> A5 | C11: =VLOOKUP(A11,Mercurial!B10:E27,3,FALSE) -> A5
A12: =IF(Mercurial!C11=$B$1,INDEX(Mercurial!B11:C28,,1)) -> 000011 | B12: =VLOOKUP(A12,Mercurial!B:E,3,FALSE) -> B4 | C12: =VLOOKUP(A12,Mercurial!B11:E28,3,FALSE) -> B4
A13: =IF(Mercurial!C12=$B$1,INDEX(Mercurial!B12:C29,,1)) -> FALSE | B13: =VLOOKUP(A13,Mercurial!B:E,3,FALSE) -> #N/A | C13: =VLOOKUP(A13,Mercurial!B12:E29,3,FALSE) -> #N/A
A14: =IF(Mercurial!C13=$B$1,INDEX(Mercurial!B13:C30,,1)) -> FALSE | B14: =VLOOKUP(A14,Mercurial!B:E,3,FALSE) -> #N/A | C14: =VLOOKUP(A14,Mercurial!B13:E30,3,FALSE) -> #N/A
A15: =IF(Mercurial!C14=$B$1,INDEX(Mercurial!B14:C31,,1)) -> FALSE | B15: =VLOOKUP(A15,Mercurial!B:E,3,FALSE) -> #N/A | C15: =VLOOKUP(A15,Mercurial!B14:E31,3,FALSE) -> #N/A
A16: =IF(Mercurial!C15=$B$1,INDEX(Mercurial!B15:C32,,1)) -> FALSE | B16: =VLOOKUP(A16,Mercurial!B:E,3,FALSE) -> #N/A | C16: =VLOOKUP(A16,Mercurial!B15:E32,3,FALSE) -> #N/A
... A22: =IF(Mercurial!C21=$B$1,INDEX(Mercurial!B21:C38,,1)) -> 0 | B22: =VLOOKUP(A22,Mercurial!B:E,3,FALSE) -> #N/A | C22: =VLOOKUP(A22,Mercurial!B21:E38,3,FALSE) -> #N/A

Sheet commande 2
A1: FRS | B1: A
A2: ID | B2: IDFRS | C2: PRIX | D2: QTE à commander à saisir | G2: le résultat final souhaité sans macro sans appliquer de filtre sans passer par VBA
A3: =IF(Mercurial!C2=$B$1,INDEX(Mercurial!B2:C21,,1)) -> 000002 | B3: =VLOOKUP(A3,Mercurial!B:E,3,FALSE) -> A2 | C3: =VLOOKUP(A3,Mercurial!B2:E21,3,FALSE) -> A2 | G3: en utilisant le filtre retirer cellule vide et cellule fausse
A4: =IF(Mercurial!C3=$B$1,INDEX(Mercurial!B3:C21,,1)) -> 000003 | B4: =VLOOKUP(A4,Mercurial!B:E,3,FALSE) -> A3 | C4: =VLOOKUP(A4,Mercurial!B3:E21,3,FALSE) -> A3
A5: =IF(Mercurial!C4=$B$1,INDEX(Mercurial!B4:C21,,1)) -> 000004 | B5: =VLOOKUP(A5,Mercurial!B:E,3,FALSE) -> B1 | C5: =VLOOKUP(A5,Mercurial!B4:E21,3,FALSE) -> B1
A6: =IF(Mercurial!C5=$B$1,INDEX(Mercurial!B5:C22,,1)) -> FALSE | B6: =VLOOKUP(A6,Mercurial!B:E,3,FALSE) -> #N/A | C6: =VLOOKUP(A6,Mercurial!B5:E22,3,FALSE) -> #N/A
A7: =IF(Mercurial!C6=$B$1,INDEX(Mercurial!B6:C23,,1)) -> FALSE | B7: =VLOOKUP(A7,Mercurial!B:E,3,FALSE) -> #N/A | C7: =VLOOKUP(A7,Mercurial!B6:E23,3,FALSE) -> #N/A
A8: =IF(Mercurial!C7=$B$1,INDEX(Mercurial!B7:C24,,1)) -> FALSE | B8: =VLOOKUP(A8,Mercurial!B:E,3,FALSE) -> #N/A | C8: =VLOOKUP(A8,Mercurial!B7:E24,3,FALSE) -> #N/A
A9: =IF(Mercurial!C8=$B$1,INDEX(Mercurial!B8:C25,,1)) -> FALSE | B9: =VLOOKUP(A9,Mercurial!B:E,3,FALSE) -> #N/A | C9: =VLOOKUP(A9,Mercurial!B8:E25,3,FALSE) -> #N/A
A10: =IF(Mercurial!C9=$B$1,INDEX(Mercurial!B9:C26,,1)) -> FALSE | B10: =VLOOKUP(A10,Mercurial!B:E,3,FALSE) -> #N/A | C10: =VLOOKUP(A10,Mercurial!B9:E26,3,FALSE) -> #N/A
A11: =IF(Mercurial!C10=$B$1,INDEX(Mercurial!B10:C27,,1)) -> 000010 | B11: =VLOOKUP(A11,Mercurial!B:E,3,FALSE) -> A5 | C11: =VLOOKUP(A11,Mercurial!B10:E27,3,FALSE) -> A5
A12: =IF(Mercurial!C11=$B$1,INDEX(Mercurial!B11:C28,,1)) -> 000011 | B12: =VLOOKUP(A12,Mercurial!B:E,3,FALSE) -> B4 | C12: =VLOOKUP(A12,Mercurial!B11:E28,3,FALSE) -> B4
A13: =IF(Mercurial!C12=$B$1,INDEX(Mercurial!B12:C29,,1)) -> FALSE | B13: =VLOOKUP(A13,Mercurial!B:E,3,FALSE) -> #N/A | C13: =VLOOKUP(A13,Mercurial!B12:E29,3,FALSE) -> #N/A
A14: =IF(Mercurial!C13=$B$1,INDEX(Mercurial!B13:C30,,1)) -> FALSE | B14: =VLOOKUP(A14,Mercurial!B:E,3,FALSE) -> #N/A | C14: =VLOOKUP(A14,Mercurial!B13:E30,3,FALSE) -> #N/A
A15: =IF(Mercurial!C14=$B$1,INDEX(Mercurial!B14:C31,,1)) -> FALSE | B15: =VLOOKUP(A15,Mercurial!B:E,3,FALSE) -> #N/A | C15: =VLOOKUP(A15,Mercurial!B14:E31,3,FALSE) -> #N/A
A16: =IF(Mercurial!C15=$B$1,INDEX(Mercurial!B15:C32,,1)) -> FALSE | B16: =VLOOKUP(A16,Mercurial!B:E,3,FALSE) -> #N/A | C16: =VLOOKUP(A16,Mercurial!B15:E32,3,FALSE) -> #N/A
... A21: =IF(Mercurial!C20=$B$1,INDEX(Mercurial!B20:C37,,1)) -> FALSE | B21: =VLOOKUP(A21,Mercurial!B:E,3,FALSE) -> #N/A | C21: =VLOOKUP(A21,Mercurial!B20:E37,3,FALSE) -> #N/A

Sheet Feuil4
B1: FRS | C1: A
B2: ID | C2: IDFRS | D2: PRIX | E2: QTE à commander à saisir | H2: le résultat final souhaité sans macro sans appliquer de filtre sans passer par VBA
A3: =$C$1&"_"&ROW()-2 -> A_1 | B3: =IFERROR(VLOOKUP($A3,Mercurial!$A:$E,COLUMN(),0),"") -> 000001 | C3: =IFERROR(VLOOKUP($A3,Mercurial!$A:$E,COLUMN()+1,0),"") -> A1 | D3: =IFERROR(VLOOKUP($A3,Mercurial!$A:$E,COLUMN()+1,0),"") -> 1 | H3: en utilisant le filtre retirer cellule vide et cellule fausse
A4: =$C$1&"_"&ROW()-2 -> A_2 | B4: =IFERROR(VLOOKUP($A4,Mercurial!$A:$E,COLUMN(),0),"") -> 000002 | C4: =IFERROR(VLOOKUP($A4,Mercurial!$A:$E,COLUMN()+1,0),"") -> A2 | D4: =IFERROR(VLOOKUP($A4,Mercurial!$A:$E,COLUMN()+1,0),"") -> 1.1 | H4: convient si la mercuriale ne change pas mais si la mercurial change le filtre ne se modifie pas automatiquement
A5: =$C$1&"_"&ROW()-2 -> A_3 | B5: =IFERROR(VLOOKUP($A5,Mercurial!$A:$E,COLUMN(),0),"") -> 000003 | C5: =IFERROR(VLOOKUP($A5,Mercurial!$A:$E,COLUMN()+1,0),"") -> A3 | D5: =IFERROR(VLOOKUP($A5,Mercurial!$A:$E,COLUMN()+1,0),"") -> 1.2
A6: =$C$1&"_"&ROW()-2 -> A_4 | B6: =IFERROR(VLOOKUP($A6,Mercurial!$A:$E,COLUMN(),0),"") -> 000009 | C6: =IFERROR(VLOOKUP($A6,Mercurial!$A:$E,COLUMN()+1,0),"") -> A4 | D6: =IFERROR(VLOOKUP($A6,Mercurial!$A:$E,COLUMN()+1,0),"") -> 1.8
A7: =$C$1&"_"&ROW()-2 -> A_5 | B7: =IFERROR(VLOOKUP($A7,Mercurial!$A:$E,COLUMN(),0),"") -> 000010 | C7: =IFERROR(VLOOKUP($A7,Mercurial!$A:$E,COLUMN()+1,0),"") -> A5 | D7: =IFERROR(VLOOKUP($A7,Mercurial!$A:$E,COLUMN()+1,0),"") -> 1.9
A8: =$C$1&"_"&ROW()-2 -> A_6 | B8: =IFERROR(VLOOKUP($A8,Mercurial!$A:$E,COLUMN(),0),"") -> 000020 | C8: =IFERROR(VLOOKUP($A8,Mercurial!$A:$E,COLUMN()+1,0),"") -> A6 | D8: =IFERROR(VLOOKUP($A8,Mercurial!$A:$E,COLUMN()+1,0),"") -> 2.9
A9: =$C$1&"_"&ROW()-2 -> A_7 | B9: =IFERROR(VLOOKUP($A9,Mercurial!$A:$E,COLUMN(),0),"") | C9: =IFERROR(VLOOKUP($A9,Mercurial!$A:$E,COLUMN()+1,0),"") | D9: =IFERROR(VLOOKUP($A9,Mercurial!$A:$E,COLUMN()+1,0),"")
A10: =$C$1&"_"&ROW()-2 -> A_8 | B10: =IFERROR(VLOOKUP($A10,Mercurial!$A:$E,COLUMN(),0),"") | C10: =IFERROR(VLOOKUP($A10,Mercurial!$A:$E,COLUMN()+1,0),"") | D10: =IFERROR(VLOOKUP($A10,Mercurial!$A:$E,COLUMN()+1,0),"")
A11: =$C$1&"_"&ROW()-2 -> A_9 | B11: =IFERROR(VLOOKUP($A11,Mercurial!$A:$E,COLUMN(),0),"") | C11: =IFERROR(VLOOKUP($A11,Mercurial!$A:$E,COLUMN()+1,0),"") | D11: =IFERROR(VLOOKUP($A11,Mercurial!$A:$E,COLUMN()+1,0),"")
A12: =$C$1&"_"&ROW()-2 -> A_10 | B12: =IFERROR(VLOOKUP($A12,Mercurial!$A:$E,COLUMN(),0),"") | C12: =IFERROR(VLOOKUP($A12,Mercurial!$A:$E,COLUMN()+1,0),"") | D12: =IFERROR(VLOOKUP($A12,Mercurial!$A:$E,COLUMN()+1,0),"")
A13: =$C$1&"_"&ROW()-2 -> A_11 | B13: =IFERROR(VLOOKUP($A13,Mercurial!$A:$E,COLUMN(),0),"") | C13: =IFERROR(VLOOKUP($A13,Mercurial!$A:$E,COLUMN()+1,0),"") | D13: =IFERROR(VLOOKUP($A13,Mercurial!$A:$E,COLUMN()+1,0),"")
A14: =$C$1&"_"&ROW()-2 -> A_12 | B14: =IFERROR(VLOOKUP($A14,Mercurial!$A:$E,COLUMN(),0),"") | C14: =IFERROR(VLOOKUP($A14,Mercurial!$A:$E,COLUMN()+1,0),"") | D14: =IFERROR(VLOOKUP($A14,Mercurial!$A:$E,COLUMN()+1,0),"")
A15: =$C$1&"_"&ROW()-2 -> A_13 | B15: =IFERROR(VLOOKUP($A15,Mercurial!$A:$E,COLUMN(),0),"") | C15: =IFERROR(VLOOKUP($A15,Mercurial!$A:$E,COLUMN()+1,0),"") | D15: =IFERROR(VLOOKUP($A15,Mercurial!$A:$E,COLUMN()+1,0),"")
A16: =$C$1&"_"&ROW()-2 -> A_14 | B16: =IFERROR(VLOOKUP($A16,Mercurial!$A:$E,COLUMN(),0),"") | C16: =IFERROR(VLOOKUP($A16,Mercurial!$A:$E,COLUMN()+1,0),"") | D16: =IFERROR(VLOOKUP($A16,Mercurial!$A:$E,COLUMN()+1,0),"")
... A32: =$C$1&"_"&ROW()-2 -> A_30 | B32: =IFERROR(VLOOKUP($A32,Mercurial!$A:$E,COLUMN(),0),"") | C32: =IFERROR(VLOOKUP($A32,Mercurial!$A:$E,COLUMN()+1,0),"") | D32: =IFERROR(VLOOKUP($A32,Mercurial!$A:$E,COLUMN()+1,0),"")
