Workbook
Name Projet_Mois: Global!$B$12:$G$12
Name Projet_Nom: Global!$A$13:$A$20
Name Projet_Origine: Global!$A$12
Name Qui_nom: Global!$J$12:$O$12
Name Qui_Origine: Global!$I$12
Name Qui_projet: Global!$I$13:$I$20

Sheet Récap
B2: Onglet "Global" | K2: Onglet "Utilisation"
C4: X => Indéfini
C5: Nom 1 | D5: Nom 2 | E5: Nom 3 | F5: Nom 4 | G5: … | H5: Nom X | K5: Liste déroulante : | M5: Nom 2
A6: Z => Indéfini | B6: Projet 1 | C6: B | D6: A
B7: Projet 2 | D7: B | E7: A
B8: Projet 3 | D8: A | H8: B | L8: Mois1 | M8: Mois2 | N8: Mois3 | O8: Mois4 | P8: … | Q8: Mois N
B9: Projet 4 | E9: B | F9: A | K9: Projet 1 | L9: A | M9: A
B10: … | K10: Projet 2 | M10: B | N10: B
B11: Projet Z | K11: Projet 3 | O11: A
C13: N => Fixe
C14: Mois1 | D14: Mois2 | E14: Mois3 | F14: Mois4 | G14: … | H14: Mois N
A15: Z => Indéfini | B15: Projet 1 | C15: X | D15: X
B16: Projet 2 | D16: X | E16: X
B17: Projet 3 | F17: X
B18: Projet 4 | E18: X | F18: X | G18: X | H18: X
B19: …
B20: Projet Z

Sheet Global
B11: Q1 | E11: Q2 | J11: QUI
A12: Projet | B12: Mois1 | C12: Mois2 | D12: Mois3 | E12: Mois4 | F12: Mois5 | G12: Mois6 | I12: Projet | J12: Nom 1 | K12: Nom 2 | L12: Nom 3 | M12: Nom 4 | N12: Nom 5 | O12: Nom 6
A13: Projet 1 | B13: X | C13: X | I13: Projet 1 | J13: B | K13: A
A14: Projet 2 | C14: X | D14: X | I14: Projet 2 | K14: B | L14: A | O14: C
A15: Projet 3 | E15: X | I15: Projet 3 | K15: A | O15: B
A16: Projet 4 | D16: X | E16: X | F16: X | G16: X | I16: Projet 4 | L16: B | M16: A
A17: Projet 5 | C17: X | I17: Projet 5 | J17: A | M17: C | O17: B
A18: Projet 6 | B18: X | I18: Projet 6 | M18: B | N18: A
A19: Projet 7 | D19: X | I19: Projet 7 | N19: B | O19: A
A20: Projet 8 | E20: X | I20: Projet 8 | N20: C

Sheet Utilisation
A1: Nom 1
B4: Projet | C4: =Global!B12 -> Mois1 | D4: =Global!C12 -> Mois2 | E4: =Global!D12 -> Mois3 | F4: =Global!E12 -> Mois4 | G4: =Global!F12 -> Mois5 | H4: =Global!G12 -> Mois6
B5: Projet 1 | C5: =IF(OFFSET(Projet_Origine,MATCH($B5,Projet_Nom,0),MATCH(C$4,Projet_Mois,0))="","",OFFSET(Qui_Origine,MATCH($B5,Qui_projet,0),MATCH($A$1,Qui_nom,0))) -> B | D5: =IF(OFFSET(Projet_Origine,MATCH($B5,Projet_Nom,0),MATCH(D$4,Projet_Mois,0))="","",OFFSET(Qui_Origine,MATCH($B5,Qui_projet,0),MATCH($A$1,Qui_nom,0))) -> B | E5: =IF(OFFSET(Projet_Origine,MATCH($B5,Projet_Nom,0),MATCH(E$4,Projet_Mois,0))="","",OFFSET(Qui_Origine,MATCH($B5,Qui_projet,0),MATCH($A$1,Qui_nom,0))) | F5: =IF(OFFSET(Projet_Origine,MATCH($B5,Projet_Nom,0),MATCH(F$4,Projet_Mois,0))="","",OFFSET(Qui_Origine,MATCH($B5,Qui_projet,0),MATCH($A$1,Qui_nom,0))) | G5: =IF(OFFSET(Projet_Origine,MATCH($B5,Projet_Nom,0),MATCH(G$4,Projet_Mois,0))="","",OFFSET(Qui_Origine,MATCH($B5,Qui_projet,0),MATCH($A$1,Qui_nom,0))) | H5: =IF(OFFSET(Projet_Origine,MATCH($B5,Projet_Nom,0),MATCH(H$4,Projet_Mois,0))="","",OFFSET(Qui_Origine,MATCH($B5,Qui_projet,0),MATCH($A$1,Qui_nom,0)))
B6: Projet 2 | C6: =IF(OFFSET(Projet_Origine,MATCH($B6,Projet_Nom,0),MATCH(C$4,Projet_Mois,0))="","",OFFSET(Qui_Origine,MATCH($B6,Qui_projet,0),MATCH($A$1,Qui_nom,0))) | D6: =IF(OFFSET(Projet_Origine,MATCH($B6,Projet_Nom,0),MATCH(D$4,Projet_Mois,0))="","",OFFSET(Qui_Origine,MATCH($B6,Qui_projet,0),MATCH($A$1,Qui_nom,0))) -> 0 | E6: =IF(OFFSET(Projet_Origine,MATCH($B6,Projet_Nom,0),MATCH(E$4,Projet_Mois,0))="","",OFFSET(Qui_Origine,MATCH($B6,Qui_projet,0),MATCH($A$1,Qui_nom,0))) -> 0 | F6: =IF(OFFSET(Projet_Origine,MATCH($B6,Projet_Nom,0),MATCH(F$4,Projet_Mois,0))="","",OFFSET(Qui_Origine,MATCH($B6,Qui_projet,0),MATCH($A$1,Qui_nom,0))) | G6: =IF(OFFSET(Projet_Origine,MATCH($B6,Projet_Nom,0),MATCH(G$4,Projet_Mois,0))="","",OFFSET(Qui_Origine,MATCH($B6,Qui_projet,0),MATCH($A$1,Qui_nom,0))) | H6: =IF(OFFSET(Projet_Origine,MATCH($B6,Projet_Nom,0),MATCH(H$4,Projet_Mois,0))="","",OFFSET(Qui_Origine,MATCH($B6,Qui_projet,0),MATCH($A$1,Qui_nom,0)))
B7: Projet 3 | C7: =IF(OFFSET(Projet_Origine,MATCH($B7,Projet_Nom,0),MATCH(C$4,Projet_Mois,0))="","",OFFSET(Qui_Origine,MATCH($B7,Qui_projet,0),MATCH($A$1,Qui_nom,0))) | D7: =IF(OFFSET(Projet_Origine,MATCH($B7,Projet_Nom,0),MATCH(D$4,Projet_Mois,0))="","",OFFSET(Qui_Origine,MATCH($B7,Qui_projet,0),MATCH($A$1,Qui_nom,0))) | E7: =IF(OFFSET(Projet_Origine,MATCH($B7,Projet_Nom,0),MATCH(E$4,Projet_Mois,0))="","",OFFSET(Qui_Origine,MATCH($B7,Qui_projet,0),MATCH($A$1,Qui_nom,0))) | F7: =IF(OFFSET(Projet_Origine,MATCH($B7,Projet_Nom,0),MATCH(F$4,Projet_Mois,0))="","",OFFSET(Qui_Origine,MATCH($B7,Qui_projet,0),MATCH($A$1,Qui_nom,0))) -> 0 | G7: =IF(OFFSET(Projet_Origine,MATCH($B7,Projet_Nom,0),MATCH(G$4,Projet_Mois,0))="","",OFFSET(Qui_Origine,MATCH($B7,Qui_projet,0),MATCH($A$1,Qui_nom,0))) | H7: =IF(OFFSET(Projet_Origine,MATCH($B7,Projet_Nom,0),MATCH(H$4,Projet_Mois,0))="","",OFFSET(Qui_Origine,MATCH($B7,Qui_projet,0),MATCH($A$1,Qui_nom,0)))
B8: Projet 4 | C8: =IF(OFFSET(Projet_Origine,MATCH($B8,Projet_Nom,0),MATCH(C$4,Projet_Mois,0))="","",OFFSET(Qui_Origine,MATCH($B8,Qui_projet,0),MATCH($A$1,Qui_nom,0))) | D8: =IF(OFFSET(Projet_Origine,MATCH($B8,Projet_Nom,0),MATCH(D$4,Projet_Mois,0))="","",OFFSET(Qui_Origine,MATCH($B8,Qui_projet,0),MATCH($A$1,Qui_nom,0))) | E8: =IF(OFFSET(Projet_Origine,MATCH($B8,Projet_Nom,0),MATCH(E$4,Projet_Mois,0))="","",OFFSET(Qui_Origine,MATCH($B8,Qui_projet,0),MATCH($A$1,Qui_nom,0))) -> 0 | F8: =IF(OFFSET(Projet_Origine,MATCH($B8,Projet_Nom,0),MATCH(F$4,Projet_Mois,0))="","",OFFSET(Qui_Origine,MATCH($B8,Qui_projet,0),MATCH($A$1,Qui_nom,0))) -> 0 | G8: =IF(OFFSET(Projet_Origine,MATCH($B8,Projet_Nom,0),MATCH(G$4,Projet_Mois,0))="","",OFFSET(Qui_Origine,MATCH($B8,Qui_projet,0),MATCH($A$1,Qui_nom,0))) -> 0 | H8: =IF(OFFSET(Projet_Origine,MATCH($B8,Projet_Nom,0),MATCH(H$4,Projet_Mois,0))="","",OFFSET(Qui_Origine,MATCH($B8,Qui_projet,0),MATCH($A$1,Qui_nom,0))) -> 0
B9: Projet 5 | C9: =IF(OFFSET(Projet_Origine,MATCH($B9,Projet_Nom,0),MATCH(C$4,Projet_Mois,0))="","",OFFSET(Qui_Origine,MATCH($B9,Qui_projet,0),MATCH($A$1,Qui_nom,0))) | D9: =IF(OFFSET(Projet_Origine,MATCH($B9,Projet_Nom,0),MATCH(D$4,Projet_Mois,0))="","",OFFSET(Qui_Origine,MATCH($B9,Qui_projet,0),MATCH($A$1,Qui_nom,0))) -> A | E9: =IF(OFFSET(Projet_Origine,MATCH($B9,Projet_Nom,0),MATCH(E$4,Projet_Mois,0))="","",OFFSET(Qui_Origine,MATCH($B9,Qui_projet,0),MATCH($A$1,Qui_nom,0))) | F9: =IF(OFFSET(Projet_Origine,MATCH($B9,Projet_Nom,0),MATCH(F$4,Projet_Mois,0))="","",OFFSET(Qui_Origine,MATCH($B9,Qui_projet,0),MATCH($A$1,Qui_nom,0))) | G9: =IF(OFFSET(Projet_Origine,MATCH($B9,Projet_Nom,0),MATCH(G$4,Projet_Mois,0))="","",OFFSET(Qui_Origine,MATCH($B9,Qui_projet,0),MATCH($A$1,Qui_nom,0))) | H9: =IF(OFFSET(Projet_Origine,MATCH($B9,Projet_Nom,0),MATCH(H$4,Projet_Mois,0))="","",OFFSET(Qui_Origine,MATCH($B9,Qui_projet,0),MATCH($A$1,Qui_nom,0)))
B10: Projet 6 | C10: =IF(OFFSET(Projet_Origine,MATCH($B10,Projet_Nom,0),MATCH(C$4,Projet_Mois,0))="","",OFFSET(Qui_Origine,MATCH($B10,Qui_projet,0),MATCH($A$1,Qui_nom,0))) -> 0 | D10: =IF(OFFSET(Projet_Origine,MATCH($B10,Projet_Nom,0),MATCH(D$4,Projet_Mois,0))="","",OFFSET(Qui_Origine,MATCH($B10,Qui_projet,0),MATCH($A$1,Qui_nom,0))) | E10: =IF(OFFSET(Projet_Origine,MATCH($B10,Projet_Nom,0),MATCH(E$4,Projet_Mois,0))="","",OFFSET(Qui_Origine,MATCH($B10,Qui_projet,0),MATCH($A$1,Qui_nom,0))) | F10: =IF(OFFSET(Projet_Origine,MATCH($B10,Projet_Nom,0),MATCH(F$4,Projet_Mois,0))="","",OFFSET(Qui_Origine,MATCH($B10,Qui_projet,0),MATCH($A$1,Qui_nom,0))) | G10: =IF(OFFSET(Projet_Origine,MATCH($B10,Projet_Nom,0),MATCH(G$4,Projet_Mois,0))="","",OFFSET(Qui_Origine,MATCH($B10,Qui_projet,0),MATCH($A$1,Qui_nom,0))) | H10: =IF(OFFSET(Projet_Origine,MATCH($B10,Projet_Nom,0),MATCH(H$4,Projet_Mois,0))="","",OFFSET(Qui_Origine,MATCH($B10,Qui_projet,0),MATCH($A$1,Qui_nom,0)))
B11: Projet 7 | C11: =IF(OFFSET(Projet_Origine,MATCH($B11,Projet_Nom,0),MATCH(C$4,Projet_Mois,0))="","",OFFSET(Qui_Origine,MATCH($B11,Qui_projet,0),MATCH($A$1,Qui_nom,0))) | D11: =IF(OFFSET(Projet_Origine,MATCH($B11,Projet_Nom,0),MATCH(D$4,Projet_Mois,0))="","",OFFSET(Qui_Origine,MATCH($B11,Qui_projet,0),MATCH($A$1,Qui_nom,0))) | E11: =IF(OFFSET(Projet_Origine,MATCH($B11,Projet_Nom,0),MATCH(E$4,Projet_Mois,0))="","",OFFSET(Qui_Origine,MATCH($B11,Qui_projet,0),MATCH($A$1,Qui_nom,0))) -> 0 | F11: =IF(OFFSET(Projet_Origine,MATCH($B11,Projet_Nom,0),MATCH(F$4,Projet_Mois,0))="","",OFFSET(Qui_Origine,MATCH($B11,Qui_projet,0),MATCH($A$1,Qui_nom,0))) | G11: =IF(OFFSET(Projet_Origine,MATCH($B11,Projet_Nom,0),MATCH(G$4,Projet_Mois,0))="","",OFFSET(Qui_Origine,MATCH($B11,Qui_projet,0),MATCH($A$1,Qui_nom,0))) | H11: =IF(OFFSET(Projet_Origine,MATCH($B11,Projet_Nom,0),MATCH(H$4,Projet_Mois,0))="","",OFFSET(Qui_Origine,MATCH($B11,Qui_projet,0),MATCH($A$1,Qui_nom,0)))
B12: Projet 8 | C12: =IF(OFFSET(Projet_Origine,MATCH($B12,Projet_Nom,0),MATCH(C$4,Projet_Mois,0))="","",OFFSET(Qui_Origine,MATCH($B12,Qui_projet,0),MATCH($A$1,Qui_nom,0))) | D12: =IF(OFFSET(Projet_Origine,MATCH($B12,Projet_Nom,0),MATCH(D$4,Projet_Mois,0))="","",OFFSET(Qui_Origine,MATCH($B12,Qui_projet,0),MATCH($A$1,Qui_nom,0))) | E12: =IF(OFFSET(Projet_Origine,MATCH($B12,Projet_Nom,0),MATCH(E$4,Projet_Mois,0))="","",OFFSET(Qui_Origine,MATCH($B12,Qui_projet,0),MATCH($A$1,Qui_nom,0))) | F12: =IF(OFFSET(Projet_Origine,MATCH($B12,Projet_Nom,0),MATCH(F$4,Projet_Mois,0))="","",OFFSET(Qui_Origine,MATCH($B12,Qui_projet,0),MATCH($A$1,Qui_nom,0))) -> 0 | G12: =IF(OFFSET(Projet_Origine,MATCH($B12,Projet_Nom,0),MATCH(G$4,Projet_Mois,0))="","",OFFSET(Qui_Origine,MATCH($B12,Qui_projet,0),MATCH($A$1,Qui_nom,0))) | H12: =IF(OFFSET(Projet_Origine,MATCH($B12,Projet_Nom,0),MATCH(H$4,Projet_Mois,0))="","",OFFSET(Qui_Origine,MATCH($B12,Qui_projet,0),MATCH($A$1,Qui_nom,0)))
