Workbook

Sheet base de données
A1: Dénomination sociale | B1: Nom du responsable | C1: Adresse | D1: Code postal | E1: Ville | F1: Code département | G1: Région | H1: Spécificités | I1: Segments du vétement | J1: Ca en euros (trimestre 1)Année 2014
A2: Manoukian | B2: Jacques ARTY | C2: 22 rue Saint Rémi | D2: 33000 | E2: BORDEAUX | F2: =LEFT(D2,2) -> 33 | G2: Aquitaine | H2: Détaillants (boutique) | I2: Femme | J2: 33000
A3: Music Star | B3: Tom ROGERS | C3: 41 Place de la République | D3: 33000 | E3: BORDEAUX | F3: =LEFT(D3,2) -> 33 | G3: Aquitaine | H3: Entreprise (évenementiel) | I3: Femme | J3: 6548
G4: Total Aquitaine | J4: =SUBTOTAL(9,J2:J3) -> 39548
A5: Christine Laure | B5: Maurice LEBLANC | C5: 246 Boulevard Ledru Rollin | D5: 75012 | E5: PARIS | F5: =LEFT(D5,2) -> 75 | G5: Ile de France | H5: Détaillants (boutique) | I5: Femme | J5: 18880
A6: Morgan | B6: Rose-Marie IVERT | C6: 26 Place du Mont | D6: 75004 | E6: PARIS | F6: =LEFT(D6,2) -> 75 | G6: Ile de France | H6: Détaillants (boutique) | I6: Femme | J6: 32500
A7: Multiples | B7: Thierry VERNEUIL | C7: Route Nationnale 20 | D7: 94230 | E7: CACHAN | F7: =LEFT(D7,2) -> 94 | G7: Ile de France | H7: Détaillants (boutique) | I7: Femme | J7: 74120
A8: Sinéquanone | B8: Sonia SLIMANE | C8: 82 Avenue d'Iéna | D8: 75116 | E8: PARIS | F8: =LEFT(D8,2) -> 75 | G8: Ile de France | H8: Détaillants (boutique) | I8: Femme | J8: 18000
A9: Crédit Agricole | B9: Bernard BRU | C9: 75 route de Paris | D9: 77000 | E9: MARNE LA VALLEE | F9: =LEFT(D9,2) -> 77 | G9: Ile de France | H9: Entreprise (évenementiel) | I9: Homme | J9: 7500
G10: Total Ile de France | J10: =SUBTOTAL(9,J5:J9) -> 151000
A11: Carnet de vol | B11: Henri VAN TAI | C11: 31 Rue de la croix verte | D11: 81000 | E11: ALBI | F11: =LEFT(D11,2) -> 81 | G11: Midi Pyrénées | H11: Détaillants (boutique) | I11: Homme | J11: 18650
A12: Célio | B12: Sofia RYMOND | C12: 3 place Abbé Bessou | D12: 81000 | E12: ALBI | F12: =LEFT(D12,2) -> 81 | G12: Midi Pyrénées | H12: Détaillants (boutique) | I12: Homme | J12: 10000
A13: La boutique de l'homme | B13: Raymon RIBEIRO | C13: 3 Rue Saint Roch | D13: 31000 | E13: TOULOUSE | F13: =LEFT(D13,2) -> 31 | G13: Midi Pyrénées | H13: Détaillants (boutique) | I13: Homme | J13: 25100
G14: Total Midi Pyrénées | J14: =SUBTOTAL(9,J11:J13) -> 53750
A15: SARL Martial | B15: Christel CARNEIRO | C15: 125 rue de Saint Armand | D15: 59800 | E15: LILLE | F15: =LEFT(D15,2) -> 59 | G15: Nord Pas de Calais | H15: Entreprise (évenementiel) | I15: Homme | J15: 5250
G16: Total Nord Pas de Calais | J16: =SUBTOTAL(9,J15:J15) -> 5250
A17: Chatawak | B17: Jérôme GRAILLE | C17: 309 Rue Crussol | D17: 85000 | E17: LA ROCHE SUR YON | F17: =LEFT(D17,2) -> 85 | G17: Pays de la Loire | H17: Détaillants (boutique) | I17: Femme | J17: 52500
B18: Hubert CROCHET | C18: Quartier Pélicouet | D18: 85280 | E18: LA FERRIIERE | F18: =LEFT(D18,2) -> 85 | G18: Pays de la Loire | H18: Entreprise (évenementiel) | I18: Femme | J18: 3500
A19: Sport and Co | B19: Simone GUIEU | C19: Rue du Chevalier Blanc | D19: 85100 | E19: LES SABLES D'OLONNES | F19: =LEFT(D19,2) -> 85 | G19: Pays de la Loire | H19: Entreprise (évenementiel) | I19: Femme | J19: 8500
A20: Restaurant du grand Verger | B20: Benoit CARDINO | C20: Quartier Grand Verger | D20: 85000 | E20: LA ROCHE SUR YON | F20: =LEFT(D20,2) -> 85 | G20: Pays de la Loire | H20: Entreprise (évenementiel) | I20: Femme | J20: 2600
A21: Blue star | B21: François HERNANDEZ | C21: 63 Rue Franklin | D21: 44000 | E21: NANTES | F21: =LEFT(D21,2) -> 44 | G21: Pays de la Loire | H21: Entreprise (évenementiel) | I21: Homme | J21: 2750
A22: Mes vignes | B22: Serge ASTOLFO | C22: 45 Chemin du Château | D22: 85340 | E22: OLONNES SUR MER | F22: =LEFT(D22,2) -> 85 | G22: Pays de la Loire | H22: Entreprise (évenementiel) | I22: Homme | J22: 1000
G23: Total Pays de la Loire | J23: =SUBTOTAL(9,J17:J22) -> 70850
A24: La colline aux chèvres | B24: Roger AUTRAN | C24: 25 boulevard Montaignet | D24: 13000 | E24: MARSEILLE | F24: =LEFT(D24,2) -> 13 | G24: Provence Alpes Cote d'Azur | H24: Entreprise (évenementiel) | I24: Homme | J24: 8000
G25: Total Provence Alpes Cote d'Azur | J25: =SUBTOTAL(9,J24:J24) -> 8000
G26: Total général | J26: =SUBTOTAL(9,J2:J24) -> 328398

Sheet suivi activité
A1: Région | B1: CA en € | C1: % du CA | D1: Nombre de clients | E1: % du nombre de clients
A2: Aquitaine | D2: =COUNTIF('base de données'!$G$2:$G$24,"Aquitaine") -> 2
A3: Ile-De-France | D3: =COUNTIF('base de données'!$G$2:$G$24,"Ile De France") -> 5
A4: Nord-Pas-de-Calais | D4: =COUNTIF('base de données'!$G$2:$G$24,"Nord Pas de Calais") -> 1
A5: Pays de la Loire | D5: =COUNTIF('base de données'!$G$2:$G$24,"Pays de la Loire") -> 6
A6: Provence-Alpes-Côte-D'azur | D6: =COUNTIF('base de données'!$G$2:$G$24,"Provence Alpes Cote d'Azur") -> 1
A7: Midi Pyrénées | D7: =COUNTIF('base de données'!$G$2:$G$24,"Midi Pyrénées") -> 3
A8: Total | D8: =SUM(D2:D7) -> 18

Sheet Feuil3
