Workbook
Name Année: PLANNING!$I$1
Name Lesannees: OFFSET(PLANNING!$A$1,1,,COUNTA(PLANNING!$A:$A)-1,1)
Name Pâques: PLANNING!$I$3
Name Salaries: OFFSET(PLANNING!$K$1,1,,COUNTA(PLANNING!$K:$K)-1,1)

Sheet PLANNING
A1: Année | B1: Jour | C1: Mois | D1: Semaine | F1: Absences | H1: JOURS FERIES | I1: 2015 | K1: Salariés
A2: 42005 | B2: 1 | C2: 42005 | D2: 1 | F2: RTT | H2: Premier de l'an | I2: =DATE(I1,1,1) -> 42005 | K2: Nom prénom 1
A3: 42370 | C3: 42036 | D3: 2 | F3: CP | H3: Pâques | I3: =ROUND(DATE(I1,4,MOD(234-11*MOD(I1,19),30))/7,0)*7-6 -> 42099 | K3: Nom prénom 2
A4: 42736 | C4: 42064 | D4: 3 | F4: MALADIE | H4: Lundi de Pâques | I4: =Pâques+1 -> 42100 | K4: Nom prénom 3
A5: 43101 | C5: 42095 | D5: 4 | F5: AT | H5: Fete du travail | I5: =DATE(I1,5,1) -> 42125 | K5: Nom prénom 4
A6: 43466 | C6: 42125 | D6: 5 | F6: RCR | H6: Victoire 1945 | I6: =DATE(I1,5,8) -> 42132 | K6: Nom prénom 5
A7: 43831 | C7: 42156 | D7: 6 | F7: JOURS FERIES | H7: Ascension | I7: =Pâques+39 -> 42138 | K7: Nom prénom 6
A8: 44197 | C8: 42186 | D8: 7 | F8: AUTRES | H8: Pentecôte | I8: =Pâques+49 -> 42148
A9: 44562 | C9: 42217 | D9: 8 | H9: Lundi de Pentecote | I9: =Pâques+50 -> 42149
A10: 44927 | C10: 42248 | D10: 9 | H10: Fête Nationale | I10: =DATE(I1,7,14) -> 42199
A11: 45292 | C11: 42278 | D11: 10 | H11: Assomption | I11: =DATE(I1,8,15) -> 42231
C12: 42309 | D12: 11 | H12: Toussaint | I12: =DATE(I1,11,1) -> 42309
C13: 42339 | D13: 12 | H13: Armistice | I13: =DATE(I1,11,11) -> 42319
D14: 13 | H14: Noël | I14: =DATE(I1,12,25) -> 42363
D15: 14
D16: 15
D17: 16
D18: 17
D19: 18
D20: 19
D21: 20
D22: 21
D23: 22
D24: 23
D25: 24
D26: 25
... D53: 52

Sheet GESTION DES ABSENCES
A2: GESTION DES ABSENCES
A4: 42005 | C4: 42309 | E4: 2
A8: SITE | B8: SAINT HERBLAIN | G8: =_xlfn.ISOWEEKNUM(G10) -> #NAME? | I8: =_xlfn.ISOWEEKNUM(I10) -> #NAME? | K8: =_xlfn.ISOWEEKNUM(K10) -> #NAME? | M8: =_xlfn.ISOWEEKNUM(M10) -> #NAME? | O8: =_xlfn.ISOWEEKNUM(O10) -> #NAME? | Q8: =_xlfn.ISOWEEKNUM(Q10) -> #NAME? | S8: =_xlfn.ISOWEEKNUM(S10) -> #NAME? | U8: =_xlfn.ISOWEEKNUM(U10) -> #NAME? | W8: =_xlfn.ISOWEEKNUM(W10) -> #NAME? | Y8: =_xlfn.ISOWEEKNUM(Y10) -> #NAME? | AA8: =_xlfn.ISOWEEKNUM(AA10) -> #NAME? | AC8: =_xlfn.ISOWEEKNUM(AC10) -> #NAME? | AE8: =_xlfn.ISOWEEKNUM(AE10) -> #NAME? | AG8: =_xlfn.ISOWEEKNUM(AG10) -> #NAME? | AI8: =_xlfn.ISOWEEKNUM(AI10) -> #NAME? | AK8: =_xlfn.ISOWEEKNUM(AK10) -> #NAME? | AM8: =_xlfn.ISOWEEKNUM(AM10) -> #NAME? | AO8: =_xlfn.ISOWEEKNUM(AO10) -> #NAME? | AQ8: =_xlfn.ISOWEEKNUM(AQ10) -> #NAME? | AS8: =_xlfn.ISOWEEKNUM(AS10) -> #NAME? | AU8: =_xlfn.ISOWEEKNUM(AU10) -> #NAME? | AW8: =_xlfn.ISOWEEKNUM(AW10) -> #NAME? | AY8: =_xlfn.ISOWEEKNUM(AY10) -> #NAME? | BA8: =_xlfn.ISOWEEKNUM(BA10) -> #NAME? | BC8: =_xlfn.ISOWEEKNUM(BC10) -> #NAME? | BE8: =_xlfn.ISOWEEKNUM(BE10) -> #NAME? | BG8: =_xlfn.ISOWEEKNUM(BG10) -> #NAME? | BI8: =_xlfn.ISOWEEKNUM(BI10) -> #NAME? | BK8: =_xlfn.ISOWEEKNUM(BK10) -> #NAME? | BM8: =_xlfn.ISOWEEKNUM(BM10) -> #NAME? | BO8: =_xlfn.ISOWEEKNUM(BO10) -> #NAME?
A9: responsable | G9: =DATE(YEAR($A$4),MONTH($C$4),1) -> 42309 | I9: =G9+1 -> 42310 | K9: =I9+1 -> 42311 | M9: =K9+1 -> 42312 | O9: =M9+1 -> 42313 | Q9: =O9+1 -> 42314 | S9: =Q9+1 -> 42315 | U9: =S9+1 -> 42316 | W9: =U9+1 -> 42317 | Y9: =W9+1 -> 42318 | AA9: =Y9+1 -> 42319 | AC9: =AA9+1 -> 42320 | AE9: =AC9+1 -> 42321 | AG9: =AE9+1 -> 42322 | AI9: =AG9+1 -> 42323 | AK9: =AI9+1 -> 42324 | AM9: =AK9+1 -> 42325 | AO9: =AM9+1 -> 42326 | AQ9: =AO9+1 -> 42327 | AS9: =AQ9+1 -> 42328 | AU9: =AS9+1 -> 42329 | AW9: =AU9+1 -> 42330 | AY9: =AW9+1 -> 42331 | BA9: =AY9+1 -> 42332 | BC9: =BA9+1 -> 42333 | BE9: =BC9+1 -> 42334 | BG9: =BE9+1 -> 42335 | BI9: =BG9+1 -> 42336 | BK9: =BI9+1 -> 42337 | BM9: =BK9+1 -> 42338 | BO9: =BM9+1 -> 42339
A10: Salaries | B10: absences | D10: Motif | E10: code | F10: jours | G10: =DATE(YEAR($A$4),MONTH($C$4),1) -> 42309 | I10: =G10+1 -> 42310 | K10: =I10+1 -> 42311 | M10: =K10+1 -> 42312 | O10: =M10+1 -> 42313 | Q10: =O10+1 -> 42314 | S10: =Q10+1 -> 42315 | U10: =S10+1 -> 42316 | W10: =U10+1 -> 42317 | Y10: =W10+1 -> 42318 | AA10: =Y10+1 -> 42319 | AC10: =AA10+1 -> 42320 | AE10: =AC10+1 -> 42321 | AG10: =AE10+1 -> 42322 | AI10: =AG10+1 -> 42323 | AK10: =AI10+1 -> 42324 | AM10: =AK10+1 -> 42325 | AO10: =AM10+1 -> 42326 | AQ10: =AO10+1 -> 42327 | AS10: =AQ10+1 -> 42328 | AU10: =AS10+1 -> 42329 | AW10: =AU10+1 -> 42330 | AY10: =AW10+1 -> 42331 | BA10: =AY10+1 -> 42332 | BC10: =BA10+1 -> 42333 | BE10: =BC10+1 -> 42334 | BG10: =BE10+1 -> 42335 | BI10: =BG10+1 -> 42336 | BK10: =BI10+1 -> 42337 | BM10: =BK10+1 -> 42338 | BO10: =BM10+1 -> 42339
B11: Début | C11: Fin | G11: M | H11: A | I11: M | J11: A | K11: M | L11: A | M11: M | N11: A | O11: M | P11: A | Q11: M | R11: A | S11: M | T11: A | U11: M | V11: A | W11: M | X11: A | Y11: M | Z11: A | AA11: M | AB11: A | AC11: M | AD11: A | AE11: M | AF11: A | AG11: M | AH11: A | AI11: M | AJ11: A | AK11: M | AL11: A | AM11: M | AN11: A | AO11: M | AP11: A | AQ11: M | AR11: A | AS11: M | AT11: A | AU11: M | AV11: A | AW11: M | AX11: A | AY11: M | AZ11: A | BA11: M | BB11: A | BC11: M | BD11: A | BE11: M | BF11: A | BG11: M | BH11: A | BI11: M | BJ11: A | BK11: M | BL11: A | BM11: M | BN11: A | BO11: M | BP11: A
A12: Nom prénom 1 | B12: 42309 | C12: 42338 | D12: RTT | F12: =NETWORKDAYS.INTL(B12,C12,1,PLANNING!I2:I14) -> 20
A13: Nom prénom 4 | B13: 42309 | C13: 42338 | D13: CP | F13: =NETWORKDAYS.INTL(B13,C13,1,PLANNING!I3:I15) -> 20
A14: Nom prénom 1 | B14: 42309 | C14: 42338 | D14: MALADIE | F14: =NETWORKDAYS.INTL(B14,C14,1,PLANNING!I4:I16) -> 20
A15: Nom prénom 6 | B15: 42309 | C15: 42338 | D15: AT | F15: =NETWORKDAYS.INTL(B15,C15,1,PLANNING!I5:I17) -> 20
A16: Nom prénom 5 | B16: 42309 | C16: 42338 | D16: RCR | F16: =NETWORKDAYS.INTL(B16,C16,1,PLANNING!I6:I18) -> 20
A17: Nom prénom 5 | B17: 42309 | C17: 42338 | D17: JOURS FERIES | F17: =NETWORKDAYS.INTL(B17,C17,1,PLANNING!I7:I19) -> 20
A18: Nom prénom 5 | B18: 42309 | C18: 42338 | D18: AUTRES | F18: =NETWORKDAYS.INTL(B18,C18,1,PLANNING!I8:I20) -> 20
F19: =NETWORKDAYS.INTL(B19,C19,1,PLANNING!I9:I21) -> 0
F20: =NETWORKDAYS.INTL(B20,C20,1,PLANNING!I10:I22) -> 0
F21: =NETWORKDAYS.INTL(B21,C21,1,PLANNING!I11:I23) -> 0
F22: =NETWORKDAYS.INTL(B22,C22,1,PLANNING!I12:I24) -> 0
F23: =NETWORKDAYS.INTL(B23,C23,1,PLANNING!I13:I25) -> 0
F24: =NETWORKDAYS.INTL(B24,C24,1,PLANNING!I14:I26) -> 0
F25: =NETWORKDAYS.INTL(B25,C25,1,PLANNING!I15:I27) -> 0
F26: =NETWORKDAYS.INTL(B26,C26,1,PLANNING!I16:I28) -> 0
F27: =NETWORKDAYS.INTL(B27,C27,1,PLANNING!I17:I29) -> 0
F28: =NETWORKDAYS.INTL(B28,C28,1,PLANNING!I18:I30) -> 0
F29: =NETWORKDAYS.INTL(B29,C29,1,PLANNING!I19:I31) -> 0
F30: =NETWORKDAYS.INTL(B30,C30,1,PLANNING!I20:I32) -> 0
... F38: =NETWORKDAYS.INTL(B38,C38,1,PLANNING!I28:I40) -> 0

Sheet COMPTEURS D'HEURES

Sheet GRAPH

Sheet CALENDRIER
