Workbook
Name Date: Feuil1!$M$3:$XFD$3

Sheet Feuil1
C1: STOCK ACHAT VENTE | M1: =SUMPRODUCT(M4:M10,$I$4:$I$10) -> 186 | N1: =SUMPRODUCT(N4:N10,$I$4:$I$10) -> 132 | O1: =SUMPRODUCT(O4:O10,$I$4:$I$10) -> 130 | P1: =SUMPRODUCT(P4:P10,$I$4:$I$10) -> 110 | Q1: =SUMPRODUCT(Q4:Q10,$I$4:$I$10) -> 0 | R1: =SUMPRODUCT(R4:R10,$I$4:$I$10) -> 0 | S1: =SUMPRODUCT(S4:S10,$I$4:$I$10) -> 0 | T1: =SUMPRODUCT(T4:T10,$I$4:$I$10) -> 0 | ... V1: =SUMPRODUCT(V4:V10,$I$4:$I$10) -> 0
A3: ACHAT date | B3: trim | C3: Référence | D3: type | E3: quantité | F3: Achat HT | G3: achat ht apres remise | H3: total | I3: Prix Vente | J3: vente | K3: alerte stock final | M3: 42282 | N3: 42283 | O3: 42284 | P3: 42285 | Q3: 42286 | R3: 42289 | S3: 42290 | T3: 42291 | U3: 42292 | V3: 42293
A4: 42261 | B4: 3 | D4: TABLEAU PAYSAGE | E4: 6 | F4: 10 | G4: =F4 -> 10 | H4: =E4*F4 -> 60 | I4: =F4*2 -> 20 | J4: =SUM(M4:ZY4) -> 3 | K4: =E4-J4 -> 3 | M4: 2 | O4: 1
A5: 42261 | B5: 3 | D5: TABLEAU PAYSAGE | E5: 9 | F5: 10 | G5: =F5 -> 10 | H5: =E5*F5 -> 90 | I5: =F5*2 -> 20 | J5: =SUM(M5:ZY5) -> 6 | K5: =E5-J5 -> 3 | N5: 1 | O5: 2 | P5: 3
A6: 42261 | B6: 3 | D6: TABLEAU PAYSAGE | E6: 6 | F6: 10 | G6: =F6 -> 10 | H6: =E6*F6 -> 60 | I6: =F6*2 -> 20 | J6: =SUM(M6:ZY6) -> 2 | K6: =E6-J6 -> 4 | M6: 1 | O6: 1
A7: 42261 | B7: 3 | C7: 4914a | D7: TABLEAU TRIPTIQUE | E7: 18 | F7: 17 | G7: =F7-(F7*20%) -> 13.6 | H7: =E7*G7 -> 244.8 | I7: =F7*2 -> 34 | J7: =SUM(M7:ZY7) -> 2 | K7: =E7-J7 -> 16 | N7: 2
A8: 42261 | B8: 3 | C8: v37001 | D8: TABLEAU TRIPTIQUE | E8: 16 | F8: 25 | G8: =F8-(F8*20%) -> 20 | H8: =E8*G8 -> 320 | I8: =F8*2 -> 50 | J8: =SUM(M8:ZY8) -> 2 | K8: =E8-J8 -> 14 | O8: 1 | P8: 1
A9: 42261 | B9: 3 | C9: d33586 | D9: TABLEAU TRIPTIQUE | E9: 17 | F9: 22 | G9: =F9-(F9*20%) -> 17.6 | H9: =E9*G9 -> 299.2 | I9: =F9*2 -> 44 | J9: =SUM(M9:ZY9) -> 3 | K9: =E9-J9 -> 14 | M9: 2 | N9: 1
A10: 42261 | B10: 3 | C10: v92483 | D10: TABLEAU TRIPTIQUE | E10: 8 | F10: 19 | G10: =F10-(F10*20%) -> 15.2 | H10: =E10*G10 -> 121.6 | I10: =F10*2 -> 38 | J10: =SUM(M10:ZY10) -> 1 | K10: =E10-J10 -> 7 | M10: 1

Sheet Feuil2
A1: RECAP VENTE PAR JOUR
A3: DATE VENTE | B3: QTE | C3: ARTICLE | D3: REFERENCE | E3: PRIX | F3: TOTAL
A4: 42282 | B4: =OFFSET(Feuil1!$L$3,1,MATCH(Feuil2!$A$4,Feuil1!$M$3:$V$3,0),1,1) -> 2 | C4: =IF($B4<>0,Feuil1!$D4,"") -> TABLEAU PAYSAGE | D4: =IF($B4<>0,Feuil1!$C4,"") -> 0 | E4: =IF($B4<>0,Feuil1!$I4,"") -> 20 | F4: =IFERROR(B4*E4,"") -> 40
B5: =OFFSET(Feuil1!$L$3,2,MATCH(Feuil2!$A$4,Feuil1!$M$3:$V$3,0),1,1) -> 0 | C5: =IF($B5<>0,Feuil1!$D5,"") | D5: =IF($B5<>0,Feuil1!$C5,"") | E5: =IF($B5<>0,Feuil1!$I5,"") | F5: =IFERROR(B5*E5,"")
B6: =OFFSET(Feuil1!$L$3,3,MATCH(Feuil2!$A$4,Feuil1!$M$3:$V$3,0),1,1) -> 1 | C6: =IF($B6<>0,Feuil1!$D6,"") -> TABLEAU PAYSAGE | D6: =IF($B6<>0,Feuil1!$C6,"") -> 0 | E6: =IF($B6<>0,Feuil1!$I6,"") -> 20 | F6: =IFERROR(B6*E6,"") -> 20
B7: =OFFSET(Feuil1!$L$3,4,MATCH(Feuil2!$A$4,Feuil1!$M$3:$V$3,0),1,1) -> 0 | C7: =IF($B7<>0,Feuil1!$D7,"") | D7: =IF($B7<>0,Feuil1!$C7,"") | E7: =IF($B7<>0,Feuil1!$I7,"") | F7: =IFERROR(B7*E7,"")
B8: =OFFSET(Feuil1!$L$3,5,MATCH(Feuil2!$A$4,Feuil1!$M$3:$V$3,0),1,1) -> 0 | C8: =IF($B8<>0,Feuil1!$D8,"") | D8: =IF($B8<>0,Feuil1!$C8,"") | E8: =IF($B8<>0,Feuil1!$I8,"") | F8: =IFERROR(B8*E8,"")
B9: =OFFSET(Feuil1!$L$3,6,MATCH(Feuil2!$A$4,Feuil1!$M$3:$V$3,0),1,1) -> 2 | C9: =IF($B9<>0,Feuil1!$D9,"") -> TABLEAU TRIPTIQUE | D9: =IF($B9<>0,Feuil1!$C9,"") -> d33586 | E9: =IF($B9<>0,Feuil1!$I9,"") -> 44 | F9: =IFERROR(B9*E9,"") -> 88
B10: =OFFSET(Feuil1!$L$3,7,MATCH(Feuil2!$A$4,Feuil1!$M$3:$V$3,0),1,1) -> 1 | C10: =IF($B10<>0,Feuil1!$D10,"") -> TABLEAU TRIPTIQUE | D10: =IF($B10<>0,Feuil1!$C10,"") -> v92483 | E10: =IF($B10<>0,Feuil1!$I10,"") -> 38 | F10: =IFERROR(B10*E10,"") -> 38
E11: Total | F11: =SUM(F4:F10) -> 186

Sheet Feuil3
