Workbook

Sheet RELEASE ORDER
A1: TABLEAU DU | B1: =TODAY() -> 43158
C2: =B1+10 -> 43168
C3: =B1+30 -> 43188
A4: N° de commande | B4: N° de poste | C4: Date Creation | D4: Accusé de réception | E4: Qté commandée | F4: Qté livrée | G4: Révision | H4: Poids Br Tot | I4: Commande interne | J4: Date besoin | K4: Date confirmee | L4: F | M4: Commentaire interne | N4: Réponse
A5: 4000167576 | B5: 40 | C5: 19.09.2017 | D5: =IFERROR(VLOOKUP(A5&"/"&"*",Feuil1!A:B,2,0),"") -> VC072275 | E5: 1800.000 | F5: 0 | G5: E | H5: 360 | J5: 43213 | K5: 43213 | L5: F
A6: 4000169880 | B6: 20 | C6: 27.11.2017 | D6: =IFERROR(VLOOKUP(A6&"/"&"*",Feuil1!A:B,2,0),"") -> VC073640 | E6: 30.000 | F6: 0 | G6: A | H6: 63 | J6: 43201 | K6: 43201 | L6: F
A7: 4000169880 | B7: 30 | C7: 27.11.2017 | D7: =IFERROR(VLOOKUP(A7&"/"&"*",Feuil1!A:B,2,0),"") -> VC073640 | E7: 30.000 | F7: 0 | G7: A | H7: 63 | J7: 43208 | K7: 43208 | L7: F
A8: 4000169880 | B8: 40 | C8: 27.11.2017 | D8: =IFERROR(VLOOKUP(A8&"/"&"*",Feuil1!A:B,2,0),"") -> VC073640 | E8: 30.000 | F8: 0 | G8: A | H8: 63 | J8: 43227 | K8: 43227 | L8: F
A9: 4000169881 | B9: 10 | C9: 27.11.2017 | D9: =IFERROR(VLOOKUP(A9&"/"&"*",Feuil1!A:B,2,0),"") -> VC073617 | E9: 30.000 | F9: 0 | G9: A | H9: 63 | J9: 43164 | K9: 43164 | L9: F
A10: 4000169881 | B10: 20 | C10: 27.11.2017 | D10: =IFERROR(VLOOKUP(A10&"/"&"*",Feuil1!A:B,2,0),"") -> VC073617 | E10: 30.000 | F10: 0 | G10: A | H10: 63 | J10: 43171 | K10: 43171 | L10: F
A11: 4000169881 | B11: 30 | C11: 27.11.2017 | D11: =IFERROR(VLOOKUP(A11&"/"&"*",Feuil1!A:B,2,0),"") -> VC073617 | E11: 30.000 | F11: 0 | G11: A | H11: 63 | J11: 43178 | K11: 43178 | L11: F
A12: 4000169881 | B12: 40 | C12: 27.11.2017 | D12: =IFERROR(VLOOKUP(A12&"/"&"*",Feuil1!A:B,2,0),"") -> VC073617 | E12: 30.000 | F12: 0 | G12: A | H12: 63 | J12: 43185 | K12: 43185 | L12: F
A13: 4000169883 | B13: 10 | C13: 27.11.2017 | D13: =IFERROR(VLOOKUP(A13&"/"&"*",Feuil1!A:B,2,0),"") -> VC073493 | E13: 30.000 | F13: 0 | G13: A | H13: 63 | J13: 43193 | K13: 43193 | L13: F
A14: 4000169899 | B14: 20 | C14: 28.11.2017 | D14: =IFERROR(VLOOKUP(A14&"/"&"*",Feuil1!A:B,2,0),"") -> VC073443 | E14: 20.000 | F14: 0 | H14: 20 | J14: 43157 | K14: 43157 | L14: F
A15: 4000169899 | B15: 30 | C15: 28.11.2017 | D15: =IFERROR(VLOOKUP(A15&"/"&"*",Feuil1!A:B,2,0),"") -> VC073443 | E15: 20.000 | F15: 0 | H15: 20 | J15: 43164 | K15: 43164 | L15: F
A16: 4000169899 | B16: 40 | C16: 28.11.2017 | D16: =IFERROR(VLOOKUP(A16&"/"&"*",Feuil1!A:B,2,0),"") -> VC073443 | E16: 20.000 | F16: 0 | H16: 20 | J16: 43171 | K16: 43171 | L16: F
A17: 4000169899 | B17: 50 | C17: 28.11.2017 | D17: =IFERROR(VLOOKUP(A17&"/"&"*",Feuil1!A:B,2,0),"") -> VC073443 | E17: 20.000 | F17: 0 | H17: 20 | J17: 43178 | K17: 43178 | L17: F
A18: 4000169899 | B18: 60 | C18: 28.11.2017 | D18: =IFERROR(VLOOKUP(A18&"/"&"*",Feuil1!A:B,2,0),"") -> VC073443 | E18: 20.000 | F18: 0 | H18: 20 | J18: 43185 | K18: 43185 | L18: F
A19: 4000170386 | B19: 10 | C19: 08.12.2017 | D19: =IFERROR(VLOOKUP(A19&"/"&"*",Feuil1!A:B,2,0),"") -> VC073770 | E19: 1440.000 | F19: 0 | G19: B | H19: 72 | J19: 43192 | K19: 43192
A20: 4000170386 | B20: 20 | C20: 08.12.2017 | D20: =IFERROR(VLOOKUP(A20&"/"&"*",Feuil1!A:B,2,0),"") -> VC073770 | E20: 1440.000 | F20: 0 | G20: B | H20: 72 | J20: 43199 | K20: 43199
A21: 4000170386 | B21: 30 | C21: 08.12.2017 | D21: =IFERROR(VLOOKUP(A21&"/"&"*",Feuil1!A:B,2,0),"") -> VC073770 | E21: 1440.000 | F21: 0 | G21: B | H21: 72 | J21: 43206 | K21: 43206
A22: 4000170386 | B22: 40 | C22: 08.12.2017 | D22: =IFERROR(VLOOKUP(A22&"/"&"*",Feuil1!A:B,2,0),"") -> VC073770 | E22: 1440.000 | F22: 0 | G22: B | H22: 72 | J22: 43214 | K22: 43214
A23: 4000170450 | B23: 20 | C23: 11.12.2017 | D23: =IFERROR(VLOOKUP(A23&"/"&"*",Feuil1!A:B,2,0),"") -> VC073767 | E23: 1728.000 | F23: 0 | G23: B | H23: 86.4 | J23: 43154 | K23: 43154 | L23: F
A24: 4000170450 | B24: 30 | C24: 11.12.2017 | D24: =IFERROR(VLOOKUP(A24&"/"&"*",Feuil1!A:B,2,0),"") -> VC073767 | E24: 1728.000 | F24: 0 | G24: B | H24: 86.4 | J24: 43161 | K24: 43161 | L24: F
A25: 4000170450 | B25: 40 | C25: 11.12.2017 | D25: =IFERROR(VLOOKUP(A25&"/"&"*",Feuil1!A:B,2,0),"") -> VC073767 | E25: 1728.000 | F25: 0 | G25: B | H25: 86.4 | J25: 43168 | K25: 43168 | L25: F
A26: 4000170450 | B26: 50 | C26: 11.12.2017 | D26: =IFERROR(VLOOKUP(A26&"/"&"*",Feuil1!A:B,2,0),"") -> VC073767 | E26: 1728.000 | F26: 0 | G26: B | H26: 86.4 | J26: 43175 | K26: 43175 | L26: F
A27: 4000170450 | B27: 60 | C27: 11.12.2017 | D27: =IFERROR(VLOOKUP(A27&"/"&"*",Feuil1!A:B,2,0),"") -> VC073767 | E27: 1728.000 | F27: 0 | G27: B | H27: 86.4 | J27: 43182 | K27: 43182 | L27: F
A28: 4000170450 | B28: 70 | C28: 11.12.2017 | D28: =IFERROR(VLOOKUP(A28&"/"&"*",Feuil1!A:B,2,0),"") -> VC073767 | E28: 1728.000 | F28: 0 | G28: B | H28: 86.4 | J28: 43189 | K28: 43189 | L28: F
A29: 4000170468 | B29: 60 | C29: 11.12.2017 | D29: =IFERROR(VLOOKUP(A29&"/"&"*",Feuil1!A:B,2,0),"") -> VC073659 | E29: 1152.000 | F29: 0 | G29: B | H29: 11.52 | J29: 43161 | K29: 43164 | L29: F
A30: 4000170468 | B30: 70 | C30: 11.12.2017 | D30: =IFERROR(VLOOKUP(A30&"/"&"*",Feuil1!A:B,2,0),"") -> VC073659 | E30: 1152.000 | F30: 0 | G30: B | H30: 11.52 | J30: 43168 | K30: 43164 | L30: F
A31: 4000170468 | B31: 80 | C31: 11.12.2017 | D31: =IFERROR(VLOOKUP(A31&"/"&"*",Feuil1!A:B,2,0),"") -> VC073659 | E31: 1152.000 | F31: 0 | G31: B | H31: 11.52 | J31: 43175 | K31: 43171 | L31: F
A32: 4000170468 | B32: 90 | C32: 11.12.2017 | D32: =IFERROR(VLOOKUP(A32&"/"&"*",Feuil1!A:B,2,0),"") -> VC073659 | E32: 1152.000 | F32: 0 | G32: B | H32: 11.52 | J32: 43182 | K32: 43178 | L32: F
A33: 4000170468 | B33: 100 | C33: 11.12.2017 | D33: =IFERROR(VLOOKUP(A33&"/"&"*",Feuil1!A:B,2,0),"") -> VC073659 | E33: 1152.000 | F33: 0 | G33: B | H33: 11.52 | J33: 43189 | K33: 43185 | L33: F
A34: 4000170745 | B34: 10 | C34: 18.12.2017 | D34: =IFERROR(VLOOKUP(A34&"/"&"*",Feuil1!A:B,2,0),"") | E34: 2.000 | F34: 0 | G34: A | H34: 8 | J34: 43120 | K34: 43154 | L34: F
A35: 4000171350 | B35: 10 | C35: 10.01.2018 | D35: =IFERROR(VLOOKUP(A35&"/"&"*",Feuil1!A:B,2,0),"") | E35: 10.000 | F35: 0 | G35: G | H35: 3 | J35: 43159 | K35: 43159
A36: 4000171428 | B36: 10 | C36: 11.01.2018 | D36: =IFERROR(VLOOKUP(A36&"/"&"*",Feuil1!A:B,2,0),"") -> VC074031 | E36: 120.000 | F36: 0 | G36: A | H36: 7.2 | J36: 43161 | K36: 43161 | L36: F
A37: 4000171428 | B37: 20 | C37: 11.01.2018 | D37: =IFERROR(VLOOKUP(A37&"/"&"*",Feuil1!A:B,2,0),"") -> VC074031 | E37: 120.000 | F37: 0 | G37: A | H37: 7.2 | J37: 43168 | K37: 43168 | L37: F
A38: 4000171428 | B38: 30 | C38: 11.01.2018 | D38: =IFERROR(VLOOKUP(A38&"/"&"*",Feuil1!A:B,2,0),"") -> VC074031 | E38: 120.000 | F38: 0 | G38: A | H38: 7.2 | J38: 43175 | K38: 43175 | L38: F
A39: 4000171428 | B39: 40 | C39: 11.01.2018 | D39: =IFERROR(VLOOKUP(A39&"/"&"*",Feuil1!A:B,2,0),"") -> VC074031 | E39: 120.000 | F39: 0 | G39: A | H39: 7.2 | J39: 43182 | K39: 43182 | L39: F
A40: 4000171746 | B40: 10 | C40: 19.01.2018 | D40: =IFERROR(VLOOKUP(A40&"/"&"*",Feuil1!A:B,2,0),"") -> VC074150 | E40: 1200.000 | F40: 0 | H40: 12 | J40: 43174 | K40: 43174
...

Sheet Feuil1
A1: Votre référence | B1: N° document
A2: 40000172472/CSK | B2: VC074582
A3: 40000172472/CSK
A4: 40000172472/CSK
A5: 40000172472/CSK
A6: 40000172472/CSK
A7: 40000172844/CSK | B7: VC074759
A8: 4000162031/C62 Avt.Marché DFIG | B8: VC069936
A9: 4000162031/C62 Avt.Marché DFIG
A10: 4000162031/C62 Avt.Marché DFIG
A11: 4000162031/C62 Avt.Marché DFIG
A12: 4000162031/C62 Avt.Marché DFIG
A13: 4000162031/C62 Avt.Marché DFIG
A14: 4000162031/C62 Avt.Marché DFIG
A15: 4000162031/C62 Avt.Marché DFIG
A16: 4000162031/C62 Avt.Marché DFIG
A17: 4000162031/C62 Avt.Marché DFIG
A18: 4000162031/C62 Avt.Marché DFIG
A19: 4000162031/C62 Avt.Marché DFIG
A20: 4000166125/CSK | B20: VC071702
A21: 4000166125/CSK
A22: 4000166125/CSK
A23: 4000166125/CSK
A24: 4000166125/CSK
A25: 4000166125/CSK
A26: 4000166125/CSK
A27: 4000166125/CSK
A28: 4000166125/CSK
A29: 4000166125/CSK
A30: 4000166126/CSK | B30: VC071703
A31: 4000166126/CSK
A32: 4000166126/CSK
A33: 4000166126/CSK
A34: 4000166126/CSK
A35: 4000166126/CSK
A36: 4000166126/CSK
A37: 4000166126/CSK
A38: 4000166126/CSK
A39: 4000166126/CSK
A40: 4000166127/CSK | B40: VC071704
...
