Workbook

Sheet RELEASE ORDER
A1: TABLEAU DU | B1: =TODAY() -> 43158
C2: =B1+10 -> 43168
C3: =B1+30 -> 43188
A4: N° de commande | B4: N° de poste | C4: Date Creation | D4: Accusé de réception | E4: Qté commandée | F4: Qté livrée | G4: Révision | H4: Poids Br Tot | I4: Commande interne | J4: Date besoin | K4: Date confirmee | L4: F | M4: Commentaire interne | N4: Réponse
A5: 4000167576 | B5: 40 | C5: 19.09.2017 | D5: =IFERROR(VLOOKUP(A5&"/"&"*",Feuil1!A:B,2,0),"") -> VC072275 | E5: 1800.000 | F5: 0 | G5: E | H5: 360 | J5: 43213 | K5: 43213 | L5: F
A6: 4000169880 | B6: 20 | C6: 27.11.2017 | D6: =IFERROR(VLOOKUP(A6&"/"&"*",Feuil1!A:B,2,0),"") -> VC073640 | E6: 30.000 | F6: 0 | G6: A | H6: 63 | J6: 43201 | K6: 43201 | L6: F
A7: 4000169880 | B7: 30 | C7: 27.11.2017 | D7: =IFERROR(VLOOKUP(A7&"/"&"*",Feuil1!A:B,2,0),"") -> VC073640 | E7: 30.000 | F7: 0 | G7: A | H7: 63 | J7: 43208 | K7: 43208 | L7: F
A8: 4000169880 | B8: 40 | C8: 27.11.2017 | D8: =IFERROR(VLOOKUP(A8&"/"&"*",Feuil1!A:B,2,0),"") -> VC073640 | E8: 30.000 | F8: 0 | G8: A | H8: 63 | J8: 43227 | K8: 43227 | L8: F
A9: 4000169881 | B9: 10 | C9: 27.11.2017 | D9: =IFERROR(VLOOKUP(A9&"/"&"*",Feuil1!A:B,2,0),"") -> VC073617 | E9: 30.000 | F9: 0 | G9: A | H9: 63 | J9: 43164 | K9: 43164 | L9: F
A10: 4000169881 | B10: 20 | C10: 27.11.2017 | D10: =IFERROR(VLOOKUP(A10&"/"&"*",Feuil1!A:B,2,0),"") -> VC073617 | E10: 30.000 | F10: 0 | G10: A | H10: 63 | J10: 43171 | K10: 43171 | L10: F
A11: 4000169881 | B11: 30 | C11: 27.11.2017 | D11: =IFERROR(VLOOKUP(A11&"/"&"*",Feuil1!A:B,2,0),"") -> VC073617 | E11: 30.000 | F11: 0 | G11: A | H11: 63 | J11: 43178 | K11: 43178 | L11: F
A12: 4000169881 | B12: 40 | C12: 27.11.2017 | D12: =IFERROR(VLOOKUP(A12&"/"&"*",Feuil1!A:B,2,0),"") -> VC073617 | E12: 30.000 | F12: 0 | G12: A | H12: 63 | J12: 43185 | K12: 43185 | L12: F
A13: 4000169883 | B13: 10 | C13: 27.11.2017 | D13: =IFERROR(VLOOKUP(A13&"/"&"*",Feuil1!A:B,2,0),"") -> VC073493 | E13: 30.000 | F13: 0 | G13: A | H13: 63 | J13: 43193 | K13: 43193 | L13: F
A14: 4000169899 | B14: 20 | C14: 28.11.2017 | D14: =IFERROR(VLOOKUP(A14&"/"&"*",Feuil1!A:B,2,0),"") -> VC073443 | E14: 20.000 | F14: 0 | H14: 20 | J14: 43157 | K14: 43157 | L14: F
A15: 4000169899 | B15: 30 | C15: 28.11.2017 | D15: =IFERROR(VLOOKUP(A15&"/"&"*",Feuil1!A:B,2,0),"") -> VC073443 | E15: 20.000 | F15: 0 | H15: 20 | J15: 43164 | K15: 43164 | L15: F
A16: 4000169899 | B16: 40 | C16: 28.11.2017 | D16: =IFERROR(VLOOKUP(A16&"/"&"*",Feuil1!A:B,2,0),"") -> VC073443 | E16: 20.000 | F16: 0 | H16: 20 | J16: 43171 | K16: 43171 | L16: F
A17: 4000169899 | B17: 50 | C17: 28.11.2017 | D17: =IFERROR(VLOOKUP(A17&"/"&"*",Feuil1!A:B,2,0),"") -> VC073443 | E17: 20.000 | F17: 0 | H17: 20 | J17: 43178 | K17: 43178 | L17: F
A18: 4000169899 | B18: 60 | C18: 28.11.2017 | D18: =IFERROR(VLOOKUP(A18&"/"&"*",Feuil1!A:B,2,0),"") -> VC073443 | E18: 20.000 | F18: 0 | H18: 20 | J18: 43185 | K18: 43185 | L18: F
A19: 4000170386 | B19: 10 | C19: 08.12.2017 | D19: =IFERROR(VLOOKUP(A19&"/"&"*",Feuil1!A:B,2,0),"") -> VC073770 | E19: 1440.000 | F19: 0 | G19: B | H19: 72 | J19: 43192 | K19: 43192
A20: 4000170386 | B20: 20 | C20: 08.12.2017 | D20: =IFERROR(VLOOKUP(A20&"/"&"*",Feuil1!A:B,2,0),"") -> VC073770 | E20: 1440.000 | F20: 0 | G20: B | H20: 72 | J20: 43199 | K20: 43199
A21: 4000170386 | B21: 30 | C21: 08.12.2017 | D21: =IFERROR(VLOOKUP(A21&"/"&"*",Feuil1!A:B,2,0),"") -> VC073770 | E21: 1440.000 | F21: 0 | G21: B | H21: 72 | J21: 43206 | K21: 43206
A22: 4000170386 | B22: 40 | C22: 08.12.2017 | D22: =IFERROR(VLOOKUP(A22&"/"&"*",Feuil1!A:B,2,0),"") -> VC073770 | E22: 1440.000 | F22: 0 | G22: B | H22: 72 | J22: 43214 | K22: 43214
A23: 4000170450 | B23: 20 | C23: 11.12.2017 | D23: =IFERROR(VLOOKUP(A23&"/"&"*",Feuil1!A:B,2,0),"") -> VC073767 | E23: 1728.000 | F23: 0 | G23: B | H23: 86.4 | J23: 43154 | K23: 43154 | L23: F
A24: 4000170450 | B24: 30 | C24: 11.12.2017 | D24: =IFERROR(VLOOKUP(A24&"/"&"*",Feuil1!A:B,2,0),"") -> VC073767 | E24: 1728.000 | F24: 0 | G24: B | H24: 86.4 | J24: 43161 | K24: 43161 | L24: F
A25: 4000170450 | B25: 40 | C25: 11.12.2017 | D25: =IFERROR(VLOOKUP(A25&"/"&"*",Feuil1!A:B,2,0),"") -> VC073767 | E25: 1728.000 | F25: 0 | G25: B | H25: 86.4 | J25: 43168 | K25: 43168 | L25: F
A26: 4000170450 | B26: 50 | C26: 11.12.2017 | D26: =IFERROR(VLOOKUP(A26&"/"&"*",Feuil1!A:B,2,0),"") -> VC073767 | E26: 1728.000 | F26: 0 | G26: B | H26: 86.4 | J26: 43175 | K26: 43175 | L26: F
A27: 4000170450 | B27: 60 | C27: 11.12.2017 | D27: =IFERROR(VLOOKUP(A27&"/"&"*",Feuil1!A:B,2,0),"") -> VC073767 | E27: 1728.000 | F27: 0 | G27: B | H27: 86.4 | J27: 43182 | K27: 43182 | L27: F
A28: 4000170450 | B28: 70 | C28: 11.12.2017 | D28: =IFERROR(VLOOKUP(A28&"/"&"*",Feuil1!A:B,2,0),"") -> VC073767 | E28: 1728.000 | F28: 0 | G28: B | H28: 86.4 | J28: 43189 | K28: 43189 | L28: F
A29: 4000170468 | B29: 60 | C29: 11.12.2017 | D29: =IFERROR(VLOOKUP(A29&"/"&"*",Feuil1!A:B,2,0),"") -> VC073659 | E29: 1152.000 | F29: 0 | G29: B | H29: 11.52 | J29: 43161 | K29: 43164 | L29: F
A30: 4000170468 | B30: 70 | C30: 11.12.2017 | D30: =IFERROR(VLOOKUP(A30&"/"&"*",Feuil1!A:B,2,0),"") -> VC073659 | E30: 1152.000 | F30: 0 | G30: B | H30: 11.52 | J30: 43168 | K30: 43164 | L30: F
A31: 4000170468 | B31: 80 | C31: 11.12.2017 | D31: =IFERROR(VLOOKUP(A31&"/"&"*",Feuil1!A:B,2,0),"") -> VC073659 | E31: 1152.000 | F31: 0 | G31: B | H31: 11.52 | J31: 43175 | K31: 43171 | L31: F
A32: 4000170468 | B32: 90 | C32: 11.12.2017 | D32: =IFERROR(VLOOKUP(A32&"/"&"*",Feuil1!A:B,2,0),"") -> VC073659 | E32: 1152.000 | F32: 0 | G32: B | H32: 11.52 | J32: 43182 | K32: 43178 | L32: F
A33: 4000170468 | B33: 100 | C33: 11.12.2017 | D33: =IFERROR(VLOOKUP(A33&"/"&"*",Feuil1!A:B,2,0),"") -> VC073659 | E33: 1152.000 | F33: 0 | G33: B | H33: 11.52 | J33: 43189 | K33: 43185 | L33: F
A34: 4000170745 | B34: 10 | C34: 18.12.2017 | D34: =IFERROR(VLOOKUP(A34&"/"&"*",Feuil1!A:B,2,0),"") | E34: 2.000 | F34: 0 | G34: A | H34: 8 | J34: 43120 | K34: 43154 | L34: F
A35: 4000171350 | B35: 10 | C35: 10.01.2018 | D35: =IFERROR(VLOOKUP(A35&"/"&"*",Feuil1!A:B,2,0),"") | E35: 10.000 | F35: 0 | G35: G | H35: 3 | J35: 43159 | K35: 43159
A36: 4000171428 | B36: 10 | C36: 11.01.2018 | D36: =IFERROR(VLOOKUP(A36&"/"&"*",Feuil1!A:B,2,0),"") -> VC074031 | E36: 120.000 | F36: 0 | G36: A | H36: 7.2 | J36: 43161 | K36: 43161 | L36: F
A37: 4000171428 | B37: 20 | C37: 11.01.2018 | D37: =IFERROR(VLOOKUP(A37&"/"&"*",Feuil1!A:B,2,0),"") -> VC074031 | E37: 120.000 | F37: 0 | G37: A | H37: 7.2 | J37: 43168 | K37: 43168 | L37: F
A38: 4000171428 | B38: 30 | C38: 11.01.2018 | D38: =IFERROR(VLOOKUP(A38&"/"&"*",Feuil1!A:B,2,0),"") -> VC074031 | E38: 120.000 | F38: 0 | G38: A | H38: 7.2 | J38: 43175 | K38: 43175 | L38: F
A39: 4000171428 | B39: 40 | C39: 11.01.2018 | D39: =IFERROR(VLOOKUP(A39&"/"&"*",Feuil1!A:B,2,0),"") -> VC074031 | E39: 120.000 | F39: 0 | G39: A | H39: 7.2 | J39: 43182 | K39: 43182 | L39: F
A40: 4000171746 | B40: 10 | C40: 19.01.2018 | D40: =IFERROR(VLOOKUP(A40&"/"&"*",Feuil1!A:B,2,0),"") -> VC074150 | E40: 1200.000 | F40: 0 | H40: 12 | J40: 43174 | K40: 43174
A41: 4000171746 | B41: 20 | C41: 19.01.2018 | D41: =IFERROR(VLOOKUP(A41&"/"&"*",Feuil1!A:B,2,0),"") -> VC074150 | E41: 1200.000 | F41: 0 | H41: 12 | J41: 43200 | K41: 43200
A42: 4000171749 | B42: 10 | C42: 19.01.2018 | D42: =IFERROR(VLOOKUP(A42&"/"&"*",Feuil1!A:B,2,0),"") -> VC074151 | E42: 1200.000 | F42: 0 | H42: 12 | J42: 43169 | K42: 43169
A43: 4000171749 | B43: 20 | C43: 19.01.2018 | D43: =IFERROR(VLOOKUP(A43&"/"&"*",Feuil1!A:B,2,0),"") -> VC074151 | E43: 1200.000 | F43: 0 | H43: 12 | J43: 43200 | K43: 43200
A44: 4000171763 | B44: 10 | C44: 22.01.2018 | D44: =IFERROR(VLOOKUP(A44&"/"&"*",Feuil1!A:B,2,0),"") -> VC074459 | E44: 15.000 | F44: 0 | H44: 15 | J44: 43143 | K44: 43168 | L44: F
A45: 4000171763 | B45: 20 | C45: 22.01.2018 | D45: =IFERROR(VLOOKUP(A45&"/"&"*",Feuil1!A:B,2,0),"") -> VC074459 | E45: 15.000 | F45: 0 | H45: 15 | J45: 43150 | K45: 43168 | L45: F
A46: 4000171763 | B46: 30 | C46: 22.01.2018 | D46: =IFERROR(VLOOKUP(A46&"/"&"*",Feuil1!A:B,2,0),"") -> VC074459 | E46: 15.000 | F46: 0 | H46: 15 | J46: 43157 | K46: 43168 | L46: F
A47: 4000171763 | B47: 40 | C47: 22.01.2018 | D47: =IFERROR(VLOOKUP(A47&"/"&"*",Feuil1!A:B,2,0),"") -> VC074459 | E47: 15.000 | F47: 0 | H47: 15 | J47: 43164 | K47: 43168 | L47: F
A48: 4000171763 | B48: 50 | C48: 22.01.2018 | D48: =IFERROR(VLOOKUP(A48&"/"&"*",Feuil1!A:B,2,0),"") -> VC074459 | E48: 15.000 | F48: 0 | H48: 15 | J48: 43171 | K48: 43168 | L48: F
A49: 4000171763 | B49: 60 | C49: 22.01.2018 | D49: =IFERROR(VLOOKUP(A49&"/"&"*",Feuil1!A:B,2,0),"") -> VC074459 | E49: 15.000 | F49: 0 | H49: 15 | J49: 43178 | K49: 43178 | L49: F
A50: 4000171763 | B50: 70 | C50: 22.01.2018 | D50: =IFERROR(VLOOKUP(A50&"/"&"*",Feuil1!A:B,2,0),"") -> VC074459 | E50: 15.000 | F50: 0 | H50: 15 | J50: 43192 | K50: 43193 | L50: F
A51: 4000171763 | B51: 80 | C51: 22.01.2018 | D51: =IFERROR(VLOOKUP(A51&"/"&"*",Feuil1!A:B,2,0),"") -> VC074459 | E51: 15.000 | F51: 0 | H51: 15 | J51: 43199 | K51: 43199 | L51: F
A52: 4000171763 | B52: 90 | C52: 22.01.2018 | D52: =IFERROR(VLOOKUP(A52&"/"&"*",Feuil1!A:B,2,0),"") -> VC074459 | E52: 15.000 | F52: 0 | H52: 15 | J52: 43206 | K52: 43206 | L52: F
A53: 4000171763 | B53: 100 | C53: 22.01.2018 | D53: =IFERROR(VLOOKUP(A53&"/"&"*",Feuil1!A:B,2,0),"") -> VC074459 | E53: 15.000 | F53: 0 | H53: 15 | J53: 43213 | K53: 43213 | L53: F
A54: 4000171763 | B54: 110 | C54: 22.01.2018 | D54: =IFERROR(VLOOKUP(A54&"/"&"*",Feuil1!A:B,2,0),"") -> VC074459 | E54: 15.000 | F54: 0 | H54: 15 | J54: 43227 | K54: 43227 | L54: F
A55: 4000171763 | B55: 120 | C55: 22.01.2018 | D55: =IFERROR(VLOOKUP(A55&"/"&"*",Feuil1!A:B,2,0),"") -> VC074459 | E55: 15.000 | F55: 0 | H55: 15 | J55: 43234 | K55: 43234 | L55: F
A56: 4000171958 | B56: 10 | C56: 29.01.2018 | D56: =IFERROR(VLOOKUP(A56&"/"&"*",Feuil1!A:B,2,0),"") -> VC074332 | E56: 1200.000 | F56: 0 | H56: 12 | J56: 43205 | K56: 43205 | L56: F
A57: 4000171997 | B57: 10 | C57: 29.01.2018 | D57: =IFERROR(VLOOKUP(A57&"/"&"*",Feuil1!A:B,2,0),"") -> VC074397 | E57: 4.000 | F57: 0 | G57: A | H57: 0.04 | J57: 43174 | K57: 43174
A58: 4000172008 | B58: 10 | C58: 29.01.2018 | D58: =IFERROR(VLOOKUP(A58&"/"&"*",Feuil1!A:B,2,0),"") -> VC074394 | E58: 1200.000 | F58: 0 | H58: 12 | J58: 43229 | K58: 43229
A59: 4000172008 | B59: 20 | C59: 29.01.2018 | D59: =IFERROR(VLOOKUP(A59&"/"&"*",Feuil1!A:B,2,0),"") -> VC074394 | E59: 1500.000 | F59: 0 | H59: 15 | J59: 43151 | K59: 43151
A60: 4000172133 | B60: 10 | C60: 01.02.2018 | D60: =IFERROR(VLOOKUP(A60&"/"&"*",Feuil1!A:B,2,0),"") -> VC074407 | E60: 30.000 | F60: 0 | H60: 3 | J60: 43150 | K60: 43153 | L60: F
A61: 4000172133 | B61: 20 | C61: 01.02.2018 | D61: =IFERROR(VLOOKUP(A61&"/"&"*",Feuil1!A:B,2,0),"") -> VC074407 | E61: 30.000 | F61: 0 | H61: 3 | J61: 43157 | K61: 43153 | L61: F
A62: 4000172133 | B62: 30 | C62: 01.02.2018 | D62: =IFERROR(VLOOKUP(A62&"/"&"*",Feuil1!A:B,2,0),"") -> VC074407 | E62: 30.000 | F62: 0 | H62: 3 | J62: 43164 | K62: 43153 | L62: F
A63: 4000172133 | B63: 40 | C63: 01.02.2018 | D63: =IFERROR(VLOOKUP(A63&"/"&"*",Feuil1!A:B,2,0),"") -> VC074407 | E63: 30.000 | F63: 0 | H63: 3 | J63: 43171 | K63: 43167 | L63: F
A64: 4000172133 | B64: 50 | C64: 01.02.2018 | D64: =IFERROR(VLOOKUP(A64&"/"&"*",Feuil1!A:B,2,0),"") -> VC074407 | E64: 30.000 | F64: 0 | H64: 3 | J64: 43178 | K64: 43167 | L64: F
A65: 4000172133 | B65: 60 | C65: 01.02.2018 | D65: =IFERROR(VLOOKUP(A65&"/"&"*",Feuil1!A:B,2,0),"") -> VC074407 | E65: 30.000 | F65: 0 | H65: 3 | J65: 43185 | K65: 43181 | L65: F
A66: 4000172133 | B66: 70 | C66: 01.02.2018 | D66: =IFERROR(VLOOKUP(A66&"/"&"*",Feuil1!A:B,2,0),"") -> VC074407 | E66: 30.000 | F66: 0 | H66: 3 | J66: 43192 | K66: 43181 | L66: F
A67: 4000172134 | B67: 10 | C67: 01.02.2018 | D67: =IFERROR(VLOOKUP(A67&"/"&"*",Feuil1!A:B,2,0),"") -> VC074434 | E67: 101.570 | F67: 0 | H67: 0 | J67: 43164 | K67: 43164 | L67: F
A68: 4000172410 | B68: 10 | C68: 08.02.2018 | D68: =IFERROR(VLOOKUP(A68&"/"&"*",Feuil1!A:B,2,0),"") -> VC074580 | E68: 30.000 | F68: 0 | G68: C | H68: 6 | J68: 43161 | K68: 43161 | L68: F
A69: 4000172410 | B69: 20 | C69: 08.02.2018 | D69: =IFERROR(VLOOKUP(A69&"/"&"*",Feuil1!A:B,2,0),"") -> VC074580 | E69: 30.000 | F69: 0 | G69: C | H69: 6 | J69: 43164 | K69: 43161 | L69: F
A70: 4000172410 | B70: 30 | C70: 08.02.2018 | D70: =IFERROR(VLOOKUP(A70&"/"&"*",Feuil1!A:B,2,0),"") -> VC074580 | E70: 30.000 | F70: 0 | G70: C | H70: 6 | J70: 43171 | K70: 43161 | L70: F
A71: 4000172410 | B71: 40 | C71: 08.02.2018 | D71: =IFERROR(VLOOKUP(A71&"/"&"*",Feuil1!A:B,2,0),"") -> VC074580 | E71: 30.000 | F71: 0 | G71: C | H71: 6 | J71: 43178 | K71: 43175 | L71: F
A72: 4000172410 | B72: 50 | C72: 08.02.2018 | D72: =IFERROR(VLOOKUP(A72&"/"&"*",Feuil1!A:B,2,0),"") -> VC074580 | E72: 30.000 | F72: 0 | G72: C | H72: 6 | J72: 43185 | K72: 43175 | L72: F
A73: 4000172410 | B73: 60 | C73: 08.02.2018 | D73: =IFERROR(VLOOKUP(A73&"/"&"*",Feuil1!A:B,2,0),"") -> VC074580 | E73: 100.000 | F73: 0 | H73: 10 | J73: 43161 | K73: 43161 | L73: F
A74: 4000172410 | B74: 70 | C74: 08.02.2018 | D74: =IFERROR(VLOOKUP(A74&"/"&"*",Feuil1!A:B,2,0),"") -> VC074580 | E74: 100.000 | F74: 0 | H74: 10 | J74: 43164 | K74: 43200
A75: 4000172410 | B75: 80 | C75: 08.02.2018 | D75: =IFERROR(VLOOKUP(A75&"/"&"*",Feuil1!A:B,2,0),"") -> VC074580 | E75: 100.000 | F75: 0 | H75: 10 | J75: 43168 | K75: 43168
A76: 4000172410 | B76: 90 | C76: 08.02.2018 | D76: =IFERROR(VLOOKUP(A76&"/"&"*",Feuil1!A:B,2,0),"") -> VC074580 | E76: 200.000 | F76: 0 | H76: 20 | J76: 43168 | K76: 43161 | L76: F
A77: 4000172410 | B77: 100 | C77: 08.02.2018 | D77: =IFERROR(VLOOKUP(A77&"/"&"*",Feuil1!A:B,2,0),"") -> VC074580 | E77: 200.000 | F77: 0 | H77: 20 | J77: 43168 | K77: 43168 | L77: F
A78: 4000172410 | B78: 110 | C78: 08.02.2018 | D78: =IFERROR(VLOOKUP(A78&"/"&"*",Feuil1!A:B,2,0),"") -> VC074580 | E78: 200.000 | F78: 0 | H78: 20 | J78: 43168 | K78: 43168 | L78: F
A79: 4000172450 | B79: 10 | C79: 09.02.2018 | D79: =IFERROR(VLOOKUP(A79&"/"&"*",Feuil1!A:B,2,0),"") -> VC074583 | E79: 45.000 | F79: 0 | H79: 4.5 | J79: 43199 | K79: 43199 | L79: F
A80: 4000172450 | B80: 20 | C80: 09.02.2018 | D80: =IFERROR(VLOOKUP(A80&"/"&"*",Feuil1!A:B,2,0),"") -> VC074583 | E80: 45.000 | F80: 0 | H80: 4.5 | J80: 43213 | K80: 43213 | L80: F
A81: 4000172450 | B81: 30 | C81: 09.02.2018 | D81: =IFERROR(VLOOKUP(A81&"/"&"*",Feuil1!A:B,2,0),"") -> VC074583 | E81: 45.000 | F81: 0 | H81: 4.5 | J81: 43229 | K81: 43229 | L81: F
A82: 4000172450 | B82: 40 | C82: 09.02.2018 | D82: =IFERROR(VLOOKUP(A82&"/"&"*",Feuil1!A:B,2,0),"") -> VC074583 | E82: 45.000 | F82: 0 | H82: 4.5 | J82: 43236 | K82: 43236 | L82: F
A83: 4000172450 | B83: 50 | C83: 09.02.2018 | D83: =IFERROR(VLOOKUP(A83&"/"&"*",Feuil1!A:B,2,0),"") -> VC074583 | E83: 45.000 | F83: 0 | H83: 4.5 | J83: 43243 | K83: 43243 | L83: F
A84: 4000172463 | B84: 10 | C84: 09.02.2018 | D84: =IFERROR(VLOOKUP(A84&"/"&"*",Feuil1!A:B,2,0),"") | E84: 20.000 | F84: 0 | H84: 8 | J84: 43173 | K84: 43173
A85: 4000172463 | B85: 20 | C85: 09.02.2018 | D85: =IFERROR(VLOOKUP(A85&"/"&"*",Feuil1!A:B,2,0),"") | E85: 20.000 | F85: 0 | H85: 8 | J85: 43180 | K85: 43180
A86: 4000172463 | B86: 30 | C86: 09.02.2018 | D86: =IFERROR(VLOOKUP(A86&"/"&"*",Feuil1!A:B,2,0),"") | E86: 20.000 | F86: 0 | H86: 8 | J86: 43187 | K86: 43187
A87: 4000172463 | B87: 40 | C87: 09.02.2018 | D87: =IFERROR(VLOOKUP(A87&"/"&"*",Feuil1!A:B,2,0),"") | E87: 20.000 | F87: 0 | H87: 8 | J87: 43201 | K87: 43201
A88: 4000172463 | B88: 50 | C88: 09.02.2018 | D88: =IFERROR(VLOOKUP(A88&"/"&"*",Feuil1!A:B,2,0),"") | E88: 20.000 | F88: 0 | H88: 8 | J88: 43208 | K88: 43208
A89: 4000172463 | B89: 60 | C89: 09.02.2018 | D89: =IFERROR(VLOOKUP(A89&"/"&"*",Feuil1!A:B,2,0),"") | E89: 20.000 | F89: 0 | H89: 8 | J89: 43215 | K89: 43215
A90: 4000172465 | B90: 10 | C90: 09.02.2018 | D90: =IFERROR(VLOOKUP(A90&"/"&"*",Feuil1!A:B,2,0),"") -> VC074585 | E90: 30.000 | F90: 0 | G90: A | H90: 0.6 | J90: 43153 | K90: 43153
A91: 4000172465 | B91: 20 | C91: 09.02.2018 | D91: =IFERROR(VLOOKUP(A91&"/"&"*",Feuil1!A:B,2,0),"") -> VC074585 | E91: 30.000 | F91: 0 | G91: A | H91: 0.6 | J91: 43164 | K91: 43164
A92: 4000172465 | B92: 30 | C92: 09.02.2018 | D92: =IFERROR(VLOOKUP(A92&"/"&"*",Feuil1!A:B,2,0),"") -> VC074585 | E92: 42.000 | F92: 0 | G92: A | H92: 0.84 | J92: 43171 | K92: 43171
A93: 4000172472 | B93: 10 | C93: 09.02.2018 | D93: =IFERROR(VLOOKUP(A93&"/"&"*",Feuil1!A:B,2,0),"") | E93: 1440.000 | F93: 0 | G93: B | H93: 72 | J93: 43206 | K93: 43206 | L93: F
A94: 4000172472 | B94: 20 | C94: 09.02.2018 | D94: =IFERROR(VLOOKUP(A94&"/"&"*",Feuil1!A:B,2,0),"") | E94: 1440.000 | F94: 0 | G94: B | H94: 72 | J94: 43223 | K94: 43223 | L94: F
A95: 4000172472 | B95: 30 | C95: 09.02.2018 | D95: =IFERROR(VLOOKUP(A95&"/"&"*",Feuil1!A:B,2,0),"") | E95: 1440.000 | F95: 0 | G95: B | H95: 72 | J95: 43231 | K95: 43231 | L95: F
A96: 4000172472 | B96: 40 | C96: 09.02.2018 | D96: =IFERROR(VLOOKUP(A96&"/"&"*",Feuil1!A:B,2,0),"") | E96: 1440.000 | F96: 0 | G96: B | H96: 72 | J96: 43238 | K96: 43238 | L96: F
A97: 4000172472 | B97: 50 | C97: 09.02.2018 | D97: =IFERROR(VLOOKUP(A97&"/"&"*",Feuil1!A:B,2,0),"") | E97: 1440.000 | F97: 0 | G97: B | H97: 72 | J97: 43245 | K97: 43245 | L97: F
A98: 4000172487 | B98: 20 | C98: 09.02.2018 | D98: =IFERROR(VLOOKUP(A98&"/"&"*",Feuil1!A:B,2,0),"") -> VC074584 | E98: 120.000 | F98: 0 | H98: 2.4 | J98: 43161 | K98: 43161
A99: 4000172487 | B99: 40 | C99: 09.02.2018 | D99: =IFERROR(VLOOKUP(A99&"/"&"*",Feuil1!A:B,2,0),"") -> VC074584 | E99: 240.000 | F99: 0 | H99: 4.8 | J99: 43161 | K99: 43161
A100: 4000172689 | B100: 10 | C100: 15.02.2018 | D100: =IFERROR(VLOOKUP(A100&"/"&"*",Feuil1!A:B,2,0),"") -> VC074701 | E100: 1200.000 | F100: 0 | H100: 12 | J100: 43222 | K100: 43240 | L100: F
...

Sheet Feuil1
A1: Votre référence | B1: N° document
A2: 40000172472/CSK | B2: VC074582
A3: 40000172472/CSK
A4: 40000172472/CSK
A5: 40000172472/CSK
A6: 40000172472/CSK
A7: 40000172844/CSK | B7: VC074759
A8: 4000162031/C62 Avt.Marché DFIG | B8: VC069936
A9: 4000162031/C62 Avt.Marché DFIG
A10: 4000162031/C62 Avt.Marché DFIG
A11: 4000162031/C62 Avt.Marché DFIG
A12: 4000162031/C62 Avt.Marché DFIG
A13: 4000162031/C62 Avt.Marché DFIG
A14: 4000162031/C62 Avt.Marché DFIG
A15: 4000162031/C62 Avt.Marché DFIG
A16: 4000162031/C62 Avt.Marché DFIG
A17: 4000162031/C62 Avt.Marché DFIG
A18: 4000162031/C62 Avt.Marché DFIG
A19: 4000162031/C62 Avt.Marché DFIG
A20: 4000166125/CSK | B20: VC071702
A21: 4000166125/CSK
A22: 4000166125/CSK
A23: 4000166125/CSK
A24: 4000166125/CSK
A25: 4000166125/CSK
A26: 4000166125/CSK
A27: 4000166125/CSK
A28: 4000166125/CSK
A29: 4000166125/CSK
A30: 4000166126/CSK | B30: VC071703
A31: 4000166126/CSK
A32: 4000166126/CSK
A33: 4000166126/CSK
A34: 4000166126/CSK
A35: 4000166126/CSK
A36: 4000166126/CSK
A37: 4000166126/CSK
A38: 4000166126/CSK
A39: 4000166126/CSK
A40: 4000166127/CSK | B40: VC071704
A41: 4000166127/CSK
A42: 4000166127/CSK
A43: 4000166127/CSK
A44: 4000166127/CSK
A45: 4000166127/CSK
A46: 4000166127/CSK
A47: 4000166127/CSK
A48: 4000166127/CSK
A49: 4000166127/CSK
A50: 4000166129/CSK | B50: VC071705
A51: 4000166129/CSK
A52: 4000166129/CSK
A53: 4000166129/CSK
A54: 4000166129/CSK
A55: 4000166129/CSK
A56: 4000166129/CSK
A57: 4000166129/CSK
A58: 4000166129/CSK
A59: 4000167576/CSK | B59: VC072275
A60: 4000167576/CSK
A61: 4000167576/CSK
A62: 4000167576/CSK
A63: 4000167585/CSK | B63: VC072281
A64: 4000167588/CSK | B64: VC072283
A65: 4000167589/CSK | B65: VC072284
A66: 4000167590/CSK | B66: VC072285
A67: 4000167591/CSK | B67: VC072287
A68: 4000167592/CSK | B68: VC072288
A69: 4000167593/CSK | B69: VC072289
A70: 4000167594/CSK | B70: VC072290
A71: 4000169879/62 | B71: VC073492
A72: 4000169879/62
A73: 4000169879/62
A74: 4000169880/C62 | B74: VC073640
A75: 4000169880/C62
A76: 4000169880/C62
A77: 4000169880/C62
A78: 4000169881/C62 | B78: VC073617
A79: 4000169881/C62
A80: 4000169881/C62
A81: 4000169881/C62
A82: 4000169883/62 | B82: VC073493
A83: 4000169899/C62 | B83: VC073443
A84: 4000169899/C62
A85: 4000169899/C62
A86: 4000169899/C62
A87: 4000169899/C62
A88: 4000169899/C62
A89: 4000170386/CSK | B89: VC073770
A90: 4000170386/CSK
A91: 4000170386/CSK
A92: 4000170386/CSK
A93: 4000170450/CSK | B93: VC073767
A94: 4000170450/CSK
A95: 4000170450/CSK
A96: 4000170450/CSK
A97: 4000170450/CSK
A98: 4000170450/CSK
A99: 4000170450/CSK
A100: 4000170468/C62 | B100: VC073659
...
