Workbook

Sheet Besoin
B1: Reference | C1: Zone Actuelle | D1: Magasin | E1: Zone future | F1: Types de casier | G1: Adresse calculée
A2: =D2&E2&F2 -> VNB7BC1 | B2: A1 | C2: M0 | D2: VN | E2: B7 | F2: BC1 | G2: 5327311 | H2: Exemple rempli manuellement
A3: =D3&E3&F3 -> VNB7BC1 | B3: A2 | C3: M0 | D3: VN | E3: B7 | F3: BC1 | G3: Pas de place dispo | H3: Exemple rempli manuellement
A4: =D4&E4&F4 -> VNB7CH5L1 | B4: A3 | C4: M0 | D4: VN | E4: B7 | F4: CH5L1 | G4: 6341511 | H4: Exemple rempli manuellement
A5: =D5&E5&F5 -> VNB7CH5L0 | B5: A4 | C5: M0 | D5: VN | E5: B7 | F5: CH5L0 | G5: =IFERROR(VLOOKUP(CONCATENATE(D5,E5,F5),Dispo!A:D,4,0),"Pas de place dispo") -> Pas de place dispo
A6: =D6&E6&F6 -> VNB7CH5L1 | B6: A5 | C6: M0 | D6: VN | E6: B7 | F6: CH5L1 | G6: =IFERROR(VLOOKUP(CONCATENATE(D6,E6,F6),Dispo!A:D,4,0),"Pas de place dispo") -> 6341511
A7: =D7&E7&F7 -> VNB7CH5L1 | B7: A6 | C7: M0 | D7: VN | E7: B7 | F7: CH5L1 | G7: =IFERROR(VLOOKUP(CONCATENATE(D7,E7,F7),Dispo!A:D,4,0),"Pas de place dispo") -> 6341511
A8: =D8&E8&F8 -> VNB7CH5L1 | B8: A7 | C8: M0 | D8: VN | E8: B7 | F8: CH5L1 | G8: =IFERROR(VLOOKUP(CONCATENATE(D8,E8,F8),Dispo!A:D,4,0),"Pas de place dispo") -> 6341511
A9: =D9&E9&F9 -> VNB7CH5L1 | B9: A8 | C9: M0 | D9: VN | E9: B7 | F9: CH5L1 | G9: =IFERROR(VLOOKUP(CONCATENATE(D9,E9,F9),Dispo!A:D,4,0),"Pas de place dispo") -> 6341511
A10: =D10&E10&F10 -> VNB7CH5L1 | B10: A9 | C10: M0 | D10: VN | E10: B7 | F10: CH5L1 | G10: =IFERROR(VLOOKUP(CONCATENATE(D10,E10,F10),Dispo!A:D,4,0),"Pas de place dispo") -> 6341511
A11: =D11&E11&F11 -> VNB7CH5L1 | B11: A10 | C11: M0 | D11: VN | E11: B7 | F11: CH5L1 | G11: =IFERROR(VLOOKUP(CONCATENATE(D11,E11,F11),Dispo!A:D,4,0),"Pas de place dispo") -> 6341511
A12: =D12&E12&F12 -> VNB7CH5L1 | B12: A11 | C12: M0 | D12: VN | E12: B7 | F12: CH5L1 | G12: =IFERROR(VLOOKUP(CONCATENATE(D12,E12,F12),Dispo!A:D,4,0),"Pas de place dispo") -> 6341511
A13: =D13&E13&F13 -> VNB7CH5L1 | B13: A12 | C13: M0 | D13: VN | E13: B7 | F13: CH5L1 | G13: =IFERROR(VLOOKUP(CONCATENATE(D13,E13,F13),Dispo!A:D,4,0),"Pas de place dispo") -> 6341511
A14: =D14&E14&F14 -> VNB7CH5L1 | B14: A13 | C14: M0 | D14: VN | E14: B7 | F14: CH5L1 | G14: =IFERROR(VLOOKUP(CONCATENATE(D14,E14,F14),Dispo!A:D,4,0),"Pas de place dispo") -> 6341511
A15: =D15&E15&F15 -> VNB7CH5L1 | B15: A14 | C15: M0 | D15: VN | E15: B7 | F15: CH5L1 | G15: =IFERROR(VLOOKUP(CONCATENATE(D15,E15,F15),Dispo!A:D,4,0),"Pas de place dispo") -> 6341511
A16: =D16&E16&F16 -> VNB7CH5L1 | B16: A15 | C16: M0 | D16: VN | E16: B7 | F16: CH5L1 | G16: =IFERROR(VLOOKUP(CONCATENATE(D16,E16,F16),Dispo!A:D,4,0),"Pas de place dispo") -> 6341511
... A40: =D40&E40&F40 -> VNB7CH2L6 | B40: A39 | C40: M0 | D40: VN | E40: B7 | F40: CH2L6 | G40: =IFERROR(VLOOKUP(CONCATENATE(D40,E40,F40),Dispo!A:D,4,0),"Pas de place dispo") -> 5081561

Sheet Dispo
A1: CONCATENATION | B1: Magasin | C1: Zone | D1: Adresse | E1: Situation | F1: Types de Casier
A2: =B2&C2&F2 -> VNB7BC1 | B2: VN | C2: B7 | D2: 5327311 | E2: Disponible | F2: BC1
A3: =B3&C3&F3 -> VNB7BC2 | B3: VN | C3: B7 | D3: 6075421 | E3: Disponible | F3: BC2
A4: =B4&C4&F4 -> VNB7BC2 | B4: VN | C4: B7 | D4: 6075422 | E4: Disponible | F4: BC2
A5: =B5&C5&F5 -> VNB7BC2 | B5: VN | C5: B7 | D5: 6075431 | E5: Disponible | F5: BC2
A6: =B6&C6&F6 -> VNB7BC2 | B6: VN | C6: B7 | D6: 6075432 | E6: Disponible | F6: BC2
A7: =B7&C7&F7 -> VNB7BC2 | B7: VN | C7: B7 | D7: 6075441 | E7: Disponible | F7: BC2
A8: =B8&C8&F8 -> VNB7BC2 | B8: VN | C8: B7 | D8: 6075442 | E8: Disponible | F8: BC2
A9: =B9&C9&F9 -> VNB7BC2 | B9: VN | C9: B7 | D9: 6075451 | E9: Disponible | F9: BC2
A10: =B10&C10&F10 -> VNB7BC2 | B10: VN | C10: B7 | D10: 6075452 | E10: Disponible | F10: BC2
A11: =B11&C11&F11 -> VNB7BC2 | B11: VN | C11: B7 | D11: 6075461 | E11: Disponible | F11: BC2
A12: =B12&C12&F12 -> VNB7BC3 | B12: VN | C12: B7 | D12: 5931414 | E12: Disponible | F12: BC3
A13: =B13&C13&F13 -> VNB7BC3 | B13: VN | C13: B7 | D13: 5931424 | E13: Disponible | F13: BC3
... A113: =B113&C113&F113 -> VNB7CH5L3 | B113: VN | C113: B7 | D113: 6240621 | E113: Disponible | F113: CH5L3
