Workbook

Sheet Liste des joueurs
F1: Golf Myrtle Beach mai 2014
D2: sam | E2: dim | H2: mer | K2: sam | L2: dim | O2: mer | R2: sam | S2: dim | V2: mer | Y2: sam | Z2: dim
A3: # | B3: nom | C3: date arrivé | D3: 10 | E3: 11 | F3: 12 | G3: 13 | H3: 14 | I3: 15 | J3: 16 | K3: 17 | L3: 18 | M3: 19 | N3: 20 | O3: 21 | P3: 22 | Q3: 23 | R3: 24 | S3: 25 | T3: 26 | U3: 27 | V3: 28 | W3: 29 | X3: 30 | Y3: 31 | Z3: 1 | AA3: golf | AB3: condo | AD3: avion | AE3: valise
A5: 1 | B5: Danny Poce | C5: 10 | E5: 1 | F5: 1 | G5: 1 | H5: 1 | I5: 1 | J5: 1 | K5: 1 | L5: 1 | M5: 1 | N5: 1 | O5: 1 | P5: 1 | Q5: 1 | S5: 1 | T5: 1 | U5: 1 | V5: 1 | W5: 1 | X5: 1
A8: 2 | B8: Jean Rioux | C8: 10 | E8: 1 | F8: 1 | G8: 1 | H8: 1 | I8: 1 | J8: 1 | K8: 1 | L8: 1 | M8: 1 | N8: 1 | O8: 1 | P8: 1 | Q8: 1 | S8: 1 | T8: 1 | U8: 1 | V8: 1 | W8: 1 | X8: 1 | AB8: $640 us | AC8: $717ca
A11: 3 | B11: Ronny O'Meara | C11: 10 | E11: 1 | F11: 1 | G11: 1 | H11: 1 | I11: 1 | J11: 1 | K11: 1 | L11: 1 | M11: 1 | N11: 1 | O11: 1 | P11: 1 | Q11: 1 | S11: 1 | T11: 1 | U11: 1 | V11: 1 | W11: 1 | X11: 1 | AB11: $540 us | AC11: $605ca
A14: 4 | B14: Guillaume Poce | C14: 10 | E14: 1 | F14: 1 | G14: 1 | H14: 1 | I14: 1 | J14: 1 | K14: 1 | L14: 1 | M14: 1 | N14: 1 | O14: 1 | P14: 1 | Q14: 1 | S14: 1 | T14: 1 | U14: 1 | V14: 1 | W14: 1 | X14: 1 | AB14: ?
A17: 5 | B17: Denis Rousseau | C17: 10 | E17: 1 | F17: 1 | G17: 1 | H17: 1 | I17: 1 | J17: 1 | K17: 1 | L17: 1 | M17: 1 | N17: 1 | O17: 1 | P17: 1 | Q17: 1 | S17: 1 | T17: 1 | U17: 1 | V17: 1 | W17: 1 | X17: 1 | AB17: $420 us | AC17: $471ca
A20: 6 | B20: Réjean Maurice | C20: 10 | E20: 1 | F20: 1 | G20: 1 | H20: 1 | I20: 1 | J20: 1 | K20: 1 | L20: 1 | M20: 1 | N20: 1 | O20: 1 | P20: 1 | Q20: 1 | S20: 1 | T20: 1 | U20: 1 | V20: 1 | W20: 1 | X20: 1 | AB20: $420 us | AC20: $471ca
A23: 7 | B23: Marc-André Lauze | C23: 10 | E23: 1 | F23: 1 | G23: 1 | H23: 1 | I23: 1 | J23: 1 | K23: 1 | AB23: ?
A26: 8 | B26: Louise Lemaire | C26: 15 | J26: 1 | L26: 1 | N26: 1 | P26: 1 | S26: 1 | T26: 1 | U26: 1 | W26: 1 | X26: 1
A29: 9 | B29: Johanne Geoffroy | C29: 15 | J29: 1 | L29: 1 | N29: 1 | P29: 1 | S29: 1 | T29: 1 | U29: 1 | W29: 1 | X29: 1
A32: 10 | B32: Diane Croisetiere | C32: 15 | L32: 1 | N32: 1 | P32: 1 | S32: 1 | T32: 1 | U32: 1 | W32: 1 | X32: 1 | AB32: $480 us | AC32: $538ca
A35: 11 | B35: Francoise Dalpé | J35: 1 | L35: 1 | N35: 1 | P35: 1 | S35: 1 | T35: 1 | U35: 1 | W35: 1 | X35: 1 | AB35: $275 us | AC35: $308ca
A38: 12 | B38: Sylvie Gaudette | C38: 15 | J38: 1 | L38: 1 | N38: 1 | P38: 1 | S38: 1 | T38: 1 | U38: 1 | W38: 1 | X38: 1 | AB38: $275 us | AC38: $308ca
A41: 13 | B41: Lynda Archambault | C41: 15 | J41: 1 | L41: 1 | N41: 1 | P41: 1 | S41: 1 | T41: 1 | U41: 1 | W41: 1 | X41: 1
A44: 14 | B44: Jean-Marc Cloutier | C44: 15 | J44: 1 | K44: 1 | L44: 1 | M44: 1 | N44: 1 | O44: 1 | P44: 1 | Q44: 1 | S44: 1 | T44: 1 | U44: 1 | V44: 1 | W44: 1 | X44: 1 | AB44: $480 us | AC44: $538ca
A47: 15 | B47: Real Desjardins | C47: 15 | J47: 1 | K47: 1 | L47: 1 | M47: 1 | N47: 1 | O47: 1 | P47: 1 | Q47: 1 | S47: 1 | T47: 1 | U47: 1 | V47: 1 | W47: 1 | X47: 1 | AB47: $285 us | AC47: $320ca
A50: 16 | B50: Stéphane Brun | C50: 15 | J50: 1 | K50: 1 | L50: 1 | M50: 1 | N50: 1 | O50: 1 | P50: 1 | Q50: 1 | S50: 1 | T50: 1 | U50: 1 | V50: 1 | W50: 1 | X50: 1 | AB50: $285 us | AC50: $320ca
A53: 17 | B53: Serge Potvin | C53: 15 | J53: 1 | K53: 1 | L53: 1 | M53: 1 | N53: 1 | O53: 1 | P53: 1 | Q53: 1 | S53: 1 | T53: 1 | U53: 1 | V53: 1 | W53: 1 | X53: 1 | AB53: $285 us | AC53: $320ca
A56: 18 | B56: Denis Girard | C56: 15 | J56: 1 | K56: 1 | L56: 1 | M56: 1 | N56: 1 | O56: 1 | P56: 1 | Q56: 1 | S56: 1 | T56: 1 | U56: 1 | V56: 1 | W56: 1 | X56: 1
A59: 19 | B59: Denise Desjardins | C59: 15 | J59: 1 | L59: 1 | N59: 1 | P59: 1 | S59: 1 | T59: 1 | U59: 1 | W59: 1 | X59: 1 | AB59: $480 us | AC59: $538ca
A62: 20 | B62: Gilles Mathieu | C62: 15 | J62: 1 | K62: 1 | L62: 1 | M62: 1 | N62: 1 | O62: 1 | P62: 1 | Q62: 1 | S62: 1 | T62: 1 | U62: 1 | V62: 1 | W62: 1 | X62: 1 | AB62: $480 us | AC62: $538ca
A65: 21 | B65: Colette | C65: 15 | AB65: $540 us | AC65: $605ca
A68: 22 | B68: Sylvie Chevalier | C68: 10
A71: 23 | B71: Vlad Caprioru | C71: 15 | J71: 1 | K71: 1 | L71: 1 | M71: 1 | N71: 1 | O71: 1 | P71: 1 | Q71: 1
A74: 24 | B74: Josée Robert | C74: 17 | J74: 1 | L74: 1 | N74: 1 | P74: 1 | S74: 1 | T74: 1 | U74: 1 | W74: 1 | X74: 1
A77: 25 | B77: Thierry Dissegna | C77: 17 | J77: 1 | K77: 1 | L77: 1 | M77: 1 | N77: 1 | O77: 1 | P77: 1 | Q77: 1 | S77: 1 | T77: 1 | U77: 1 | V77: 1 | W77: 1 | X77: 1 | AB77: $440 us | AC77: $493ca
A80: 26 | B80: Sylvain Lapierrre | C80: 17 | J80: 1 | K80: 1 | L80: 1 | M80: 1 | N80: 1 | O80: 1 | P80: 1 | Q80: 1 | S80: 1 | T80: 1 | U80: 1 | V80: 1 | W80: 1 | X80: 1 | AB80: ?
A83: 27 | B83: Sébastien Coté | C83: 17 | J83: 1 | K83: 1 | L83: 1 | M83: 1 | N83: 1 | O83: 1 | P83: 1 | Q83: 1 | S83: 1 | T83: 1 | U83: 1 | V83: 1 | W83: 1 | X83: 1 | AB83: $440 us | AC83: $493ca
A86: 28 | B86: Francois Bouchard Laval | J86: 1 | K86: 1 | L86: 1 | M86: 1 | N86: 1 | O86: 1 | P86: 1 | Q86: 1 | S86: 1 | T86: 1 | U86: 1 | V86: 1 | W86: 1 | X86: 1 | AB86: ?
A89: 29 | B89: Francois Bouchard Saguenay | E89: 1 | F89: 1 | G89: 1 | H89: 1 | I89: 1 | K89: 1
A92: 30 | B92: amis Francois | E92: 1 | F92: 1 | G92: 1 | H92: 1 | I92: 1
A95: 31 | B95: amis Francois | E95: 1 | F95: 1 | G95: 1 | H95: 1 | I95: 1
A98: 32 | B98: amis Francois | E98: 1 | F98: 1 | G98: 1 | H98: 1 | I98: 1
E101: =SUM(E5:E100) -> 11 | F101: =SUM(F5:F100) -> 11 | G101: =SUM(G5:G100) -> 11 | H101: =SUM(H5:H100) -> 11 | I101: =SUM(I5:I100) -> 11 | J101: =SUM(J5:J100) -> 25 | K101: =SUM(K5:K100) -> 19 | L101: =SUM(L5:L100) -> 25 | ... Q101: =SUM(Q5:Q100) -> 17 | S101: =SUM(S5:S100) -> 24 | T101: =SUM(T5:T100) -> 24 | U101: =SUM(U5:U100) -> 24 | V101: =SUM(V5:V100) -> 16 | W101: =SUM(W5:W100) -> 24 | X101: =SUM(X5:X100) -> 24
B103: nombre de départs | E103: 3 | F103: 3 | G103: 3 | H103: 3 | I103: 3 | J103: 7 | K103: 5 | L103: 6 | M103: 4 | N103: 6 | O103: 4 | P103: 6 | Q103: 4 | S103: 6 | T103: 6 | U103: 6 | V103: 4 | W103: 6 | X103: 6
D105: sam | E105: dim | H105: mer | K105: sam | L105: dim | O105: mer | R105: sam | S105: dim | V105: mer | Y105: sam | Z105: dim
D106: 10 | E106: 11 | F106: 12 | G106: 13 | H106: 14 | I106: 15 | J106: 16 | K106: 17 | L106: 18 | M106: 19 | N106: 20 | O106: 21 | P106: 22 | Q106: 23 | R106: 24 | S106: 25 | T106: 26 | U106: 27 | V106: 28 | W106: 29 | X106: 30 | Y106: 31 | Z106: 1

Sheet Sommaire
A1: Num | B1: Noms des joueurs | C1: 41770
A3: 1 | B3: =IFERROR(VLOOKUP(Sommaire!A3,'Liste des joueurs'!$A$5:$B$98,2,TRUE),"") -> Danny Poce | C3: =IFERROR(VLOOKUP(A3,'11mai'!$B$5:$AB$101,27,TRUE),"") -> 87
B4: =IFERROR(VLOOKUP(Sommaire!A4,'Liste des joueurs'!$A$5:$B$98,2,TRUE),"") | C4: =IFERROR(VLOOKUP(A4,'11mai'!$B$5:$AB$101,27,TRUE),"")
A5: 2 | B5: =IFERROR(VLOOKUP(Sommaire!A5,'Liste des joueurs'!$A$5:$B$98,2,TRUE),"") -> Jean Rioux | C5: =IFERROR(VLOOKUP(A5,'11mai'!$B$5:$AB$101,27,TRUE),"") -> 84
B6: =IFERROR(VLOOKUP(Sommaire!A6,'Liste des joueurs'!$A$5:$B$98,2,TRUE),"") | C6: =IFERROR(VLOOKUP(A6,'11mai'!$B$5:$AB$101,27,TRUE),"")
A7: 3 | B7: =IFERROR(VLOOKUP(Sommaire!A7,'Liste des joueurs'!$A$5:$B$98,2,TRUE),"") -> Ronny O'Meara | C7: =IFERROR(VLOOKUP(A7,'11mai'!$B$5:$AB$101,27,TRUE),"") -> 88
B8: =IFERROR(VLOOKUP(Sommaire!A8,'Liste des joueurs'!$A$5:$B$98,2,TRUE),"") | C8: =IFERROR(VLOOKUP(A8,'11mai'!$B$5:$AB$101,27,TRUE),"")
A9: 4 | B9: =IFERROR(VLOOKUP(Sommaire!A9,'Liste des joueurs'!$A$5:$B$98,2,TRUE),"") -> Guillaume Poce | C9: =IFERROR(VLOOKUP(A9,'11mai'!$B$5:$AB$101,27,TRUE),"") -> 89
B10: =IFERROR(VLOOKUP(Sommaire!A10,'Liste des joueurs'!$A$5:$B$98,2,TRUE),"") | C10: =IFERROR(VLOOKUP(A10,'11mai'!$B$5:$AB$101,27,TRUE),"")
A11: 5 | B11: =IFERROR(VLOOKUP(Sommaire!A11,'Liste des joueurs'!$A$5:$B$98,2,TRUE),"") -> Denis Rousseau | C11: =IFERROR(VLOOKUP(A11,'11mai'!$B$5:$AB$101,27,TRUE),"") -> 90
B12: =IFERROR(VLOOKUP(Sommaire!A12,'Liste des joueurs'!$A$5:$B$98,2,TRUE),"") | C12: =IFERROR(VLOOKUP(A12,'11mai'!$B$5:$AB$101,27,TRUE),"")
A13: 6 | B13: =IFERROR(VLOOKUP(Sommaire!A13,'Liste des joueurs'!$A$5:$B$98,2,TRUE),"") -> Réjean Maurice | C13: =IFERROR(VLOOKUP(A13,'11mai'!$B$5:$AB$101,27,TRUE),"") -> 88
B14: =IFERROR(VLOOKUP(Sommaire!A14,'Liste des joueurs'!$A$5:$B$98,2,TRUE),"") | C14: =IFERROR(VLOOKUP(A14,'11mai'!$B$5:$AB$101,27,TRUE),"")
A15: 7 | B15: =IFERROR(VLOOKUP(Sommaire!A15,'Liste des joueurs'!$A$5:$B$98,2,TRUE),"") -> Marc-André Lauze | C15: =IFERROR(VLOOKUP(A15,'11mai'!$B$5:$AB$101,27,TRUE),"") -> 91
B16: =IFERROR(VLOOKUP(Sommaire!A16,'Liste des joueurs'!$A$5:$B$98,2,TRUE),"") | C16: =IFERROR(VLOOKUP(A16,'11mai'!$B$5:$AB$101,27,TRUE),"")
A17: 8 | B17: =IFERROR(VLOOKUP(Sommaire!A17,'Liste des joueurs'!$A$5:$B$98,2,TRUE),"") -> Louise Lemaire | C17: =IFERROR(VLOOKUP(A17,'11mai'!$B$5:$AB$101,27,TRUE),"") -> 1
B18: =IFERROR(VLOOKUP(Sommaire!A18,'Liste des joueurs'!$A$5:$B$98,2,TRUE),"") | C18: =IFERROR(VLOOKUP(A18,'11mai'!$B$5:$AB$101,27,TRUE),"")
A19: 9 | B19: =IFERROR(VLOOKUP(Sommaire!A19,'Liste des joueurs'!$A$5:$B$98,2,TRUE),"") -> Johanne Geoffroy | C19: =IFERROR(VLOOKUP(A19,'11mai'!$B$5:$AB$101,27,TRUE),"") -> 0
B20: =IFERROR(VLOOKUP(Sommaire!A20,'Liste des joueurs'!$A$5:$B$98,2,TRUE),"") | C20: =IFERROR(VLOOKUP(A20,'11mai'!$B$5:$AB$101,27,TRUE),"")
A21: 10 | B21: =IFERROR(VLOOKUP(Sommaire!A21,'Liste des joueurs'!$A$5:$B$98,2,TRUE),"") -> Diane Croisetiere | C21: =IFERROR(VLOOKUP(A21,'11mai'!$B$5:$AB$101,27,TRUE),"") -> 0
B22: =IFERROR(VLOOKUP(Sommaire!A22,'Liste des joueurs'!$A$5:$B$98,2,TRUE),"") | C22: =IFERROR(VLOOKUP(A22,'11mai'!$B$5:$AB$101,27,TRUE),"")
A23: 11 | B23: =IFERROR(VLOOKUP(Sommaire!A23,'Liste des joueurs'!$A$5:$B$98,2,TRUE),"") -> Francoise Dalpé | C23: =IFERROR(VLOOKUP(A23,'11mai'!$B$5:$AB$101,27,TRUE),"") -> 0
B24: =IFERROR(VLOOKUP(Sommaire!A24,'Liste des joueurs'!$A$5:$B$98,2,TRUE),"") | C24: =IFERROR(VLOOKUP(A24,'11mai'!$B$5:$AB$101,27,TRUE),"")
A25: 12 | B25: =IFERROR(VLOOKUP(Sommaire!A25,'Liste des joueurs'!$A$5:$B$98,2,TRUE),"") -> Sylvie Gaudette | C25: =IFERROR(VLOOKUP(A25,'11mai'!$B$5:$AB$101,27,TRUE),"") -> 0
B26: =IFERROR(VLOOKUP(Sommaire!A26,'Liste des joueurs'!$A$5:$B$98,2,TRUE),"") | C26: =IFERROR(VLOOKUP(A26,'11mai'!$B$5:$AB$101,27,TRUE),"")
A27: 13 | B27: =IFERROR(VLOOKUP(Sommaire!A27,'Liste des joueurs'!$A$5:$B$98,2,TRUE),"") -> Lynda Archambault | C27: =IFERROR(VLOOKUP(A27,'11mai'!$B$5:$AB$101,27,TRUE),"") -> 0
B28: =IFERROR(VLOOKUP(Sommaire!A28,'Liste des joueurs'!$A$5:$B$98,2,TRUE),"") | C28: =IFERROR(VLOOKUP(A28,'11mai'!$B$5:$AB$101,27,TRUE),"")
A29: 14 | B29: =IFERROR(VLOOKUP(Sommaire!A29,'Liste des joueurs'!$A$5:$B$98,2,TRUE),"") -> Jean-Marc Cloutier | C29: =IFERROR(VLOOKUP(A29,'11mai'!$B$5:$AB$101,27,TRUE),"") -> 0
B30: =IFERROR(VLOOKUP(Sommaire!A30,'Liste des joueurs'!$A$5:$B$98,2,TRUE),"") | C30: =IFERROR(VLOOKUP(A30,'11mai'!$B$5:$AB$101,27,TRUE),"")
A31: 15 | B31: =IFERROR(VLOOKUP(Sommaire!A31,'Liste des joueurs'!$A$5:$B$98,2,TRUE),"") -> Real Desjardins | C31: =IFERROR(VLOOKUP(A31,'11mai'!$B$5:$AB$101,27,TRUE),"") -> 0
B32: =IFERROR(VLOOKUP(Sommaire!A32,'Liste des joueurs'!$A$5:$B$98,2,TRUE),"") | C32: =IFERROR(VLOOKUP(A32,'11mai'!$B$5:$AB$101,27,TRUE),"")
A33: 16 | B33: =IFERROR(VLOOKUP(Sommaire!A33,'Liste des joueurs'!$A$5:$B$98,2,TRUE),"") -> Stéphane Brun | C33: =IFERROR(VLOOKUP(A33,'11mai'!$B$5:$AB$101,27,TRUE),"") -> 0
B34: =IFERROR(VLOOKUP(Sommaire!A34,'Liste des joueurs'!$A$5:$B$98,2,TRUE),"") | C34: =IFERROR(VLOOKUP(A34,'11mai'!$B$5:$AB$101,27,TRUE),"")
A35: 17 | B35: =IFERROR(VLOOKUP(Sommaire!A35,'Liste des joueurs'!$A$5:$B$98,2,TRUE),"") -> Serge Potvin | C35: =IFERROR(VLOOKUP(A35,'11mai'!$B$5:$AB$101,27,TRUE),"") -> 0
B36: =IFERROR(VLOOKUP(Sommaire!A36,'Liste des joueurs'!$A$5:$B$98,2,TRUE),"") | C36: =IFERROR(VLOOKUP(A36,'11mai'!$B$5:$AB$101,27,TRUE),"")
A37: 18 | B37: =IFERROR(VLOOKUP(Sommaire!A37,'Liste des joueurs'!$A$5:$B$98,2,TRUE),"") -> Denis Girard | C37: =IFERROR(VLOOKUP(A37,'11mai'!$B$5:$AB$101,27,TRUE),"") -> 0
B38: =IFERROR(VLOOKUP(Sommaire!A38,'Liste des joueurs'!$A$5:$B$98,2,TRUE),"") | C38: =IFERROR(VLOOKUP(A38,'11mai'!$B$5:$AB$101,27,TRUE),"")
A39: 19 | B39: =IFERROR(VLOOKUP(Sommaire!A39,'Liste des joueurs'!$A$5:$B$98,2,TRUE),"") -> Denise Desjardins | C39: =IFERROR(VLOOKUP(A39,'11mai'!$B$5:$AB$101,27,TRUE),"") -> 0
C40: =IFERROR(VLOOKUP(A40,'11mai'!$B$5:$AB$101,27,TRUE),"")
A41: 20 | B41: =IFERROR(VLOOKUP(Sommaire!A41,'Liste des joueurs'!$A$5:$B$98,2,TRUE),"") -> Gilles Mathieu | C41: =IFERROR(VLOOKUP(A41,'11mai'!$B$5:$AB$101,27,TRUE),"") -> 0
C42: =IFERROR(VLOOKUP(A42,'11mai'!$B$5:$AB$101,27,TRUE),"")
A43: 21 | B43: =IFERROR(VLOOKUP(Sommaire!A43,'Liste des joueurs'!$A$5:$B$98,2,TRUE),"") -> Colette | C43: =IFERROR(VLOOKUP(A43,'11mai'!$B$5:$AB$101,27,TRUE),"") -> 0
C44: =IFERROR(VLOOKUP(A44,'11mai'!$B$5:$AB$101,27,TRUE),"")
A45: 22 | B45: =IFERROR(VLOOKUP(Sommaire!A45,'Liste des joueurs'!$A$5:$B$98,2,TRUE),"") -> Sylvie Chevalier | C45: =IFERROR(VLOOKUP(A45,'11mai'!$B$5:$AB$101,27,TRUE),"") -> 0
C46: =IFERROR(VLOOKUP(A46,'11mai'!$B$5:$AB$101,27,TRUE),"")
A47: 23 | B47: =IFERROR(VLOOKUP(Sommaire!A47,'Liste des joueurs'!$A$5:$B$98,2,TRUE),"") -> Vlad Caprioru | C47: =IFERROR(VLOOKUP(A47,'11mai'!$B$5:$AB$101,27,TRUE),"") -> 0
C48: =IFERROR(VLOOKUP(A48,'11mai'!$B$5:$AB$101,27,TRUE),"")
A49: 24 | B49: =IFERROR(VLOOKUP(Sommaire!A49,'Liste des joueurs'!$A$5:$B$98,2,TRUE),"") -> Josée Robert | C49: =IFERROR(VLOOKUP(A49,'11mai'!$B$5:$AB$101,27,TRUE),"") -> 0
C50: =IFERROR(VLOOKUP(A50,'11mai'!$B$5:$AB$101,27,TRUE),"")
A51: 25 | B51: =IFERROR(VLOOKUP(Sommaire!A51,'Liste des joueurs'!$A$5:$B$98,2,TRUE),"") -> Thierry Dissegna | C51: =IFERROR(VLOOKUP(A51,'11mai'!$B$5:$AB$101,27,TRUE),"") -> 0
C52: =IFERROR(VLOOKUP(A52,'11mai'!$B$5:$AB$101,27,TRUE),"")
A53: 26 | B53: =IFERROR(VLOOKUP(Sommaire!A53,'Liste des joueurs'!$A$5:$B$98,2,TRUE),"") -> Sylvain Lapierrre | C53: =IFERROR(VLOOKUP(A53,'11mai'!$B$5:$AB$101,27,TRUE),"") -> 0
C54: =IFERROR(VLOOKUP(A54,'11mai'!$B$5:$AB$101,27,TRUE),"")
A55: 27 | B55: =IFERROR(VLOOKUP(Sommaire!A55,'Liste des joueurs'!$A$5:$B$98,2,TRUE),"") -> Sébastien Coté | C55: =IFERROR(VLOOKUP(A55,'11mai'!$B$5:$AB$101,27,TRUE),"") -> 0
C56: =IFERROR(VLOOKUP(A56,'11mai'!$B$5:$AB$101,27,TRUE),"")
A57: 28 | B57: =IFERROR(VLOOKUP(Sommaire!A57,'Liste des joueurs'!$A$5:$B$98,2,TRUE),"") -> Francois Bouchard Laval | C57: =IFERROR(VLOOKUP(A57,'11mai'!$B$5:$AB$101,27,TRUE),"") -> 0
C58: =IFERROR(VLOOKUP(A58,'11mai'!$B$5:$AB$101,27,TRUE),"")
A59: 29 | B59: =IFERROR(VLOOKUP(Sommaire!A59,'Liste des joueurs'!$A$5:$B$98,2,TRUE),"") -> Francois Bouchard Saguenay | C59: =IFERROR(VLOOKUP(A59,'11mai'!$B$5:$AB$101,27,TRUE),"") -> 108
C60: =IFERROR(VLOOKUP(A60,'11mai'!$B$5:$AB$101,27,TRUE),"")
A61: 30 | B61: =IFERROR(VLOOKUP(Sommaire!A61,'Liste des joueurs'!$A$5:$B$98,2,TRUE),"") -> amis Francois | C61: =IFERROR(VLOOKUP(A61,'11mai'!$B$5:$AB$101,27,TRUE),"") -> 108
C62: =IFERROR(VLOOKUP(A62,'11mai'!$B$5:$AB$101,27,TRUE),"")
A63: 31 | B63: =IFERROR(VLOOKUP(Sommaire!A63,'Liste des joueurs'!$A$5:$B$98,2,TRUE),"") -> amis Francois | C63: =IFERROR(VLOOKUP(A63,'11mai'!$B$5:$AB$101,27,TRUE),"") -> 96
C64: =IFERROR(VLOOKUP(A64,'11mai'!$B$5:$AB$101,27,TRUE),"")
A65: 32 | B65: =IFERROR(VLOOKUP(Sommaire!A65,'Liste des joueurs'!$A$5:$B$98,2,TRUE),"") -> amis Francois | C65: =IFERROR(VLOOKUP(A65,'11mai'!$B$5:$AB$101,27,TRUE),"") -> 96
C66: =IFERROR(VLOOKUP(A66,'11mai'!$B$5:$AB$101,27,TRUE),"")

Sheet 11mai
B1: # | C1: Noms des joueurs | E1: Tee | F1: hand | G1: Trou | H1: 1 | I1: 2 | J1: 3 | K1: 4 | L1: 5 | M1: 6 | N1: 7 | O1: 8 | P1: 9 | Q1: Front | R1: 10 | S1: 11 | T1: 12 | U1: 13 | V1: 14 | W1: 15 | X1: 16 | Y1: 17 | Z1: 18 | AA1: Back | AB1: Score
E2: blanc | F2: 70.1 | G2: Normale | H2: 4 | I2: 3 | J2: 5 | K2: 3 | L2: 4 | M2: 4 | N2: 5 | O2: 4 | P2: 4 | Q2: =SUM(H2:P2) -> 36 | R2: 4 | S2: 4 | T2: 4 | U2: 5 | V2: 4 | W2: 3 | X2: 4 | Y2: 3 | Z2: 5 | AA2: =SUM(R2:Z2) -> 36 | AB2: =Q2+AA2 -> 72
E3: Gold | F3: 70.1
E4: Rouge | F4: 67.9
A5: =IF(VLOOKUP(B6,'Liste des joueurs'!$A$5:$Z$98,5,TRUE)=1,1,"NON") -> 1 | H5: 1 | I5: 2 | J5: 3 | K5: 4 | L5: 5 | M5: 6 | N5: 7 | O5: 8 | P5: 9 | Q5: Front | R5: 10 | S5: 11 | T5: 12 | U5: 13 | V5: 14 | W5: 15 | X5: 16 | Y5: 17 | Z5: 18 | AA5: Back | AB5: Score
A6: =IF(VLOOKUP(B6,'Liste des joueurs'!$A$5:$Z$98,5,TRUE)=1,1,"NON") -> 1 | B6: ='Liste des joueurs'!A5 -> 1 | C6: ='Liste des joueurs'!B5 -> Danny Poce | G6: 1 | H6: 2 | I6: 6 | J6: 6 | K6: 4 | L6: 6 | M6: 4 | N6: 5 | O6: 7 | P6: 4 | Q6: =SUM(H6:P6) -> 44 | R6: 5 | S6: 6 | T6: 3 | U6: 4 | V6: 5 | W6: 6 | X6: 3 | Y6: 5 | Z6: 6 | AA6: =SUM(R6:Z6) -> 43 | AB6: =Q6+AA6 -> 87
A7: =IF(VLOOKUP(B6,'Liste des joueurs'!$A$5:$Z$98,5,TRUE)=1,1,"NON") -> 1 | G7: 1 | H7: =IF(H6>0,H6-H$2,"") -> -2 | I7: =IF(I6>0,I6-I$2,"") -> 3 | J7: =IF(J6>0,J6-J$2,"") -> 1 | K7: =IF(K6>0,K6-K$2,"") -> 1 | L7: =IF(L6>0,L6-L$2,"") -> 2 | M7: =IF(M6>0,M6-M$2,"") -> 0 | N7: =IF(N6>0,N6-N$2,"") -> 0 | O7: =IF(O6>0,O6-O$2,"") -> 3 | ... AB7: =IF(AB6>0,AB6-AB$2,"") -> 15
A8: =IF(VLOOKUP(B9,'Liste des joueurs'!$A$5:$Z$98,5,TRUE)=1,1,"NON") -> 1
A9: =IF(VLOOKUP(B9,'Liste des joueurs'!$A$5:$Z$98,5,TRUE)=1,1,"NON") -> 1 | B9: ='Liste des joueurs'!A8 -> 2 | C9: ='Liste des joueurs'!B8 -> Jean Rioux | G9: 1 | H9: 4 | I9: 3 | J9: 6 | K9: 4 | L9: 6 | M9: 4 | N9: 3 | O9: 7 | P9: 4 | Q9: =SUM(H9:P9) -> 41 | R9: 5 | S9: 6 | T9: 3 | U9: 4 | V9: 5 | W9: 6 | X9: 3 | Y9: 5 | Z9: 6 | AA9: =SUM(R9:Z9) -> 43 | AB9: =Q9+AA9 -> 84
A10: =IF(VLOOKUP(B9,'Liste des joueurs'!$A$5:$Z$98,5,TRUE)=1,1,"NON") -> 1 | G10: 1 | H10: =IF(H9>0,H9-H$2,"") -> 0 | I10: =IF(I9>0,I9-I$2,"") -> 0 | J10: =IF(J9>0,J9-J$2,"") -> 1 | K10: =IF(K9>0,K9-K$2,"") -> 1 | L10: =IF(L9>0,L9-L$2,"") -> 2 | M10: =IF(M9>0,M9-M$2,"") -> 0 | N10: =IF(N9>0,N9-N$2,"") -> -2 | O10: =IF(O9>0,O9-O$2,"") -> 3 | ... AB10: =IF(AB9>0,AB9-AB$2,"") -> 12
A11: =IF(VLOOKUP(B12,'Liste des joueurs'!$A$5:$Z$98,5,TRUE)=1,1,"NON") -> 1
A12: =IF(VLOOKUP(B12,'Liste des joueurs'!$A$5:$Z$98,5,TRUE)=1,1,"NON") -> 1 | B12: ='Liste des joueurs'!A11 -> 3 | C12: ='Liste des joueurs'!B11 -> Ronny O'Meara | H12: 3 | I12: 6 | J12: 6 | K12: 4 | L12: 6 | M12: 4 | N12: 5 | O12: 7 | P12: 4 | Q12: =SUM(H12:P12) -> 45 | R12: 5 | S12: 6 | T12: 3 | U12: 4 | V12: 5 | W12: 6 | X12: 3 | Y12: 5 | Z12: 6 | AA12: =SUM(R12:Z12) -> 43 | AB12: =Q12+AA12 -> 88
A13: =IF(VLOOKUP(B12,'Liste des joueurs'!$A$5:$Z$98,5,TRUE)=1,1,"NON") -> 1 | H13: =IF(H12>0,H12-H$2,"") -> -1 | I13: =IF(I12>0,I12-I$2,"") -> 3 | J13: =IF(J12>0,J12-J$2,"") -> 1 | K13: =IF(K12>0,K12-K$2,"") -> 1 | L13: =IF(L12>0,L12-L$2,"") -> 2 | M13: =IF(M12>0,M12-M$2,"") -> 0 | N13: =IF(N12>0,N12-N$2,"") -> 0 | O13: =IF(O12>0,O12-O$2,"") -> 3 | ... AB13: =IF(AB12>0,AB12-AB$2,"") -> 16
A14: =IF(VLOOKUP(B15,'Liste des joueurs'!$A$5:$Z$98,5,TRUE)=1,1,"NON") -> 1
A15: =IF(VLOOKUP(B15,'Liste des joueurs'!$A$5:$Z$98,5,TRUE)=1,1,"NON") -> 1 | B15: ='Liste des joueurs'!A14 -> 4 | C15: ='Liste des joueurs'!B14 -> Guillaume Poce | G15: 1 | H15: 4 | I15: 6 | J15: 6 | K15: 4 | L15: 6 | M15: 4 | N15: 5 | O15: 7 | P15: 4 | Q15: =SUM(H15:P15) -> 46 | R15: 5 | S15: 6 | T15: 3 | U15: 4 | V15: 5 | W15: 6 | X15: 3 | Y15: 5 | Z15: 6 | AA15: =SUM(R15:Z15) -> 43 | AB15: =Q15+AA15 -> 89
A16: =IF(VLOOKUP(B15,'Liste des joueurs'!$A$5:$Z$98,5,TRUE)=1,1,"NON") -> 1 | G16: 1 | H16: =IF(H15>0,H15-H$2,"") -> 0 | I16: =IF(I15>0,I15-I$2,"") -> 3 | J16: =IF(J15>0,J15-J$2,"") -> 1 | K16: =IF(K15>0,K15-K$2,"") -> 1 | L16: =IF(L15>0,L15-L$2,"") -> 2 | M16: =IF(M15>0,M15-M$2,"") -> 0 | N16: =IF(N15>0,N15-N$2,"") -> 0 | O16: =IF(O15>0,O15-O$2,"") -> 3 | ... AB16: =IF(AB15>0,AB15-AB$2,"") -> 17
A17: =IF(VLOOKUP(B18,'Liste des joueurs'!$A$5:$Z$98,5,TRUE)=1,1,"NON") -> 1
A18: =IF(VLOOKUP(B18,'Liste des joueurs'!$A$5:$Z$98,5,TRUE)=1,1,"NON") -> 1 | B18: ='Liste des joueurs'!A17 -> 5 | C18: ='Liste des joueurs'!B17 -> Denis Rousseau | G18: 1 | H18: 5 | I18: 6 | J18: 6 | K18: 4 | L18: 6 | M18: 4 | N18: 5 | O18: 7 | P18: 4 | Q18: =SUM(H18:P18) -> 47 | R18: 5 | S18: 6 | T18: 3 | U18: 4 | V18: 5 | W18: 6 | X18: 3 | Y18: 5 | Z18: 6 | AA18: =SUM(R18:Z18) -> 43 | AB18: =Q18+AA18 -> 90
A19: =IF(VLOOKUP(B18,'Liste des joueurs'!$A$5:$Z$98,5,TRUE)=1,1,"NON") -> 1 | G19: 1 | H19: =IF(H18>0,H18-H$2,"") -> 1 | I19: =IF(I18>0,I18-I$2,"") -> 3 | J19: =IF(J18>0,J18-J$2,"") -> 1 | K19: =IF(K18>0,K18-K$2,"") -> 1 | L19: =IF(L18>0,L18-L$2,"") -> 2 | M19: =IF(M18>0,M18-M$2,"") -> 0 | N19: =IF(N18>0,N18-N$2,"") -> 0 | O19: =IF(O18>0,O18-O$2,"") -> 3 | ... AB19: =IF(AB18>0,AB18-AB$2,"") -> 18
A20: =IF(VLOOKUP(B21,'Liste des joueurs'!$A$5:$Z$98,5,TRUE)=1,1,"NON") -> 1
A21: =IF(VLOOKUP(B21,'Liste des joueurs'!$A$5:$Z$98,5,TRUE)=1,1,"NON") -> 1 | B21: ='Liste des joueurs'!A20 -> 6 | C21: ='Liste des joueurs'!B20 -> Réjean Maurice | H21: 3 | I21: 6 | J21: 6 | K21: 4 | L21: 6 | M21: 4 | N21: 5 | O21: 7 | P21: 4 | Q21: =SUM(H21:P21) -> 45 | R21: 5 | S21: 6 | T21: 3 | U21: 4 | V21: 5 | W21: 6 | X21: 3 | Y21: 5 | Z21: 6 | AA21: =SUM(R21:Z21) -> 43 | AB21: =Q21+AA21 -> 88
A22: =IF(VLOOKUP(B21,'Liste des joueurs'!$A$5:$Z$98,5,TRUE)=1,1,"NON") -> 1 | H22: =IF(H21>0,H21-H$2,"") -> -1 | I22: =IF(I21>0,I21-I$2,"") -> 3 | J22: =IF(J21>0,J21-J$2,"") -> 1 | K22: =IF(K21>0,K21-K$2,"") -> 1 | L22: =IF(L21>0,L21-L$2,"") -> 2 | M22: =IF(M21>0,M21-M$2,"") -> 0 | N22: =IF(N21>0,N21-N$2,"") -> 0 | O22: =IF(O21>0,O21-O$2,"") -> 3 | ... AB22: =IF(AB21>0,AB21-AB$2,"") -> 16
A23: =IF(VLOOKUP(B24,'Liste des joueurs'!$A$5:$Z$98,5,TRUE)=1,1,"NON") -> 1
A24: =IF(VLOOKUP(B24,'Liste des joueurs'!$A$5:$Z$98,5,TRUE)=1,1,"NON") -> 1 | B24: ='Liste des joueurs'!A23 -> 7 | C24: ='Liste des joueurs'!B23 -> Marc-André Lauze | G24: 1 | H24: 6 | I24: 6 | J24: 6 | K24: 4 | L24: 6 | M24: 4 | N24: 5 | O24: 7 | P24: 4 | Q24: =SUM(H24:P24) -> 48 | R24: 5 | S24: 6 | T24: 3 | U24: 4 | V24: 5 | W24: 6 | X24: 3 | Y24: 5 | Z24: 6 | AA24: =SUM(R24:Z24) -> 43 | AB24: =Q24+AA24 -> 91
A25: =IF(VLOOKUP(B24,'Liste des joueurs'!$A$5:$Z$98,5,TRUE)=1,1,"NON") -> 1 | H25: =IF(H24>0,H24-H$2,"") -> 2 | I25: =IF(I24>0,I24-I$2,"") -> 3 | J25: =IF(J24>0,J24-J$2,"") -> 1 | K25: =IF(K24>0,K24-K$2,"") -> 1 | L25: =IF(L24>0,L24-L$2,"") -> 2 | M25: =IF(M24>0,M24-M$2,"") -> 0 | N25: =IF(N24>0,N24-N$2,"") -> 0 | O25: =IF(O24>0,O24-O$2,"") -> 3 | ... AB25: =IF(AB24>0,AB24-AB$2,"") -> 19
A26: =IF(VLOOKUP(B27,'Liste des joueurs'!$A$5:$Z$98,5,TRUE)=1,1,"NON") -> NON
A27: =IF(VLOOKUP(B27,'Liste des joueurs'!$A$5:$Z$98,5,TRUE)=1,1,"NON") -> NON | B27: ='Liste des joueurs'!A26 -> 8 | C27: ='Liste des joueurs'!B26 -> Louise Lemaire | H27: 1 | Q27: =SUM(H27:P27) -> 1 | AA27: =SUM(R27:Z27) -> 0 | AB27: =Q27+AA27 -> 1
A28: =IF(VLOOKUP(B27,'Liste des joueurs'!$A$5:$Z$98,5,TRUE)=1,1,"NON") -> NON | H28: =IF(H27>0,H27-H$2,"") -> -3 | I28: =IF(I27>0,I27-I$2,"") | J28: =IF(J27>0,J27-J$2,"") | K28: =IF(K27>0,K27-K$2,"") | L28: =IF(L27>0,L27-L$2,"") | M28: =IF(M27>0,M27-M$2,"") | N28: =IF(N27>0,N27-N$2,"") | O28: =IF(O27>0,O27-O$2,"") | ... AB28: =IF(AB27>0,AB27-AB$2,"") -> -71
A29: =IF(VLOOKUP(B30,'Liste des joueurs'!$A$5:$Z$98,5,TRUE)=1,1,"NON") -> NON
A30: =IF(VLOOKUP(B30,'Liste des joueurs'!$A$5:$Z$98,5,TRUE)=1,1,"NON") -> NON | B30: ='Liste des joueurs'!A29 -> 9 | C30: ='Liste des joueurs'!B29 -> Johanne Geoffroy | Q30: =SUM(H30:P30) -> 0 | AA30: =SUM(R30:Z30) -> 0 | AB30: =Q30+AA30 -> 0
A31: =IF(VLOOKUP(B30,'Liste des joueurs'!$A$5:$Z$98,5,TRUE)=1,1,"NON") -> NON | H31: =IF(H30>0,H30-H$2,"") | I31: =IF(I30>0,I30-I$2,"") | J31: =IF(J30>0,J30-J$2,"") | K31: =IF(K30>0,K30-K$2,"") | L31: =IF(L30>0,L30-L$2,"") | M31: =IF(M30>0,M30-M$2,"") | N31: =IF(N30>0,N30-N$2,"") | O31: =IF(O30>0,O30-O$2,"") | ... AB31: =IF(AB30>0,AB30-AB$2,"")
A32: =IF(VLOOKUP(B33,'Liste des joueurs'!$A$5:$Z$98,5,TRUE)=1,1,"NON") -> NON
A33: =IF(VLOOKUP(B33,'Liste des joueurs'!$A$5:$Z$98,5,TRUE)=1,1,"NON") -> NON | B33: ='Liste des joueurs'!A32 -> 10 | C33: ='Liste des joueurs'!B32 -> Diane Croisetiere | Q33: =SUM(H33:P33) -> 0 | AA33: =SUM(R33:Z33) -> 0 | AB33: =Q33+AA33 -> 0
A34: =IF(VLOOKUP(B33,'Liste des joueurs'!$A$5:$Z$98,5,TRUE)=1,1,"NON") -> NON | H34: =IF(H33>0,H33-H$2,"") | I34: =IF(I33>0,I33-I$2,"") | J34: =IF(J33>0,J33-J$2,"") | K34: =IF(K33>0,K33-K$2,"") | L34: =IF(L33>0,L33-L$2,"") | M34: =IF(M33>0,M33-M$2,"") | N34: =IF(N33>0,N33-N$2,"") | O34: =IF(O33>0,O33-O$2,"") | ... AB34: =IF(AB33>0,AB33-AB$2,"")
A35: =IF(VLOOKUP(B36,'Liste des joueurs'!$A$5:$Z$98,5,TRUE)=1,1,"NON") -> NON
A36: =IF(VLOOKUP(B36,'Liste des joueurs'!$A$5:$Z$98,5,TRUE)=1,1,"NON") -> NON | B36: ='Liste des joueurs'!A35 -> 11 | C36: ='Liste des joueurs'!B35 -> Francoise Dalpé | Q36: =SUM(H36:P36) -> 0 | AA36: =SUM(R36:Z36) -> 0 | AB36: =Q36+AA36 -> 0
A37: =IF(VLOOKUP(B36,'Liste des joueurs'!$A$5:$Z$98,5,TRUE)=1,1,"NON") -> NON | H37: =IF(H36>0,H36-H$2,"") | I37: =IF(I36>0,I36-I$2,"") | J37: =IF(J36>0,J36-J$2,"") | K37: =IF(K36>0,K36-K$2,"") | L37: =IF(L36>0,L36-L$2,"") | M37: =IF(M36>0,M36-M$2,"") | N37: =IF(N36>0,N36-N$2,"") | O37: =IF(O36>0,O36-O$2,"") | ... AB37: =IF(AB36>0,AB36-AB$2,"")
A38: =IF(VLOOKUP(B39,'Liste des joueurs'!$A$5:$Z$98,5,TRUE)=1,1,"NON") -> NON
A39: =IF(VLOOKUP(B39,'Liste des joueurs'!$A$5:$Z$98,5,TRUE)=1,1,"NON") -> NON | B39: ='Liste des joueurs'!A38 -> 12 | C39: ='Liste des joueurs'!B38 -> Sylvie Gaudette | Q39: =SUM(H39:P39) -> 0 | AA39: =SUM(R39:Z39) -> 0 | AB39: =Q39+AA39 -> 0
A40: =IF(VLOOKUP(B39,'Liste des joueurs'!$A$5:$Z$98,5,TRUE)=1,1,"NON") -> NON | H40: =IF(H39>0,H39-H$2,"") | I40: =IF(I39>0,I39-I$2,"") | J40: =IF(J39>0,J39-J$2,"") | K40: =IF(K39>0,K39-K$2,"") | L40: =IF(L39>0,L39-L$2,"") | M40: =IF(M39>0,M39-M$2,"") | N40: =IF(N39>0,N39-N$2,"") | O40: =IF(O39>0,O39-O$2,"") | ... AB40: =IF(AB39>0,AB39-AB$2,"")
A41: =IF(VLOOKUP(B42,'Liste des joueurs'!$A$5:$Z$98,5,TRUE)=1,1,"NON") -> NON
A42: =IF(VLOOKUP(B42,'Liste des joueurs'!$A$5:$Z$98,5,TRUE)=1,1,"NON") -> NON | B42: ='Liste des joueurs'!A41 -> 13 | C42: ='Liste des joueurs'!B41 -> Lynda Archambault | Q42: =SUM(H42:P42) -> 0 | AA42: =SUM(R42:Z42) -> 0 | AB42: =Q42+AA42 -> 0
A43: =IF(VLOOKUP(B42,'Liste des joueurs'!$A$5:$Z$98,5,TRUE)=1,1,"NON") -> NON | H43: =IF(H42>0,H42-H$2,"") | I43: =IF(I42>0,I42-I$2,"") | J43: =IF(J42>0,J42-J$2,"") | K43: =IF(K42>0,K42-K$2,"") | L43: =IF(L42>0,L42-L$2,"") | M43: =IF(M42>0,M42-M$2,"") | N43: =IF(N42>0,N42-N$2,"") | O43: =IF(O42>0,O42-O$2,"") | ... AB43: =IF(AB42>0,AB42-AB$2,"")
A44: =IF(VLOOKUP(B45,'Liste des joueurs'!$A$5:$Z$98,5,TRUE)=1,1,"NON") -> NON
A45: =IF(VLOOKUP(B45,'Liste des joueurs'!$A$5:$Z$98,5,TRUE)=1,1,"NON") -> NON | B45: ='Liste des joueurs'!A44 -> 14 | C45: ='Liste des joueurs'!B44 -> Jean-Marc Cloutier | Q45: =SUM(H45:P45) -> 0 | AA45: =SUM(R45:Z45) -> 0 | AB45: =Q45+AA45 -> 0
A46: =IF(VLOOKUP(B45,'Liste des joueurs'!$A$5:$Z$98,5,TRUE)=1,1,"NON") -> NON | H46: =IF(H45>0,H45-H$2,"") | I46: =IF(I45>0,I45-I$2,"") | J46: =IF(J45>0,J45-J$2,"") | K46: =IF(K45>0,K45-K$2,"") | L46: =IF(L45>0,L45-L$2,"") | M46: =IF(M45>0,M45-M$2,"") | N46: =IF(N45>0,N45-N$2,"") | O46: =IF(O45>0,O45-O$2,"") | ... AB46: =IF(AB45>0,AB45-AB$2,"")
A47: =IF(VLOOKUP(B48,'Liste des joueurs'!$A$5:$Z$98,5,TRUE)=1,1,"NON") -> NON
A48: =IF(VLOOKUP(B48,'Liste des joueurs'!$A$5:$Z$98,5,TRUE)=1,1,"NON") -> NON | B48: ='Liste des joueurs'!A47 -> 15 | C48: ='Liste des joueurs'!B47 -> Real Desjardins | Q48: =SUM(H48:P48) -> 0 | AA48: =SUM(R48:Z48) -> 0 | AB48: =Q48+AA48 -> 0
A49: =IF(VLOOKUP(B48,'Liste des joueurs'!$A$5:$Z$98,5,TRUE)=1,1,"NON") -> NON | H49: =IF(H48>0,H48-H$2,"") | I49: =IF(I48>0,I48-I$2,"") | J49: =IF(J48>0,J48-J$2,"") | K49: =IF(K48>0,K48-K$2,"") | L49: =IF(L48>0,L48-L$2,"") | M49: =IF(M48>0,M48-M$2,"") | N49: =IF(N48>0,N48-N$2,"") | O49: =IF(O48>0,O48-O$2,"") | ... AB49: =IF(AB48>0,AB48-AB$2,"")
A50: =IF(VLOOKUP(B51,'Liste des joueurs'!$A$5:$Z$98,5,TRUE)=1,1,"NON") -> NON
A51: =IF(VLOOKUP(B51,'Liste des joueurs'!$A$5:$Z$98,5,TRUE)=1,1,"NON") -> NON | B51: ='Liste des joueurs'!A50 -> 16 | C51: ='Liste des joueurs'!B50 -> Stéphane Brun | Q51: =SUM(H51:P51) -> 0 | AA51: =SUM(R51:Z51) -> 0 | AB51: =Q51+AA51 -> 0
A52: =IF(VLOOKUP(B51,'Liste des joueurs'!$A$5:$Z$98,5,TRUE)=1,1,"NON") -> NON | H52: =IF(H51>0,H51-H$2,"") | I52: =IF(I51>0,I51-I$2,"") | J52: =IF(J51>0,J51-J$2,"") | K52: =IF(K51>0,K51-K$2,"") | L52: =IF(L51>0,L51-L$2,"") | M52: =IF(M51>0,M51-M$2,"") | N52: =IF(N51>0,N51-N$2,"") | O52: =IF(O51>0,O51-O$2,"") | ... AB52: =IF(AB51>0,AB51-AB$2,"")
A53: =IF(VLOOKUP(B54,'Liste des joueurs'!$A$5:$Z$98,5,TRUE)=1,1,"NON") -> NON
A54: =IF(VLOOKUP(B54,'Liste des joueurs'!$A$5:$Z$98,5,TRUE)=1,1,"NON") -> NON | B54: ='Liste des joueurs'!A53 -> 17 | C54: ='Liste des joueurs'!B53 -> Serge Potvin | Q54: =SUM(H54:P54) -> 0 | AA54: =SUM(R54:Z54) -> 0 | AB54: =Q54+AA54 -> 0
A55: =IF(VLOOKUP(B54,'Liste des joueurs'!$A$5:$Z$98,5,TRUE)=1,1,"NON") -> NON | H55: =IF(H54>0,H54-H$2,"") | I55: =IF(I54>0,I54-I$2,"") | J55: =IF(J54>0,J54-J$2,"") | K55: =IF(K54>0,K54-K$2,"") | L55: =IF(L54>0,L54-L$2,"") | M55: =IF(M54>0,M54-M$2,"") | N55: =IF(N54>0,N54-N$2,"") | O55: =IF(O54>0,O54-O$2,"") | ... AB55: =IF(AB54>0,AB54-AB$2,"")
A56: =IF(VLOOKUP(B57,'Liste des joueurs'!$A$5:$Z$98,5,TRUE)=1,1,"NON") -> NON
A57: =IF(VLOOKUP(B57,'Liste des joueurs'!$A$5:$Z$98,5,TRUE)=1,1,"NON") -> NON | B57: ='Liste des joueurs'!A56 -> 18 | C57: ='Liste des joueurs'!B56 -> Denis Girard | Q57: =SUM(H57:P57) -> 0 | AA57: =SUM(R57:Z57) -> 0 | AB57: =Q57+AA57 -> 0
A58: =IF(VLOOKUP(B57,'Liste des joueurs'!$A$5:$Z$98,5,TRUE)=1,1,"NON") -> NON | H58: =IF(H57>0,H57-H$2,"") | I58: =IF(I57>0,I57-I$2,"") | J58: =IF(J57>0,J57-J$2,"") | K58: =IF(K57>0,K57-K$2,"") | L58: =IF(L57>0,L57-L$2,"") | M58: =IF(M57>0,M57-M$2,"") | N58: =IF(N57>0,N57-N$2,"") | O58: =IF(O57>0,O57-O$2,"") | ... AB58: =IF(AB57>0,AB57-AB$2,"")
A59: =IF(VLOOKUP(B60,'Liste des joueurs'!$A$5:$Z$98,5,TRUE)=1,1,"NON") -> NON
A60: =IF(VLOOKUP(B60,'Liste des joueurs'!$A$5:$Z$98,5,TRUE)=1,1,"NON") -> NON | B60: ='Liste des joueurs'!A59 -> 19 | C60: ='Liste des joueurs'!B59 -> Denise Desjardins | Q60: =SUM(H60:P60) -> 0 | AA60: =SUM(R60:Z60) -> 0 | AB60: =Q60+AA60 -> 0
A61: =IF(VLOOKUP(B60,'Liste des joueurs'!$A$5:$Z$98,5,TRUE)=1,1,"NON") -> NON | H61: =IF(H60>0,H60-H$2,"") | I61: =IF(I60>0,I60-I$2,"") | J61: =IF(J60>0,J60-J$2,"") | K61: =IF(K60>0,K60-K$2,"") | L61: =IF(L60>0,L60-L$2,"") | M61: =IF(M60>0,M60-M$2,"") | N61: =IF(N60>0,N60-N$2,"") | O61: =IF(O60>0,O60-O$2,"") | ... AB61: =IF(AB60>0,AB60-AB$2,"")
A62: =IF(VLOOKUP(B63,'Liste des joueurs'!$A$5:$Z$98,5,TRUE)=1,1,"NON") -> NON
A63: =IF(VLOOKUP(B63,'Liste des joueurs'!$A$5:$Z$98,5,TRUE)=1,1,"NON") -> NON | B63: ='Liste des joueurs'!A62 -> 20 | C63: ='Liste des joueurs'!B62 -> Gilles Mathieu | Q63: =SUM(H63:P63) -> 0 | AA63: =SUM(R63:Z63) -> 0 | AB63: =Q63+AA63 -> 0
A64: =IF(VLOOKUP(B63,'Liste des joueurs'!$A$5:$Z$98,5,TRUE)=1,1,"NON") -> NON | H64: =IF(H63>0,H63-H$2,"") | I64: =IF(I63>0,I63-I$2,"") | J64: =IF(J63>0,J63-J$2,"") | K64: =IF(K63>0,K63-K$2,"") | L64: =IF(L63>0,L63-L$2,"") | M64: =IF(M63>0,M63-M$2,"") | N64: =IF(N63>0,N63-N$2,"") | O64: =IF(O63>0,O63-O$2,"") | ... AB64: =IF(AB63>0,AB63-AB$2,"")
A65: =IF(VLOOKUP(B66,'Liste des joueurs'!$A$5:$Z$98,5,TRUE)=1,1,"NON") -> NON
A66: =IF(VLOOKUP(B66,'Liste des joueurs'!$A$5:$Z$98,5,TRUE)=1,1,"NON") -> NON | B66: ='Liste des joueurs'!A65 -> 21 | C66: ='Liste des joueurs'!B65 -> Colette | Q66: =SUM(H66:P66) -> 0 | AA66: =SUM(R66:Z66) -> 0 | AB66: =Q66+AA66 -> 0
A67: =IF(VLOOKUP(B66,'Liste des joueurs'!$A$5:$Z$98,5,TRUE)=1,1,"NON") -> NON | H67: =IF(H66>0,H66-H$2,"") | I67: =IF(I66>0,I66-I$2,"") | J67: =IF(J66>0,J66-J$2,"") | K67: =IF(K66>0,K66-K$2,"") | L67: =IF(L66>0,L66-L$2,"") | M67: =IF(M66>0,M66-M$2,"") | N67: =IF(N66>0,N66-N$2,"") | O67: =IF(O66>0,O66-O$2,"") | ... AB67: =IF(AB66>0,AB66-AB$2,"")
A68: =IF(VLOOKUP(B69,'Liste des joueurs'!$A$5:$Z$98,5,TRUE)=1,1,"NON") -> NON
A69: =IF(VLOOKUP(B69,'Liste des joueurs'!$A$5:$Z$98,5,TRUE)=1,1,"NON") -> NON | B69: ='Liste des joueurs'!A68 -> 22 | C69: ='Liste des joueurs'!B68 -> Sylvie Chevalier | Q69: =SUM(H69:P69) -> 0 | AA69: =SUM(R69:Z69) -> 0 | AB69: =Q69+AA69 -> 0
A70: =IF(VLOOKUP(B69,'Liste des joueurs'!$A$5:$Z$98,5,TRUE)=1,1,"NON") -> NON | H70: =IF(H69>0,H69-H$2,"") | I70: =IF(I69>0,I69-I$2,"") | J70: =IF(J69>0,J69-J$2,"") | K70: =IF(K69>0,K69-K$2,"") | L70: =IF(L69>0,L69-L$2,"") | M70: =IF(M69>0,M69-M$2,"") | N70: =IF(N69>0,N69-N$2,"") | O70: =IF(O69>0,O69-O$2,"") | ... AB70: =IF(AB69>0,AB69-AB$2,"")
A71: =IF(VLOOKUP(B72,'Liste des joueurs'!$A$5:$Z$98,5,TRUE)=1,1,"NON") -> NON
A72: =IF(VLOOKUP(B72,'Liste des joueurs'!$A$5:$Z$98,5,TRUE)=1,1,"NON") -> NON | B72: ='Liste des joueurs'!A71 -> 23 | C72: ='Liste des joueurs'!B71 -> Vlad Caprioru | Q72: =SUM(H72:P72) -> 0 | AA72: =SUM(R72:Z72) -> 0 | AB72: =Q72+AA72 -> 0
A73: =IF(VLOOKUP(B72,'Liste des joueurs'!$A$5:$Z$98,5,TRUE)=1,1,"NON") -> NON | H73: =IF(H72>0,H72-H$2,"") | I73: =IF(I72>0,I72-I$2,"") | J73: =IF(J72>0,J72-J$2,"") | K73: =IF(K72>0,K72-K$2,"") | L73: =IF(L72>0,L72-L$2,"") | M73: =IF(M72>0,M72-M$2,"") | N73: =IF(N72>0,N72-N$2,"") | O73: =IF(O72>0,O72-O$2,"") | ... AB73: =IF(AB72>0,AB72-AB$2,"")
A74: =IF(VLOOKUP(B75,'Liste des joueurs'!$A$5:$Z$98,5,TRUE)=1,1,"NON") -> NON
A75: =IF(VLOOKUP(B75,'Liste des joueurs'!$A$5:$Z$98,5,TRUE)=1,1,"NON") -> NON | B75: ='Liste des joueurs'!A74 -> 24 | C75: ='Liste des joueurs'!B74 -> Josée Robert | Q75: =SUM(H75:P75) -> 0 | AA75: =SUM(R75:Z75) -> 0 | AB75: =Q75+AA75 -> 0
A76: =IF(VLOOKUP(B75,'Liste des joueurs'!$A$5:$Z$98,5,TRUE)=1,1,"NON") -> NON | H76: =IF(H75>0,H75-H$2,"") | I76: =IF(I75>0,I75-I$2,"") | J76: =IF(J75>0,J75-J$2,"") | K76: =IF(K75>0,K75-K$2,"") | L76: =IF(L75>0,L75-L$2,"") | M76: =IF(M75>0,M75-M$2,"") | N76: =IF(N75>0,N75-N$2,"") | O76: =IF(O75>0,O75-O$2,"") | ... AB76: =IF(AB75>0,AB75-AB$2,"")
A77: =IF(VLOOKUP(B78,'Liste des joueurs'!$A$5:$Z$98,5,TRUE)=1,1,"NON") -> NON
A78: =IF(VLOOKUP(B78,'Liste des joueurs'!$A$5:$Z$98,5,TRUE)=1,1,"NON") -> NON | B78: ='Liste des joueurs'!A77 -> 25 | C78: ='Liste des joueurs'!B77 -> Thierry Dissegna | Q78: =SUM(H78:P78) -> 0 | AA78: =SUM(R78:Z78) -> 0 | AB78: =Q78+AA78 -> 0
A79: =IF(VLOOKUP(B78,'Liste des joueurs'!$A$5:$Z$98,5,TRUE)=1,1,"NON") -> NON | H79: =IF(H78>0,H78-H$2,"") | I79: =IF(I78>0,I78-I$2,"") | J79: =IF(J78>0,J78-J$2,"") | K79: =IF(K78>0,K78-K$2,"") | L79: =IF(L78>0,L78-L$2,"") | M79: =IF(M78>0,M78-M$2,"") | N79: =IF(N78>0,N78-N$2,"") | O79: =IF(O78>0,O78-O$2,"") | ... AB79: =IF(AB78>0,AB78-AB$2,"")
A80: =IF(VLOOKUP(B81,'Liste des joueurs'!$A$5:$Z$98,5,TRUE)=1,1,"NON") -> NON
A81: =IF(VLOOKUP(B81,'Liste des joueurs'!$A$5:$Z$98,5,TRUE)=1,1,"NON") -> NON | B81: ='Liste des joueurs'!A80 -> 26 | C81: ='Liste des joueurs'!B80 -> Sylvain Lapierrre | Q81: =SUM(H81:P81) -> 0 | AA81: =SUM(R81:Z81) -> 0 | AB81: =Q81+AA81 -> 0
A82: =IF(VLOOKUP(B81,'Liste des joueurs'!$A$5:$Z$98,5,TRUE)=1,1,"NON") -> NON | H82: =IF(H81>0,H81-H$2,"") | I82: =IF(I81>0,I81-I$2,"") | J82: =IF(J81>0,J81-J$2,"") | K82: =IF(K81>0,K81-K$2,"") | L82: =IF(L81>0,L81-L$2,"") | M82: =IF(M81>0,M81-M$2,"") | N82: =IF(N81>0,N81-N$2,"") | O82: =IF(O81>0,O81-O$2,"") | ... AB82: =IF(AB81>0,AB81-AB$2,"")
A83: =IF(VLOOKUP(B84,'Liste des joueurs'!$A$5:$Z$98,5,TRUE)=1,1,"NON") -> NON
A84: =IF(VLOOKUP(B84,'Liste des joueurs'!$A$5:$Z$98,5,TRUE)=1,1,"NON") -> NON | B84: ='Liste des joueurs'!A83 -> 27 | C84: ='Liste des joueurs'!B83 -> Sébastien Coté | Q84: =SUM(H84:P84) -> 0 | AA84: =SUM(R84:Z84) -> 0 | AB84: =Q84+AA84 -> 0
A85: =IF(VLOOKUP(B84,'Liste des joueurs'!$A$5:$Z$98,5,TRUE)=1,1,"NON") -> NON | H85: =IF(H84>0,H84-H$2,"") | I85: =IF(I84>0,I84-I$2,"") | J85: =IF(J84>0,J84-J$2,"") | K85: =IF(K84>0,K84-K$2,"") | L85: =IF(L84>0,L84-L$2,"") | M85: =IF(M84>0,M84-M$2,"") | N85: =IF(N84>0,N84-N$2,"") | O85: =IF(O84>0,O84-O$2,"") | ... AB85: =IF(AB84>0,AB84-AB$2,"")
A86: =IF(VLOOKUP(B87,'Liste des joueurs'!$A$5:$Z$98,5,TRUE)=1,1,"NON") -> NON
A87: =IF(VLOOKUP(B87,'Liste des joueurs'!$A$5:$Z$98,5,TRUE)=1,1,"NON") -> NON | B87: ='Liste des joueurs'!A86 -> 28 | C87: ='Liste des joueurs'!B86 -> Francois Bouchard Laval | Q87: =SUM(H87:P87) -> 0 | AA87: =SUM(R87:Z87) -> 0 | AB87: =Q87+AA87 -> 0
A88: =IF(VLOOKUP(B87,'Liste des joueurs'!$A$5:$Z$98,5,TRUE)=1,1,"NON") -> NON | H88: =IF(H87>0,H87-H$2,"") | I88: =IF(I87>0,I87-I$2,"") | J88: =IF(J87>0,J87-J$2,"") | K88: =IF(K87>0,K87-K$2,"") | L88: =IF(L87>0,L87-L$2,"") | M88: =IF(M87>0,M87-M$2,"") | N88: =IF(N87>0,N87-N$2,"") | O88: =IF(O87>0,O87-O$2,"") | ... AB88: =IF(AB87>0,AB87-AB$2,"")
A89: =IF(VLOOKUP(B90,'Liste des joueurs'!$A$5:$Z$98,5,TRUE)=1,1,"NON") -> 1
A90: =IF(VLOOKUP(B90,'Liste des joueurs'!$A$5:$Z$98,5,TRUE)=1,1,"NON") -> 1 | B90: ='Liste des joueurs'!A89 -> 29 | C90: ='Liste des joueurs'!B89 -> Francois Bouchard Saguenay | H90: 6 | I90: 6 | J90: 6 | K90: 6 | L90: 6 | M90: 6 | N90: 6 | O90: 6 | P90: 6 | Q90: =SUM(H90:P90) -> 54 | R90: 6 | S90: 6 | T90: 6 | U90: 6 | V90: 6 | W90: 6 | X90: 6 | Y90: 6 | Z90: 6 | AA90: =SUM(R90:Z90) -> 54 | AB90: =Q90+AA90 -> 108
A91: =IF(VLOOKUP(B90,'Liste des joueurs'!$A$5:$Z$98,5,TRUE)=1,1,"NON") -> 1 | H91: =IF(H90>0,H90-H$2,"") -> 2 | I91: =IF(I90>0,I90-I$2,"") -> 3 | J91: =IF(J90>0,J90-J$2,"") -> 1 | K91: =IF(K90>0,K90-K$2,"") -> 3 | L91: =IF(L90>0,L90-L$2,"") -> 2 | M91: =IF(M90>0,M90-M$2,"") -> 2 | N91: =IF(N90>0,N90-N$2,"") -> 1 | O91: =IF(O90>0,O90-O$2,"") -> 2 | ... AB91: =IF(AB90>0,AB90-AB$2,"") -> 36
A92: =IF(VLOOKUP(B93,'Liste des joueurs'!$A$5:$Z$98,5,TRUE)=1,1,"NON") -> 1
A93: =IF(VLOOKUP(B93,'Liste des joueurs'!$A$5:$Z$98,5,TRUE)=1,1,"NON") -> 1 | B93: ='Liste des joueurs'!A92 -> 30 | C93: ='Liste des joueurs'!B92 -> amis Francois | H93: 5 | I93: 6 | J93: 7 | K93: 5 | L93: 6 | M93: 7 | N93: 5 | O93: 6 | P93: 7 | Q93: =SUM(H93:P93) -> 54 | R93: 5 | S93: 6 | T93: 7 | U93: 5 | V93: 6 | W93: 7 | X93: 5 | Y93: 6 | Z93: 7 | AA93: =SUM(R93:Z93) -> 54 | AB93: =Q93+AA93 -> 108
A94: =IF(VLOOKUP(B93,'Liste des joueurs'!$A$5:$Z$98,5,TRUE)=1,1,"NON") -> 1 | H94: =IF(H93>0,H93-H$2,"") -> 1 | I94: =IF(I93>0,I93-I$2,"") -> 3 | J94: =IF(J93>0,J93-J$2,"") -> 2 | K94: =IF(K93>0,K93-K$2,"") -> 2 | L94: =IF(L93>0,L93-L$2,"") -> 2 | M94: =IF(M93>0,M93-M$2,"") -> 3 | N94: =IF(N93>0,N93-N$2,"") -> 0 | O94: =IF(O93>0,O93-O$2,"") -> 2 | ... AB94: =IF(AB93>0,AB93-AB$2,"") -> 36
A95: =IF(VLOOKUP(B96,'Liste des joueurs'!$A$5:$Z$98,5,TRUE)=1,1,"NON") -> 1
A96: =IF(VLOOKUP(B96,'Liste des joueurs'!$A$5:$Z$98,5,TRUE)=1,1,"NON") -> 1 | B96: ='Liste des joueurs'!A95 -> 31 | C96: ='Liste des joueurs'!B95 -> amis Francois | H96: 5 | I96: 5 | J96: 6 | K96: 5 | L96: 5 | M96: 6 | N96: 5 | O96: 5 | P96: 6 | Q96: =SUM(H96:P96) -> 48 | R96: 5 | S96: 5 | T96: 6 | U96: 5 | V96: 5 | W96: 6 | X96: 5 | Y96: 5 | Z96: 6 | AA96: =SUM(R96:Z96) -> 48 | AB96: =Q96+AA96 -> 96
A97: =IF(VLOOKUP(B96,'Liste des joueurs'!$A$5:$Z$98,5,TRUE)=1,1,"NON") -> 1 | H97: =IF(H96>0,H96-H$2,"") -> 1 | I97: =IF(I96>0,I96-I$2,"") -> 2 | J97: =IF(J96>0,J96-J$2,"") -> 1 | K97: =IF(K96>0,K96-K$2,"") -> 2 | L97: =IF(L96>0,L96-L$2,"") -> 1 | M97: =IF(M96>0,M96-M$2,"") -> 2 | N97: =IF(N96>0,N96-N$2,"") -> 0 | O97: =IF(O96>0,O96-O$2,"") -> 1 | ... AB97: =IF(AB96>0,AB96-AB$2,"") -> 24
A98: =IF(VLOOKUP(B99,'Liste des joueurs'!$A$5:$Z$98,5,TRUE)=1,1,"NON") -> 1
A99: =IF(VLOOKUP(B99,'Liste des joueurs'!$A$5:$Z$98,5,TRUE)=1,1,"NON") -> 1 | B99: ='Liste des joueurs'!A98 -> 32 | C99: ='Liste des joueurs'!B98 -> amis Francois | H99: 6 | I99: 6 | J99: 4 | K99: 6 | L99: 6 | M99: 4 | N99: 6 | O99: 6 | P99: 4 | Q99: =SUM(H99:P99) -> 48 | R99: 6 | S99: 6 | T99: 4 | U99: 6 | V99: 6 | W99: 4 | X99: 6 | Y99: 6 | Z99: 4 | AA99: =SUM(R99:Z99) -> 48 | AB99: =Q99+AA99 -> 96
A100: =IF(VLOOKUP(B99,'Liste des joueurs'!$A$5:$Z$98,5,TRUE)=1,1,"NON") -> 1 | H100: =IF(H99>0,H99-H$2,"") -> 2 | I100: =IF(I99>0,I99-I$2,"") -> 3 | J100: =IF(J99>0,J99-J$2,"") -> -1 | K100: =IF(K99>0,K99-K$2,"") -> 3 | L100: =IF(L99>0,L99-L$2,"") -> 2 | M100: =IF(M99>0,M99-M$2,"") -> 0 | N100: =IF(N99>0,N99-N$2,"") -> 1 | O100: =IF(O99>0,O99-O$2,"") -> 2 | ... AB100: =IF(AB99>0,AB99-AB$2,"") -> 24
