Workbook

Sheet DONNEES
B1: DONNEES
B3: Nom | C3: Prénom | D3: Date naissance | E3: IPP | F3: Entré le | G3: Sorti le
B4: TATA | F4: 41176
B5: TOTO | F5: 41191
B6: TITI | F6: 40922
B7: TUTU | F7: 41049
B8: TETE | F8: 41071

Sheet Bilan
B1: BILAN
B3: Nom | C3: Prénom | D3: Entrée le | E3: Bilan 3 mois | F3: Bilan 18 mois | G3: Bilan 30 mois
B4: =DONNEES!B4 -> TATA | C4: =DONNEES!C4 -> 0 | D4: =DONNEES!F4 -> 41176 | E4: =EDATE(D4,3) -> 41267 | F4: =EDATE(D4,18) -> 41722 | G4: =EDATE(D4,30) -> 42087
B5: =DONNEES!B5 -> TOTO | C5: =DONNEES!C5 -> 0 | D5: =DONNEES!F5 -> 41191 | E5: =EDATE(D5,3) -> 41283 | F5: =EDATE(D5,18) -> 41738 | G5: =EDATE(D5,30) -> 42103
B6: =DONNEES!B6 -> TITI | C6: =DONNEES!C6 -> 0 | D6: =DONNEES!F6 -> 40922 | E6: =EDATE(D6,3) -> 41013 | F6: =EDATE(D6,18) -> 41469 | G6: =EDATE(D6,30) -> 41834
B7: =DONNEES!B7 -> TUTU | C7: =DONNEES!C7 -> 0 | D7: =DONNEES!F7 -> 41049 | E7: =EDATE(D7,3) -> 41141 | F7: =EDATE(D7,18) -> 41598 | G7: =EDATE(D7,30) -> 41963
B8: =DONNEES!B8 -> TETE | C8: =DONNEES!C8 -> 0 | D8: =DONNEES!F8 -> 41071 | E8: =EDATE(D8,3) -> 41163 | F8: =EDATE(D8,18) -> 41619 | G8: =EDATE(D8,30) -> 41984
B9: =DONNEES!B9 -> 0 | C9: =DONNEES!C9 -> 0 | D9: =DONNEES!F9 -> 0 | E9: =EDATE(D9,3) -> 91 | F9: =EDATE(D9,18) -> 547 | G9: =EDATE(D9,30) -> 912
B10: =DONNEES!B10 -> 0 | C10: =DONNEES!C10 -> 0 | D10: =DONNEES!F10 -> 0 | E10: =EDATE(D10,3) -> 91 | F10: =EDATE(D10,18) -> 547 | G10: =EDATE(D10,30) -> 912
B11: =DONNEES!B11 -> 0 | C11: =DONNEES!C11 -> 0 | D11: =DONNEES!F11 -> 0 | E11: =EDATE(D11,3) -> 91 | F11: =EDATE(D11,18) -> 547 | G11: =EDATE(D11,30) -> 912
B12: =DONNEES!B12 -> 0 | C12: =DONNEES!C12 -> 0 | D12: =DONNEES!F12 -> 0 | E12: =EDATE(D12,3) -> 91 | F12: =EDATE(D12,18) -> 547 | G12: =EDATE(D12,30) -> 912
B13: =DONNEES!B13 -> 0 | C13: =DONNEES!C13 -> 0 | D13: =DONNEES!F13 -> 0 | E13: =EDATE(D13,3) -> 91 | F13: =EDATE(D13,18) -> 547 | G13: =EDATE(D13,30) -> 912
B14: =DONNEES!B14 -> 0 | C14: =DONNEES!C14 -> 0 | D14: =DONNEES!F14 -> 0 | E14: =EDATE(D14,3) -> 91 | F14: =EDATE(D14,18) -> 547 | G14: =EDATE(D14,30) -> 912
B15: =DONNEES!B15 -> 0 | C15: =DONNEES!C15 -> 0 | D15: =DONNEES!F15 -> 0 | E15: =EDATE(D15,3) -> 91 | F15: =EDATE(D15,18) -> 547 | G15: =EDATE(D15,30) -> 912
... B40: =DONNEES!B40 -> 0 | C40: =DONNEES!C40 -> 0 | D40: =DONNEES!F40 -> 0 | E40: =EDATE(D40,3) -> 91 | F40: =EDATE(D40,18) -> 547 | G40: =EDATE(D40,30) -> 912

Sheet Recherche Evaluation
B1: RECHERCHE EVALUATION
B3: Nom | C3: Prénom | D3: Entrée le | E3: Bilan 0 mois | F3: Bilan 2 mois | G3: Bilan 6 mois | H3: Bilan 18 mois | I3: Bilan 24 mois | J3: Bilan 30 mois | K3: Bilan 36 mois
B4: =DONNEES!B4 -> TATA | C4: =DONNEES!C4 -> 0 | D4: =DONNEES!F4 -> 41176 | E4: =D4 -> 41176 | F4: =EDATE(E4,1) -> 41206 | G4: =EDATE(D4,6) -> 41357 | H4: =EDATE(D4,18) -> 41722 | I4: =EDATE(D4,24) -> 41906 | J4: =EDATE(D4,30) -> 42087 | K4: =EDATE(D4,36) -> 42271
B5: =DONNEES!B5 -> TOTO | C5: =DONNEES!C5 -> 0 | D5: =DONNEES!F5 -> 41191 | E5: =D5 -> 41191 | F5: =EDATE(E5,2) -> 41252 | G5: =EDATE(D5,6) -> 41373 | H5: =EDATE(D5,18) -> 41738 | I5: =EDATE(D5,24) -> 41921 | J5: =EDATE(D5,30) -> 42103 | K5: =EDATE(D5,36) -> 42286
B6: =DONNEES!B6 -> TITI | C6: =DONNEES!C6 -> 0 | D6: =DONNEES!F6 -> 40922 | E6: =D6 -> 40922 | F6: =EDATE(E6,3) -> 41013 | G6: =EDATE(D6,6) -> 41104 | H6: =EDATE(D6,18) -> 41469 | I6: =EDATE(D6,24) -> 41653 | J6: =EDATE(D6,30) -> 41834 | K6: =EDATE(D6,36) -> 42018
B7: =DONNEES!B7 -> TUTU | C7: =DONNEES!C7 -> 0 | D7: =DONNEES!F7 -> 41049 | E7: =D7 -> 41049 | F7: =EDATE(E7,1) -> 41080 | G7: =EDATE(D7,6) -> 41233 | H7: =EDATE(D7,18) -> 41598 | I7: =EDATE(D7,24) -> 41779 | J7: =EDATE(D7,30) -> 41963 | K7: =EDATE(D7,36) -> 42144
B8: =DONNEES!B8 -> TETE | C8: =DONNEES!C8 -> 0 | D8: =DONNEES!F8 -> 41071 | E8: =D8 -> 41071 | F8: =EDATE(E8,3) -> 41163 | G8: =EDATE(D8,6) -> 41254 | H8: =EDATE(D8,18) -> 41619 | I8: =EDATE(D8,24) -> 41801 | J8: =EDATE(D8,30) -> 41984 | K8: =EDATE(D8,36) -> 42166
B9: =DONNEES!B9 -> 0 | C9: =DONNEES!C9 -> 0 | D9: =DONNEES!F9 -> 0 | E9: =D9 -> 0 | G9: =EDATE(D9,6) -> 182 | H9: =EDATE(D9,18) -> 547 | I9: =EDATE(D9,24) -> 731 | J9: =EDATE(D9,30) -> 912 | K9: =EDATE(D9,36) -> 1096
B10: =DONNEES!B10 -> 0 | C10: =DONNEES!C10 -> 0 | D10: =DONNEES!F10 -> 0 | E10: =D10 -> 0 | G10: =EDATE(D10,6) -> 182 | H10: =EDATE(D10,18) -> 547 | I10: =EDATE(D10,24) -> 731 | J10: =EDATE(D10,30) -> 912 | K10: =EDATE(D10,36) -> 1096
B11: =DONNEES!B11 -> 0 | C11: =DONNEES!C11 -> 0 | D11: =DONNEES!F11 -> 0 | E11: =D11 -> 0 | G11: =EDATE(D11,6) -> 182 | H11: =EDATE(D11,18) -> 547 | I11: =EDATE(D11,24) -> 731 | J11: =EDATE(D11,30) -> 912 | K11: =EDATE(D11,36) -> 1096
B12: =DONNEES!B12 -> 0 | C12: =DONNEES!C12 -> 0 | D12: =DONNEES!F12 -> 0 | E12: =D12 -> 0 | G12: =EDATE(D12,6) -> 182 | H12: =EDATE(D12,18) -> 547 | I12: =EDATE(D12,24) -> 731 | J12: =EDATE(D12,30) -> 912 | K12: =EDATE(D12,36) -> 1096
B13: =DONNEES!B13 -> 0 | C13: =DONNEES!C13 -> 0 | D13: =DONNEES!F13 -> 0 | E13: =D13 -> 0 | G13: =EDATE(D13,6) -> 182 | H13: =EDATE(D13,18) -> 547 | I13: =EDATE(D13,24) -> 731 | J13: =EDATE(D13,30) -> 912 | K13: =EDATE(D13,36) -> 1096
B14: =DONNEES!B14 -> 0 | C14: =DONNEES!C14 -> 0 | D14: =DONNEES!F14 -> 0 | E14: =D14 -> 0 | G14: =EDATE(D14,6) -> 182 | H14: =EDATE(D14,18) -> 547 | I14: =EDATE(D14,24) -> 731 | J14: =EDATE(D14,30) -> 912 | K14: =EDATE(D14,36) -> 1096
B15: =DONNEES!B15 -> 0 | C15: =DONNEES!C15 -> 0 | D15: =DONNEES!F15 -> 0 | E15: =D15 -> 0 | G15: =EDATE(D15,6) -> 182 | H15: =EDATE(D15,18) -> 547 | I15: =EDATE(D15,24) -> 731 | J15: =EDATE(D15,30) -> 912 | K15: =EDATE(D15,36) -> 1096
B16: =DONNEES!B16 -> 0 | C16: =DONNEES!C16 -> 0 | D16: =DONNEES!F16 -> 0 | E16: =D16 -> 0 | F16: =IF(E16="","",EDATE(E16,2)) -> 60 | G16: =EDATE(D16,6) -> 182 | H16: =EDATE(D16,18) -> 547 | I16: =EDATE(D16,24) -> 731 | J16: =EDATE(D16,30) -> 912 | K16: =EDATE(D16,36) -> 1096
B17: =DONNEES!B17 -> 0 | C17: =DONNEES!C17 -> 0 | D17: =DONNEES!F17 -> 0 | E17: =D17 -> 0 | F17: =IF(E17="","",EDATE(E17,2)) -> 60 | G17: =EDATE(D17,6) -> 182 | H17: =EDATE(D17,18) -> 547 | I17: =EDATE(D17,24) -> 731 | J17: =EDATE(D17,30) -> 912 | K17: =EDATE(D17,36) -> 1096
B18: =DONNEES!B18 -> 0 | C18: =DONNEES!C18 -> 0 | D18: =DONNEES!F18 -> 0 | E18: =D18 -> 0 | F18: =IF(E18="","",EDATE(E18,2)) -> 60 | G18: =EDATE(D18,6) -> 182 | H18: =EDATE(D18,18) -> 547 | I18: =EDATE(D18,24) -> 731 | J18: =EDATE(D18,30) -> 912 | K18: =EDATE(D18,36) -> 1096
B19: =DONNEES!B19 -> 0 | C19: =DONNEES!C19 -> 0 | D19: =DONNEES!F19 -> 0 | E19: =D19 -> 0 | F19: =IF(E19="","",EDATE(E19,2)) -> 60 | G19: =EDATE(D19,6) -> 182 | H19: =EDATE(D19,18) -> 547 | I19: =EDATE(D19,24) -> 731 | J19: =EDATE(D19,30) -> 912 | K19: =EDATE(D19,36) -> 1096
B20: =DONNEES!B20 -> 0 | C20: =DONNEES!C20 -> 0 | D20: =DONNEES!F20 -> 0 | E20: =D20 -> 0 | F20: =IF(E20="","",EDATE(E20,2)) -> 60 | G20: =EDATE(D20,6) -> 182 | H20: =EDATE(D20,18) -> 547 | I20: =EDATE(D20,24) -> 731 | J20: =EDATE(D20,30) -> 912 | K20: =EDATE(D20,36) -> 1096
B21: =DONNEES!B21 -> 0 | C21: =DONNEES!C21 -> 0 | D21: =DONNEES!F21 -> 0 | E21: =D21 -> 0 | F21: =IF(E21="","",EDATE(E21,2)) -> 60 | G21: =EDATE(D21,6) -> 182 | H21: =EDATE(D21,18) -> 547 | I21: =EDATE(D21,24) -> 731 | J21: =EDATE(D21,30) -> 912 | K21: =EDATE(D21,36) -> 1096
B22: =DONNEES!B22 -> 0 | C22: =DONNEES!C22 -> 0 | D22: =DONNEES!F22 -> 0 | E22: =D22 -> 0 | F22: =IF(E22="","",EDATE(E22,2)) -> 60 | G22: =EDATE(D22,6) -> 182 | H22: =EDATE(D22,18) -> 547 | I22: =EDATE(D22,24) -> 731 | J22: =EDATE(D22,30) -> 912 | K22: =EDATE(D22,36) -> 1096
B23: =DONNEES!B23 -> 0 | C23: =DONNEES!C23 -> 0 | D23: =DONNEES!F23 -> 0 | E23: =D23 -> 0 | F23: =IF(E23="","",EDATE(E23,2)) -> 60 | G23: =EDATE(D23,6) -> 182 | H23: =EDATE(D23,18) -> 547 | I23: =EDATE(D23,24) -> 731 | J23: =EDATE(D23,30) -> 912 | K23: =EDATE(D23,36) -> 1096
B24: =DONNEES!B24 -> 0 | C24: =DONNEES!C24 -> 0 | D24: =DONNEES!F24 -> 0 | E24: =D24 -> 0 | F24: =IF(E24="","",EDATE(E24,2)) -> 60 | G24: =EDATE(D24,6) -> 182 | H24: =EDATE(D24,18) -> 547 | I24: =EDATE(D24,24) -> 731 | J24: =EDATE(D24,30) -> 912 | K24: =EDATE(D24,36) -> 1096
B25: =DONNEES!B25 -> 0 | C25: =DONNEES!C25 -> 0 | D25: =DONNEES!F25 -> 0 | E25: =D25 -> 0 | F25: =IF(E25="","",EDATE(E25,2)) -> 60 | G25: =EDATE(D25,6) -> 182 | H25: =EDATE(D25,18) -> 547 | I25: =EDATE(D25,24) -> 731 | J25: =EDATE(D25,30) -> 912 | K25: =EDATE(D25,36) -> 1096
B26: =DONNEES!B26 -> 0 | C26: =DONNEES!C26 -> 0 | D26: =DONNEES!F26 -> 0 | E26: =D26 -> 0 | F26: =IF(E26="","",EDATE(E26,2)) -> 60 | G26: =EDATE(D26,6) -> 182 | H26: =EDATE(D26,18) -> 547 | I26: =EDATE(D26,24) -> 731 | J26: =EDATE(D26,30) -> 912 | K26: =EDATE(D26,36) -> 1096
B27: =DONNEES!B27 -> 0 | C27: =DONNEES!C27 -> 0 | D27: =DONNEES!F27 -> 0 | E27: =D27 -> 0 | F27: =IF(E27="","",EDATE(E27,2)) -> 60 | G27: =EDATE(D27,6) -> 182 | H27: =EDATE(D27,18) -> 547 | I27: =EDATE(D27,24) -> 731 | J27: =EDATE(D27,30) -> 912 | K27: =EDATE(D27,36) -> 1096
... B40: =DONNEES!B40 -> 0 | C40: =DONNEES!C40 -> 0 | D40: =DONNEES!F40 -> 0 | E40: =D40 -> 0 | F40: =IF(E40="","",EDATE(E40,2)) -> 60 | G40: =EDATE(D40,6) -> 182 | H40: =EDATE(D40,18) -> 547 | I40: =EDATE(D40,24) -> 731 | J40: =EDATE(D40,30) -> 912 | K40: =EDATE(D40,36) -> 1096
