Workbook

Sheet Feuil1
F6: 2010 | G6: 2011 | H6: 2012 | I6: 2013 | J6: 2014 | K6: 2015 | L6: 2016 | M6: 2017
E7: Nombre d' Affiliés : | F7: ='[1]2010'!E40 -> 413 | G7: ='[1]2011'!E36 -> 413.66 | H7: ='[1]2012'!E38 -> 472.66 | I7: ='[1]2013'!E42 -> 350 | J7: ='[1]2014'!E44 -> 352 | K7: ='[1]2015'!F37 -> 511 | L7: ='[1]2016'!F30 -> 418
E8: Montant en € : | F8: ='[1]2010'!F40 -> 1266 | G8: ='[1]2011'!F36 -> 1271 | H8: ='[1]2012'!F38 -> 1397 | I8: ='[1]2013'!F42 -> 1068 | J8: ='[1]2014'!F44 -> 1095 | K8: ='[1]2015'!G37 -> 1533 | L8: ='[1]2016'!G30 -> 1254
E9: Nombre d'Associations : | F9: =[1]Récapitulatif!D32 -> 20 | G9: =[1]Récapitulatif!E32 -> 19 | H9: =[1]Récapitulatif!F32 -> 21 | I9: =[1]Récapitulatif!G32 -> 20 | J9: =[1]Récapitulatif!H32 -> 16 | K9: =[1]Récapitulatif!I32 -> 19 | L9: =[1]Récapitulatif!J32 -> 20
R20: J'aurai souhaité que les données
R21: nombre d'associations
R22: soit en "face" des années et pas juxtaposées sur les données montant et affiliés.
Q24: ⏎⏎⏎⏎ | R24: ici
R26: Un tout grand merci de m'aider
