Workbook

Sheet Page de garde
B4: Suivi des EV
B6: Informations agent:
B8: Nom : | C8: xxxx
B10: Prénom : | C10: yy
B12: CP : | C12: 12345678
B14: Unité de Travail
B16: Chef d'unité | C16: zzz
B18: Etablissement
B20: Gestionnaire
B22: Tél :
B24: Domicile de l'agent : | C24: cccc
B26: Lieu de travail (=parcours): | C26: bbb
B28: date | C28: 41671
C30: ↑ A compléter ↑

Sheet EVS_Recto
C1: Établissement : | H1: =('Page de garde'!C18) -> 0 | T1: Unité de travail : | Z1: =('Page de garde'!C14) -> 0 | AM1: Chef d'unité : | AT1: =('Page de garde'!C16) -> zzz | BC1: Nom du gestionnaire : | BL1: =('Page de garde'!C20) -> 0
C2: NOM : | H2: =('Page de garde'!C8) -> xxxx | T2: Prénom : | Z2: =('Page de garde'!C10) -> yy | AM2: N° d'immatriculation : | AT2: =('Page de garde'!C12) -> 12345678 | BC2: Téléphone du gestionnaire : | BQ2: =('Page de garde'!C22) -> 0
Z3: =('Page de garde'!C28) -> 41671
A4: ACTIVITE | AT4: ALLOCATIONS et INDEMNITES | BQ4: OBSERVATIONS
C5: HORAIRES PROGRAMMEES | K5: P | L5: TRAJET TRANSPORTS COLLECTIFS ET ATTENTE | T5: ECARTS | AD5: A J | AE5: ABSENCES HORAIRES | AT5: TRAJETS | AV5: TRAVAUX | BN5: ASTREINTE
A6: DATE | B6: PK de la coupure | C6: heures et minutes | K6: Présence | L6: heures et minutes | T6: horaire de à | AB6: prolongation accidentelle ( durée) | AC6: relevage | AD6: absence journalier - congé, RP, (RP), RU - RQ autres ( à préciser ) | AE6: TC - (RN) | AH6: TQ - (TY) | AK6: TK - (TK) | AN6: TI | AQ6: autres ( à indiquer ) | AT6: barème brigade (TT00) | AU6: autres ………… | AV6: paniers ( PA00 ) | AW6: paniers GC ( TZ00 ) | AX6: conduite taux a ( VB01 ) | AY6: conduite taux b ( VB02 ) | AZ6: conduite VA ( VA00 ) | BA6: pilote engins entreprise taux b (TR02) | BB6: conduite engins ferroviaires taux c (TQ00) | BC6: repas (NR99) | BD6: travaux salissants (TW00) | BE6: travaux pénibles (TP00) | BF6: travaux tunnel (TU00) | BG6: Km voiture (VM00) | BH6: spécial nuit (ISO_) | BI6: sortie taux b (SR03) | BJ6: ICPA (HQ98) | BK6: manœuvre TTX (TV00) | BM6: Déplacement | BN6: taux A (AS99) | BO6: taux B (AT99) | BP6: RS ( crédit)
C7: 1 ère séance de travail | G7: 2 eme séance de travail | L7: Aller | P7: Retour
B8: 1 | C8: 2 | K8: 3 | L8: 4 | T8: 5 | AB8: 6 | AC8: 7 | AD8: 8 | AE8: 9 | AH8: 10 | AK8: 11 | AN8: 12 | AQ8: 13 | AT8: 14 | AU8: 15 | AV8: 16 | AW8: 17 | AX8: 18 | AY8: 19 | AZ8: 20 | BA8: 21 | BB8: 22 | BC8: 23 | BD8: 24 | BE8: 25 | BF8: 26 | BG8: 27 | BH8: 28 | BI8: 29 | BJ8: 30 | BK8: 31 | BL8: 32 | BM8: 33 | BN8: 34 | BO8: 35 | BP8: 36
C9: Début | E9: Fin | G9: Début | I9: Fin | L9: Début | N9: Fin | P9: Début | R9: Fin | T9: H | V9: MN | X9: H | Z9: MN | AC9: es/ hs | AE9: H | AF9: MN | AH9: H | AI9: MN | AK9: H | AL9: MN | AN9: H | AO9: MN | AQ9: H | AR9: MN | AT9: Km | AU9: Km | AV9: U | AW9: U | AX9: J | AY9: J | AZ9: U | BA9: J | BB9: J | BC9: U | BD9: 1/2J | BE9: 1/2J | BF9: 1/2J | BG9: Km | BH9: U | BI9: U | BJ9: H | BK9: J | BN9: 1OE/J | BO9: 1OE/J | BP9: 1/4J
A11: =('Page de garde'!C28) -> 41671
A12: =SUM(A11)+1 -> 41672
A13: =SUM(A12)+1 -> 41673
A14: =SUM(A13)+1 -> 41674
A15: =SUM(A14)+1 -> 41675
A16: =SUM(A15)+1 -> 41676
A17: =SUM(A16)+1 -> 41677
A18: =SUM(A17)+1 -> 41678
A19: =SUM(A18)+1 -> 41679
A20: =SUM(A19)+1 -> 41680
A21: =SUM(A20)+1 -> 41681
A22: =SUM(A21)+1 -> 41682
A23: =SUM(A22)+1 -> 41683
... A41: =SUM(A40)+1 -> 41701
BN42: =SUM(BN11:BN41) -> 0 | BO42: =SUM(BO11:BO41) -> 0
