Workbook

Sheet Synthese générale
A1: MOIS | B1: NBRE DE COMMANDE | C1: INF A 18 COLIS | D1: SUP/EGAL A 18 COLIS
A3: JANVIER | B3: =JANVIER!H1+JANVIER!H2 -> 59 | C3: =JANVIER!H1 -> 23 | D3: =JANVIER!H2 -> 36
A4: FÉVRIER | B4: =FEVRIER!H1+FEVRIER!H2 -> 49 | C4: =FEVRIER!H1 -> 22 | D4: =FEVRIER!H2 -> 27
A5: MARS | B5: =MARS!H1+MARS!H2 -> 28 | C5: =MARS!H1 -> 7 | D5: =MARS!H2 -> 21
A6: AVRIL | B6: =AVRIL!H1+AVRIL!H2 -> 0 | C6: =AVRIL!H1 -> 0 | D6: =AVRIL!H2 -> 0
A7: MAI | B7: =MAI!H1+MAI!H2 -> 0 | C7: =MAI!H1 -> 0 | D7: =MAI!H2 -> 0
A8: JUIN | B8: =JUIN!H1+JUIN!H2 -> 0 | C8: =JUIN!H1 -> 0 | D8: =JUIN!H2 -> 0
A9: JUILLET | B9: =JUILLET!H1+JUILLET!H2 -> 0 | C9: =JUILLET!H1 -> 0 | D9: =JUILLET!H2 -> 0
A10: AOÛT | B10: =AOUT!H1+AOUT!H2 -> 0 | C10: =AOUT!H1 -> 0 | D10: =AOUT!H2 -> 0
A11: SEPTEMBRE | B11: =SEPTEMBRE!H1+SEPTEMBRE!H2 -> 0 | C11: =SEPTEMBRE!H1 -> 0 | D11: =SEPTEMBRE!H2 -> 0
A12: OCTOBRE | B12: =OCTOBRE!H1+OCTOBRE!H2 -> 0 | C12: =OCTOBRE!H1 -> 0 | D12: =OCTOBRE!H2 -> 0
A13: NOVEMBRE | B13: =NOVEMBRE!H1+NOVEMBRE!H2 -> 0 | C13: =NOVEMBRE!H1 -> 0 | D13: =NOVEMBRE!H2 -> 0
A14: DÉCEMBRE | B14: =DECEMBRE!H1+DECEMBRE!H2 -> 0 | C14: =DECEMBRE!H1 -> 0 | D14: =DECEMBRE!H2 -> 0
A15: TOTAL | B15: =SUM(B3:B14) -> 136 | C15: =SUM(C3:C14) -> 52 | D15: =SUM(D3:D14) -> 84

Sheet Synthese commerciaux
B1: ANNUEL
B2: TOTAL | C2: < 18 | D2: >= 18
A3: Daniel KARSZTUN
A4: Jean-Marie TEISSEIRE
A5: Cédric MIRAVET
A6: Coralie DENJEAN
A7: Centrale
A9: TOTAL | B9: =SUM(B3:B8) -> 0 | C9: =SUM(C3:C8) -> 0 | D9: =SUM(D3:D8) -> 0
C10: =+C9/B9 -> #DIV/0! | D10: =+D9/B9 -> #DIV/0!

Sheet JANVIER
A1: N° de Commande | B1: Date de Commande | C1: Commercial | D1: Nbre de colis | E1: Client | F1: commande en dessous du mini de commande (18 colis) | H1: =COUNTIF(D2:D60, "<18") -> 23 | I1: =H1/H6 -> 0.38983051
A2: 3 609 | B2: 42373 | C2: Centrale | D2: 22 | E2: LECASUD | F2: commande superieure ou égale au mini de commande (18 colis) | H2: =COUNTIF(D2:D60, ">=18") -> 36 | I2: =H2/H6 -> 0.61016949
A3: 3 610 | B3: 42373 | C3: Centrale | D3: 90 | E3: CARREFOUR ST SEVER
A4: 3 611 | B4: 42373 | C4: Centrale | D4: 39 | E4: SOCAMIL
A5: 3 612 | B5: 42373 | C5: Centrale | D5: 85 | E5: CARREFOUR MONTSOULT
A6: 3 613 | B6: 42373 | C6: Centrale | D6: 31 | E6: CARREFOUR ALLONNES | F6: total commande | H6: =H1+H2 -> 59
A7: 3 614 | B7: 42373 | C7: Daniel KARSZTUN | D7: 26 | E7: CARREFOUR CONTACT RIEUX MINERVOIS
A8: 3 615 | B8: 42373 | C8: Jean-Marie TEISSEIRE | D8: 37 | E8: INTERMARCHE MAUGUIO
A9: 3 616 | B9: 42373 | C9: Jean-Marie TEISSEIRE | D9: 11 | E9: INTERMARCHE MEZE
A10: 3 617 | B10: 42373 | C10: Jean-Marie TEISSEIRE | D10: 26 | E10: SUPER U LIMOUX
A11: 3 620 | B11: 42374 | C11: Centrale | D11: 27 | E11: CARREFOUR SALON
A12: 3 622 | B12: 42374 | C12: Jean-Marie TEISSEIRE | D12: 30 | E12: SUPER U LE VIGAN
A13: 3 623 | B13: 42374 | C13: Centrale | D13: 153 | E13: CASINO
A14: 3 624 | B14: 42374 | C14: Jean-Marie TEISSEIRE | D14: 28 | E14: SUPER U GANGES
A15: 3 625 | B15: 42374 | C15: Cédric MIRAVET | D15: 14 | E15: SUPER U LEGUEVIN
A16: 3 626 | B16: 42374 | C16: Centrale | D16: 216 | E16: CARREFOUR MONTSOULT
A17: 3 627 | B17: 42375 | C17: Cédric MIRAVET | D17: 20 | E17: SUPER U BRUGUIERES
A18: 3 628 | B18: 42375 | C18: Daniel KARSZTUN | D18: 17 | E18: INTERMARCHE ILLE/TET
... A60: 3 693 | B60: 42398 | C60: Daniel KARSZTUN | D60: 18 | E60: LECLERC CARCASSONNE

Sheet FEVRIER
A1: N° de Commande | B1: Date de Commande | C1: Commercial | D1: Nbre de colis | E1: Client | F1: commande en dessous du mini de commande (18 colis) | H1: =COUNTIF(D1:D3095, "<18") -> 22 | I1: =H1/H6 -> 0.44897959
A2: 3 694 | B2: 42401 | C2: Daniel KARSZTUN | D2: 14 | E2: SUPER U LA NOUVELLE | F2: commande superieure ou égale au mini de commande (18 colis) | H2: =COUNTIF(D2:D3095, ">=18") -> 27 | I2: =H2/H6 -> 0.55102041
A3: 3 695 | B3: 42401 | C3: Centrale | D3: 19 | E3: SOCAMIL
A4: 3 699 | B4: 42402 | C4: Centrale | D4: 36 | E4: CARREFOUR ST SEVER
A5: 3 700 | B5: 42403 | C5: Cédric MIRAVET | D5: 11 | E5: INTERMARCHE MONTREAL
A6: 3 704 | B6: 42409 | C6: Cédric MIRAVET | D6: 15 | E6: INTERMARCHE CAZERES | F6: total commande | H6: =H1+H2 -> 49
A7: 3 705 | B7: 42409 | C7: Centrale | D7: 9 | E7: SOCAMIL
A8: 3 706 | B8: 42409 | C8: Jean-Marie TEISSEIRE | D8: 11 | E8: SUPER U TREBES
A9: 3 707 | B9: 42409 | C9: Centrale | D9: 63 | E9: CARREFOUR MONTSOULT
A10: 3 708 | B10: 42409 | C10: Cédric MIRAVET | D10: 11 | E10: INTERMARCHE ALZONNE
A11: 3 711 | B11: 42409 | C11: Jean-Marie TEISSEIRE | D11: 10 | E11: SUPERMACHE CASINO OLONZAC
A12: 3 712 | B12: 42409 | C12: Centrale | D12: 27 | E12: CASINO EUROCENTRE
A13: 3 713 | B13: 42409 | C13: Jean-Marie TEISSEIRE | D13: 30 | E13: CARREFOUR NARBONNE
A14: 3 714 | B14: 42409 | C14: Daniel KARSZTUN | D14: 40 | E14: AUCHAN PERPIGNAN
A15: 3 718 | B15: 42411 | C15: Daniel KARSZTUN | D15: 14 | E15: INTERMARCHE THUIR
A16: 3 719 | B16: 42411 | C16: Daniel KARSZTUN | D16: 17 | E16: CARREFOUR CONTACT RIEUX
A17: 3 720 | B17: 42411 | C17: Centrale | D17: 36 | E17: CASINO EUROCENTRE
A18: 3 721 | B18: 42412 | C18: Centrale | D18: 20 | E18: MONOPRIX CARCASSONNE
... A50: 3 761 | B50: 42429 | C50: Centrale | D50: 20 | E50: SOCAMIL STEF SURGELE EURO CENTRE

Sheet MARS
A1: N° de Commande | B1: Date de la commande | C1: Commercial | D1: Nombre de colis | E1: Client | F1: commande en dessous du mini de commande (18 colis) | H1: =COUNTIF(D2:D3089, "<18") -> 7 | I1: =H1/H6 -> 0.25
A2: 3 762 | B2: 42430 | C2: Daniel KARSZTUN | D2: 36 | E2: INTERMARCHE POLLESTRES | F2: commande superieure ou égale au mini de commande (18 colis) | H2: =COUNTIF(D2:D3089, ">=18") -> 21 | I2: =H2/H6 -> 0.75
A3: 3 763 | B3: 42430 | C3: Centrale | D3: 54 | E3: CARREFOUR MONTSOULT
A4: 3 764 | B4: 42430 | C4: Jean-Marie TEISSEIRE | D4: 15 | E4: INTERMARCHE MEZE
A5: 3 765 | B5: 42430 | C5: Jean-Marie TEISSEIRE | D5: 18 | E5: SUPER U SU MARGUERITTES
A6: 3 766 | B6: 42430 | C6: Cédric MIRAVET | D6: 15 | E6: SUPER U GRENADE SUR GARONNE | F6: total commande | H6: =H1+H2 -> 28
A7: 3 767 | B7: 42430 | C7: Cédric MIRAVET | D7: 21 | E7: INTERMARCHE PINSAGUEL
A8: 3 768 | B8: 42430 | C8: Centrale | D8: 63 | E8: CARREFOUR SALON DE PROVENCE
A9: 3 770 | B9: 42430 | C9: Centrale | D9: 99 | E9: CARREFOUR ST SEVER
A10: 3 771 | B10: 42431 | C10: Cédric MIRAVET | D10: 25 | E10: SUPER U LAVAUR
A11: 3 772 | B11: 42431 | C11: Daniel KARSZTUN | D11: 20 | E11: CARREFOUR CONTACT RIEUX MINERVOIS
A12: 3 775 | B12: 42432 | C12: Coralie DENJEAN | D12: 15 | E12: INTERMARCHE ST SULPICE SUR LEZE
A13: 3 776 | B13: 42432 | C13: Centrale | D13: 90 | E13: CARREFOUR MONTSOULT
A14: 3 777 | B14: 42433 | C14: Daniel KARSZTUN | D14: 32 | E14: SUPER U PRADES
A15: 3 778 | B15: 42433 | C15: Daniel KARSZTUN | D15: 13 | E15: INTERMARCHE MONTESCOT
A16: 3 779 | B16: 42433 | C16: Daniel KARSZTUN | D16: 25 | E16: INTERMARCHE LEZIGNAN
A17: 3 781 | B17: 42433 | C17: Daniel KARSZTUN | D17: 18 | E17: LECLERC CARCASSONNE
A18: 3 783 | B18: 42436 | C18: Daniel KARSZTUN | D18: 35 | E18: CARREFOUR CARCASSONNE
... A29: 3 802 | B29: 42439 | C29: Daniel KARSZTUN | D29: 27 | E29: INTERMARCHE THUIR INTERMARCHE

Sheet AVRIL
A1: N° de Commande | B1: Date de Commande | C1: Commercial | D1: Nbre de colis | E1: Client | F1: commande en dessous du mini de commande (18 colis) | H1: =COUNTIF(D2:D3100, "<18") -> 0 | I1: =H1/H6 -> #DIV/0!
F2: commande superieure ou égale au mini de commande (18 colis) | H2: =COUNTIF(D2:D3100, ">=18") -> 0 | I2: =H2/H6 -> #DIV/0!
F6: total commande | H6: =H1+H2 -> 0

Sheet MAI
A1: N° de Commande | B1: Date de Commande | C1: Commercial | D1: Nbre de colis | E1: Client | F1: commande en dessous du mini de commande (18 colis) | H1: =COUNTIF(D2:D3100, "<18") -> 0 | I1: =H1/H6 -> #DIV/0!
F2: commande superieure ou égale au mini de commande (18 colis) | H2: =COUNTIF(D2:D3100, ">=18") -> 0 | I2: =H2/H6 -> #DIV/0!
F6: total commande | H6: =H1+H2 -> 0

Sheet JUIN
A1: N° de Commande | B1: Date de Commande | C1: Commercial | D1: Nbre de colis | E1: Client | F1: commande en dessous du mini de commande (18 colis) | H1: =COUNTIF(D2:D3100, "<18") -> 0 | I1: =H1/H6 -> #DIV/0!
F2: commande superieure ou égale au mini de commande (18 colis) | H2: =COUNTIF(D2:D3100, ">=18") -> 0 | I2: =H2/H6 -> #DIV/0!
F6: total commande | H6: =H1+H2 -> 0

Sheet JUILLET
A1: N° de Commande | B1: Date de Commande | C1: Commercial | D1: Nbre de colis | E1: Client | F1: commande en dessous du mini de commande (18 colis) | H1: =COUNTIF(D2:D3100, "<18") -> 0 | I1: =H1/H6 -> #DIV/0!
F2: commande superieure ou égale au mini de commande (18 colis) | H2: =COUNTIF(D2:D3100, ">=18") -> 0 | I2: =H2/H6 -> #DIV/0!
F6: total commande | H6: =H1+H2 -> 0

Sheet AOUT
A1: N° de Commande | B1: Date de Commande | C1: Commercial | D1: Nbre de colis | E1: Client | F1: commande en dessous du mini de commande (18 colis) | H1: =COUNTIF(D2:D3100, "<18") -> 0 | I1: =H1/H6 -> #DIV/0!
F2: commande superieure ou égale au mini de commande (18 colis) | H2: =COUNTIF(D2:D3100, ">=18") -> 0 | I2: =H2/H6 -> #DIV/0!
F6: total commande | H6: =H1+H2 -> 0

Sheet SEPTEMBRE
A1: N° de Commande | B1: Date de Commande | C1: Commercial | D1: Nbre de colis | E1: Client | F1: commande en dessous du mini de commande (18 colis) | H1: =COUNTIF(D2:D3100, "<18") -> 0 | I1: =H1/H6 -> #DIV/0!
F2: commande superieure ou égale au mini de commande (18 colis) | H2: =COUNTIF(D2:D3100, ">=18") -> 0 | I2: =H2/H6 -> #DIV/0!
F6: total commande | H6: =H1+H2 -> 0

Sheet OCTOBRE
A1: N° de Commande | B1: Date de Commande | C1: Commercial | D1: Nbre de colis | E1: Client | F1: commande en dessous du mini de commande (18 colis) | H1: =COUNTIF(D2:D3100, "<18") -> 0 | I1: =H1/H6 -> #DIV/0!
F2: commande superieure ou égale au mini de commande (18 colis) | H2: =COUNTIF(D2:D3100, ">=18") -> 0 | I2: =H2/H6 -> #DIV/0!
F6: total commande | H6: =H1+H2 -> 0

Sheet NOVEMBRE
A1: N° de Commande | B1: Date de Commande | C1: Commercial | D1: Nbre de colis | E1: Client | F1: commande en dessous du mini de commande (18 colis) | H1: =COUNTIF(D2:D3100, "<18") -> 0 | I1: =H1/H6 -> #DIV/0!
F2: commande superieure ou égale au mini de commande (18 colis) | H2: =COUNTIF(D2:D3100, ">=18") -> 0 | I2: =H2/H6 -> #DIV/0!
F6: total commande | H6: =H1+H2 -> 0

Sheet DECEMBRE
A1: N° de Commande | B1: Date de Commande | C1: commercial | D1: Nbre de colis | E1: Client | F1: commande en dessous du mini de commande (18 colis) | H1: =COUNTIF(D2:D3100, "<18") -> 0 | I1: =H1/H6 -> #DIV/0!
F2: commande superieure ou égale au mini de commande (18 colis) | H2: =COUNTIF(D2:D3100, ">=18") -> 0 | I2: =H2/H6 -> #DIV/0!
F6: total commande | H6: =H1+H2 -> 0
