Workbook

Sheet PREVI VENTE
A1: 550ml | B1: 0.1 | C1: JANVIER | D1: FÉVRIER | E1: MARS | F1: AVRIL | G1: MAI | H1: JUIN | I1: JUILLET | J1: AOÛT | K1: SEPTEMBRE | L1: OCTOBRE | M1: NOVEMBRE | N1: DÉCEMBRE
A2: Sorbet Abricot 550ml | B2: VENTE 2020 | C2: 348 | D2: 468 | E2: 834 | F2: 1206 | G2: 1788 | H2: 7896 | I2: 4770 | J2: 4608 | K2: 966 | L2: 162
B3: PREVI 2021 | C3: =C2*(1+$B$1) -> 382.8 | D3: =D2*(1+$B$1) -> 514.8 | E3: =E2*(1+$B$1) -> 917.4 | F3: =F2*(1+$B$1) -> 1326.6 | G3: =G2*(1+$B$1) -> 1966.8 | H3: =H2*(1+$B$1) -> 8685.6 | I3: =I2*(1+$B$1) -> 5247 | J3: =J2*(1+$B$1) -> 5068.8 | ... N3: =N2*(1+$B$1) -> 0 | O3: =SUM(C3:N3) -> 25350.6
A4: Crème Café 550ml | B4: VENTE 2020 | C4: 1962 | D4: 1140 | E4: 1776 | F4: 2934 | G4: 4560 | H4: 8604 | I4: 10842 | J4: 7152 | K4: 1926 | L4: 798
B5: PREVI 2021 | C5: =C4*(1+$B$1) -> 2158.2 | D5: =D4*(1+$B$1) -> 1254 | E5: =E4*(1+$B$1) -> 1953.6 | F5: =F4*(1+$B$1) -> 3227.4 | G5: =G4*(1+$B$1) -> 5016 | H5: =H4*(1+$B$1) -> 9464.4 | I5: =I4*(1+$B$1) -> 11926.2 | J5: =J4*(1+$B$1) -> 7867.2 | ... N5: =N4*(1+$B$1) -> 0 | O5: =SUM(C5:N5) -> 45863.4
A6: Crème Caramel 550ml | B6: VENTE 2020 | C6: 1674 | D6: 720 | E6: 2526 | F6: 2208 | G6: 3763 | H6: 9150 | I6: 8376 | J6: 8208 | K6: 1830 | L6: 588
B7: PREVI 2021 | C7: =C6*(1+$B$1) -> 1841.4 | D7: =D6*(1+$B$1) -> 792 | E7: =E6*(1+$B$1) -> 2778.6 | F7: =F6*(1+$B$1) -> 2428.8 | G7: =G6*(1+$B$1) -> 4139.3 | H7: =H6*(1+$B$1) -> 10065 | I7: =I6*(1+$B$1) -> 9213.6 | J7: =J6*(1+$B$1) -> 9028.8 | ... N7: =N6*(1+$B$1) -> 0 | O7: =SUM(C7:N7) -> 42947.3
A8: Crème Chocolat 550ml | B8: VENTE 2020 | C8: 1614 | D8: 774 | E8: 2958 | F8: 2052 | G8: 4128 | H8: 6732 | I8: 9246 | J8: 8550 | K8: 1116 | L8: 810
B9: PREVI 2021 | C9: =C8*(1+$B$1) -> 1775.4 | D9: =D8*(1+$B$1) -> 851.4 | E9: =E8*(1+$B$1) -> 3253.8 | F9: =F8*(1+$B$1) -> 2257.2 | G9: =G8*(1+$B$1) -> 4540.8 | H9: =H8*(1+$B$1) -> 7405.2 | I9: =I8*(1+$B$1) -> 10170.6 | J9: =J8*(1+$B$1) -> 9405 | ... N9: =N8*(1+$B$1) -> 0 | O9: =SUM(C9:N9) -> 41778
A10: Sorbet Citron 550ml | B10: VENTE 2020 | C10: 1344 | D10: 792 | E10: 1284 | F10: 2412 | G10: 2604 | H10: 7668 | I10: 5568 | J10: 4818 | K10: 1146 | L10: 366
B11: PREVI 2021 | C11: =C10*(1+$B$1) -> 1478.4 | D11: =D10*(1+$B$1) -> 871.2 | E11: =E10*(1+$B$1) -> 1412.4 | F11: =F10*(1+$B$1) -> 2653.2 | G11: =G10*(1+$B$1) -> 2864.4 | H11: =H10*(1+$B$1) -> 8434.8 | I11: =I10*(1+$B$1) -> 6124.8 | J11: =J10*(1+$B$1) -> 5299.8 | ... N11: =N10*(1+$B$1) -> 0 | O11: =SUM(C11:N11) -> 30802.2
A12: Sorbet Citron Vert 550ml | B12: VENTE 2020 | C12: 0 | D12: 0 | E12: 210 | F12: 306 | G12: 1020 | H12: 1296 | I12: 1686 | J12: 1458 | K12: 324 | L12: 144
B13: PREVI 2021 | C13: =C12*(1+$B$1) -> 0 | D13: =D12*(1+$B$1) -> 0 | E13: =E12*(1+$B$1) -> 231 | F13: =F12*(1+$B$1) -> 336.6 | G13: =G12*(1+$B$1) -> 1122 | H13: =H12*(1+$B$1) -> 1425.6 | I13: =I12*(1+$B$1) -> 1854.6 | J13: =J12*(1+$B$1) -> 1603.8 | ... N13: =N12*(1+$B$1) -> 0 | O13: =SUM(C13:N13) -> 7088.4
A14: Sorbet Noix de Coco 550ml | B14: VENTE 2020 | C14: 504 | D14: 624 | E14: 714 | F14: 1110 | G14: 1524 | H14: 4182 | I14: 2616 | J14: 2946 | K14: 660 | L14: 150
B15: PREVI 2021 | C15: =C14*(1+$B$1) -> 554.4 | D15: =D14*(1+$B$1) -> 686.4 | E15: =E14*(1+$B$1) -> 785.4 | F15: =F14*(1+$B$1) -> 1221 | G15: =G14*(1+$B$1) -> 1676.4 | H15: =H14*(1+$B$1) -> 4600.2 | I15: =I14*(1+$B$1) -> 2877.6 | J15: =J14*(1+$B$1) -> 3240.6 | ... N15: =N14*(1+$B$1) -> 0 | O15: =SUM(C15:N15) -> 16533
A16: Sorbet Fraise 550ml | B16: VENTE 2020 | C16: 876 | D16: 378 | E16: 1092 | F16: 2094 | G16: 2898 | H16: 6984 | I16: 6228 | J16: 5196 | K16: 1020 | L16: 210
B17: PREVI 2021 | C17: =C16*(1+$B$1) -> 963.6 | D17: =D16*(1+$B$1) -> 415.8 | E17: =E16*(1+$B$1) -> 1201.2 | F17: =F16*(1+$B$1) -> 2303.4 | G17: =G16*(1+$B$1) -> 3187.8 | H17: =H16*(1+$B$1) -> 7682.4 | I17: =I16*(1+$B$1) -> 6850.8 | J17: =J16*(1+$B$1) -> 5715.6 | ... N17: =N16*(1+$B$1) -> 0 | O17: =SUM(C17:N17) -> 29673.6
A18: Sorbet Framboise 550ml | B18: VENTE 2020 | C18: 1470 | D18: 510 | E18: 978 | F18: 2202 | G18: 3120 | H18: 5910 | I18: 5364 | J18: 6228 | K18: 774 | L18: 336
B19: PREVI 2021 | C19: =C18*(1+$B$1) -> 1617 | D19: =D18*(1+$B$1) -> 561 | E19: =E18*(1+$B$1) -> 1075.8 | F19: =F18*(1+$B$1) -> 2422.2 | G19: =G18*(1+$B$1) -> 3432 | H19: =H18*(1+$B$1) -> 6501 | I19: =I18*(1+$B$1) -> 5900.4 | J19: =J18*(1+$B$1) -> 6850.8 | ... N19: =N18*(1+$B$1) -> 0 | O19: =SUM(C19:N19) -> 29581.2
A20: Crème Marron 550ml | B20: VENTE 2020 | C20: 1374 | D20: 720 | E20: 1026 | F20: 2196 | G20: 2364 | H20: 4068 | I20: 5088 | J20: 5040 | K20: 1320 | L20: 1110
B21: PREVI 2021 | C21: =C20*(1+$B$1) -> 1511.4 | D21: =D20*(1+$B$1) -> 792 | E21: =E20*(1+$B$1) -> 1128.6 | F21: =F20*(1+$B$1) -> 2415.6 | G21: =G20*(1+$B$1) -> 2600.4 | H21: =H20*(1+$B$1) -> 4474.8 | I21: =I20*(1+$B$1) -> 5596.8 | J21: =J20*(1+$B$1) -> 5544 | ... N21: =N20*(1+$B$1) -> 0 | O21: =SUM(C21:N21) -> 26736.6
A22: Crème Miel de garrigue/amande 550ml | B22: VENTE 2020 | C22: 18 | D22: 168 | E22: 306 | F22: 4896 | G22: 732 | H22: 1032 | I22: 1548 | J22: 1452 | K22: 360 | L22: 198
B23: PREVI 2021 | C23: =C22*(1+$B$1) -> 19.8 | D23: =D22*(1+$B$1) -> 184.8 | E23: =E22*(1+$B$1) -> 336.6 | F23: =F22*(1+$B$1) -> 5385.6 | G23: =G22*(1+$B$1) -> 805.2 | H23: =H22*(1+$B$1) -> 1135.2 | I23: =I22*(1+$B$1) -> 1702.8 | J23: =J22*(1+$B$1) -> 1597.2 | ... N23: =N22*(1+$B$1) -> 0 | O23: =SUM(C23:N23) -> 11781
A24: Sorbet Mangue/passion 550ml | B24: VENTE 2020 | C24: 906 | D24: 282 | E24: 720 | F24: 1434 | G24: 1890 | H24: 2586 | I24: 4698 | J24: 3006 | K24: 936 | L24: 402
B25: PREVI 2021 | C25: =C24*(1+$B$1) -> 996.6 | D25: =D24*(1+$B$1) -> 310.2 | E25: =E24*(1+$B$1) -> 792 | F25: =F24*(1+$B$1) -> 1577.4 | G25: =G24*(1+$B$1) -> 2079 | H25: =H24*(1+$B$1) -> 2844.6 | I25: =I24*(1+$B$1) -> 5167.8 | J25: =J24*(1+$B$1) -> 3306.6 | ... N25: =N24*(1+$B$1) -> 0 | O25: =SUM(C25:N25) -> 18546
A26: Sorbet Mojito 550ml | B26: VENTE 2020 | C26: 324 | D26: 84 | E26: 390 | F26: 564 | G26: 732 | H26: 1398 | I26: 2022 | J26: 1806 | K26: 492 | L26: 84
B27: PREVI 2021 | C27: =C26*(1+$B$1) -> 356.4 | D27: =D26*(1+$B$1) -> 92.4 | E27: =E26*(1+$B$1) -> 429 | F27: =F26*(1+$B$1) -> 620.4 | G27: =G26*(1+$B$1) -> 805.2 | H27: =H26*(1+$B$1) -> 1537.8 | I27: =I26*(1+$B$1) -> 2224.2 | J27: =J26*(1+$B$1) -> 1986.6 | ... N27: =N26*(1+$B$1) -> 0 | O27: =SUM(C27:N27) -> 8685.6
A28: Crème Menthe/Chocolat 550ml | B28: VENTE 2020 | C28: 246 | D28: 168 | E28: 288 | F28: 588 | G28: 1350 | H28: 2670 | I28: 2454 | J28: 2118 | K28: 336 | L28: 156
B29: PREVI 2021 | C29: =C28*(1+$B$1) -> 270.6 | D29: =D28*(1+$B$1) -> 184.8 | E29: =E28*(1+$B$1) -> 316.8 | F29: =F28*(1+$B$1) -> 646.8 | G29: =G28*(1+$B$1) -> 1485 | H29: =H28*(1+$B$1) -> 2937 | I29: =I28*(1+$B$1) -> 2699.4 | J29: =J28*(1+$B$1) -> 2329.8 | ... N29: =N28*(1+$B$1) -> 0 | O29: =SUM(C29:N29) -> 11411.4
A30: Crème Noix/Figues 550ml | B30: VENTE 2020 | C30: 198 | D30: 162 | E30: 222 | F30: 282 | G30: 576 | H30: 1272 | I30: 1284 | J30: 1056 | K30: 240 | L30: 216
B31: PREVI 2021 | C31: =C30*(1+$B$1) -> 217.8 | D31: =D30*(1+$B$1) -> 178.2 | E31: =E30*(1+$B$1) -> 244.2 | F31: =F30*(1+$B$1) -> 310.2 | G31: =G30*(1+$B$1) -> 633.6 | H31: =H30*(1+$B$1) -> 1399.2 | I31: =I30*(1+$B$1) -> 1412.4 | J31: =J30*(1+$B$1) -> 1161.6 | ... N31: =N30*(1+$B$1) -> 0 | O31: =SUM(C31:N31) -> 6058.8
A32: Sorbet Orange Sanguine 550ml | B32: VENTE 2020 | C32: 186 | D32: 144 | E32: 222 | F32: 402 | G32: 984 | H32: 1374 | I32: 1380 | J32: 1494 | K32: 294 | L32: 60
B33: PREVI 2021 | C33: =C32*(1+$B$1) -> 204.6 | D33: =D32*(1+$B$1) -> 158.4 | E33: =E32*(1+$B$1) -> 244.2 | F33: =F32*(1+$B$1) -> 442.2 | G33: =G32*(1+$B$1) -> 1082.4 | H33: =H32*(1+$B$1) -> 1511.4 | I33: =I32*(1+$B$1) -> 1518 | J33: =J32*(1+$B$1) -> 1643.4 | ... N33: =N32*(1+$B$1) -> 0 | O33: =SUM(C33:N33) -> 7194
A34: Sorbet Pêche 550ml | B34: VENTE 2020 | C34: 132 | D34: 138 | E34: 564 | F34: 5526 | G34: 918 | H34: 2574 | I34: 2784 | J34: 2616 | K34: 750 | L34: 102
B35: PREVI 2021 | C35: =C34*(1+$B$1) -> 145.2 | D35: =D34*(1+$B$1) -> 151.8 | E35: =E34*(1+$B$1) -> 620.4 | F35: =F34*(1+$B$1) -> 6078.6 | G35: =G34*(1+$B$1) -> 1009.8 | H35: =H34*(1+$B$1) -> 2831.4 | I35: =I34*(1+$B$1) -> 3062.4 | J35: =J34*(1+$B$1) -> 2877.6 | ... N35: =N34*(1+$B$1) -> 0 | O35: =SUM(C35:N35) -> 17714.4
A36: Sorbet façon Piña Colada 550ml | B36: VENTE 2020 | C36: 72 | D36: 60 | E36: 384 | F36: 252 | G36: 438 | H36: 924 | I36: 1278 | J36: 906 | K36: 120 | L36: 18
B37: PREVI 2021 | C37: =C36*(1+$B$1) -> 79.2 | D37: =D36*(1+$B$1) -> 66 | E37: =E36*(1+$B$1) -> 422.4 | F37: =F36*(1+$B$1) -> 277.2 | G37: =G36*(1+$B$1) -> 481.8 | H37: =H36*(1+$B$1) -> 1016.4 | I37: =I36*(1+$B$1) -> 1405.8 | J37: =J36*(1+$B$1) -> 996.6 | ... N37: =N36*(1+$B$1) -> 0 | O37: =SUM(C37:N37) -> 4897.2
A38: Crème Pistache 550ml | B38: VENTE 2020 | C38: 1002 | D38: 492 | E38: 1392 | F38: 1944 | G38: 2364 | H38: 7104 | I38: 5520 | J38: 4812 | K38: 1218 | L38: 360
B39: PREVI 2021 | C39: =C38*(1+$B$1) -> 1102.2 | D39: =D38*(1+$B$1) -> 541.2 | E39: =E38*(1+$B$1) -> 1531.2 | F39: =F38*(1+$B$1) -> 2138.4 | G39: =G38*(1+$B$1) -> 2600.4 | H39: =H38*(1+$B$1) -> 7814.4 | I39: =I38*(1+$B$1) -> 6072 | J39: =J38*(1+$B$1) -> 5293.2 | ... N39: =N38*(1+$B$1) -> 0 | O39: =SUM(C39:N39) -> 28828.8
A40: Crème Plombière 550ml | B40: VENTE 2020 | C40: 330 | D40: 258 | E40: 612 | F40: 13710 | G40: 10416 | H40: 12828 | I40: 8484 | J40: 8100 | K40: 1704 | L40: 2136
B41: PREVI 2021 | C41: =C40*(1+$B$1) -> 363 | D41: =D40*(1+$B$1) -> 283.8 | E41: =E40*(1+$B$1) -> 673.2 | F41: =F40*(1+$B$1) -> 15081 | G41: =G40*(1+$B$1) -> 11457.6 | H41: =H40*(1+$B$1) -> 14110.8 | I41: =I40*(1+$B$1) -> 9332.4 | J41: =J40*(1+$B$1) -> 8910 | ... N41: =N40*(1+$B$1) -> 0 | O41: =SUM(C41:N41) -> 64435.8
A42: Sorbet Poire 550ml | B42: VENTE 2020 | C42: 360 | D42: 198 | E42: 504 | F42: 906 | G42: 870 | H42: 2082 | I42: 2616 | J42: 2214 | K42: 426 | L42: 246
B43: PREVI 2021 | C43: =C42*(1+$B$1) -> 396 | D43: =D42*(1+$B$1) -> 217.8 | E43: =E42*(1+$B$1) -> 554.4 | F43: =F42*(1+$B$1) -> 996.6 | G43: =G42*(1+$B$1) -> 957 | H43: =H42*(1+$B$1) -> 2290.2 | I43: =I42*(1+$B$1) -> 2877.6 | J43: =J42*(1+$B$1) -> 2435.4 | ... N43: =N42*(1+$B$1) -> 0 | O43: =SUM(C43:N43) -> 11464.2
A44: Crème Noisette 550ml | B44: VENTE 2020 | C44: 564 | D44: 1050 | E44: 900 | F44: 5130 | G44: 1878 | H44: 5520 | I44: 4008 | J44: 4320 | K44: 1188 | L44: 480
B45: PREVI 2021 | C45: =C44*(1+$B$1) -> 620.4 | D45: =D44*(1+$B$1) -> 1155 | E45: =E44*(1+$B$1) -> 990 | F45: =F44*(1+$B$1) -> 5643 | G45: =G44*(1+$B$1) -> 2065.8 | H45: =H44*(1+$B$1) -> 6072 | I45: =I44*(1+$B$1) -> 4408.8 | J45: =J44*(1+$B$1) -> 4752 | ... N45: =N44*(1+$B$1) -> 0 | O45: =SUM(C45:N45) -> 27541.8
A46: Crème Réglisse 550ml | B46: VENTE 2020 | C46: 390 | D46: 282 | E46: 420 | F46: 570 | G46: 1176 | H46: 2472 | I46: 2790 | J46: 2436 | K46: 624 | L46: 336
B47: PREVI 2021 | C47: =C46*(1+$B$1) -> 429 | D47: =D46*(1+$B$1) -> 310.2 | E47: =E46*(1+$B$1) -> 462 | F47: =F46*(1+$B$1) -> 627 | G47: =G46*(1+$B$1) -> 1293.6 | H47: =H46*(1+$B$1) -> 2719.2 | I47: =I46*(1+$B$1) -> 3069 | J47: =J46*(1+$B$1) -> 2679.6 | ... N47: =N46*(1+$B$1) -> 0 | O47: =SUM(C47:N47) -> 12645.6
A48: Crème Rhum/raisins 550ml | B48: VENTE 2020 | C48: 1410 | D48: 744 | E48: 1428 | F48: 2784 | G48: 2790 | H48: 7302 | I48: 8286 | J48: 6018 | K48: 1584 | L48: 1074
B49: PREVI 2021 | C49: =C48*(1+$B$1) -> 1551 | D49: =D48*(1+$B$1) -> 818.4 | E49: =E48*(1+$B$1) -> 1570.8 | F49: =F48*(1+$B$1) -> 3062.4 | G49: =G48*(1+$B$1) -> 3069 | H49: =H48*(1+$B$1) -> 8032.2 | I49: =I48*(1+$B$1) -> 9114.6 | J49: =J48*(1+$B$1) -> 6619.8 | ... N49: =N48*(1+$B$1) -> 0 | O49: =SUM(C49:N49) -> 36762
A50: Crème Tiramisu 500ml | B50: VENTE 2020 | C50: 300 | D50: 330 | E50: 606 | F50: 756 | G50: 1116 | H50: 1230 | I50: 2652 | J50: 2022 | K50: 552 | L50: 198
B51: PREVI 2021 | C51: =C50*(1+$B$1) -> 330 | D51: =D50*(1+$B$1) -> 363 | E51: =E50*(1+$B$1) -> 666.6 | F51: =F50*(1+$B$1) -> 831.6 | G51: =G50*(1+$B$1) -> 1227.6 | H51: =H50*(1+$B$1) -> 1353 | I51: =I50*(1+$B$1) -> 2917.2 | J51: =J50*(1+$B$1) -> 2224.2 | ... N51: =N50*(1+$B$1) -> 0 | O51: =SUM(C51:N51) -> 10738.2
A52: Crème Vanille 550ml | B52: VENTE 2020 | C52: 4656 | D52: 1290 | E52: 3942 | F52: 6216 | G52: 9080 | H52: 19710 | I52: 16818 | J52: 15708 | K52: 4566 | L52: 1368
B53: PREVI 2021 | C53: =C52*(1+$B$1) -> 5121.6 | D53: =D52*(1+$B$1) -> 1419 | E53: =E52*(1+$B$1) -> 4336.2 | F53: =F52*(1+$B$1) -> 6837.6 | G53: =G52*(1+$B$1) -> 9988 | H53: =H52*(1+$B$1) -> 21681 | I53: =I52*(1+$B$1) -> 18499.8 | J53: =J52*(1+$B$1) -> 17278.8 | ... N53: =N52*(1+$B$1) -> 0 | O53: =SUM(C53:N53) -> 91689.4
A54: Crème Yaourt 550ml | B54: VENTE 2020 | C54: 120 | D54: 186 | E54: 612 | F54: 408 | G54: 990 | H54: 1314 | I54: 2004 | J54: 678 | K54: 492 | L54: 222
B55: PREVI 2021 | C55: =C54*(1+$B$1) -> 132 | D55: =D54*(1+$B$1) -> 204.6 | E55: =E54*(1+$B$1) -> 673.2 | F55: =F54*(1+$B$1) -> 448.8 | G55: =G54*(1+$B$1) -> 1089 | H55: =H54*(1+$B$1) -> 1445.4 | I55: =I54*(1+$B$1) -> 2204.4 | J55: =J54*(1+$B$1) -> 745.8 | ... N55: =N54*(1+$B$1) -> 0 | O55: =SUM(C55:N55) -> 7728.6

Sheet STOCK
B1: Abricot | D1: 2196 | E1: 3642 | G1: 18
B2: Abricot/ Nougat de Montélimar | K2: 779
B3: Abricot/Touron
B4: Banane BIO | E4: 2052 | G4: 16
B5: Café 100% Arabica | D5: 2472 | E5: 6588 | G5: 34
B6: Café BIO | E6: 6894 | G6: 82
B7: Caramel | D7: 3144 | E7: 6180 | G7: 39
B8: Caramel BIO | E8: 6666 | G8: 48
B9: Cassis BIO | E9: 2688 | G9: 20
B10: Chocolat | D10: 3756 | E10: 5286 | G10: 40 | J10: 5808
B11: Chocolat BIO | E11: 4236 | G11: 40
B12: Chocolat blanc
B13: Chocolat/Mandarine Kalamansi | F13: 4296
B14: Chocolat noir
B15: Chocolat/noisette | F15: 3360
B16: Citron | D16: 3900 | E16: 4458 | G16: 33
B17: Citron BIO | E17: 2334 | G17: 23
B18: Citron Vert | D18: 1836 | E18: 2022 | G18: 19
B19: Fraise | D19: 2820 | E19: 2952 | G19: 25 | J19: 4368
B20: Fraise hibiscus
B21: Fraise hibiscus/Macaron rose | F21: 2736
B22: Framboise | D22: 2628 | E22: 3366 | G22: 32
B23: Framboise/Chocolat blanc
B24: Framboise groseille
B25: Framboise groseille/Chocolat blanc | F25: 2070
B26: Gianduja
B27: Gianduja/Chocolat noir
B28: Kiwi/Pomme | D28: 180
B29: Litchi BIO | E29: 156
B30: Macaron rose
B31: Mandarine – kalamansi
B32: Mangue BIO | E32: 3816 | G32: 12
B33: Mangue – Passion | D33: 2796 | E33: 2922 | G33: 20
B34: Marron | E34: 4596 | G34: 27
B35: Marron/Vanille | F35: 3762
B36: Menthe/Chocolat | D36: 2640 | E36: 3912 | G36: 18
B37: Miel de garrigue/Amande | E37: 2706 | G37: 24
B38: Mojito | E38: 2490 | G38: 15
B39: Noix de coco | D39: 1284 | E39: 2772 | G39: 55
B40: Noix de coco/ Framboise groseille | K40: 59
B41: Noix/Figues | E41: 2274 | G41: 17
B42: Nougat de Montélimar
B43: Orange Sanguine | E43: 1908 | G43: 13
B44: Pêche jaune | E44: 2520 | G44: 22
B45: Pinacolada | D45: 1320 | E45: 1350 | G45: 16
B46: Pistache | E46: 4566 | G46: 22
B47: Plombière | E47: 9258 | G47: 23
B48: Poire Williams | E48: 3984
B49: Praliné | D49: 1752 | E49: 3990 | G49: 28
B50: Réglisse | E50: 2496 | G50: 19
B51: Rhum/Raisin | E51: 4092 | G51: 23
B52: Tiramisu | E52: 3066
B53: Touron
B54: Vanille BIO | E54: 1512 | G54: 18
B55: Vanille Bourbon | D55: 4692 | E55: 12654 | G55: 91 | J55: 7722
B56: Vanille/Mangue Passion | F56: 2784 | K56: 281
B57: Yaourt Bio | E57: 432
B58: Yaourt Bulgare | E58: 5412 | G58: 36
B59: Yuzu | D59: 840

Sheet MINI 550
A1: 550ml | B1: STOCK | C1: JANVIER | D1: FÉVRIER | E1: MARS | F1: AVRIL | G1: MAI | H1: JUIN | I1: JUILLET | J1: AOÛT | K1: SEPTEMBRE | L1: OCTOBRE | M1: NOVEMBRE | N1: DÉCEMBRE
C3: MINI | D3: MINI | E3: MINI | F3: MINI | G3: MINI | H3: MINI | I3: MINI | J3: MINI | K3: MINI | L3: MINI | M3: MINI | N3: MINI
A4: Sorbet Abricot 550ml | B4: =+STOCK!E1 -> 3642 | C4: 918 | D4: 918 | E4: 1836 | F4: 1836 | G4: 2754 | H4: 2754 | I4: 2754 | J4: 1836 | K4: 1836 | L4: 918 | M4: 918 | N4: 918
A5: Crème Café 550ml | B5: =+STOCK!E5 -> 6588 | C5: 918 | D5: 918 | E5: 1836 | F5: 1836 | G5: 2754 | H5: 2754 | I5: 2754 | J5: 1836 | K5: 1836 | L5: 918 | M5: 918 | N5: 918
A6: Crème Caramel 550ml | B6: =+STOCK!E7 -> 6180 | C6: 918 | D6: 918 | E6: 1836 | F6: 1836 | G6: 2754 | H6: 2754 | I6: 2754 | J6: 1836 | K6: 1836 | L6: 918 | M6: 918 | N6: 918
A7: Crème Chocolat 550ml | B7: =+STOCK!E10 -> 5286 | C7: 918 | D7: 918 | E7: 1836 | F7: 1836 | G7: 2754 | H7: 2754 | I7: 2754 | J7: 1836 | K7: 1836 | L7: 918 | M7: 918 | N7: 918
A8: Sorbet Citron 550ml | B8: =+STOCK!E16 -> 4458 | C8: 918 | D8: 918 | E8: 1836 | F8: 1836 | G8: 2754 | H8: 2754 | I8: 2754 | J8: 1836 | K8: 1836 | L8: 918 | M8: 918 | N8: 918
A9: Sorbet Citron Vert 550ml | B9: =+STOCK!E18 -> 2022 | C9: 918 | D9: 918 | E9: 1836 | F9: 1836 | G9: 2754 | H9: 2754 | I9: 2754 | J9: 1836 | K9: 1836 | L9: 918 | M9: 918 | N9: 918
A10: Sorbet Noix de Coco 550ml | B10: =+STOCK!E39 -> 2772 | C10: 918 | D10: 918 | E10: 1836 | F10: 1836 | G10: 2754 | H10: 2754 | I10: 2754 | J10: 1836 | K10: 1836 | L10: 918 | M10: 918 | N10: 918
A11: Sorbet Fraise 550ml | B11: =+STOCK!E19 -> 2952 | C11: 918 | D11: 918 | E11: 1836 | F11: 1836 | G11: 2754 | H11: 2754 | I11: 2754 | J11: 1836 | K11: 1836 | L11: 918 | M11: 918 | N11: 918
A12: Sorbet Framboise 550ml | B12: =+STOCK!E22 -> 3366 | C12: 918 | D12: 918 | E12: 1836 | F12: 1836 | G12: 2754 | H12: 2754 | I12: 2754 | J12: 1836 | K12: 1836 | L12: 918 | M12: 918 | N12: 918
A13: Crème Marron 550ml | B13: =+STOCK!E34 -> 4596 | C13: 918 | D13: 918 | E13: 1836 | F13: 1836 | G13: 2754 | H13: 2754 | I13: 2754 | J13: 1836 | K13: 1836 | L13: 918 | M13: 918 | N13: 918
A14: Crème Miel de garrigue/amande 550ml | B14: =+STOCK!E37 -> 2706 | C14: 918 | D14: 918 | E14: 1836 | F14: 1836 | G14: 2754 | H14: 2754 | I14: 2754 | J14: 1836 | K14: 1836 | L14: 918 | M14: 918 | N14: 918
A15: Sorbet Mangue/passion 550ml | B15: =+STOCK!E33 -> 2922 | C15: 918 | D15: 918 | E15: 1836 | F15: 1836 | G15: 2754 | H15: 2754 | I15: 2754 | J15: 1836 | K15: 1836 | L15: 918 | M15: 918 | N15: 918
A16: Sorbet Mojito 550ml | B16: =+STOCK!E38 -> 2490 | C16: 918 | D16: 918 | E16: 1836 | F16: 1836 | G16: 2754 | H16: 2754 | I16: 2754 | J16: 1836 | K16: 1836 | L16: 918 | M16: 918 | N16: 918
A17: Crème Menthe/Chocolat 550ml | B17: =+STOCK!E36 -> 3912 | C17: 918 | D17: 918 | E17: 1836 | F17: 1836 | G17: 2754 | H17: 2754 | I17: 2754 | J17: 1836 | K17: 1836 | L17: 918 | M17: 918 | N17: 918
A18: Crème Noix/Figues 550ml | B18: =+STOCK!E41 -> 2274 | C18: 918 | D18: 918 | E18: 1836 | F18: 1836 | G18: 2754 | H18: 2754 | I18: 2754 | J18: 1836 | K18: 1836 | L18: 918 | M18: 918 | N18: 918
A19: Sorbet Orange Sanguine 550ml | B19: =+STOCK!E43 -> 1908 | C19: 918 | D19: 918 | E19: 1836 | F19: 1836 | G19: 2754 | H19: 2754 | I19: 2754 | J19: 1836 | K19: 1836 | L19: 918 | M19: 918 | N19: 918
A20: Sorbet Pêche 550ml | B20: =+STOCK!E44 -> 2520 | C20: 918 | D20: 918 | E20: 1836 | F20: 1836 | G20: 2754 | H20: 2754 | I20: 2754 | J20: 1836 | K20: 1836 | L20: 918 | M20: 918 | N20: 918
A21: Sorbet façon Piña Colada 550ml | B21: =+STOCK!E45 -> 1350 | C21: 918 | D21: 918 | E21: 1836 | F21: 1836 | G21: 2754 | H21: 2754 | I21: 2754 | J21: 1836 | K21: 1836 | L21: 918 | M21: 918 | N21: 918
A22: Crème Pistache 550ml | B22: =+STOCK!E46 -> 4566 | C22: 918 | D22: 918 | E22: 1836 | F22: 1836 | G22: 2754 | H22: 2754 | I22: 2754 | J22: 1836 | K22: 1836 | L22: 918 | M22: 918 | N22: 918
A23: Crème Plombière 550ml | B23: =+STOCK!E47 -> 9258 | C23: 918 | D23: 918 | E23: 1836 | F23: 1836 | G23: 2754 | H23: 2754 | I23: 2754 | J23: 1836 | K23: 1836 | L23: 918 | M23: 918 | N23: 918
A24: Sorbet Poire 550ml | B24: =+STOCK!E48 -> 3984 | C24: 918 | D24: 918 | E24: 1836 | F24: 1836 | G24: 2754 | H24: 2754 | I24: 2754 | J24: 1836 | K24: 1836 | L24: 918 | M24: 918 | N24: 918
A25: Crème Noisette 550ml | B25: =+STOCK!E49 -> 3990 | C25: 918 | D25: 918 | E25: 1836 | F25: 1836 | G25: 2754 | H25: 2754 | I25: 2754 | J25: 1836 | K25: 1836 | L25: 918 | M25: 918 | N25: 918
A26: Crème Réglisse 550ml | B26: =+STOCK!E50 -> 2496 | C26: 918 | D26: 918 | E26: 1836 | F26: 1836 | G26: 2754 | H26: 2754 | I26: 2754 | J26: 1836 | K26: 1836 | L26: 918 | M26: 918 | N26: 918
A27: Crème Rhum/raisins 550ml | B27: =+STOCK!E51 -> 4092 | C27: 918 | D27: 918 | E27: 1836 | F27: 1836 | G27: 2754 | H27: 2754 | I27: 2754 | J27: 1836 | K27: 1836 | L27: 918 | M27: 918 | N27: 918
A28: Crème Tiramisu 500ml | B28: =+STOCK!E52 -> 3066 | C28: 918 | D28: 918 | E28: 1836 | F28: 1836 | G28: 2754 | H28: 2754 | I28: 2754 | J28: 1836 | K28: 1836 | L28: 918 | M28: 918 | N28: 918
A29: Crème Vanille 550ml | B29: =+STOCK!E55 -> 12654 | C29: 918 | D29: 918 | E29: 1836 | F29: 1836 | G29: 2754 | H29: 2754 | I29: 2754 | J29: 1836 | K29: 1836 | L29: 918 | M29: 918 | N29: 918
A30: Crème Yaourt 550ml | B30: =+STOCK!E58 -> 5412 | C30: 918 | D30: 918 | E30: 1836 | F30: 1836 | G30: 2754 | H30: 2754 | I30: 2754 | J30: 1836 | K30: 1836 | L30: 918 | M30: 918 | N30: 918

Sheet 550ml
A1: 550ml | C1: STOCK | D1: JANVIER | E1: FÉVRIER | F1: MARS | G1: AVRIL | H1: MAI | I1: JUIN | J1: JUILLET | K1: AOÛT | L1: SEPTEMBRE | M1: OCTOBRE | N1: NOVEMBRE | O1: DÉCEMBRE
D3: STOCK RESTANT | E3: STOCK RESTANT | F3: STOCK RESTANT | G3: STOCK RESTANT | H3: STOCK RESTANT | I3: STOCK RESTANT | J3: STOCK RESTANT | K3: STOCK RESTANT | L3: STOCK RESTANT | M3: STOCK RESTANT | N3: STOCK RESTANT | O3: STOCK RESTANT
A4: Sorbet Abricot 550ml | C4: =+STOCK!E1 -> 3642 | D4: =+C4-'PREVI VENTE'!C3-'MINI 550'!C4 -> 2341.2 | E4: =C4-SUM('PREVI VENTE'!C3:D3)-'MINI 550'!D4 -> 1826.4 | F4: =C4-SUM('PREVI VENTE'!C3:E3)-'MINI 550'!E4 -> -9 | G4: =C4-SUM('PREVI VENTE'!C3:F3)-'MINI 550'!F4 -> -1335.6 | H4: =C4-SUM('PREVI VENTE'!C3:G3)-'MINI 550'!H4 -> -4220.4 | I4: =C4-SUM('PREVI VENTE'!C3:H3)-'MINI 550'!H4 -> -12906 | J4: =C4-SUM('PREVI VENTE'!C3:I3)-'MINI 550'!I4 -> -18153 | K4: =C4-SUM('PREVI VENTE'!C3:J3)-'MINI 550'!J4 -> -22303.8 | L4: =C4-SUM('PREVI VENTE'!C3:K3)-'MINI 550'!K4 -> -23366.4 | M4: =C4-SUM('PREVI VENTE'!C3:L3)-'MINI 550'!L4 -> -22626.6 | N4: =C4-SUM('PREVI VENTE'!C3:M3)-'MINI 550'!M4 -> -22626.6 | O4: =C4-SUM('PREVI VENTE'!C3:N3)-'MINI 550'!N4 -> -22626.6 | P4: -1
A5: RUPTURE | D5: =IF(D4<0,"fab","") | P5: =IF(Q4<0,"fab","")
A6: Crème Café 550ml | C6: =+STOCK!E5 -> 6588 | D6: =+$C$6-'PREVI VENTE'!C5-'MINI 550'!C5 -> 3511.8 | E6: =$C$6-SUM('PREVI VENTE'!$C$5:D5)-'MINI 550'!D5 -> 2257.8 | F6: =$C$6-SUM('PREVI VENTE'!$C$5:E5)-'MINI 550'!E5 -> -613.8 | G6: =$C$6-SUM('PREVI VENTE'!$C$5:F5)-'MINI 550'!F5 -> -3841.2 | H6: =$C$6-SUM('PREVI VENTE'!$C$5:G5)-'MINI 550'!G5 -> -9775.2 | I6: =$C$6-SUM('PREVI VENTE'!$C$5:H5)-'MINI 550'!H5 -> -19239.6 | J6: =$C$6-SUM('PREVI VENTE'!$C$5:I5)-'MINI 550'!I5 -> -31165.8 | K6: =$C$6-SUM('PREVI VENTE'!$C$5:J5)-'MINI 550'!J5 -> -38115 | L6: =$C$6-SUM('PREVI VENTE'!$C$5:K5)-'MINI 550'!K5 -> -40233.6 | ... O6: =$C$6-SUM('PREVI VENTE'!$C$5:N5)-'MINI 550'!N5 -> -40193.4 | P6: -1
A7: RUPTURE
A8: Crème Caramel 550ml | C8: =+STOCK!E7 -> 6180 | D8: =+C8-'PREVI VENTE'!C7-'MINI 550'!C6 -> 3420.6 | E8: =$C$8-SUM('PREVI VENTE'!$C$7:D7)-'MINI 550'!D6 -> 2628.6 | F8: =$C$8-SUM('PREVI VENTE'!$C$7:E7)-'MINI 550'!E6 -> -1068 | G8: =$C$8-SUM('PREVI VENTE'!$C$7:F7)-'MINI 550'!F6 -> -3496.8 | H8: =$C$8-SUM('PREVI VENTE'!$C$7:G7)-'MINI 550'!G6 -> -8554.1 | I8: =$C$8-SUM('PREVI VENTE'!$C$7:H7)-'MINI 550'!H6 -> -18619.1 | J8: =$C$8-SUM('PREVI VENTE'!$C$7:I7)-'MINI 550'!I6 -> -27832.7 | K8: =$C$8-SUM('PREVI VENTE'!$C$7:J7)-'MINI 550'!J6 -> -35943.5 | L8: =$C$8-SUM('PREVI VENTE'!$C$7:K7)-'MINI 550'!K6 -> -37956.5 | ... P8: =$C$8-SUM('PREVI VENTE'!$C$7:O7)-'MINI 550'!O6 -> -79714.6
A9: RUPTURE
A10: Crème Chocolat 550ml | C10: =+STOCK!E10 -> 5286 | D10: =+C10-'PREVI VENTE'!C9-'MINI 550'!C7 -> 2592.6 | E10: =$C$10-SUM('PREVI VENTE'!$C$9:D9)-'MINI 550'!D6 -> 1741.2 | F10: =$C$10-SUM('PREVI VENTE'!$C$9:E9)-'MINI 550'!E6 -> -2430.6 | G10: =$C$10-SUM('PREVI VENTE'!$C$9:F9)-'MINI 550'!F6 -> -4687.8 | H10: =$C$10-SUM('PREVI VENTE'!$C$9:G9)-'MINI 550'!G6 -> -10146.6 | I10: =$C$10-SUM('PREVI VENTE'!$C$9:H9)-'MINI 550'!H6 -> -17551.8 | J10: =$C$10-SUM('PREVI VENTE'!$C$9:I9)-'MINI 550'!I6 -> -27722.4 | K10: =$C$10-SUM('PREVI VENTE'!$C$9:J9)-'MINI 550'!J6 -> -36209.4 | L10: =$C$10-SUM('PREVI VENTE'!$C$9:K9)-'MINI 550'!K6 -> -37437 | ... O10: =$C$10-SUM('PREVI VENTE'!$C$9:N9)-'MINI 550'!N6 -> -37410 | P10: -1
A11: RUPTURE
A12: Sorbet Citron 550ml | C12: =+STOCK!E16 -> 4458 | D12: =+C12-'PREVI VENTE'!C11-'MINI 550'!C8 -> 2061.6 | E12: =$C$12-SUM('PREVI VENTE'!$C$11:D11)-'MINI 550'!D8 -> 1190.4 | F12: =$C$12-SUM('PREVI VENTE'!$C$11:E11)-'MINI 550'!E8 -> -1140 | G12: =$C$12-SUM('PREVI VENTE'!$C$11:F11)-'MINI 550'!F8 -> -3793.2 | H12: =$C$12-SUM('PREVI VENTE'!$C$11:G11)-'MINI 550'!G8 -> -7575.6 | I12: =$C$12-SUM('PREVI VENTE'!$C$11:H11)-'MINI 550'!H8 -> -16010.4 | J12: =$C$12-SUM('PREVI VENTE'!$C$11:I11)-'MINI 550'!I8 -> -22135.2 | K12: =$C$12-SUM('PREVI VENTE'!$C$11:J11)-'MINI 550'!J8 -> -26517 | L12: =$C$12-SUM('PREVI VENTE'!$C$11:K11)-'MINI 550'!K8 -> -27777.6 | ... P12: =$C$12-SUM('PREVI VENTE'!$C$11:O11)-'MINI 550'!O8 -> -57146.4
A13: RUPTURE
A14: Sorbet Citron Vert 550ml | C14: =+STOCK!E18 -> 2022 | D14: =+C14-'PREVI VENTE'!C13-'MINI 550'!C9 -> 1104 | E14: =$C$14-SUM('PREVI VENTE'!$C$13:D13)-'MINI 550'!D9 -> 1104 | F14: =$C$14-SUM('PREVI VENTE'!$C$13:E13)-'MINI 550'!E9 -> -45 | G14: =$C$14-SUM('PREVI VENTE'!$C$13:F13)-'MINI 550'!F9 -> -381.6 | H14: =$C$14-SUM('PREVI VENTE'!$C$13:G13)-'MINI 550'!G9 -> -2421.6 | I14: =$C$14-SUM('PREVI VENTE'!$C$13:H13)-'MINI 550'!H9 -> -3847.2 | J14: =$C$14-SUM('PREVI VENTE'!$C$13:I13)-'MINI 550'!I9 -> -5701.8 | K14: =$C$14-SUM('PREVI VENTE'!$C$13:J13)-'MINI 550'!J9 -> -6387.6 | L14: =$C$14-SUM('PREVI VENTE'!$C$13:K13)-'MINI 550'!K9 -> -6744 | ... O14: =$C$14-SUM('PREVI VENTE'!$C$13:N13)-'MINI 550'!N9 -> -5984.4 | P14: -1 | R14: =IF(E4<0,"fab","")
A15: RUPTURE
A16: Sorbet Noix de Coco 550ml | C16: =+STOCK!E39 -> 2772 | D16: =+C16-'PREVI VENTE'!C15-'MINI 550'!C10 -> 1299.6 | E16: =$C$16-SUM('PREVI VENTE'!$C$15:D15)-'MINI 550'!D10 -> 613.2 | F16: =$C$16-SUM('PREVI VENTE'!$C$15:E15)-'MINI 550'!E10 -> -1090.2 | G16: =$C$16-SUM('PREVI VENTE'!$C$15:F15)-'MINI 550'!F10 -> -2311.2 | H16: =$C$16-SUM('PREVI VENTE'!$C$15:G15)-'MINI 550'!G10 -> -4905.6 | I16: =$C$16-SUM('PREVI VENTE'!$C$15:H15)-'MINI 550'!H10 -> -9505.8 | J16: =$C$16-SUM('PREVI VENTE'!$C$15:I15)-'MINI 550'!I10 -> -12383.4 | K16: =$C$16-SUM('PREVI VENTE'!$C$15:J15)-'MINI 550'!J10 -> -14706 | L16: =$C$16-SUM('PREVI VENTE'!$C$15:K15)-'MINI 550'!K10 -> -15432 | ... O16: =$C$16-SUM('PREVI VENTE'!$C$15:N15)-'MINI 550'!N10 -> -14679 | P16: -1
A17: RUPTURE
A18: Sorbet Fraise 550ml | C18: =+STOCK!E19 -> 2952 | D18: =+C18-'PREVI VENTE'!C17-'MINI 550'!C11 -> 1070.4 | E18: =$C$18-SUM('PREVI VENTE'!$C$17:D17)-'MINI 550'!D11 -> 654.6 | F18: =$C$18-SUM('PREVI VENTE'!$C$17:E17)-'MINI 550'!E11 -> -1464.6 | G18: =$C$18-SUM('PREVI VENTE'!$C$17:F17)-'MINI 550'!F11 -> -3768 | H18: =$C$18-SUM('PREVI VENTE'!$C$17:G17)-'MINI 550'!G11 -> -7873.8 | I18: =$C$18-SUM('PREVI VENTE'!$C$17:H17)-'MINI 550'!H11 -> -15556.2 | J18: =$C$18-SUM('PREVI VENTE'!$C$17:I17)-'MINI 550'!I11 -> -22407 | K18: =$C$18-SUM('PREVI VENTE'!$C$17:J17)-'MINI 550'!J11 -> -27204.6 | L18: =$C$18-SUM('PREVI VENTE'!$C$17:K17)-'MINI 550'!K11 -> -28326.6 | ... P18: =$C$18-SUM('PREVI VENTE'!$C$17:O17)-'MINI 550'!O11 -> -56395.2
A19: RUPTURE
A20: Sorbet Framboise 550ml | C20: =+STOCK!E22 -> 3366 | D20: =+C20-'PREVI VENTE'!C19-'MINI 550'!C12 -> 831 | E20: =$C$20-SUM('PREVI VENTE'!$C$19:D19)-'MINI 550'!D12 -> 270 | F20: =$C$20-SUM('PREVI VENTE'!$C$19:E19)-'MINI 550'!E12 -> -1723.8 | G20: =$C$20-SUM('PREVI VENTE'!$C$19:F19)-'MINI 550'!F12 -> -4146 | H20: =$C$20-SUM('PREVI VENTE'!$C$19:G19)-'MINI 550'!G12 -> -8496 | I20: =$C$20-SUM('PREVI VENTE'!$C$19:H19)-'MINI 550'!H12 -> -14997 | J20: =$C$20-SUM('PREVI VENTE'!$C$19:I19)-'MINI 550'!I12 -> -20897.4 | K20: =$C$20-SUM('PREVI VENTE'!$C$19:J19)-'MINI 550'!J12 -> -26830.2 | L20: =$C$20-SUM('PREVI VENTE'!$C$19:K19)-'MINI 550'!K12 -> -27681.6 | ... O20: =$C$20-SUM('PREVI VENTE'!$C$19:N19)-'MINI 550'!N12 -> -27133.2 | P20: -1
A21: RUPTURE
A22: Crème Marron 550ml | C22: =+STOCK!E34 -> 4596 | D22: =+C22-'PREVI VENTE'!C21-'MINI 550'!C13 -> 2166.6 | E22: =$C$22-SUM('PREVI VENTE'!$C$21:D21)-'MINI 550'!D13 -> 1374.6 | F22: =$C$22-SUM('PREVI VENTE'!$C$21:E21)-'MINI 550'!E13 -> -672 | G22: =$C$22-SUM('PREVI VENTE'!$C$21:F21)-'MINI 550'!F13 -> -3087.6 | H22: =$C$22-SUM('PREVI VENTE'!$C$21:G21)-'MINI 550'!G13 -> -6606 | I22: =$C$22-SUM('PREVI VENTE'!$C$21:H21)-'MINI 550'!H13 -> -11080.8 | J22: =$C$22-SUM('PREVI VENTE'!$C$21:I21)-'MINI 550'!I13 -> -16677.6 | K22: =$C$22-SUM('PREVI VENTE'!$C$21:J21)-'MINI 550'!J13 -> -21303.6 | L22: =$C$22-SUM('PREVI VENTE'!$C$21:K21)-'MINI 550'!K13 -> -22755.6 | ... O22: =$C$22-SUM('PREVI VENTE'!$C$21:N21)-'MINI 550'!N13 -> -23058.6 | P22: -1
A23: RUPTURE
A24: Crème Miel de garrigue/amande 550ml | C24: =+STOCK!E37 -> 2706 | D24: =+C24-'PREVI VENTE'!C23-'MINI 550'!C14 -> 1768.2 | E24: =$C$24-SUM('PREVI VENTE'!$C$23:D23)-'MINI 550'!D14 -> 1583.4 | F24: =$C$24-SUM('PREVI VENTE'!$C$23:E23)-'MINI 550'!E14 -> 328.8 | G24: =$C$24-SUM('PREVI VENTE'!$C$23:F23)-'MINI 550'!F14 -> -5056.8 | H24: =$C$24-SUM('PREVI VENTE'!$C$23:G23)-'MINI 550'!G14 -> -6780 | I24: =$C$24-SUM('PREVI VENTE'!$C$23:H23)-'MINI 550'!H14 -> -7915.2 | J24: =$C$24-SUM('PREVI VENTE'!$C$23:I23)-'MINI 550'!I14 -> -9618 | K24: =$C$24-SUM('PREVI VENTE'!$C$23:J23)-'MINI 550'!J14 -> -10297.2 | L24: =$C$24-SUM('PREVI VENTE'!$C$23:K23)-'MINI 550'!K14 -> -10693.2 | ... O24: =$C$24-SUM('PREVI VENTE'!$C$23:N23)-'MINI 550'!N14 -> -9993 | P24: -1
A25: RUPTURE
A26: Sorbet Mangue/passion 550ml | C26: =+STOCK!E33 -> 2922 | D26: =+C26-'PREVI VENTE'!C25-'MINI 550'!C15 -> 1007.4 | E26: =$C$26-SUM('PREVI VENTE'!$C$25:D25)-'MINI 550'!D15 -> 697.2 | F26: =$C$26-SUM('PREVI VENTE'!$C$25:E25)-'MINI 550'!E15 -> -1012.8 | G26: =$C$26-SUM('PREVI VENTE'!$C$25:F25)-'MINI 550'!F15 -> -2590.2 | H26: =$C$26-SUM('PREVI VENTE'!$C$25:G25)-'MINI 550'!G15 -> -5587.2 | I26: =$C$26-SUM('PREVI VENTE'!$C$25:H25)-'MINI 550'!H15 -> -8431.8 | J26: =$C$26-SUM('PREVI VENTE'!$C$25:I25)-'MINI 550'!I15 -> -13599.6 | K26: =$C$26-SUM('PREVI VENTE'!$C$25:J25)-'MINI 550'!J15 -> -15988.2 | L26: =$C$26-SUM('PREVI VENTE'!$C$25:K25)-'MINI 550'!K15 -> -17017.8 | ... O26: =$C$26-SUM('PREVI VENTE'!$C$25:N25)-'MINI 550'!N15 -> -16542 | P26: -1
A27: RUPTURE
A28: Sorbet Mojito 550ml | C28: =+STOCK!E38 -> 2490 | D28: =+C28-'PREVI VENTE'!C27-'MINI 550'!C16 -> 1215.6 | E28: =$C$28-SUM('PREVI VENTE'!$C$27:D27)-'MINI 550'!D16 -> 1123.2 | F28: =$C$28-SUM('PREVI VENTE'!$C$27:E27)-'MINI 550'!E16 -> -223.8 | G28: =$C$28-SUM('PREVI VENTE'!$C$27:F27)-'MINI 550'!F16 -> -844.2 | H28: =$C$28-SUM('PREVI VENTE'!$C$27:G27)-'MINI 550'!G16 -> -2567.4 | I28: =$C$28-SUM('PREVI VENTE'!$C$27:H27)-'MINI 550'!H16 -> -4105.2 | J28: =$C$28-SUM('PREVI VENTE'!$C$27:I27)-'MINI 550'!I16 -> -6329.4 | K28: =$C$28-SUM('PREVI VENTE'!$C$27:J27)-'MINI 550'!J16 -> -7398 | L28: =$C$28-SUM('PREVI VENTE'!$C$27:K27)-'MINI 550'!K16 -> -7939.2 | ... O28: =$C$28-SUM('PREVI VENTE'!$C$27:N27)-'MINI 550'!N16 -> -7113.6 | P28: -1
A29: RUPTURE
A30: Crème Menthe/Chocolat 550ml | C30: =+STOCK!E36 -> 3912 | D30: =+C30-'PREVI VENTE'!C29-'MINI 550'!C17 -> 2723.4 | E30: =$C$30-SUM('PREVI VENTE'!$C$29:D29)-'MINI 550'!D17 -> 2538.6 | F30: =$C$30-SUM('PREVI VENTE'!$C$29:E29)-'MINI 550'!E17 -> 1303.8 | G30: =$C$30-SUM('PREVI VENTE'!$C$29:F29)-'MINI 550'!F17 -> 657 | H30: =$C$30-SUM('PREVI VENTE'!$C$29:G29)-'MINI 550'!G17 -> -1746 | I30: =$C$30-SUM('PREVI VENTE'!$C$29:H29)-'MINI 550'!H17 -> -4683 | J30: =$C$30-SUM('PREVI VENTE'!$C$29:I29)-'MINI 550'!I17 -> -7382.4 | K30: =$C$30-SUM('PREVI VENTE'!$C$29:J29)-'MINI 550'!J17 -> -8794.2 | L30: =$C$30-SUM('PREVI VENTE'!$C$29:K29)-'MINI 550'!K17 -> -9163.8 | ... O30: =$C$30-SUM('PREVI VENTE'!$C$29:N29)-'MINI 550'!N17 -> -8417.4 | P30: -1
A31: RUPTURE
A32: Crème Noix/Figues 550ml | C32: =+STOCK!E41 -> 2274 | D32: =+C32-'PREVI VENTE'!C31-'MINI 550'!C18 -> 1138.2 | E32: =$C$32-SUM('PREVI VENTE'!$C$31:D31)-'MINI 550'!D18 -> 960 | F32: =$C$32-SUM('PREVI VENTE'!$C$31:E31)-'MINI 550'!E18 -> -202.2 | G32: =$C$32-SUM('PREVI VENTE'!$C$31:F31)-'MINI 550'!F18 -> -512.4 | H32: =$C$32-SUM('PREVI VENTE'!$C$31:G31)-'MINI 550'!G18 -> -2064 | I32: =$C$32-SUM('PREVI VENTE'!$C$31:H31)-'MINI 550'!H18 -> -3463.2 | J32: =$C$32-SUM('PREVI VENTE'!$C$31:I31)-'MINI 550'!I18 -> -4875.6 | K32: =$C$32-SUM('PREVI VENTE'!$C$31:J31)-'MINI 550'!J18 -> -5119.2 | L32: =$C$32-SUM('PREVI VENTE'!$C$31:K31)-'MINI 550'!K18 -> -5383.2 | ... O32: =$C$32-SUM('PREVI VENTE'!$C$31:N31)-'MINI 550'!N18 -> -4702.8 | P32: -1
A33: RUPTURE
A34: Sorbet Orange Sanguine 550ml | C34: =+STOCK!E43 -> 1908 | D34: =+C34-'PREVI VENTE'!C33-'MINI 550'!C19 -> 785.4 | E34: =$C$34-SUM('PREVI VENTE'!$C$33:D33)-'MINI 550'!D19 -> 627 | F34: =$C$34-SUM('PREVI VENTE'!$C$33:E33)-'MINI 550'!E19 -> -535.2 | G34: =$C$34-SUM('PREVI VENTE'!$C$33:F33)-'MINI 550'!F19 -> -977.4 | H34: =$C$34-SUM('PREVI VENTE'!$C$33:G33)-'MINI 550'!G19 -> -2977.8 | I34: =$C$34-SUM('PREVI VENTE'!$C$33:H33)-'MINI 550'!H19 -> -4489.2 | J34: =$C$34-SUM('PREVI VENTE'!$C$33:I33)-'MINI 550'!I19 -> -6007.2 | K34: =$C$34-SUM('PREVI VENTE'!$C$33:J33)-'MINI 550'!J19 -> -6732.6 | L34: =$C$34-SUM('PREVI VENTE'!$C$33:K33)-'MINI 550'!K19 -> -7056 | ... O34: =$C$34-SUM('PREVI VENTE'!$C$33:N33)-'MINI 550'!N19 -> -6204 | P34: -1
A35: RUPTURE
A36: Sorbet Pêche 550ml | C36: =+STOCK!E44 -> 2520 | D36: =+C36-'PREVI VENTE'!C35-'MINI 550'!C20 -> 1456.8 | E36: =$C$36-SUM('PREVI VENTE'!$C$35:D35)-'MINI 550'!D20 -> 1305 | F36: =$C$36-SUM('PREVI VENTE'!$C$35:E35)-'MINI 550'!E20 -> -233.4 | G36: =$C$36-SUM('PREVI VENTE'!$C$35:F35)-'MINI 550'!F20 -> -6312 | H36: =$C$36-SUM('PREVI VENTE'!$C$35:G35)-'MINI 550'!G20 -> -8239.8 | I36: =$C$36-SUM('PREVI VENTE'!$C$35:H35)-'MINI 550'!H20 -> -11071.2 | J36: =$C$36-SUM('PREVI VENTE'!$C$35:I35)-'MINI 550'!I20 -> -14133.6 | K36: =$C$36-SUM('PREVI VENTE'!$C$35:J35)-'MINI 550'!J20 -> -16093.2 | L36: =$C$36-SUM('PREVI VENTE'!$C$35:K35)-'MINI 550'!K20 -> -16918.2 | ... P36: =$C$36-SUM('PREVI VENTE'!$C$35:O35)-'MINI 550'!O20 -> -32908.8
A37: RUPTURE
A38: Sorbet façon Piña Colada 550ml | C38: =+STOCK!E45 -> 1350 | D38: =+C38-'PREVI VENTE'!C37-'MINI 550'!C21 -> 352.8 | E38: =$C$38-SUM('PREVI VENTE'!$C$37:D37)-'MINI 550'!D21 -> 286.8 | F38: =$C$38-SUM('PREVI VENTE'!$C$37:E37)-'MINI 550'!E21 -> -1053.6 | G38: =$C$38-SUM('PREVI VENTE'!$C$37:F37)-'MINI 550'!F21 -> -1330.8 | H38: =$C$38-SUM('PREVI VENTE'!$C$37:G37)-'MINI 550'!G21 -> -2730.6 | I38: =$C$38-SUM('PREVI VENTE'!$C$37:H37)-'MINI 550'!H21 -> -3747 | J38: =$C$38-SUM('PREVI VENTE'!$C$37:I37)-'MINI 550'!I21 -> -5152.8 | K38: =$C$38-SUM('PREVI VENTE'!$C$37:J37)-'MINI 550'!J21 -> -5231.4 | L38: =$C$38-SUM('PREVI VENTE'!$C$37:K37)-'MINI 550'!K21 -> -5363.4 | ... O38: =$C$38-SUM('PREVI VENTE'!$C$37:N37)-'MINI 550'!N21 -> -4465.2 | P38: -1
A39: RUPTURE
A40: Crème Pistache 550ml | C40: =+STOCK!E46 -> 4566 | D40: =+C40-'PREVI VENTE'!C39-'MINI 550'!C22 -> 2545.8 | E40: =$C$40-SUM('PREVI VENTE'!$C$39:D39)-'MINI 550'!D22 -> 2004.6 | F40: =$C$40-SUM('PREVI VENTE'!$C$39:E39)-'MINI 550'!E22 -> -444.6 | G40: =$C$40-SUM('PREVI VENTE'!$C$39:F39)-'MINI 550'!F22 -> -2583 | H40: =$C$40-SUM('PREVI VENTE'!$C$39:G39)-'MINI 550'!G22 -> -6101.4 | I40: =$C$40-SUM('PREVI VENTE'!$C$39:H39)-'MINI 550'!H22 -> -13915.8 | J40: =$C$40-SUM('PREVI VENTE'!$C$39:I39)-'MINI 550'!I22 -> -19987.8 | K40: =$C$40-SUM('PREVI VENTE'!$C$39:J39)-'MINI 550'!J22 -> -24363 | L40: =$C$40-SUM('PREVI VENTE'!$C$39:K39)-'MINI 550'!K22 -> -25702.8 | ... O40: =$C$40-SUM('PREVI VENTE'!$C$39:N39)-'MINI 550'!N22 -> -25180.8 | P40: -1
A41: RUPTURE
A42: Crème Plombière 550ml | C42: =+STOCK!E47 -> 9258 | D42: =+C42-'PREVI VENTE'!C41-'MINI 550'!C23 -> 7977 | E42: =$C$42-SUM('PREVI VENTE'!$C$41:D41)-'MINI 550'!D23 -> 7693.2 | F42: =$C$42-SUM('PREVI VENTE'!$C$41:E41)-'MINI 550'!E23 -> 6102 | G42: =$C$42-SUM('PREVI VENTE'!$C$41:F41)-'MINI 550'!F23 -> -8979 | H42: =$C$42-SUM('PREVI VENTE'!$C$41:G41)-'MINI 550'!G23 -> -21354.6 | I42: =$C$42-SUM('PREVI VENTE'!$C$41:H41)-'MINI 550'!H23 -> -35465.4 | J42: =$C$42-SUM('PREVI VENTE'!$C$41:I41)-'MINI 550'!I23 -> -44797.8 | K42: =$C$42-SUM('PREVI VENTE'!$C$41:J41)-'MINI 550'!J23 -> -52789.8 | L42: =$C$42-SUM('PREVI VENTE'!$C$41:K41)-'MINI 550'!K23 -> -54664.2 | ... O42: =$C$42-SUM('PREVI VENTE'!$C$41:N41)-'MINI 550'!N23 -> -56095.8 | P42: -1
A43: RUPTURE
A44: Sorbet Poire 550ml | C44: =+STOCK!E48 -> 3984 | D44: =+C44-'PREVI VENTE'!C43-'MINI 550'!C24 -> 2670 | E44: =$C$44-SUM('PREVI VENTE'!$C$43:D43)-'MINI 550'!D24 -> 2452.2 | F44: =$C$44-SUM('PREVI VENTE'!$C$43:E43)-'MINI 550'!E24 -> 979.8 | G44: =$C$44-SUM('PREVI VENTE'!$C$43:F43)-'MINI 550'!F24 -> -16.8 | H44: =$C$44-SUM('PREVI VENTE'!$C$43:G43)-'MINI 550'!G24 -> -1891.8 | I44: =$C$44-SUM('PREVI VENTE'!$C$43:H43)-'MINI 550'!H24 -> -4182 | J44: =$C$44-SUM('PREVI VENTE'!$C$43:I43)-'MINI 550'!I24 -> -7059.6 | K44: =$C$44-SUM('PREVI VENTE'!$C$43:J43)-'MINI 550'!J24 -> -8577 | L44: =$C$44-SUM('PREVI VENTE'!$C$43:K43)-'MINI 550'!K24 -> -9045.6 | ... O44: =$C$44-SUM('PREVI VENTE'!$C$43:N43)-'MINI 550'!N24 -> -8398.2 | P44: -1
A45: RUPTURE
A46: Crème Noisette 550ml | C46: =+STOCK!E49 -> 3990 | D46: =+C46-'PREVI VENTE'!C45-'MINI 550'!C25 -> 2451.6 | E46: =$C$46-SUM('PREVI VENTE'!$C$45:D45)-'MINI 550'!D25 -> 1296.6 | F46: =$C$46-SUM('PREVI VENTE'!$C$45:E45)-'MINI 550'!E25 -> -611.4 | G46: =$C$46-SUM('PREVI VENTE'!$C$45:F45)-'MINI 550'!F25 -> -6254.4 | H46: =$C$46-SUM('PREVI VENTE'!$C$45:G45)-'MINI 550'!G25 -> -9238.2 | I46: =$C$46-SUM('PREVI VENTE'!$C$45:H45)-'MINI 550'!H25 -> -15310.2 | J46: =$C$46-SUM('PREVI VENTE'!$C$45:I45)-'MINI 550'!I25 -> -19719 | K46: =$C$46-SUM('PREVI VENTE'!$C$45:J45)-'MINI 550'!J25 -> -23553 | L46: =$C$46-SUM('PREVI VENTE'!$C$45:K45)-'MINI 550'!K25 -> -24859.8 | ... O46: =$C$46-SUM('PREVI VENTE'!$C$45:N45)-'MINI 550'!N25 -> -24469.8 | P46: -1
A47: RUPTURE
A48: Crème Réglisse 550ml | C48: =+STOCK!E50 -> 2496 | D48: =+C48-'PREVI VENTE'!C47-'MINI 550'!C26 -> 1149 | E48: =$C$48-SUM('PREVI VENTE'!$C$47:D47)-'MINI 550'!D26 -> 838.8 | F48: =$C$48-SUM('PREVI VENTE'!$C$47:E47)-'MINI 550'!E26 -> -541.2 | G48: =$C$48-SUM('PREVI VENTE'!$C$47:F47)-'MINI 550'!F26 -> -1168.2 | H48: =$C$48-SUM('PREVI VENTE'!$C$47:G47)-'MINI 550'!G26 -> -3379.8 | I48: =$C$48-SUM('PREVI VENTE'!$C$47:H47)-'MINI 550'!H26 -> -6099 | J48: =$C$48-SUM('PREVI VENTE'!$C$47:I47)-'MINI 550'!I26 -> -9168 | K48: =$C$48-SUM('PREVI VENTE'!$C$47:J47)-'MINI 550'!J26 -> -10929.6 | L48: =$C$48-SUM('PREVI VENTE'!$C$47:K47)-'MINI 550'!K26 -> -11616 | ... O48: =$C$48-SUM('PREVI VENTE'!$C$47:N47)-'MINI 550'!N26 -> -11067.6 | P48: -1
A49: RUPTURE
A50: Crème Rhum/raisins 550ml | C50: =+STOCK!E51 -> 4092 | D50: =+C50-'PREVI VENTE'!C49-'MINI 550'!C27 -> 1623 | E50: =$C$50-SUM('PREVI VENTE'!$C$49:D49)-'MINI 550'!D27 -> 804.6 | F50: =$C$50-SUM('PREVI VENTE'!$C$49:E49)-'MINI 550'!E27 -> -1684.2 | G50: =$C$50-SUM('PREVI VENTE'!$C$49:F49)-'MINI 550'!F27 -> -4746.6 | H50: =$C$50-SUM('PREVI VENTE'!$C$49:G49)-'MINI 550'!G27 -> -8733.6 | I50: =$C$50-SUM('PREVI VENTE'!$C$49:H49)-'MINI 550'!H27 -> -16765.8 | J50: =$C$50-SUM('PREVI VENTE'!$C$49:I49)-'MINI 550'!I27 -> -25880.4 | K50: =$C$50-SUM('PREVI VENTE'!$C$49:J49)-'MINI 550'!J27 -> -31582.2 | L50: =$C$50-SUM('PREVI VENTE'!$C$49:K49)-'MINI 550'!K27 -> -33324.6 | ... O50: =$C$50-SUM('PREVI VENTE'!$C$49:N49)-'MINI 550'!N27 -> -33588 | P50: -1
A51: RUPTURE
A52: Crème Tiramisu 500ml | C52: =+STOCK!E52 -> 3066 | D52: =+C52-'PREVI VENTE'!C51-'MINI 550'!C28 -> 1818 | E52: =$C$52-SUM('PREVI VENTE'!$C$51:D51)-'MINI 550'!D28 -> 1455 | F52: =$C$52-SUM('PREVI VENTE'!$C$51:E51)-'MINI 550'!E28 -> -129.6 | G52: =$C$52-SUM('PREVI VENTE'!$C$51:F51)-'MINI 550'!F28 -> -961.2 | H52: =$C$52-SUM('PREVI VENTE'!$C$51:G51)-'MINI 550'!G28 -> -3106.8 | I52: =$C$52-SUM('PREVI VENTE'!$C$51:H51)-'MINI 550'!H28 -> -4459.8 | J52: =$C$52-SUM('PREVI VENTE'!$C$51:I51)-'MINI 550'!I28 -> -7377 | K52: =$C$52-SUM('PREVI VENTE'!$C$51:J51)-'MINI 550'!J28 -> -8683.2 | L52: =$C$52-SUM('PREVI VENTE'!$C$51:K51)-'MINI 550'!K28 -> -9290.4 | ... O52: =$C$52-SUM('PREVI VENTE'!$C$51:N51)-'MINI 550'!N28 -> -8590.2 | P52: -1
A53: RUPTURE
A54: Crème Vanille 550ml | C54: =+STOCK!E55 -> 12654 | D54: =+C54-'PREVI VENTE'!C53-'MINI 550'!C29 -> 6614.4 | E54: =$C$54-SUM('PREVI VENTE'!$C$53:D53)-'MINI 550'!D29 -> 5195.4 | F54: =$C$54-SUM('PREVI VENTE'!$C$53:E53)-'MINI 550'!E29 -> -58.8 | G54: =$C$54-SUM('PREVI VENTE'!$C$53:F53)-'MINI 550'!F29 -> -6896.4 | H54: =$C$54-SUM('PREVI VENTE'!$C$53:G53)-'MINI 550'!G29 -> -17802.4 | I54: =$C$54-SUM('PREVI VENTE'!$C$53:H53)-'MINI 550'!H29 -> -39483.4 | J54: =$C$54-SUM('PREVI VENTE'!$C$53:I53)-'MINI 550'!I29 -> -57983.2 | K54: =$C$54-SUM('PREVI VENTE'!$C$53:J53)-'MINI 550'!J29 -> -74344 | L54: =$C$54-SUM('PREVI VENTE'!$C$53:K53)-'MINI 550'!K29 -> -79366.6 | ... O54: =$C$54-SUM('PREVI VENTE'!$C$53:N53)-'MINI 550'!N29 -> -79953.4 | P54: -1
A55: RUPTURE
A56: Crème Yaourt 550ml | C56: =+STOCK!E58 -> 5412 | D56: =+C56-'PREVI VENTE'!C55-'MINI 550'!C30 -> 4362 | E56: =$C$56-SUM('PREVI VENTE'!$C$55:D55)-'MINI 550'!D30 -> 4157.4 | F56: =$C$56-SUM('PREVI VENTE'!$C$55:E55)-'MINI 550'!E30 -> 2566.2 | G56: =$C$56-SUM('PREVI VENTE'!$C$55:F55)-'MINI 550'!F30 -> 2117.4 | H56: =$C$56-SUM('PREVI VENTE'!$C$55:G55)-'MINI 550'!G30 -> 110.4 | I56: =$C$56-SUM('PREVI VENTE'!$C$55:H55)-'MINI 550'!H30 -> -1335 | J56: =$C$56-SUM('PREVI VENTE'!$C$55:I55)-'MINI 550'!I30 -> -3539.4 | K56: =$C$56-SUM('PREVI VENTE'!$C$55:J55)-'MINI 550'!J30 -> -3367.2 | L56: =$C$56-SUM('PREVI VENTE'!$C$55:K55)-'MINI 550'!K30 -> -3908.4 | ... O56: =$C$56-SUM('PREVI VENTE'!$C$55:N55)-'MINI 550'!N30 -> -3234.6 | P56: -1
A57: RUPTURE
