Workbook
Name ColRefAchat: Entrée!$C:$C
Name COLREFREF: Entrée!#REF!
Name ColRefVente: Sortie!$C:$C
Name QteAchat: OFFSET(Entrée!$D$4,,,COUNTA(ColRefAchat))
Name QteVente: OFFSET(Sortie!$D$4,,,COUNTA(ColRefVente))
Name RefAchat: OFFSET(Entrée!$C$4,,,COUNTA(ColRefAchat))
Name RefList: OFFSET(Stock!$C$4,,,SUM(IF(RefAchat<>"",1/COUNTIF(RefAchat,RefAchat))))
Name RefVente: OFFSET(Sortie!$C$4,,,COUNTA(ColRefVente))

Sheet Entrée
A3: Index | B3: Date achat | C3: Code Barre | D3: Quantité | E3: Famille | F3: Unités | G3: Fournisseur
A4: 1 | B4: 41061 | C4: 1 | D4: 130 | E4: =IF(ISBLANK($C4),"",INDEX(Stock!$A$4:$H$130,MATCH(Entrée!$C4,Stock!$C$4:$C$130,0),5)) -> Additif (Inhibiteur de corrosion) | F4: =IF(ISBLANK($C4),"",INDEX(Stock!$A$4:$H$103,MATCH(Entrée!$C4,Stock!$C$4:$C$103,0),6)) -> Bidon (5L) | G4: =IF(ISBLANK($C4),"",INDEX(Stock!$A$4:$H$103,MATCH(Entrée!$C4,Stock!$C$4:$C$103,0),7)) -> Struers
A5: 2 | B5: 41062 | C5: 2 | D5: 129 | E5: =IF(ISBLANK($C5),"",INDEX(Stock!$A$4:$H$130,MATCH(Entrée!$C5,Stock!$C$4:$C$130,0),5)) -> Meule 40 A 15 (Ø150 matériaux ductiles; ex : bases Ni) | F5: =IF(ISBLANK($C5),"",INDEX(Stock!$A$4:$H$103,MATCH(Entrée!$C5,Stock!$C$4:$C$103,0),6)) -> Meule | G5: =IF(ISBLANK($C5),"",INDEX(Stock!$A$4:$H$103,MATCH(Entrée!$C5,Stock!$C$4:$C$103,0),7)) -> Struers
A6: 3 | B6: 41063 | C6: 3 | D6: 128 | E6: =IF(ISBLANK($C6),"",INDEX(Stock!$A$4:$H$130,MATCH(Entrée!$C6,Stock!$C$4:$C$130,0),5)) -> Meule 50 A 15 (Ø150 matériaux durs; ex : ACIERS) | F6: =IF(ISBLANK($C6),"",INDEX(Stock!$A$4:$H$103,MATCH(Entrée!$C6,Stock!$C$4:$C$103,0),6)) -> Meule | G6: =IF(ISBLANK($C6),"",INDEX(Stock!$A$4:$H$103,MATCH(Entrée!$C6,Stock!$C$4:$C$103,0),7)) -> Struers
A7: 4 | B7: 41064 | C7: 4 | D7: 127 | E7: =IF(ISBLANK($C7),"",INDEX(Stock!$A$4:$H$130,MATCH(Entrée!$C7,Stock!$C$4:$C$130,0),5)) -> Meule 10 S 15 (Ø150 matériaux ductiles; ex : bases Ti) | F7: =IF(ISBLANK($C7),"",INDEX(Stock!$A$4:$H$103,MATCH(Entrée!$C7,Stock!$C$4:$C$103,0),6)) -> Meule | G7: =IF(ISBLANK($C7),"",INDEX(Stock!$A$4:$H$103,MATCH(Entrée!$C7,Stock!$C$4:$C$103,0),7)) -> Struers
A8: 5 | C8: 5 | D8: 126 | E8: =IF(ISBLANK($C8),"",INDEX(Stock!$A$4:$H$130,MATCH(Entrée!$C8,Stock!$C$4:$C$130,0),5)) -> Meule diamant B0 D 15 (Ø150 matériaux durs HV>800) | F8: =IF(ISBLANK($C8),"",INDEX(Stock!$A$4:$H$103,MATCH(Entrée!$C8,Stock!$C$4:$C$103,0),6)) -> Meule | G8: =IF(ISBLANK($C8),"",INDEX(Stock!$A$4:$H$103,MATCH(Entrée!$C8,Stock!$C$4:$C$103,0),7)) -> Struers
A9: 6 | C9: 6 | D9: 125 | E9: =IF(ISBLANK($C9),"",INDEX(Stock!$A$4:$H$130,MATCH(Entrée!$C9,Stock!$C$4:$C$130,0),5)) -> Résine MultiFast rouge | F9: =IF(ISBLANK($C9),"",INDEX(Stock!$A$4:$H$103,MATCH(Entrée!$C9,Stock!$C$4:$C$103,0),6)) -> Pot 7,5kg | G9: =IF(ISBLANK($C9),"",INDEX(Stock!$A$4:$H$103,MATCH(Entrée!$C9,Stock!$C$4:$C$103,0),7)) -> Struers
A10: 7 | C10: 7 | D10: 124 | E10: =IF(ISBLANK($C10),"",INDEX(Stock!$A$4:$H$130,MATCH(Entrée!$C10,Stock!$C$4:$C$130,0),5)) -> Résine PolyFast (conductrice) | F10: =IF(ISBLANK($C10),"",INDEX(Stock!$A$4:$H$103,MATCH(Entrée!$C10,Stock!$C$4:$C$103,0),6)) -> Pot 1kg | G10: =IF(ISBLANK($C10),"",INDEX(Stock!$A$4:$H$103,MATCH(Entrée!$C10,Stock!$C$4:$C$103,0),7)) -> Struers
A11: 8 | C11: 8 | D11: 123 | E11: =IF(ISBLANK($C11),"",INDEX(Stock!$A$4:$H$130,MATCH(Entrée!$C11,Stock!$C$4:$C$130,0),5)) -> Résine IsoFast | F11: =IF(ISBLANK($C11),"",INDEX(Stock!$A$4:$H$103,MATCH(Entrée!$C11,Stock!$C$4:$C$103,0),6)) -> Pot 1kg | G11: =IF(ISBLANK($C11),"",INDEX(Stock!$A$4:$H$103,MATCH(Entrée!$C11,Stock!$C$4:$C$103,0),7)) -> Struers
A12: 9 | C12: 9 | D12: 122 | E12: =IF(ISBLANK($C12),"",INDEX(Stock!$A$4:$H$130,MATCH(Entrée!$C12,Stock!$C$4:$C$130,0),5)) -> Résine Epomet F (gros grain) | F12: =IF(ISBLANK($C12),"",INDEX(Stock!$A$4:$H$103,MATCH(Entrée!$C12,Stock!$C$4:$C$103,0),6)) -> Pot 4,4kg | G12: =IF(ISBLANK($C12),"",INDEX(Stock!$A$4:$H$103,MATCH(Entrée!$C12,Stock!$C$4:$C$103,0),7)) -> Buehler
A13: 10 | C13: 10 | D13: 121 | E13: =IF(ISBLANK($C13),"",INDEX(Stock!$A$4:$H$130,MATCH(Entrée!$C13,Stock!$C$4:$C$130,0),5)) -> Résine TransOptic | F13: =IF(ISBLANK($C13),"",INDEX(Stock!$A$4:$H$103,MATCH(Entrée!$C13,Stock!$C$4:$C$103,0),6)) -> Pot 2,3kg | G13: =IF(ISBLANK($C13),"",INDEX(Stock!$A$4:$H$103,MATCH(Entrée!$C13,Stock!$C$4:$C$103,0),7)) -> Buehler
A14: 11 | C14: 11 | D14: 120 | E14: =IF(ISBLANK($C14),"",INDEX(Stock!$A$4:$H$130,MATCH(Entrée!$C14,Stock!$C$4:$C$130,0),5)) -> EpoFix (résine) | F14: =IF(ISBLANK($C14),"",INDEX(Stock!$A$4:$H$103,MATCH(Entrée!$C14,Stock!$C$4:$C$103,0),6)) -> Bouteille 1 L | G14: =IF(ISBLANK($C14),"",INDEX(Stock!$A$4:$H$103,MATCH(Entrée!$C14,Stock!$C$4:$C$103,0),7)) -> Struers
A15: 12 | C15: 12 | D15: 119 | E15: =IF(ISBLANK($C15),"",INDEX(Stock!$A$4:$H$130,MATCH(Entrée!$C15,Stock!$C$4:$C$130,0),5)) -> Epofix (Durcisseur) | F15: =IF(ISBLANK($C15),"",INDEX(Stock!$A$4:$H$103,MATCH(Entrée!$C15,Stock!$C$4:$C$103,0),6)) -> Bouteille 1 L | G15: =IF(ISBLANK($C15),"",INDEX(Stock!$A$4:$H$103,MATCH(Entrée!$C15,Stock!$C$4:$C$103,0),7)) -> Struers
A16: 13 | C16: 13 | D16: 118 | E16: =IF(ISBLANK($C16),"",INDEX(Stock!$A$4:$H$130,MATCH(Entrée!$C16,Stock!$C$4:$C$130,0),5)) -> EPOLU (Epodye) | F16: =IF(ISBLANK($C16),"",INDEX(Stock!$A$4:$H$103,MATCH(Entrée!$C16,Stock!$C$4:$C$103,0),6)) -> Pot de 20g | G16: =IF(ISBLANK($C16),"",INDEX(Stock!$A$4:$H$103,MATCH(Entrée!$C16,Stock!$C$4:$C$103,0),7)) -> Struers
A17: 14 | C17: 14 | D17: 117 | E17: =IF(ISBLANK($C17),"",INDEX(Stock!$A$4:$H$130,MATCH(Entrée!$C17,Stock!$C$4:$C$130,0),5)) -> Clips/PL | F17: =IF(ISBLANK($C17),"",INDEX(Stock!$A$4:$H$103,MATCH(Entrée!$C17,Stock!$C$4:$C$103,0),6)) -> Boite de 100 | G17: =IF(ISBLANK($C17),"",INDEX(Stock!$A$4:$H$103,MATCH(Entrée!$C17,Stock!$C$4:$C$103,0),7)) -> ESCIL
A18: 15 | C18: 15 | D18: 116 | E18: =IF(ISBLANK($C18),"",INDEX(Stock!$A$4:$H$130,MATCH(Entrée!$C18,Stock!$C$4:$C$130,0),5)) -> Moules KM en acrylique Ø25mm | F18: =IF(ISBLANK($C18),"",INDEX(Stock!$A$4:$H$103,MATCH(Entrée!$C18,Stock!$C$4:$C$103,0),6)) -> Boite de 30 | G18: =IF(ISBLANK($C18),"",INDEX(Stock!$A$4:$H$103,MATCH(Entrée!$C18,Stock!$C$4:$C$103,0),7)) -> Presi
A19: 16 | C19: 16 | D19: 115 | E19: =IF(ISBLANK($C19),"",INDEX(Stock!$A$4:$H$130,MATCH(Entrée!$C19,Stock!$C$4:$C$130,0),5)) -> Moules KM en acrylique Ø40mm | F19: =IF(ISBLANK($C19),"",INDEX(Stock!$A$4:$H$103,MATCH(Entrée!$C19,Stock!$C$4:$C$103,0),6)) -> Boite de 30 | G19: =IF(ISBLANK($C19),"",INDEX(Stock!$A$4:$H$103,MATCH(Entrée!$C19,Stock!$C$4:$C$103,0),7)) -> Presi
... A100: 97 | C100: 97 | D100: 34 | E100: =IF(ISBLANK($C100),"",INDEX(Stock!$A$4:$H$130,MATCH(Entrée!$C100,Stock!$C$4:$C$130,0),5)) -> Tubes porte-ech 12.5 x 10 | F100: =IF(ISBLANK($C100),"",INDEX(Stock!$A$4:$H$103,MATCH(Entrée!$C100,Stock!$C$4:$C$103,0),6)) -> #N/A | G100: =IF(ISBLANK($C100),"",INDEX(Stock!$A$4:$H$103,MATCH(Entrée!$C100,Stock!$C$4:$C$103,0),7)) -> #N/A
A101: 98 | E101: =IF(ISBLANK($C101),"",INDEX(Stock!$A$4:$H$130,MATCH(Entrée!$C101,Stock!$C$4:$C$130,0),5)) | F101: =IF(ISBLANK($C101),"",INDEX(Stock!$A$4:$H$103,MATCH(Entrée!$C101,Stock!$C$4:$C$103,0),6)) | G101: =IF(ISBLANK($C101),"",INDEX(Stock!$A$4:$H$103,MATCH(Entrée!$C101,Stock!$C$4:$C$103,0),7))
A102: 99 | E102: =IF(ISBLANK($C102),"",INDEX(Stock!$A$4:$H$130,MATCH(Entrée!$C102,Stock!$C$4:$C$130,0),5)) | F102: =IF(ISBLANK($C102),"",INDEX(Stock!$A$4:$H$103,MATCH(Entrée!$C102,Stock!$C$4:$C$103,0),6)) | G102: =IF(ISBLANK($C102),"",INDEX(Stock!$A$4:$H$103,MATCH(Entrée!$C102,Stock!$C$4:$C$103,0),7))
A103: 100 | E103: =IF(ISBLANK($C103),"",INDEX(Stock!$A$4:$H$130,MATCH(Entrée!$C103,Stock!$C$4:$C$130,0),5)) | F103: =IF(ISBLANK($C103),"",INDEX(Stock!$A$4:$H$103,MATCH(Entrée!$C103,Stock!$C$4:$C$103,0),6)) | G103: =IF(ISBLANK($C103),"",INDEX(Stock!$A$4:$H$103,MATCH(Entrée!$C103,Stock!$C$4:$C$103,0),7))
A104: 101 | E104: =IF(ISBLANK($C104),"",INDEX(Stock!$A$4:$H$130,MATCH(Entrée!$C104,Stock!$C$4:$C$130,0),5)) | F104: =IF(ISBLANK($C104),"",INDEX(Stock!$A$4:$H$103,MATCH(Entrée!$C104,Stock!$C$4:$C$103,0),6)) | G104: =IF(ISBLANK($C104),"",INDEX(Stock!$A$4:$H$103,MATCH(Entrée!$C104,Stock!$C$4:$C$103,0),7))
A105: 102 | E105: =IF(ISBLANK($C105),"",INDEX(Stock!$A$4:$H$130,MATCH(Entrée!$C105,Stock!$C$4:$C$130,0),5)) | F105: =IF(ISBLANK($C105),"",INDEX(Stock!$A$4:$H$103,MATCH(Entrée!$C105,Stock!$C$4:$C$103,0),6)) | G105: =IF(ISBLANK($C105),"",INDEX(Stock!$A$4:$H$103,MATCH(Entrée!$C105,Stock!$C$4:$C$103,0),7))
A106: 103 | E106: =IF(ISBLANK($C106),"",INDEX(Stock!$A$4:$H$130,MATCH(Entrée!$C106,Stock!$C$4:$C$130,0),5)) | F106: =IF(ISBLANK($C106),"",INDEX(Stock!$A$4:$H$103,MATCH(Entrée!$C106,Stock!$C$4:$C$103,0),6)) | G106: =IF(ISBLANK($C106),"",INDEX(Stock!$A$4:$H$103,MATCH(Entrée!$C106,Stock!$C$4:$C$103,0),7))
A107: 104 | E107: =IF(ISBLANK($C107),"",INDEX(Stock!$A$4:$H$130,MATCH(Entrée!$C107,Stock!$C$4:$C$130,0),5)) | F107: =IF(ISBLANK($C107),"",INDEX(Stock!$A$4:$H$103,MATCH(Entrée!$C107,Stock!$C$4:$C$103,0),6)) | G107: =IF(ISBLANK($C107),"",INDEX(Stock!$A$4:$H$103,MATCH(Entrée!$C107,Stock!$C$4:$C$103,0),7))
A108: 105 | E108: =IF(ISBLANK($C108),"",INDEX(Stock!$A$4:$H$130,MATCH(Entrée!$C108,Stock!$C$4:$C$130,0),5)) | F108: =IF(ISBLANK($C108),"",INDEX(Stock!$A$4:$H$103,MATCH(Entrée!$C108,Stock!$C$4:$C$103,0),6)) | G108: =IF(ISBLANK($C108),"",INDEX(Stock!$A$4:$H$103,MATCH(Entrée!$C108,Stock!$C$4:$C$103,0),7))
A109: 106 | E109: =IF(ISBLANK($C109),"",INDEX(Stock!$A$4:$H$130,MATCH(Entrée!$C109,Stock!$C$4:$C$130,0),5)) | F109: =IF(ISBLANK($C109),"",INDEX(Stock!$A$4:$H$103,MATCH(Entrée!$C109,Stock!$C$4:$C$103,0),6)) | G109: =IF(ISBLANK($C109),"",INDEX(Stock!$A$4:$H$103,MATCH(Entrée!$C109,Stock!$C$4:$C$103,0),7))
A110: 107 | E110: =IF(ISBLANK($C110),"",INDEX(Stock!$A$4:$H$130,MATCH(Entrée!$C110,Stock!$C$4:$C$130,0),5)) | F110: =IF(ISBLANK($C110),"",INDEX(Stock!$A$4:$H$103,MATCH(Entrée!$C110,Stock!$C$4:$C$103,0),6)) | G110: =IF(ISBLANK($C110),"",INDEX(Stock!$A$4:$H$103,MATCH(Entrée!$C110,Stock!$C$4:$C$103,0),7))
A111: 108 | E111: =IF(ISBLANK($C111),"",INDEX(Stock!$A$4:$H$130,MATCH(Entrée!$C111,Stock!$C$4:$C$130,0),5)) | F111: =IF(ISBLANK($C111),"",INDEX(Stock!$A$4:$H$103,MATCH(Entrée!$C111,Stock!$C$4:$C$103,0),6)) | G111: =IF(ISBLANK($C111),"",INDEX(Stock!$A$4:$H$103,MATCH(Entrée!$C111,Stock!$C$4:$C$103,0),7))
A112: 109 | E112: =IF(ISBLANK($C112),"",INDEX(Stock!$A$4:$H$130,MATCH(Entrée!$C112,Stock!$C$4:$C$130,0),5)) | F112: =IF(ISBLANK($C112),"",INDEX(Stock!$A$4:$H$103,MATCH(Entrée!$C112,Stock!$C$4:$C$103,0),6)) | G112: =IF(ISBLANK($C112),"",INDEX(Stock!$A$4:$H$103,MATCH(Entrée!$C112,Stock!$C$4:$C$103,0),7))
A113: 110 | E113: =IF(ISBLANK($C113),"",INDEX(Stock!$A$4:$H$130,MATCH(Entrée!$C113,Stock!$C$4:$C$130,0),5)) | F113: =IF(ISBLANK($C113),"",INDEX(Stock!$A$4:$H$103,MATCH(Entrée!$C113,Stock!$C$4:$C$103,0),6)) | G113: =IF(ISBLANK($C113),"",INDEX(Stock!$A$4:$H$103,MATCH(Entrée!$C113,Stock!$C$4:$C$103,0),7))

Sheet Sortie
A3: Index | B3: Date vente | C3: Code Barre | D3: Quantité | E3: Famille | F3: Unités | G3: Fournisseur
A4: 1 | B4: 41263 | C4: 1 | D4: 1 | E4: =IF(ISBLANK($C4),"",INDEX(Stock!$A$4:$H$130,MATCH(Sortie!$C4,Stock!$C$4:$C$130,0),5)) -> Additif (Inhibiteur de corrosion) | F4: =IF(ISBLANK($C4),"",INDEX(Stock!$A$4:$H$103,MATCH(Sortie!$C4,Stock!$C$4:$C$103,0),6)) -> Bidon (5L) | G4: =IF(ISBLANK($C4),"",INDEX(Stock!$A$4:$H$103,MATCH(Sortie!$C4,Stock!$C$4:$C$103,0),7)) -> Struers
A5: 2 | B5: 41264 | C5: 2 | D5: 1 | E5: =IF(ISBLANK($C5),"",INDEX(Stock!$A$4:$H$130,MATCH(Sortie!$C5,Stock!$C$4:$C$130,0),5)) -> Meule 40 A 15 (Ø150 matériaux ductiles; ex : bases Ni) | F5: =IF(ISBLANK($C5),"",INDEX(Stock!$A$4:$H$103,MATCH(Sortie!$C5,Stock!$C$4:$C$103,0),6)) -> Meule | G5: =IF(ISBLANK($C5),"",INDEX(Stock!$A$4:$H$103,MATCH(Sortie!$C5,Stock!$C$4:$C$103,0),7)) -> Struers
A6: 3 | C6: 3 | D6: 1 | E6: =IF(ISBLANK($C6),"",INDEX(Stock!$A$4:$H$130,MATCH(Sortie!$C6,Stock!$C$4:$C$130,0),5)) -> Meule 50 A 15 (Ø150 matériaux durs; ex : ACIERS) | F6: =IF(ISBLANK($C6),"",INDEX(Stock!$A$4:$H$103,MATCH(Sortie!$C6,Stock!$C$4:$C$103,0),6)) -> Meule | G6: =IF(ISBLANK($C6),"",INDEX(Stock!$A$4:$H$103,MATCH(Sortie!$C6,Stock!$C$4:$C$103,0),7)) -> Struers
A7: 4 | C7: 4 | D7: 1 | E7: =IF(ISBLANK($C7),"",INDEX(Stock!$A$4:$H$130,MATCH(Sortie!$C7,Stock!$C$4:$C$130,0),5)) -> Meule 10 S 15 (Ø150 matériaux ductiles; ex : bases Ti) | F7: =IF(ISBLANK($C7),"",INDEX(Stock!$A$4:$H$103,MATCH(Sortie!$C7,Stock!$C$4:$C$103,0),6)) -> Meule | G7: =IF(ISBLANK($C7),"",INDEX(Stock!$A$4:$H$103,MATCH(Sortie!$C7,Stock!$C$4:$C$103,0),7)) -> Struers
A8: 5 | C8: 5 | D8: 1 | E8: =IF(ISBLANK($C8),"",INDEX(Stock!$A$4:$H$130,MATCH(Sortie!$C8,Stock!$C$4:$C$130,0),5)) -> Meule diamant B0 D 15 (Ø150 matériaux durs HV>800) | F8: =IF(ISBLANK($C8),"",INDEX(Stock!$A$4:$H$103,MATCH(Sortie!$C8,Stock!$C$4:$C$103,0),6)) -> Meule | G8: =IF(ISBLANK($C8),"",INDEX(Stock!$A$4:$H$103,MATCH(Sortie!$C8,Stock!$C$4:$C$103,0),7)) -> Struers
A9: 6 | C9: 6 | D9: 1 | E9: =IF(ISBLANK($C9),"",INDEX(Stock!$A$4:$H$130,MATCH(Sortie!$C9,Stock!$C$4:$C$130,0),5)) -> Résine MultiFast rouge | F9: =IF(ISBLANK($C9),"",INDEX(Stock!$A$4:$H$103,MATCH(Sortie!$C9,Stock!$C$4:$C$103,0),6)) -> Pot 7,5kg | G9: =IF(ISBLANK($C9),"",INDEX(Stock!$A$4:$H$103,MATCH(Sortie!$C9,Stock!$C$4:$C$103,0),7)) -> Struers
A10: 7 | C10: 7 | D10: 1 | E10: =IF(ISBLANK($C10),"",INDEX(Stock!$A$4:$H$130,MATCH(Sortie!$C10,Stock!$C$4:$C$130,0),5)) -> Résine PolyFast (conductrice) | F10: =IF(ISBLANK($C10),"",INDEX(Stock!$A$4:$H$103,MATCH(Sortie!$C10,Stock!$C$4:$C$103,0),6)) -> Pot 1kg | G10: =IF(ISBLANK($C10),"",INDEX(Stock!$A$4:$H$103,MATCH(Sortie!$C10,Stock!$C$4:$C$103,0),7)) -> Struers
A11: 8 | C11: 8 | D11: 1 | E11: =IF(ISBLANK($C11),"",INDEX(Stock!$A$4:$H$130,MATCH(Sortie!$C11,Stock!$C$4:$C$130,0),5)) -> Résine IsoFast | F11: =IF(ISBLANK($C11),"",INDEX(Stock!$A$4:$H$103,MATCH(Sortie!$C11,Stock!$C$4:$C$103,0),6)) -> Pot 1kg | G11: =IF(ISBLANK($C11),"",INDEX(Stock!$A$4:$H$103,MATCH(Sortie!$C11,Stock!$C$4:$C$103,0),7)) -> Struers
A12: 9 | C12: 9 | D12: 1 | E12: =IF(ISBLANK($C12),"",INDEX(Stock!$A$4:$H$130,MATCH(Sortie!$C12,Stock!$C$4:$C$130,0),5)) -> Résine Epomet F (gros grain) | F12: =IF(ISBLANK($C12),"",INDEX(Stock!$A$4:$H$103,MATCH(Sortie!$C12,Stock!$C$4:$C$103,0),6)) -> Pot 4,4kg | G12: =IF(ISBLANK($C12),"",INDEX(Stock!$A$4:$H$103,MATCH(Sortie!$C12,Stock!$C$4:$C$103,0),7)) -> Buehler
A13: 10 | C13: 10 | D13: 1 | E13: =IF(ISBLANK($C13),"",INDEX(Stock!$A$4:$H$130,MATCH(Sortie!$C13,Stock!$C$4:$C$130,0),5)) -> Résine TransOptic | F13: =IF(ISBLANK($C13),"",INDEX(Stock!$A$4:$H$103,MATCH(Sortie!$C13,Stock!$C$4:$C$103,0),6)) -> Pot 2,3kg | G13: =IF(ISBLANK($C13),"",INDEX(Stock!$A$4:$H$103,MATCH(Sortie!$C13,Stock!$C$4:$C$103,0),7)) -> Buehler
A14: 11 | C14: 11 | D14: 1 | E14: =IF(ISBLANK($C14),"",INDEX(Stock!$A$4:$H$130,MATCH(Sortie!$C14,Stock!$C$4:$C$130,0),5)) -> EpoFix (résine) | F14: =IF(ISBLANK($C14),"",INDEX(Stock!$A$4:$H$103,MATCH(Sortie!$C14,Stock!$C$4:$C$103,0),6)) -> Bouteille 1 L | G14: =IF(ISBLANK($C14),"",INDEX(Stock!$A$4:$H$103,MATCH(Sortie!$C14,Stock!$C$4:$C$103,0),7)) -> Struers
A15: 12 | C15: 12 | D15: 1 | E15: =IF(ISBLANK($C15),"",INDEX(Stock!$A$4:$H$130,MATCH(Sortie!$C15,Stock!$C$4:$C$130,0),5)) -> Epofix (Durcisseur) | F15: =IF(ISBLANK($C15),"",INDEX(Stock!$A$4:$H$103,MATCH(Sortie!$C15,Stock!$C$4:$C$103,0),6)) -> Bouteille 1 L | G15: =IF(ISBLANK($C15),"",INDEX(Stock!$A$4:$H$103,MATCH(Sortie!$C15,Stock!$C$4:$C$103,0),7)) -> Struers
A16: 13 | C16: 13 | D16: 1 | E16: =IF(ISBLANK($C16),"",INDEX(Stock!$A$4:$H$130,MATCH(Sortie!$C16,Stock!$C$4:$C$130,0),5)) -> EPOLU (Epodye) | F16: =IF(ISBLANK($C16),"",INDEX(Stock!$A$4:$H$103,MATCH(Sortie!$C16,Stock!$C$4:$C$103,0),6)) -> Pot de 20g | G16: =IF(ISBLANK($C16),"",INDEX(Stock!$A$4:$H$103,MATCH(Sortie!$C16,Stock!$C$4:$C$103,0),7)) -> Struers
A17: 14 | C17: 14 | D17: 1 | E17: =IF(ISBLANK($C17),"",INDEX(Stock!$A$4:$H$130,MATCH(Sortie!$C17,Stock!$C$4:$C$130,0),5)) -> Clips/PL | F17: =IF(ISBLANK($C17),"",INDEX(Stock!$A$4:$H$103,MATCH(Sortie!$C17,Stock!$C$4:$C$103,0),6)) -> Boite de 100 | G17: =IF(ISBLANK($C17),"",INDEX(Stock!$A$4:$H$103,MATCH(Sortie!$C17,Stock!$C$4:$C$103,0),7)) -> ESCIL
... A102: 99 | C102: 99 | D102: 1 | E102: =IF(ISBLANK($C102),"",INDEX(Stock!$A$4:$H$130,MATCH(Sortie!$C102,Stock!$C$4:$C$130,0),5)) -> #N/A | F102: =IF(ISBLANK($C102),"",INDEX(Stock!$A$4:$H$103,MATCH(Sortie!$C102,Stock!$C$4:$C$103,0),6)) -> #N/A | G102: =IF(ISBLANK($C102),"",INDEX(Stock!$A$4:$H$103,MATCH(Sortie!$C102,Stock!$C$4:$C$103,0),7)) -> #N/A
A103: 100 | E103: =IF(ISBLANK($C103),"",INDEX(Stock!$A$4:$H$103,MATCH(Sortie!$C103,Stock!$C$4:$C$103,0),5)) | F103: =IF(ISBLANK($C103),"",INDEX(Stock!$A$4:$H$103,MATCH(Sortie!$C103,Stock!$C$4:$C$103,0),6)) | G103: =IF(ISBLANK($C103),"",INDEX(Stock!$A$4:$H$103,MATCH(Sortie!$C103,Stock!$C$4:$C$103,0),7))
A104: 101 | E104: =IF(ISBLANK($C104),"",INDEX(Stock!$A$4:$H$103,MATCH(Sortie!$C104,Stock!$C$4:$C$103,0),5)) | F104: =IF(ISBLANK($C104),"",INDEX(Stock!$A$4:$H$103,MATCH(Sortie!$C104,Stock!$C$4:$C$103,0),6)) | G104: =IF(ISBLANK($C104),"",INDEX(Stock!$A$4:$H$103,MATCH(Sortie!$C104,Stock!$C$4:$C$103,0),7))
A105: 102 | E105: =IF(ISBLANK($C105),"",INDEX(Stock!$A$4:$H$103,MATCH(Sortie!$C105,Stock!$C$4:$C$103,0),5)) | F105: =IF(ISBLANK($C105),"",INDEX(Stock!$A$4:$H$103,MATCH(Sortie!$C105,Stock!$C$4:$C$103,0),6)) | G105: =IF(ISBLANK($C105),"",INDEX(Stock!$A$4:$H$103,MATCH(Sortie!$C105,Stock!$C$4:$C$103,0),7))
A106: 103 | E106: =IF(ISBLANK($C106),"",INDEX(Stock!$A$4:$H$103,MATCH(Sortie!$C106,Stock!$C$4:$C$103,0),5)) | F106: =IF(ISBLANK($C106),"",INDEX(Stock!$A$4:$H$103,MATCH(Sortie!$C106,Stock!$C$4:$C$103,0),6)) | G106: =IF(ISBLANK($C106),"",INDEX(Stock!$A$4:$H$103,MATCH(Sortie!$C106,Stock!$C$4:$C$103,0),7))
A107: 104 | E107: =IF(ISBLANK($C107),"",INDEX(Stock!$A$4:$H$103,MATCH(Sortie!$C107,Stock!$C$4:$C$103,0),5)) | F107: =IF(ISBLANK($C107),"",INDEX(Stock!$A$4:$H$103,MATCH(Sortie!$C107,Stock!$C$4:$C$103,0),6)) | G107: =IF(ISBLANK($C107),"",INDEX(Stock!$A$4:$H$103,MATCH(Sortie!$C107,Stock!$C$4:$C$103,0),7))
A108: 105 | E108: =IF(ISBLANK($C108),"",INDEX(Stock!$A$4:$H$103,MATCH(Sortie!$C108,Stock!$C$4:$C$103,0),5)) | F108: =IF(ISBLANK($C108),"",INDEX(Stock!$A$4:$H$103,MATCH(Sortie!$C108,Stock!$C$4:$C$103,0),6)) | G108: =IF(ISBLANK($C108),"",INDEX(Stock!$A$4:$H$103,MATCH(Sortie!$C108,Stock!$C$4:$C$103,0),7))
A109: 106 | E109: =IF(ISBLANK($C109),"",INDEX(Stock!$A$4:$H$103,MATCH(Sortie!$C109,Stock!$C$4:$C$103,0),5)) | F109: =IF(ISBLANK($C109),"",INDEX(Stock!$A$4:$H$103,MATCH(Sortie!$C109,Stock!$C$4:$C$103,0),6)) | G109: =IF(ISBLANK($C109),"",INDEX(Stock!$A$4:$H$103,MATCH(Sortie!$C109,Stock!$C$4:$C$103,0),7))
A110: 107 | E110: =IF(ISBLANK($C110),"",INDEX(Stock!$A$4:$H$103,MATCH(Sortie!$C110,Stock!$C$4:$C$103,0),5)) | F110: =IF(ISBLANK($C110),"",INDEX(Stock!$A$4:$H$103,MATCH(Sortie!$C110,Stock!$C$4:$C$103,0),6)) | G110: =IF(ISBLANK($C110),"",INDEX(Stock!$A$4:$H$103,MATCH(Sortie!$C110,Stock!$C$4:$C$103,0),7))

Sheet Stock
A2: Index | B2: Date | C2: Code barre | D2: Stock restant | E2: Désignation | F2: Unités | G2: Fournisseur | H2: Stock mini | I2: N° imputation BLV | J2: Référence fournisseur | K2: Quantité à commander | L2: Conditionnement | N2: Prix Catalogue Fournisseur | O2: Prix remisé | P2: Remise
L3: Nombres | M3: Unité
E5: Pour micotonçonneuses
A6: 01 | C6: 1 | D6: =IF(C6="","",SUMPRODUCT((Entrée!$C$4:C53=C6)*(Entrée!$D$4:D53))-SUMPRODUCT((Sortie!$C$4:C53=C6)*(Sortie!$D$4:D53))) -> 129 | E6: Additif (Inhibiteur de corrosion) | F6: Bidon (5L) | G6: Struers | H6: 1 | I6: 1506 | J6: 49900046 | K6: 1 | L6: 5 | M6: L | N6: 170 | O6: =N6-(N6*P6/100) -> 154.7 | P6: 9
A7: 02 | C7: 2 | D7: =IF(C7="","",SUMPRODUCT((Entrée!$C$4:C54=C7)*(Entrée!$D$4:D54))-SUMPRODUCT((Sortie!$C$4:C54=C7)*(Sortie!$D$4:D54))) -> 128 | E7: Meule 40 A 15 (Ø150 matériaux ductiles; ex : bases Ni) | F7: Meule | G7: Struers | H7: 5 | I7: 1506 | J7: 40000056 | K7: 10 | L7: 5 | M7: Meule | N7: 216 | O7: =N7-(N7*P7/100) -> 196.56 | P7: 9
A8: 03 | C8: 3 | D8: =IF(C8="","",SUMPRODUCT((Entrée!$C$4:C55=C8)*(Entrée!$D$4:D55))-SUMPRODUCT((Sortie!$C$4:C55=C8)*(Sortie!$D$4:D55))) -> 127 | E8: Meule 50 A 15 (Ø150 matériaux durs; ex : ACIERS) | F8: Meule | G8: Struers | H8: 5 | I8: 1506 | J8: 40000060 | K8: 10 | L8: 5 | M8: Meule | N8: 190 | O8: =N8-(N8*P8/100) -> 172.9 | P8: 9
A9: 04 | C9: 4 | D9: =IF(C9="","",SUMPRODUCT((Entrée!$C$4:C56=C9)*(Entrée!$D$4:D56))-SUMPRODUCT((Sortie!$C$4:C56=C9)*(Sortie!$D$4:D56))) -> 126 | E9: Meule 10 S 15 (Ø150 matériaux ductiles; ex : bases Ti) | F9: Meule | G9: Struers | H9: 5 | I9: 1506 | J9: 40000061 | K9: 10 | L9: 5 | M9: Meule | N9: 210 | O9: =N9-(N9*P9/100) -> 191.1 | P9: 9
A10: 05 | C10: 5 | D10: =IF(C10="","",SUMPRODUCT((Entrée!$C$4:C57=C10)*(Entrée!$D$4:D57))-SUMPRODUCT((Sortie!$C$4:C57=C10)*(Sortie!$D$4:D57))) -> 125 | E10: Meule diamant B0 D 15 (Ø150 matériaux durs HV>800) | F10: Meule | G10: Struers | H10: 0 | I10: 1506 | J10: 40000055 | K10: 1 | L10: 1 | M10: Meule | N10: 1040 | O10: =N10-(N10*P10/100) -> 946.4 | P10: 9
E12: Pour enrobeuses à chaud
A13: 06 | C13: 6 | D13: =IF(C13="","",SUMPRODUCT((Entrée!$C$4:C60=C13)*(Entrée!$D$4:D60))-SUMPRODUCT((Sortie!$C$4:C60=C13)*(Sortie!$D$4:D60))) -> 124 | E13: Résine MultiFast rouge | F13: Pot 7,5kg | G13: Struers | H13: 0.5 | I13: 1506 | J13: 40100061 | K13: 1 | L13: 7.5 | M13: Kg | N13: 120 | O13: =N13-(N13*P13/100) -> 109.2 | P13: 9
A14: 07 | C14: 7 | D14: =IF(C14="","",SUMPRODUCT((Entrée!$C$4:C61=C14)*(Entrée!$D$4:D61))-SUMPRODUCT((Sortie!$C$4:C61=C14)*(Sortie!$D$4:D61))) -> 123 | E14: Résine PolyFast (conductrice) | F14: Pot 1kg | G14: Struers | H14: 1 | I14: 1506 | J14: 40100036 | K14: 2 | L14: 1 | M14: Kg | N14: 100 | O14: =N14-(N14*P14/100) -> 91 | P14: 9
A15: 08 | C15: 8 | D15: =IF(C15="","",SUMPRODUCT((Entrée!$C$4:C62=C15)*(Entrée!$D$4:D62))-SUMPRODUCT((Sortie!$C$4:C62=C15)*(Sortie!$D$4:D62))) -> 122 | E15: Résine IsoFast | F15: Pot 1kg | G15: Struers | H15: 1 | I15: 1506 | J15: 40100042 | K15: 1 | L15: 1 | M15: Kg | N15: 85.5 | O15: =N15-(N15*P15/100) -> 77.805 | P15: 9
A16: 09 | C16: 9 | D16: =IF(C16="","",SUMPRODUCT((Entrée!$C$4:C63=C16)*(Entrée!$D$4:D63))-SUMPRODUCT((Sortie!$C$4:C63=C16)*(Sortie!$D$4:D63))) -> 121 | E16: Résine Epomet F (gros grain) | F16: Pot 4,4kg | G16: Buehler | H16: 1 | I16: 1506 | J16: 20-3380-160 | K16: 2 | L16: 4.4 | M16: Kg | N16: 264 | O16: =N16-(N16*P16/100) -> 184.8 | P16: 30
A17: 10 | C17: 10 | D17: =IF(C17="","",SUMPRODUCT((Entrée!$C$4:C64=C17)*(Entrée!$D$4:D64))-SUMPRODUCT((Sortie!$C$4:C64=C17)*(Sortie!$D$4:D64))) -> 120 | E17: Résine TransOptic | F17: Pot 2,3kg | G17: Buehler | H17: 1 | I17: 1506 | J17: 20-3400-080 | K17: 2 | L17: 2.3 | M17: Kg | N17: 91.4 | O17: =N17-(N17*P17/100) -> 63.98 | P17: 30
E19: Pour enrobages à froid
A20: 11 | C20: 11 | D20: =IF(C20="","",SUMPRODUCT((Entrée!$C$4:C67=C20)*(Entrée!$D$4:D67))-SUMPRODUCT((Sortie!$C$4:C67=C20)*(Sortie!$D$4:D67))) -> 119 | E20: EpoFix (résine) | F20: Bouteille 1 L | G20: Struers | H20: 2 | I20: 1506 | J20: 402 000 30 | K20: 10 | L20: 1 | M20: L | N20: 77 | O20: =N20-(N20*P20/100) -> 70.07 | P20: 9
A21: 12 | C21: 12 | D21: =IF(C21="","",SUMPRODUCT((Entrée!$C$4:C68=C21)*(Entrée!$D$4:D68))-SUMPRODUCT((Sortie!$C$4:C68=C21)*(Sortie!$D$4:D68))) -> 118 | E21: Epofix (Durcisseur) | F21: Bouteille 1 L | G21: Struers | H21: 1 | I21: 1506 | J21: 402 000 31 | K21: 4 | L21: 0.5 | M21: L | N21: 48 | O21: =N21-(N21*P21/100) -> 43.68 | P21: 9
A22: 13 | C22: 13 | D22: =IF(C22="","",SUMPRODUCT((Entrée!$C$4:C69=C22)*(Entrée!$D$4:D69))-SUMPRODUCT((Sortie!$C$4:C69=C22)*(Sortie!$D$4:D69))) -> 117 | E22: EPOLU (Epodye) | F22: Pot de 20g | G22: Struers | H22: 1 | I22: 1506 | J22: 403 000 02 | K22: 2 | L22: 0.02 | M22: pot de 20g | N22: 25 | O22: =N22-(N22*P22/100) -> 22.75 | P22: 9
A23: 14 | C23: 14 | D23: =IF(C23="","",SUMPRODUCT((Entrée!$C$4:C70=C23)*(Entrée!$D$4:D70))-SUMPRODUCT((Sortie!$C$4:C70=C23)*(Sortie!$D$4:D70))) -> 116 | E23: Clips/PL | F23: Boite de 100 | G23: ESCIL | H23: 1 | I23: 1506 | J23: 32001073 | K23: 3 | L23: 100 | M23: U | N23: 24.6 | O23: =N23-(N23*P23/100) -> 24.6 | P23: 0
A24: 15 | C24: 15 | D24: =IF(C24="","",SUMPRODUCT((Entrée!$C$4:C71=C24)*(Entrée!$D$4:D71))-SUMPRODUCT((Sortie!$C$4:C71=C24)*(Sortie!$D$4:D71))) -> 115 | E24: Moules KM en acrylique Ø25mm | F24: Boite de 30 | G24: Presi | H24: 1 | I24: 1506 | J24: 4013 | K24: 3 | L24: 30 | M24: U | N24: 38 | O24: =N24-(N24*P24/100) -> 38 | P24: 0
A25: 16 | C25: 16 | D25: =IF(C25="","",SUMPRODUCT((Entrée!$C$4:C72=C25)*(Entrée!$D$4:D72))-SUMPRODUCT((Sortie!$C$4:C72=C25)*(Sortie!$D$4:D72))) -> 114 | E25: Moules KM en acrylique Ø40mm | F25: Boite de 30 | G25: Presi | H25: 2 | I25: 1506 | J25: 4015 | K25: 10 | L25: 30 | M25: U | N25: 43 | O25: =N25-(N25*P25/100) -> 43 | P25: 0
E27: Pour polisseuse semi auto Ø300
A28: 17 | C28: 17 | D28: =IF(C28="","",SUMPRODUCT((Entrée!$C$4:C75=C28)*(Entrée!$D$4:D75))-SUMPRODUCT((Sortie!$C$4:C75=C28)*(Sortie!$D$4:D75))) -> 113 | E28: Papier Zirmet P60 | F28: Boite de 25 | G28: Buehler | H28: 1 | I28: 1506 | J28: 15-5132-060 | K28: 2 | L28: 25 | M28: U | N28: 204 | O28: =N28-(N28*P28/100) -> 142.8 | P28: 30
A29: 19 | C29: 18 | D29: =IF(C29="","",SUMPRODUCT((Entrée!$C$4:C76=C29)*(Entrée!$D$4:D76))-SUMPRODUCT((Sortie!$C$4:C76=C29)*(Sortie!$D$4:D76))) -> 112 | E29: Papier Sic Foil Ø300 G 120 | F29: Boite de 50 | G29: Struers | H29: 2 | I29: 1506 | J29: 40400063 | K29: 4 | L29: 50 | M29: U | N29: 60 | O29: =N29-(N29*P29/100) -> 51 | P29: 15
A30: 20 | C30: 19 | D30: =IF(C30="","",SUMPRODUCT((Entrée!$C$4:C77=C30)*(Entrée!$D$4:D77))-SUMPRODUCT((Sortie!$C$4:C77=C30)*(Sortie!$D$4:D77))) -> 111 | E30: Papier Sic Foil Ø300 G 220 | F30: Boite de 50 | G30: Struers | H30: 2 | I30: 1506 | J30: 40400128 | K30: 4 | L30: 50 | M30: U | N30: 58 | O30: =N30-(N30*P30/100) -> 49.3 | P30: 15
A31: 21 | C31: 20 | D31: =IF(C31="","",SUMPRODUCT((Entrée!$C$4:C78=C31)*(Entrée!$D$4:D78))-SUMPRODUCT((Sortie!$C$4:C78=C31)*(Sortie!$D$4:D78))) -> 110 | E31: Papier Sic Foil Ø300 G 500 | F31: Boite de 100 | G31: Struers | H31: 1 | I31: 1506 | J31: 40400033 | K31: 2 | L31: 100 | M31: U | N31: 117 | O31: =N31-(N31*P31/100) -> 99.45 | P31: 15
A32: 22 | C32: 21 | D32: =IF(C32="","",SUMPRODUCT((Entrée!$C$4:C79=C32)*(Entrée!$D$4:D79))-SUMPRODUCT((Sortie!$C$4:C79=C32)*(Sortie!$D$4:D79))) -> 109 | E32: Papier Sic Foil Ø300 G 800 | F32: Boite de 100 | G32: Struers | H32: 1 | I32: 1506 | J32: 40400034 | K32: 2 | L32: 100 | M32: U | N32: 117 | O32: =N32-(N32*P32/100) -> 99.45 | P32: 15
A33: 24 | C33: 22 | D33: =IF(C33="","",SUMPRODUCT((Entrée!$C$4:C80=C33)*(Entrée!$D$4:D80))-SUMPRODUCT((Sortie!$C$4:C80=C33)*(Sortie!$D$4:D80))) -> 108 | E33: Papier Sic Foil Ø300 G 1200 | F33: Boite de 100 | G33: Struers | H33: 1 | I33: 1506 | J33: 40400036 | K33: 2 | L33: 100 | M33: U | N33: 117 | O33: =N33-(N33*P33/100) -> 99.45 | P33: 15
A34: 25 | C34: 23 | D34: =IF(C34="","",SUMPRODUCT((Entrée!$C$4:C81=C34)*(Entrée!$D$4:D81))-SUMPRODUCT((Sortie!$C$4:C81=C34)*(Sortie!$D$4:D81))) -> 107 | E34: Papier Sic Ø305 G 2000 | F34: Boite de 50 | G34: Struers | H34: 2 | I34: 1506 | J34: 40400187 | K34: 4 | L34: 50 | M34: U | N34: 140 | O34: =N34-(N34*P34/100) -> 119 | P34: 15
A35: 26 | C35: 24 | D35: =IF(C35="","",SUMPRODUCT((Entrée!$C$4:C82=C35)*(Entrée!$D$4:D82))-SUMPRODUCT((Sortie!$C$4:C82=C35)*(Sortie!$D$4:D82))) -> 106 | E35: MD-Gekko Ø300 | F35: Drap | G35: Struers | H35: 1 | I35: 1506 | J35: 49900049 | K35: 4 | L35: 2 | M35: U | N35: 88 | O35: =N35-(N35*P35/100) -> 80.08 | P35: 9
A36: 27 | C36: 25 | D36: =IF(C36="","",SUMPRODUCT((Entrée!$C$4:C83=C36)*(Entrée!$D$4:D83))-SUMPRODUCT((Sortie!$C$4:C83=C36)*(Sortie!$D$4:D83))) -> 105 | E36: MD-Fuga Ø300 | F36: Drap | G36: Struers | H36: 2 | I36: 1506 | J36: 49900023 | K36: 10 | L36: 5 | M36: U | N36: 130 | O36: =N36-(N36*P36/100) -> 118.3 | P36: 9
A37: 28 | C37: 26 | D37: =IF(C37="","",SUMPRODUCT((Entrée!$C$4:C84=C37)*(Entrée!$D$4:D84))-SUMPRODUCT((Sortie!$C$4:C84=C37)*(Sortie!$D$4:D84))) -> 104 | E37: MD-Chem Ø300 | F37: Drap | G37: Struers | H37: 2 | I37: 1506 | J37: 40500094 | K37: 10 | L37: 5 | M37: U | N37: 230 | O37: =N37-(N37*P37/100) -> 209.3 | P37: 9
A38: 29 | C38: 27 | D38: =IF(C38="","",SUMPRODUCT((Entrée!$C$4:C85=C38)*(Entrée!$D$4:D85))-SUMPRODUCT((Sortie!$C$4:C85=C38)*(Sortie!$D$4:D85))) -> 103 | E38: MD-Mol Ø300 | F38: Drap | G38: Struers | H38: 2 | I38: 1506 | J38: 40500079 | K38: 10 | L38: 5 | M38: U | N38: 130 | O38: =N38-(N38*P38/100) -> 118.3 | P38: 9
A39: 30 | C39: 28 | D39: =IF(C39="","",SUMPRODUCT((Entrée!$C$4:C86=C39)*(Entrée!$D$4:D86))-SUMPRODUCT((Sortie!$C$4:C86=C39)*(Sortie!$D$4:D86))) -> 102 | E39: MD-Allegro Ø300 | F39: Drap | G39: Struers | H39: 1 | I39: 1506 | J39: 40500067 | K39: 5 | L39: 5 | M39: U | N39: 450 | O39: =N39-(N39*P39/100) -> 409.5 | P39: 9
A40: 32 | C40: 29 | D40: =IF(C40="","",SUMPRODUCT((Entrée!$C$4:C87=C40)*(Entrée!$D$4:D87))-SUMPRODUCT((Sortie!$C$4:C87=C40)*(Sortie!$D$4:D87))) -> 101 | E40: MD-Largo Ø300 | F40: Drap | G40: Struers | H40: 1 | I40: 1506 | J40: 40500099 | K40: 5 | L40: 5 | M40: U | N40: 410 | O40: =N40-(N40*P40/100) -> 373.1 | P40: 9
... A43: 35 | C43: 32 | D43: =IF(C43="","",SUMPRODUCT((Entrée!$C$4:C90=C43)*(Entrée!$D$4:D90))-SUMPRODUCT((Sortie!$C$4:C90=C43)*(Sortie!$D$4:D90))) -> 98 | E43: DiaPro Allegro / Largo 9µm | F43: Flacon | G43: Struers | H43: 1 | I43: 1506 | J43: 40600369 | K43: 2 | L43: 0.5 | M43: L | N43: 72 | O43: =N43-(N43*P43/100) -> 65.52 | P43: 9
E45: Pour polisseuses Ø250
A46: 38 | C46: 33 | D46: =IF(C46="","",SUMPRODUCT((Entrée!$C$4:C93=C46)*(Entrée!$D$4:D93))-SUMPRODUCT((Sortie!$C$4:C93=C46)*(Sortie!$D$4:D93))) -> 97 | E46: Papier Sic Foil Ø250 G 120 | F46: Boite de 50 | G46: Struers | H46: 1 | I46: 1506 | J46: 40400066 | K46: 4 | L46: 50 | M46: U | N46: 44 | O46: =N46-(N46*P46/100) -> 37.4 | P46: 15
A47: 39 | C47: 34 | D47: =IF(C47="","",SUMPRODUCT((Entrée!$C$4:C94=C47)*(Entrée!$D$4:D94))-SUMPRODUCT((Sortie!$C$4:C94=C47)*(Sortie!$D$4:D94))) -> 96 | E47: Papier Sic Foil Ø250 G 220 | F47: Boite de 100 | G47: Struers | H47: 1 | I47: 1506 | J47: 40400127 | K47: 2 | L47: 100 | M47: U | N47: 39 | O47: =N47-(N47*P47/100) -> 33.15 | P47: 15
A48: 40 | C48: 35 | D48: =IF(C48="","",SUMPRODUCT((Entrée!$C$4:C95=C48)*(Entrée!$D$4:D95))-SUMPRODUCT((Sortie!$C$4:C95=C48)*(Sortie!$D$4:D95))) -> 95 | E48: Papier Sic Foil Ø250 G 500 | F48: Boite de 100 | G48: Struers | H48: 1 | I48: 1506 | J48: 40400070 | K48: 2 | L48: 100 | M48: U | N48: 79 | O48: =N48-(N48*P48/100) -> 67.15 | P48: 15
...

Sheet Feuil1
