Workbook
Name culture: [1]Sources!$A$7:$A$24
Name diffré: [1]Sources!$F$14:$F$28
Name Région: Feuil3!$A$2:$A$17

Sheet Calculateur
B4: Niveau d'exigence de la culture (sources : Comifer 2007) | H4: Analyses réalisées par l'agriculteur
B6: N° de parcelle | C6: Région/zone | D6: Type de sol | E6: Culture | F6: Niveau d'exigence des cultures | H6: Teneur en P2O5 du sol (mg/kg) | I6: T impasse | J6: T renforcé
F7: Pour le P2O5 | G7: Pour le K2O
B8: 1 | C8: Auvergne | E8: Blé dur | F8: =VLOOKUP(E8,sources!A7:B24,2,FALSE) -> Moyennement exigeantes | G8: =VLOOKUP(E8,sources!A7:C24,3,FALSE) -> Peu exigentes
B9: 2 | C9: Bretagne Pays de Loire | E9: Colza | F9: =VLOOKUP(E9,sources!A8:B25,2,FALSE) -> Très exigeantes | G9: =VLOOKUP(E9,sources!A8:C25,3,FALSE) -> Moyennement exigeantes
B10: 3 | E10: Luzerne | F10: =VLOOKUP(E10,sources!A9:B26,2,FALSE) -> Très exigeantes | G10: =VLOOKUP(E10,sources!A9:C26,3,FALSE) -> Moyennement exigeantes
B11: 4 | E11: Pomme de terre | F11: =VLOOKUP(E11,sources!A10:B27,2,FALSE) -> Très exigeantes | G11: =VLOOKUP(E11,sources!A10:C27,3,FALSE) -> Très exigeantes
B12: 5 | E12: Blé suivant un blé | F12: =VLOOKUP(E12,sources!A11:B28,2,FALSE) -> Moyennement exigeantes | G12: =VLOOKUP(E12,sources!A11:C28,3,FALSE) -> 0
B13: 6 | E13: Seigle | F13: =VLOOKUP(E13,sources!A12:B29,2,FALSE) -> Peu exigentes | G13: =VLOOKUP(E13,sources!A12:C29,3,FALSE) -> Peu exigentes
B14: 7 | E14: Maïs ensilage | F14: =VLOOKUP(E14,sources!A13:B30,2,FALSE) -> Moyennement exigeantes | G14: =VLOOKUP(E14,sources!A13:C30,3,FALSE) -> 0
B15: 8 | E15: Orge | F15: =VLOOKUP(E15,sources!A14:B31,2,FALSE) -> Moyennement exigeantes | G15: =VLOOKUP(E15,sources!A14:C31,3,FALSE) -> Peu exigentes
B16: 9 | E16: Pois | F16: =VLOOKUP(E16,sources!A15:B32,2,FALSE) -> Moyennement exigeantes | G16: =VLOOKUP(E16,sources!A15:C32,3,FALSE) -> Moyennement exigeantes
B17: 10 | E17: Ray-grass | F17: =VLOOKUP(E17,sources!A16:B33,2,FALSE) -> Moyennement exigeantes | G17: =VLOOKUP(E17,sources!A16:C33,3,FALSE) -> Moyennement exigeantes
B18: 11 | E18: Sorgho | F18: =VLOOKUP(E18,sources!A17:B34,2,FALSE) -> Moyennement exigeantes | G18: =VLOOKUP(E18,sources!A17:C34,3,FALSE) -> Peu exigentes
B19: 12 | E19: Avoine | F19: =VLOOKUP(E19,sources!A18:B35,2,FALSE) -> Peu exigentes | G19: =VLOOKUP(E19,sources!A18:C35,3,FALSE) -> Peu exigentes
B20: 13 | E20: Blé tendre | F20: =VLOOKUP(E20,sources!A19:B36,2,FALSE) -> Peu exigentes | G20: =VLOOKUP(E20,sources!A19:C36,3,FALSE) -> Peu exigentes
B21: 14 | E21: Maïs grain | F21: =VLOOKUP(E21,sources!A20:B37,2,FALSE) -> Peu exigentes | G21: =VLOOKUP(E21,sources!A20:C37,3,FALSE) -> 0
... B25: 18 | E25: Maïs | F25: =VLOOKUP(E25,sources!A24:B41,2,FALSE) -> 0 | G25: =VLOOKUP(E25,sources!A24:C41,3,FALSE) -> Moyennement exigeantes
B28: Objectif : faire correspondre une région (listes déroulantes en colonne C) à une liste déroulante de sols (en colonne D), en sachant que les types de sols ne sont pas les mêmes selon la région. Ensuite, il faut faire correspondre un type de sol (Colonne D) et un niveau d'exigence de la culture (colonne F), aux valeurs de T impasse et T renforcés correspondantes. Les valeurs sont exposées dans l'onglet sources.

Sheet sources
A1: Sources
A3: Tableau 1 : Niveaux d'exigence pour le P2O5 et le K2O de différentes cultures
A5: Cultures | B5: Niveau d'exigence
B6: P2O5 | C6: K2O
A7: Betteraves | B7: Très exigeantes | C7: Très exigeantes
A8: Colza | B8: Très exigeantes | C8: Moyennement exigeantes
A9: Luzerne | B9: Très exigeantes | C9: Moyennement exigeantes
A10: Pomme de terre | B10: Très exigeantes | C10: Très exigeantes
A11: Blé suivant un blé | B11: Moyennement exigeantes
A12: Blé dur | B12: Moyennement exigeantes | C12: Peu exigentes
A13: Maïs ensilage | B13: Moyennement exigeantes
A14: Orge | B14: Moyennement exigeantes | C14: Peu exigentes
A15: Pois | B15: Moyennement exigeantes | C15: Moyennement exigeantes
A16: Ray-grass | B16: Moyennement exigeantes | C16: Moyennement exigeantes
A17: Sorgho | B17: Moyennement exigeantes | C17: Peu exigentes
A18: Avoine | B18: Peu exigentes | C18: Peu exigentes
A19: Blé tendre | B19: Peu exigentes | C19: Peu exigentes
A20: Maïs grain | B20: Peu exigentes
A21: Seigle | B21: Peu exigentes | C21: Peu exigentes
A22: Soja | B22: Peu exigentes | C22: Moyennement exigeantes
A23: Tournesol | B23: Peu exigentes | C23: Moyennement exigeantes
A24: Maïs | C24: Moyennement exigeantes
A31: (teneurs-seuils régionalisés par ARVALIS - Institut du Végétal)
A32: Unités : mg/kg (ou ppm) de terre fine
A33: TENEURS-SEUILS PK PAR TYPE DE SOL
C35: Seuils P2O5 en mg/kg - Méthode Joret-Herbert | I35: Seuils K2O échangeables, en mg/kg
A36: Région | B36: Exigence de la culture --> | C36: Très exigeantes | E36: Moyennement exigeantes | G36: Peu exigentes | I36: Très exigeantes | K36: Moyennement exigeantes | M36: Peu exigentes
B37: Seuil --> | C37: T renforcé | D37: T impasse | E37: T renforcé | F37: T impasse | G37: T renforcé | H37: T impasse | I37: T renforcé | J37: T impasse | K37: T renforcé | L37: T impasse | M37: T renforcé | N37: T impasse
A38: Nord-Picardie | B38: Limons battants | C38: 100 | D38: 160 | E38: 100 | F38: 160 | G38: 70 | H38: 150 | I38: 170 | J38: 300 | K38: 120 | L38: 180 | M38: 80 | N38: 150
B39: Limons argileux | C39: 100 | D39: 160 | E39: 100 | F39: 160 | G39: 70 | H39: 150 | I39: 200 | J39: 400 | K39: 150 | L39: 220 | M39: 100 | N39: 150
B40: Argiles | C40: 100 | D40: 160 | E40: 100 | F40: 160 | G40: 70 | H40: 15 | I40: 250 | J40: 450 | K40: 200 | L40: 170 | M40: 150 | N40: 200
B41: Cranettes | C41: 280 | D41: 400 | E41: 250 | F41: 300 | G41: 200 | H41: 260 | I41: 200 | J41: 400 | K41: 80 | L41: 250 | M41: 50 | N41: 100
A42: Champagne Ardenne | B42: Craie | C42: 280 | D42: 400 | E42: 250 | F42: 300 | G42: 200 | H42: 260 | I42: 200 | J42: 400 | K42: 80 | L42: 250 | M42: 50 | N42: 100
B43: Limon | C43: 100 | D43: 160 | E43: 100 | F43: 160 | G43: 70 | H43: 150 | I43: 170 | J43: 300 | K43: 120 | L43: 180 | M43: 80 | N43: 150
B44: Limon argileux | C44: 100 | D44: 160 | E44: 100 | F44: 160 | G44: 70 | H44: 150 | I44: 200 | J44: 400 | K44: 150 | L44: 220 | M44: 100 | N44: 150
B45: Argilo-calcaire superf | C45: 140 | D45: 200 | E45: 80 | F45: 180 | G45: 70 | H45: 150 | I45: 300 | J45: 450 | K45: 300 | L45: 400 | M45: 150 | N45: 300
B46: Argilo-calcaire prof | C46: 120 | D46: 180 | E46: 80 | F46: 120 | G46: 50 | H46: 120 | I46: 250 | J46: 300 | K46: 200 | L46: 300 | M46: 100 | N46: 180
B47: Sable | C47: 60 | D47: 160 | E47: 60 | F47: 160 | G47: 40 | H47: 130 | I47: 100 | J47: 100 | K47: 70 | L47: 100 | M47: 60 | N47: 100
A48: Lorraine | B48: Argilo-calcaires profonds (Barrois, Haye), argiles calcaires du plateau lorrain | C48: 120 | D48: 180 | E48: 80 | F48: 120 | G48: 50 | H48: 120 | I48: 250 | J48: 300 | K48: 200 | L48: 300 | M48: 100 | N48: 180
B49: Argilo-calcaire superficiels (prof<=40cm) | C49: 140 | D49: 200 | E49: 80 | F49: 180 | G49: 70 | H49: 150 | I49: 300 | J49: 450 | K49: 300 | L49: 400 | M49: 150 | N49: 300
B50: Limons | C50: 100 | D50: 160 | E50: 100 | F50: 160 | G50: 70 | H50: 150 | I50: 170 | J50: 300 | K50: 120 | L50: 180 | M50: 80 | N50: 150
B51: Limons argileux | C51: 100 | D51: 160 | E51: 100 | F51: 160 | G51: 70 | H51: 150 | I51: 200 | J51: 400 | K51: 150 | L51: 220 | M51: 100 | N51: 150
B52: Argiles lourdes | C52: 100 | D52: 160 | E52: 100 | F52: 160 | G52: 70 | H52: 150 | I52: 300 | J52: 450 | K52: 300 | L52: 400 | M52: 150 | N52: 300
A53: Alsace | B53: Limons loess | C53: 100 | D53: 160 | E53: 100 | F53: 160 | G53: 70 | H53: 150 | I53: 200 | J53: 400 | K53: 150 | L53: 220 | M53: 100 | N53: 150
B54: Alluvions de l'Ill | C54: 100 | D54: 160 | E54: 100 | F54: 160 | G54: 70 | H54: 150 | I54: 200 | J54: 400 | K54: 150 | L54: 220 | M54: 100 | N54: 150
B55: Limons lehm | C55: 120 | D55: 160 | E55: 120 | F55: 180 | G55: 70 | H55: 170 | I55: 180 | J55: 300 | K55: 130 | L55: 190 | M55: 80 | N55: 160
B56: Hardt superficielle, Ried brun caillouteux | C56: 140 | D56: 200 | E56: 80 | F56: 180 | G56: 70 | H56: 150 | I56: 300 | J56: 400 | K56: 300 | L56: 400 | M56: 150 | N56: 300
B57: Hardt profonde, Ried brun profond, basse plaine rhénane | C57: 120 | D57: 180 | E57: 80 | F57: 120 | G57: 50 | H57: 120 | I57: 250 | J57: 300 | K57: 200 | L57: 300 | M57: 100 | N57: 180
B58: Argilo-calcaires profonds Alsace bossue, basse plaine sous-vosgienne | C58: 120 | D58: 180 | E58: 80 | F58: 120 | G58: 50 | H58: 120 | I58: 250 | J58: 300 | K58: 200 | L58: 300 | M58: 100 | N58: 180
B59: Argilo-calcaires caillouteux Alsace bossue, basse plaine sous-vosgienne | C59: 140 | D59: 200 | E59: 80 | F59: 180 | G59: 70 | H59: 150 | I59: 300 | J59: 400 | K59: 300 | L59: 400 | M59: 150 | N59: 300
A60: Franche Comté | B60: Limons (A%<20%) | C60: 100 | D60: 160 | E60: 100 | F60: 160 | G60: 70 | H60: 150 | I60: 170 | J60: 300 | K60: 120 | L60: 180 | M60: 80 | N60: 150
B61: Limons argileux | C61: 100 | D61: 160 | E61: 100 | F61: 160 | G61: 70 | H61: 150 | I61: 200 | J61: 400 | K61: 150 | L61: 220 | M61: 100 | N61: 150
B62: Limons arg. superf. de plateaux | C62: 110 | D62: 160 | E62: 110 | F62: 170 | G62: 70 | H62: 160 | I62: 220 | J62: 400 | K62: 170 | L62: 240 | M62: 100 | N62: 170
B63: sols argileux de vallées | C63: 100 | D63: 160 | E63: 100 | F63: 160 | G63: 70 | H63: 150 | I63: 250 | J63: 450 | K63: 20 | L63: 270 | M63: 150 | N63: 200
B64: sols argileux, calcaires, de vallées | C64: 120 | D64: 180 | E64: 80 | F64: 120 | G64: 50 | H64: 120 | I64: 250 | J64: 300 | K64: 200 | L64: 300 | M64: 100 | N64: 180
B65: Limons hydromorphes | C65: 120 | D65: 160 | E65: 120 | F65: 180 | G65: 70 | H65: 170 | I65: 180 | J65: 300 | K65: 130 | L65: 190 | M65: 80 | N65: 160
B66: argiles hydromorphes de vallées | C66: 120 | D66: 160 | E66: 120 | F66: 180 | G66: 70 | H66: 170 | I66: 260 | J66: 450 | K66: 210 | L66: 280 | M66: 150 | N66: 210
A67: Bourgogne | B67: Argilo-calcaires superficiels | C67: 140 | D67: 200 | E67: 80 | F67: 180 | G67: 70 | H67: 150 | I67: 300 | J67: 450 | K67: 300 | L67: 400 | M67: 150 | N67: 300
B68: Argilo-calcaires profonds | C68: 120 | D68: 180 | E68: 80 | F68: 120 | G68: 50 | H68: 120 | I68: 250 | J68: 300 | K68: 200 | L68: 300 | M68: 100 | N68: 180
B69: limons et argiles profonds | C69: 80 | D69: 160 | E69: 80 | F69: 130 | G69: 70 | H69: 120 | I69: 200 | J69: 300 | K69: 150 | L69: 220 | M69: 80 | N69: 150
B70: limons battants | C70: 100 | D70: 160 | E70: 100 | F70: 160 | G70: 70 | H70: 150 | I70: 170 | J70: 300 | K70: 120 | L70: 180 | M70: 80 | N70: 150
B71: sols sablo-graveleux | C71: 60 | D71: 160 | E71: 60 | F71: 160 | G71: 40 | H71: 130 | I71: 150 | J71: 200 | K71: 70 | L71: 120 | M71: 60 | N71: 100
B72: alluvions argileuses | C72: 100 | D72: 160 | E72: 100 | F72: 160 | G72: 70 | H72: 150 | I72: 250 | J72: 450 | K72: 200 | L72: 290 | M72: 150 | N72: 200
A73: Centre Limousin | B73: Argilo-calcaires superficiels caillouteux | C73: 140 | D73: 200 | E73: 80 | F73: 180 | G73: 70 | H73: 150 | I73: 300 | J73: 400 | K73: 300 | L73: 400 | M73: 150 | N73: 300
B74: Argilo-calcaires profonds peu caillouteux | C74: 120 | D74: 180 | E74: 80 | F74: 120 | G74: 50 | H74: 120 | I74: 200 | J74: 300 | K74: 200 | L74: 300 | M74: 100 | N74: 180
B75: limon argileux | C75: 80 | D75: 160 | E75: 80 | F75: 130 | G75: 70 | H75: 120 | I75: 200 | J75: 400 | K75: 150 | L75: 220 | M75: 100 | N75: 150
B76: limon battant | C76: 100 | D76: 160 | E76: 100 | F76: 160 | G76: 70 | H76: 150 | I76: 170 | J76: 300 | K76: 120 | L76: 180 | M76: 80 | N76: 150
B77: sables | C77: 60 | D77: 160 | E77: 60 | F77: 160 | G77: 40 | H77: 130 | I77: 150 | J77: 200 | K77: 70 | L77: 120 | M77: 40 | N77: 100
B78: limon sableux | C78: 60 | D78: 160 | E78: 60 | F78: 160 | G78: 70 | H78: 130 | I78: 170 | J78: 300 | K78: 120 | L78: 180 | M78: 80 | N78: 150
B79: limons sur argile à silex | C79: 90 | D79: 210 | E79: 90 | F79: 140 | G79: 50 | H79: 130 | I79: 180 | J79: 310 | K79: 130 | L79: 190 | M79: 90 | N79: 160
B80: Argile lourde | C80: 100 | D80: 160 | E80: 100 | F80: 160 | G80: 70 | H80: 150 | I80: 250 | J80: 450 | K80: 200 | L80: 180 | M80: 150 | N80: 200
A81: Centre Bassin parisien | B81: limons battants | C81: 100 | D81: 160 | E81: 100 | F81: 160 | G81: 70 | H81: 150 | I81: 170 | J81: 300 | K81: 120 | L81: 180 | M81: 80 | N81: 150
B82: limons de Beauce | C82: 100 | D82: 160 | E82: 100 | F82: 160 | G82: 70 | H82: 150 | I82: 200 | J82: 400 | K82: 150 | L82: 220 | M82: 100 | N82: 150
B83: sables | C83: 60 | D83: 160 | E83: 60 | F83: 160 | G83: 40 | H83: 130 | I83: 150 | J83: 200 | K83: 70 | L83: 120 | M83: 40 | N83: 100
B84: limons sableux | C84: 60 | D84: 160 | E84: 60 | F84: 160 | G84: 40 | H84: 130 | I84: 170 | J84: 250 | K84: 120 | L84: 180 | M84: 80 | N84: 150
B85: Argilo-calcaires superficiels caillouteux | C85: 140 | D85: 200 | E85: 80 | F85: 180 | G85: 70 | H85: 150 | I85: 300 | J85: 400 | K85: 30 | L85: 400 | M85: 150 | N85: 300
B86: Argilo-calcaires profonds peu caillouteux | C86: 120 | D86: 180 | E86: 80 | F86: 120 | G86: 50 | H86: 120 | I86: 200 | J86: 300 | K86: 200 | L86: 300 | M86: 100 | N86: 180
B87: Argilo-calcaires de Beauce | C87: 120 | D87: 180 | E87: 80 | F87: 120 | G87: 50 | H87: 120 | I87: 170 | J87: 300 | K87: 170 | L87: 250 | M87: 100 | N87: 200
A88: Haute Normandie | B88: limons des plateaux | C88: 100 | D88: 160 | E88: 100 | F88: 160 | G88: 70 | H88: 150 | I88: 170 | J88: 300 | K88: 120 | L88: 180 | M88: 80 | N88: 150
B89: limons caillouteux sur argile à silex | C89: 120 | D89: 180 | E89: 120 | F89: 180 | G89: 90 | H89: 170 | I89: 180 | J89: 310 | K89: 130 | L89: 180 | M89: 90 | N89: 160
B90: argilo-calcaires superficiels sur craie | C90: 140 | D90: 200 | E90: 80 | F90: 180 | G90: 70 | H90: 150 | I90: 350 | J90: 450 | K90: 300 | L90: 400 | M90: 150 | N90: 300
B91: sables caillouteux non calcaires | C91: 80 | D91: 200 | E91: 80 | F91: 180 | G91: 40 | H91: 150 | I91: 160 | J91: 200 | K91: 80 | L91: 160 | M91: 40 | N91: 110
A92: Basse Normandie | B92: Limons | C92: 100 | D92: 160 | E92: 100 | F92: 160 | G92: 70 | H92: 150 | I92: 170 | J92: 300 | K92: 120 | L92: 180 | M92: 80 | N92: 150
B93: Argilo-calcaires | C93: 140 | D93: 200 | E93: 80 | F93: 180 | G93: 70 | H93: 150 | I93: 250 | J93: 300 | K93: 200 | L93: 300 | M93: 100 | N93: 180
B94: Sables | C94: 60 | D94: 160 | E94: 60 | F94: 160 | G94: 40 | H94: 130 | I94: 160 | J94: 200 | K94: 90 | L94: 160 | M94: 50 | N94: 110
B95: Terres lourdes | C95: 140 | D95: 160 | E95: 80 | F95: 180 | G95: 70 | H95: 150 | I95: 250 | J95: 450 | K95: 200 | L95: 270 | M95: 150 | N95: 200
A96: Bretagne Pays de Loire | B96: Limons sains et limons sableux | C96: 100 | D96: 160 | E96: 100 | F96: 160 | G96: 70 | H96: 150 | I96: 170 | J96: 300 | K96: 120 | L96: 180 | M96: 80 | N96: 150
B97: Limons caillouteux superficiels | C97: 120 | D97: 180 | E97: 120 | F97: 180 | G97: 90 | H97: 170 | I97: 190 | J97: 320 | K97: 140 | L97: 200 | M97: 100 | N97: 170
B98: sables | C98: 60 | D98: 160 | E98: 60 | F98: 160 | G98: 40 | H98: 130 | I98: 100 | J98: 150 | K98: 70 | L98: 100 | M98: 50 | N98: 100
B99: argilo-calcaires profonds sur marne | C99: 120 | D99: 180 | E99: 80 | F99: 120 | G99: 50 | H99: 120 | I99: 250 | J99: 300 | K99: 200 | L99: 300 | M99: 100 | N99: 180
B100: Argilo-calcaires superficiels | C100: 140 | D100: 200 | E100: 80 | F100: 180 | G100: 70 | H100: 150 | I100: 400 | J100: 450 | K100: 300 | L100: 400 | M100: 150 | N100: 300
A101: Poitou Charentes | B101: Terres de Groie | C101: 140 | D101: 200 | E101: 80 | F101: 150 | G101: 60 | H101: 130 | I101: 450 | J101: 500 | K101: 250 | L101: 450 | M101: 150 | N101: 300
B102: Argilo-calcaires profonds sur calcaires marneux | C102: 120 | D102: 180 | E102: 80 | F102: 120 | G102: 50 | H102: 120 | I102: 300 | J102: 350 | K102: 200 | L102: 300 | M102: 100 | N102: 180
B103: Aubues légères et champagnes superficielles | C103: 280 | D103: 300 | E103: 200 | F103: 250 | G103: 100 | H103: 220 | I103: 200 | J103: 400 | K103: 80 | L103: 250 | M103: 50 | N103: 100
B104: Aubues lourdes et champagnes profondes | C104: 280 | D104: 400 | E104: 250 | F104: 300 | G104: 200 | H104: 260 | I104: 200 | J104: 400 | K104: 80 | L104: 250 | M104: 50 | N104: 100
B105: Limons, terres rouges, bornais, doucins limoneux | C105: 100 | D105: 160 | E105: 100 | F105: 160 | G105: 70 | H105: 150 | I105: 170 | J105: 300 | K105: 120 | L105: 180 | M105: 80 | N105: 150
B106: Sols sableux | C106: 60 | D106: 160 | E106: 60 | F106: 160 | G106: 40 | H106: 130 | I106: 160 | J106: 200 | K106: 90 | L106: 130 | M106: 50 | N106: 130
A107: Haute Marne | B107: Limons | C107: 100 | D107: 160 | E107: 100 | F107: 160 | G107: 70 | H107: 150 | I107: 170 | J107: 300 | K107: 120 | L107: 180 | M107: 80 | N107: 150
B108: Sols superficiels du Barrois (G1, G2) et autres sols argileux (G3, G4) à 30% argile | C108: 120 | D108: 180 | E108: 80 | F108: 150 | G108: 50 | H108: 130 | I108: 250 | J108: 300 | K108: 200 | L108: 300 | M108: 100 | N108: 180
B109: Sols superficiels du Barrois (G1, G2) et autres sols argileux (G3, G4) à 40% argile | C109: 120 | D109: 200 | E109: 80 | F109: 150 | G109: 50 | H109: 130 | I109: 350 | J109: 450 | K109: 300 | L109: 400 | M109: 100 | N109: 300
...

Sheet Feuil3
A1: Région | C1: Région | D1: Sol
A2: Alsace | C2: Alsace | D2: Alluvions de l'Ill
A3: Auvergne | C3: Alsace | D3: Argilo-calcaires caillouteux Alsace bossue, basse plaine sous-vosgienne
A4: Basse Normandie | C4: Alsace | D4: Argilo-calcaires profonds Alsace bossue, basse plaine sous-vosgienne
A5: Bourgogne | C5: Alsace | D5: Hardt profonde, Ried brun profond, basse plaine rhénane
A6: Bretagne Pays de Loire | C6: Alsace | D6: Hardt superficielle, Ried brun caillouteux
A7: Centre Bassin parisien | C7: Alsace | D7: Limons lehm
A8: Centre Limousin | C8: Alsace | D8: Limons loess
A9: Champagne Ardenne | C9: Auvergne | D9: Alluvions récentes (sableuses)
A10: Franche Comté | C10: Auvergne | D10: Argilo-calcaire
A11: Haute Marne | C11: Auvergne | D11: Granitique
A12: Haute Normandie | C12: Auvergne | D12: Sologne
... A17: Sud Ouest | C17: Basse Normandie | D17: Terres lourdes
C18: Bourgogne | D18: alluvions argileuses
C19: Bourgogne | D19: Argilo-calcaires profonds
C20: Bourgogne | D20: Argilo-calcaires superficiels
C21: Bourgogne | D21: limons battants
C22: Bourgogne | D22: limons et argiles profonds
C23: Bourgogne | D23: sols sablo-graveleux
C24: Bretagne Pays de Loire | D24: argilo-calcaires profonds sur marne
C25: Bretagne Pays de Loire | D25: Argilo-calcaires superficiels
C26: Bretagne Pays de Loire | D26: Limons caillouteux superficiels
C27: Bretagne Pays de Loire | D27: Limons sains et limons sableux
C28: Bretagne Pays de Loire | D28: sables
C29: Centre Bassin parisien | D29: Argilo-calcaires de Beauce
... C88: Sud Ouest | D88: Sols basiques ou argilo-calcaires (terreforts, alluvions)
