Workbook
Name culture: [1]Sources!$A$7:$A$24
Name diffré: [1]Sources!$F$14:$F$28
Name Région: Feuil3!$A$2:$A$17

Sheet Calculateur
B4: Niveau d'exigence de la culture (sources : Comifer 2007) | H4: Analyses réalisées par l'agriculteur
B6: N° de parcelle | C6: Région/zone | D6: Type de sol | E6: Culture | F6: Niveau d'exigence des cultures | H6: Teneur en P2O5 du sol (mg/kg) | I6: T impasse | J6: T renforcé
F7: Pour le P2O5 | G7: Pour le K2O
B8: 1 | C8: Auvergne | E8: Blé dur | F8: =VLOOKUP(E8,sources!A7:B24,2,FALSE) -> Moyennement exigeantes | G8: =VLOOKUP(E8,sources!A7:C24,3,FALSE) -> Peu exigentes
B9: 2 | C9: Bretagne Pays de Loire | E9: Colza | F9: =VLOOKUP(E9,sources!A8:B25,2,FALSE) -> Très exigeantes | G9: =VLOOKUP(E9,sources!A8:C25,3,FALSE) -> Moyennement exigeantes
B10: 3 | E10: Luzerne | F10: =VLOOKUP(E10,sources!A9:B26,2,FALSE) -> Très exigeantes | G10: =VLOOKUP(E10,sources!A9:C26,3,FALSE) -> Moyennement exigeantes
B11: 4 | E11: Pomme de terre | F11: =VLOOKUP(E11,sources!A10:B27,2,FALSE) -> Très exigeantes | G11: =VLOOKUP(E11,sources!A10:C27,3,FALSE) -> Très exigeantes
B12: 5 | E12: Blé suivant un blé | F12: =VLOOKUP(E12,sources!A11:B28,2,FALSE) -> Moyennement exigeantes | G12: =VLOOKUP(E12,sources!A11:C28,3,FALSE) -> 0
B13: 6 | E13: Seigle | F13: =VLOOKUP(E13,sources!A12:B29,2,FALSE) -> Peu exigentes | G13: =VLOOKUP(E13,sources!A12:C29,3,FALSE) -> Peu exigentes
B14: 7 | E14: Maïs ensilage | F14: =VLOOKUP(E14,sources!A13:B30,2,FALSE) -> Moyennement exigeantes | G14: =VLOOKUP(E14,sources!A13:C30,3,FALSE) -> 0
B15: 8 | E15: Orge | F15: =VLOOKUP(E15,sources!A14:B31,2,FALSE) -> Moyennement exigeantes | G15: =VLOOKUP(E15,sources!A14:C31,3,FALSE) -> Peu exigentes
B16: 9 | E16: Pois | F16: =VLOOKUP(E16,sources!A15:B32,2,FALSE) -> Moyennement exigeantes | G16: =VLOOKUP(E16,sources!A15:C32,3,FALSE) -> Moyennement exigeantes
B17: 10 | E17: Ray-grass | F17: =VLOOKUP(E17,sources!A16:B33,2,FALSE) -> Moyennement exigeantes | G17: =VLOOKUP(E17,sources!A16:C33,3,FALSE) -> Moyennement exigeantes
B18: 11 | E18: Sorgho | F18: =VLOOKUP(E18,sources!A17:B34,2,FALSE) -> Moyennement exigeantes | G18: =VLOOKUP(E18,sources!A17:C34,3,FALSE) -> Peu exigentes
B19: 12 | E19: Avoine | F19: =VLOOKUP(E19,sources!A18:B35,2,FALSE) -> Peu exigentes | G19: =VLOOKUP(E19,sources!A18:C35,3,FALSE) -> Peu exigentes
B20: 13 | E20: Blé tendre | F20: =VLOOKUP(E20,sources!A19:B36,2,FALSE) -> Peu exigentes | G20: =VLOOKUP(E20,sources!A19:C36,3,FALSE) -> Peu exigentes
B21: 14 | E21: Maïs grain | F21: =VLOOKUP(E21,sources!A20:B37,2,FALSE) -> Peu exigentes | G21: =VLOOKUP(E21,sources!A20:C37,3,FALSE) -> 0
... B25: 18 | E25: Maïs | F25: =VLOOKUP(E25,sources!A24:B41,2,FALSE) -> 0 | G25: =VLOOKUP(E25,sources!A24:C41,3,FALSE) -> Moyennement exigeantes
B28: Objectif : faire correspondre une région (listes déroulantes en colonne C) à une liste déroulante de sols (en colonne D), en sachant que les types de sols ne sont pas les mêmes selon la région. Ensuite, il faut faire correspondre un type de sol (Colonne D) et un niveau d'exigence de la culture (colonne F), aux valeurs de T impasse et T renforcés correspondantes. Les valeurs sont exposées dans l'onglet sources.

Sheet sources
A1: Sources
A3: Tableau 1 : Niveaux d'exigence pour le P2O5 et le K2O de différentes cultures
A5: Cultures | B5: Niveau d'exigence
B6: P2O5 | C6: K2O
A7: Betteraves | B7: Très exigeantes | C7: Très exigeantes
A8: Colza | B8: Très exigeantes | C8: Moyennement exigeantes
A9: Luzerne | B9: Très exigeantes | C9: Moyennement exigeantes
A10: Pomme de terre | B10: Très exigeantes | C10: Très exigeantes
A11: Blé suivant un blé | B11: Moyennement exigeantes
A12: Blé dur | B12: Moyennement exigeantes | C12: Peu exigentes
A13: Maïs ensilage | B13: Moyennement exigeantes
A14: Orge | B14: Moyennement exigeantes | C14: Peu exigentes
A15: Pois | B15: Moyennement exigeantes | C15: Moyennement exigeantes
A16: Ray-grass | B16: Moyennement exigeantes | C16: Moyennement exigeantes
A17: Sorgho | B17: Moyennement exigeantes | C17: Peu exigentes
A18: Avoine | B18: Peu exigentes | C18: Peu exigentes
A19: Blé tendre | B19: Peu exigentes | C19: Peu exigentes
A20: Maïs grain | B20: Peu exigentes
A21: Seigle | B21: Peu exigentes | C21: Peu exigentes
A22: Soja | B22: Peu exigentes | C22: Moyennement exigeantes
A23: Tournesol | B23: Peu exigentes | C23: Moyennement exigeantes
A24: Maïs | C24: Moyennement exigeantes
A31: (teneurs-seuils régionalisés par ARVALIS - Institut du Végétal)
A32: Unités : mg/kg (ou ppm) de terre fine
A33: TENEURS-SEUILS PK PAR TYPE DE SOL
C35: Seuils P2O5 en mg/kg - Méthode Joret-Herbert | I35: Seuils K2O échangeables, en mg/kg
A36: Région | B36: Exigence de la culture --> | C36: Très exigeantes | E36: Moyennement exigeantes | G36: Peu exigentes | I36: Très exigeantes | K36: Moyennement exigeantes | M36: Peu exigentes
B37: Seuil --> | C37: T renforcé | D37: T impasse | E37: T renforcé | F37: T impasse | G37: T renforcé | H37: T impasse | I37: T renforcé | J37: T impasse | K37: T renforcé | L37: T impasse | M37: T renforcé | N37: T impasse
A38: Nord-Picardie | B38: Limons battants | C38: 100 | D38: 160 | E38: 100 | F38: 160 | G38: 70 | H38: 150 | I38: 170 | J38: 300 | K38: 120 | L38: 180 | M38: 80 | N38: 150
B39: Limons argileux | C39: 100 | D39: 160 | E39: 100 | F39: 160 | G39: 70 | H39: 150 | I39: 200 | J39: 400 | K39: 150 | L39: 220 | M39: 100 | N39: 150
B40: Argiles | C40: 100 | D40: 160 | E40: 100 | F40: 160 | G40: 70 | H40: 15 | I40: 250 | J40: 450 | K40: 200 | L40: 170 | M40: 150 | N40: 200
B41: Cranettes | C41: 280 | D41: 400 | E41: 250 | F41: 300 | G41: 200 | H41: 260 | I41: 200 | J41: 400 | K41: 80 | L41: 250 | M41: 50 | N41: 100
A42: Champagne Ardenne | B42: Craie | C42: 280 | D42: 400 | E42: 250 | F42: 300 | G42: 200 | H42: 260 | I42: 200 | J42: 400 | K42: 80 | L42: 250 | M42: 50 | N42: 100
B43: Limon | C43: 100 | D43: 160 | E43: 100 | F43: 160 | G43: 70 | H43: 150 | I43: 170 | J43: 300 | K43: 120 | L43: 180 | M43: 80 | N43: 150
B44: Limon argileux | C44: 100 | D44: 160 | E44: 100 | F44: 160 | G44: 70 | H44: 150 | I44: 200 | J44: 400 | K44: 150 | L44: 220 | M44: 100 | N44: 150
B45: Argilo-calcaire superf | C45: 140 | D45: 200 | E45: 80 | F45: 180 | G45: 70 | H45: 150 | I45: 300 | J45: 450 | K45: 300 | L45: 400 | M45: 150 | N45: 300
B46: Argilo-calcaire prof | C46: 120 | D46: 180 | E46: 80 | F46: 120 | G46: 50 | H46: 120 | I46: 250 | J46: 300 | K46: 200 | L46: 300 | M46: 100 | N46: 180
B47: Sable | C47: 60 | D47: 160 | E47: 60 | F47: 160 | G47: 40 | H47: 130 | I47: 100 | J47: 100 | K47: 70 | L47: 100 | M47: 60 | N47: 100
A48: Lorraine | B48: Argilo-calcaires profonds (Barrois, Haye), argiles calcaires du plateau lorrain | C48: 120 | D48: 180 | E48: 80 | F48: 120 | G48: 50 | H48: 120 | I48: 250 | J48: 300 | K48: 200 | L48: 300 | M48: 100 | N48: 180
B49: Argilo-calcaire superficiels (prof<=40cm) | C49: 140 | D49: 200 | E49: 80 | F49: 180 | G49: 70 | H49: 150 | I49: 300 | J49: 450 | K49: 300 | L49: 400 | M49: 150 | N49: 300
...

Sheet Feuil3
A1: Région | C1: Région | D1: Sol
A2: Alsace | C2: Alsace | D2: Alluvions de l'Ill
A3: Auvergne | C3: Alsace | D3: Argilo-calcaires caillouteux Alsace bossue, basse plaine sous-vosgienne
A4: Basse Normandie | C4: Alsace | D4: Argilo-calcaires profonds Alsace bossue, basse plaine sous-vosgienne
A5: Bourgogne | C5: Alsace | D5: Hardt profonde, Ried brun profond, basse plaine rhénane
A6: Bretagne Pays de Loire | C6: Alsace | D6: Hardt superficielle, Ried brun caillouteux
A7: Centre Bassin parisien | C7: Alsace | D7: Limons lehm
A8: Centre Limousin | C8: Alsace | D8: Limons loess
A9: Champagne Ardenne | C9: Auvergne | D9: Alluvions récentes (sableuses)
A10: Franche Comté | C10: Auvergne | D10: Argilo-calcaire
A11: Haute Marne | C11: Auvergne | D11: Granitique
A12: Haute Normandie | C12: Auvergne | D12: Sologne
... A17: Sud Ouest | C17: Basse Normandie | D17: Terres lourdes
C18: Bourgogne | D18: alluvions argileuses
C19: Bourgogne | D19: Argilo-calcaires profonds
C20: Bourgogne | D20: Argilo-calcaires superficiels
C21: Bourgogne | D21: limons battants
C22: Bourgogne | D22: limons et argiles profonds
C23: Bourgogne | D23: sols sablo-graveleux
C24: Bretagne Pays de Loire | D24: argilo-calcaires profonds sur marne
C25: Bretagne Pays de Loire | D25: Argilo-calcaires superficiels
C26: Bretagne Pays de Loire | D26: Limons caillouteux superficiels
C27: Bretagne Pays de Loire | D27: Limons sains et limons sableux
C28: Bretagne Pays de Loire | D28: sables
C29: Centre Bassin parisien | D29: Argilo-calcaires de Beauce
... C88: Sud Ouest | D88: Sols basiques ou argilo-calcaires (terreforts, alluvions)
