Workbook

Sheet Feuil1
A3: 7131 | B3: a | C3: t | D3: trehiou@orange.fr | E3: prune.t@orange.fr
A4: 7126 | B4: b | C4: y | D4: s | E4: X
A5: 7127 | B5: c | C5: u | D5: dw
A6: 7128 | B6: d | C6: i | D6: trehiou@orange.fr | E6: prune.t@orange.fr
A7: 7129 | B7: e | C7: o | D7: c
A8: 7130 | B8: f | C8: p | D8: v
A9: 7131 | B9: g | C9: m | D9: b
A10: 7125 | B10: g | C10: m | D10: b

Sheet Test
A5: 7129 | B5: =IF(A5="","",VLOOKUP(A:A,Feuil1!A:B,2,FALSE)) -> e | C5: =IF(B5="","",VLOOKUP(B:B,Feuil1!B:C,2,FALSE)) -> o | D5: =IF(C5="","",VLOOKUP(C:C,Feuil1!C:D,2,FALSE)) -> c
A6: 7128 | B6: =IF(A6="","",VLOOKUP(A:A,Feuil1!A:D,2,FALSE)) -> d | C6: =IF(B6="","",VLOOKUP(B:B,Feuil1!B:C,2,FALSE)) -> i | D6: =IF(C6="","","mailto:" &HYPERLINK(VLOOKUP(C:C,Feuil1!$C:$D,2,FALSE))) -> mailto:trehiou@orange.fr
A7: 7127 | B7: =IF(A7="","",VLOOKUP(A:A,Feuil1!A:B,2,FALSE)) -> c | C7: =IF(B7="","",VLOOKUP(B:B,Feuil1!B:C,2,FALSE)) -> u
A8: 7128 | B8: =IF(A8="","",VLOOKUP(A:A,Feuil1!A:B,2,FALSE)) -> d | C8: =IF(B8="","",VLOOKUP(B:B,Feuil1!B:C,2,FALSE)) -> i | D8: =IF(C8="","","mailto:" &HYPERLINK(VLOOKUP(C:C,Feuil1!$C:$D,2,FALSE))) -> mailto:trehiou@orange.fr | E8: =IF(D8="","","mailto:" &HYPERLINK(VLOOKUP(D:D,Feuil1!$D:$E,2,FALSE))) -> #N/A
A9: 7131 | B9: =IF(A9="","",VLOOKUP(A:A,Feuil1!A:B,2,FALSE)) -> a | C9: =IF(B9="","",VLOOKUP(B:B,Feuil1!B:C,2,FALSE)) -> t | D9: =IF(C9="","","mailto:" &HYPERLINK(VLOOKUP(C:C,Feuil1!$C:$D,2,FALSE))) -> mailto:trehiou@orange.fr | E9: =IF(D9="","","mailto:" &HYPERLINK(VLOOKUP(D:D,Feuil1!$D:$E,2,FALSE))) -> #N/A
A10: 7125 | B10: =IF(A10="","",VLOOKUP(A:A,Feuil1!A:B,2,FALSE)) -> g | C10: =IF(B10="","",VLOOKUP(B:B,Feuil1!B:C,2,FALSE)) -> m | D10: =IF(C10="","",VLOOKUP(C:C,Feuil1!C:D,2,FALSE)) -> b
B11: =IF(A11="","",VLOOKUP(A:A,Feuil1!A:B,2,FALSE))
B12: =IF(A12="","",VLOOKUP(A:A,Feuil1!A:B,2,FALSE))
B13: =IF(A13="","",VLOOKUP(A:A,Feuil1!A:B,2,FALSE))
B14: =IF(A14="","",VLOOKUP(A:A,Feuil1!A:B,2,FALSE))

Sheet Feuil4
