Workbook

Sheet Catégorie1
A1: Catégorie | B1: 1
A3: Init | B3: Nom | C3: Prénom | D3: S Mini | E3: S Maxi | F3: H Mini | G3: H maxi | H3: Taux calculé
A4: 1 | B4: (vide) | C4: (vide) | D4: 38400 | E4: 70000 | F4: 180000 | G4: 300000 | H4: 0.26333333
A5: 2 | B5: (vide) | C5: (vide) | D5: 38400 | E5: 70000 | F5: 180000 | G5: 300000 | H5: 0.26333333
A6: 3 | B6: (vide) | C6: (vide) | D6: 45000 | E6: 85000 | F6: 200000 | G6: 340000 | H6: 0.28571429
A7: 4 | B7: (vide) | C7: (vide) | D7: 52800 | E7: 85000 | F7: 200000 | G7: 340000 | H7: 0.23
A8: 5 | B8: (vide) | C8: (vide) | D8: 60000 | E8: 105000 | F8: 210000 | G8: 400000 | H8: 0.23684211
A9: 6 | B9: (vide) | C9: (vide) | D9: 72000 | E9: 100000 | F9: 200000 | G9: 350000 | H9: 0.18666667
A10: 7 | B10: (vide) | C10: (vide) | D10: 60000 | E10: 80000 | F10: 220000 | G10: 300000 | H10: 0.25
A11: 8 | B11: (vide) | C11: (vide) | D11: 56000 | E11: 90000 | F11: 200000 | G11: 360000 | H11: 0.2125
A12: 9 | B12: (vide) | C12: (vide) | D12: 52000 | E12: 92500 | F12: 200000 | G12: 360000 | H12: 0.253125
A13: 10 | B13: (vide) | C13: (vide) | D13: 64800 | E13: 100000 | F13: 200000 | G13: 400000 | H13: 0.176
A14: 11 | B14: (vide) | C14: (vide) | D14: 48000 | E14: 83000 | F14: 180000 | G14: 300000 | H14: 0.29166667
A15: 12 | B15: (vide) | C15: (vide) | D15: 42000 | E15: 70000 | F15: 160000 | G15: 300000 | H15: 0.2
... A38: 62 | B38: (vide) | C38: (vide) | D38: 50000 | E38: 70000 | F38: 180000 | G38: 300000 | H38: 0.1667

Sheet TabCatégorie1
B1: Noms
A2: CA | B2: (vide) | C2: (vide) | D2: (vide) | E2: (vide) | F2: (vide) | G2: (vide) | H2: (vide) | I2: (vide) | J2: (vide) | K2: (vide) | L2: (vide) | M2: (vide) | N2: (vide) | O2: (vide) | P2: (vide) | Q2: (vide) | R2: (vide) | S2: (vide) | T2: (vide) | U2: (vide) | V2: (vide) | W2: (vide) | X2: (vide) | Y2: (vide) | Z2: (vide) | AA2: (vide) | AB2: (vide) | AC2: (vide) | AD2: (vide) | AE2: (vide) | AF2: (vide) | AG2: (vide) | AH2: (vide) | AI2: (vide) | AJ2: (vide)
B3: (vide) | C3: (vide) | D3: (vide) | E3: (vide) | F3: (vide) | G3: (vide) | H3: (vide) | I3: (vide) | J3: (vide) | K3: (vide) | L3: (vide) | M3: (vide) | N3: (vide) | O3: (vide) | P3: (vide) | Q3: (vide) | R3: (vide) | S3: (vide) | T3: (vide) | U3: (vide) | V3: (vide) | W3: (vide) | X3: (vide) | Y3: (vide) | Z3: (vide) | AA3: (vide) | AB3: (vide) | AC3: (vide) | AD3: (vide) | AE3: (vide) | AF3: (vide) | AG3: (vide) | AH3: (vide) | AI3: (vide) | AJ3: (vide)
A4: 100000 | B4: =Rémunération(TabCatégorie1!$A4,Catégorie1!D$4,Catégorie1!E$4,Catégorie1!F$4,Catégorie1!G$4,Catégorie1!H$4) -> 38400 | C4: =Rémunération($A4,Catégorie1!D$5,Catégorie1!E$5,Catégorie1!F$5,Catégorie1!G$5,Catégorie1!H$5) -> 38400 | D4: =Rémunération($A4,Catégorie1!D$6,Catégorie1!E$6,Catégorie1!F$6,Catégorie1!G$6,Catégorie1!H$6) -> 45000
A5: =A4+1000 -> 101000 | B5: =Rémunération(TabCatégorie1!$A5,Catégorie1!D$4,Catégorie1!E$4,Catégorie1!F$4,Catégorie1!G$4,Catégorie1!H$4) -> 38400 | C5: =Rémunération($A5,Catégorie1!D$5,Catégorie1!E$5,Catégorie1!F$5,Catégorie1!G$5,Catégorie1!H$5) -> 38400 | D5: =Rémunération($A5,Catégorie1!D$6,Catégorie1!E$6,Catégorie1!F$6,Catégorie1!G$6,Catégorie1!H$6) -> 45000
A6: =A5+1000 -> 102000 | B6: =Rémunération(TabCatégorie1!$A6,Catégorie1!D$4,Catégorie1!E$4,Catégorie1!F$4,Catégorie1!G$4,Catégorie1!H$4) -> 38400 | C6: =Rémunération($A6,Catégorie1!D$5,Catégorie1!E$5,Catégorie1!F$5,Catégorie1!G$5,Catégorie1!H$5) -> 38400 | D6: =Rémunération($A6,Catégorie1!D$6,Catégorie1!E$6,Catégorie1!F$6,Catégorie1!G$6,Catégorie1!H$6) -> 45000
A7: =A6+1000 -> 103000 | B7: =Rémunération(TabCatégorie1!$A7,Catégorie1!D$4,Catégorie1!E$4,Catégorie1!F$4,Catégorie1!G$4,Catégorie1!H$4) -> 38400 | C7: =Rémunération($A7,Catégorie1!D$5,Catégorie1!E$5,Catégorie1!F$5,Catégorie1!G$5,Catégorie1!H$5) -> 38400 | D7: =Rémunération($A7,Catégorie1!D$6,Catégorie1!E$6,Catégorie1!F$6,Catégorie1!G$6,Catégorie1!H$6) -> 45000
A8: =A7+1000 -> 104000 | B8: =Rémunération(TabCatégorie1!$A8,Catégorie1!D$4,Catégorie1!E$4,Catégorie1!F$4,Catégorie1!G$4,Catégorie1!H$4) -> 38400 | C8: =Rémunération($A8,Catégorie1!D$5,Catégorie1!E$5,Catégorie1!F$5,Catégorie1!G$5,Catégorie1!H$5) -> 38400 | D8: =Rémunération($A8,Catégorie1!D$6,Catégorie1!E$6,Catégorie1!F$6,Catégorie1!G$6,Catégorie1!H$6) -> 45000
A9: =A8+1000 -> 105000 | B9: =Rémunération(TabCatégorie1!$A9,Catégorie1!D$4,Catégorie1!E$4,Catégorie1!F$4,Catégorie1!G$4,Catégorie1!H$4) -> 38400 | C9: =Rémunération($A9,Catégorie1!D$5,Catégorie1!E$5,Catégorie1!F$5,Catégorie1!G$5,Catégorie1!H$5) -> 38400 | D9: =Rémunération($A9,Catégorie1!D$6,Catégorie1!E$6,Catégorie1!F$6,Catégorie1!G$6,Catégorie1!H$6) -> 45000
A10: =A9+1000 -> 106000 | B10: =Rémunération(TabCatégorie1!$A10,Catégorie1!D$4,Catégorie1!E$4,Catégorie1!F$4,Catégorie1!G$4,Catégorie1!H$4) -> 38400 | C10: =Rémunération($A10,Catégorie1!D$5,Catégorie1!E$5,Catégorie1!F$5,Catégorie1!G$5,Catégorie1!H$5) -> 38400 | D10: =Rémunération($A10,Catégorie1!D$6,Catégorie1!E$6,Catégorie1!F$6,Catégorie1!G$6,Catégorie1!H$6) -> 45000
A11: =A10+1000 -> 107000 | B11: =Rémunération(TabCatégorie1!$A11,Catégorie1!D$4,Catégorie1!E$4,Catégorie1!F$4,Catégorie1!G$4,Catégorie1!H$4) -> 38400 | C11: =Rémunération($A11,Catégorie1!D$5,Catégorie1!E$5,Catégorie1!F$5,Catégorie1!G$5,Catégorie1!H$5) -> 38400 | D11: =Rémunération($A11,Catégorie1!D$6,Catégorie1!E$6,Catégorie1!F$6,Catégorie1!G$6,Catégorie1!H$6) -> 45000
A12: =A11+1000 -> 108000 | B12: =Rémunération(TabCatégorie1!$A12,Catégorie1!D$4,Catégorie1!E$4,Catégorie1!F$4,Catégorie1!G$4,Catégorie1!H$4) -> 38400 | C12: =Rémunération($A12,Catégorie1!D$5,Catégorie1!E$5,Catégorie1!F$5,Catégorie1!G$5,Catégorie1!H$5) -> 38400 | D12: =Rémunération($A12,Catégorie1!D$6,Catégorie1!E$6,Catégorie1!F$6,Catégorie1!G$6,Catégorie1!H$6) -> 45000
A13: =A12+1000 -> 109000 | B13: =Rémunération(TabCatégorie1!$A13,Catégorie1!D$4,Catégorie1!E$4,Catégorie1!F$4,Catégorie1!G$4,Catégorie1!H$4) -> 38400 | C13: =Rémunération($A13,Catégorie1!D$5,Catégorie1!E$5,Catégorie1!F$5,Catégorie1!G$5,Catégorie1!H$5) -> 38400 | D13: =Rémunération($A13,Catégorie1!D$6,Catégorie1!E$6,Catégorie1!F$6,Catégorie1!G$6,Catégorie1!H$6) -> 45000
A14: =A13+1000 -> 110000 | B14: =Rémunération(TabCatégorie1!$A14,Catégorie1!D$4,Catégorie1!E$4,Catégorie1!F$4,Catégorie1!G$4,Catégorie1!H$4) -> 38400 | C14: =Rémunération($A14,Catégorie1!D$5,Catégorie1!E$5,Catégorie1!F$5,Catégorie1!G$5,Catégorie1!H$5) -> 38400 | D14: =Rémunération($A14,Catégorie1!D$6,Catégorie1!E$6,Catégorie1!F$6,Catégorie1!G$6,Catégorie1!H$6) -> 45000
A15: =A14+1000 -> 111000 | B15: =Rémunération(TabCatégorie1!$A15,Catégorie1!D$4,Catégorie1!E$4,Catégorie1!F$4,Catégorie1!G$4,Catégorie1!H$4) -> 38400 | C15: =Rémunération($A15,Catégorie1!D$5,Catégorie1!E$5,Catégorie1!F$5,Catégorie1!G$5,Catégorie1!H$5) -> 38400 | D15: =Rémunération($A15,Catégorie1!D$6,Catégorie1!E$6,Catégorie1!F$6,Catégorie1!G$6,Catégorie1!H$6) -> 45000
A16: =A15+1000 -> 112000 | B16: =Rémunération(TabCatégorie1!$A16,Catégorie1!D$4,Catégorie1!E$4,Catégorie1!F$4,Catégorie1!G$4,Catégorie1!H$4) -> 38400 | C16: =Rémunération($A16,Catégorie1!D$5,Catégorie1!E$5,Catégorie1!F$5,Catégorie1!G$5,Catégorie1!H$5) -> 38400 | D16: =Rémunération($A16,Catégorie1!D$6,Catégorie1!E$6,Catégorie1!F$6,Catégorie1!G$6,Catégorie1!H$6) -> 45000
... A404: =A403+1000 -> 500000 | B404: =Rémunération(TabCatégorie1!$A404,Catégorie1!D$4,Catégorie1!E$4,Catégorie1!F$4,Catégorie1!G$4,Catégorie1!H$4) -> 70000 | C404: =Rémunération($A404,Catégorie1!D$5,Catégorie1!E$5,Catégorie1!F$5,Catégorie1!G$5,Catégorie1!H$5) -> 70000 | D404: =Rémunération($A404,Catégorie1!D$6,Catégorie1!E$6,Catégorie1!F$6,Catégorie1!G$6,Catégorie1!H$6) -> 85000
