Workbook
Name groupesvulnerables: Feuil2!$A$2:$A$6
Name Habitation: Feuil2!$A$14:$A$17
Name niveau: Feuil2!$D$2:$D$8
Name sexe: Feuil2!$A$20:$A$21
Name situationfamiliale: Feuil2!$A$9:$A$12
Name sorties: Feuil2!$A$23:$A$33

Sheet Feuil1
B2: ANNEE 2013. Situation au 31/12/2013
B3: ETAT CIVIL | I3: STATUTS | P3: INFORMATIONS COMPLEMENTAIRES | W3: ACCOMPAGNEMENT PLIE | AA3: SITUATION DES PERSONNES
A4: N° | B4: NOM | C4: PRENOM | D4: SEXE | E4: DATE DE NAISSANCE | F4: AGE | G4: SITUATION FAMILIALE | H4: QUARTIER (d'habitation) | I4: Groupes vulnérables | J4: Minima | K4: POLE EMPLOI | O4: SUIVI MLJA | P4: MOBILITE | R4: QUALIFICATION | U4: EXPERIENCE PROFESSIONNELLE | W4: DATE D'ENTREE DISPOSITIF PLIE | X4: DATE D'ENTREE ACCOMP. PIMMS | Y4: DATE DE SORTIE ACCOMPAGNEMENT PIMMS | Z4: MOTIF DE SORTIE DU DIPOSITIF | AA4: SITUATION ACTUELLE | AB4: COMMENTAIRES
K5: N° Identifiant | L5: ARE | M5: DE | N5: DELD | P5: Permis | Q5: Véhicule | R5: Niveau | S5: Derniere classe et/ou formation | T5: Diplôme obtenu | U5: Dernier poste occupé | V5: Durée
A6: 1 | B6: ABDOU | C6: Mohamed | D6: M | E6: 22756 | F6: =INT((TODAY()-E6)/365) -> 51 | G6: Marié | H6: Valdegour | I6: Migrant | J6: X | K6: 7686197M | N6: X | U6: Plombier | V6: Stage | W6: 41513 | X6: 41513 | Y6: 42004 | AA6: Accompagnement renforcé | AB6: Prépa Métiers de l'Artisanat. CMA. Du 09/09/2013 au 31/12/2013
A7: =A6+1 -> 2 | B7: ABDOU MOUSSA | C7: Moinedjouma | D7: F | E7: 21966 | F7: =INT((TODAY()-E7)/365) -> 53 | G7: Divorcé | H7: Valdegour | I7: Migrant | J7: X | K7: 8208721Y | M7: X | R7: VI | U7: Agent d'entretien | V7: CDD | W7: 41513 | X7: 41513 | Y7: 42004 | AA7: Accompagnement renforcé | AB7: Divers CDD de remplacement PROBAT
A8: =A7+1 -> 3 | B8: AKABI | C8: Noureddine | D8: M | E8: 33002 | F8: =INT((TODAY()-E8)/365) -> 23 | G8: Célibataire | H8: Valdegour | I8: Migrant | K8: 8117834H | M8: X | O8: X | P8: X | Q8: X | R8: IV | U8: Manutentionnaire | V8: Intérim | W8: 41456 | X8: 41456 | Y8: 42004 | AA8: Formation | AB8: Entrée en formation Technicien d'entreposage. CCI Nîmes
A9: =A8+1 -> 4 | B9: BACHIRI | C9: Zoulika | D9: F | E9: 24218 | F9: =INT((TODAY()-E9)/365) -> 47 | G9: Séparé | H9: Valdegour | I9: TH-Migrant | J9: X | K9: 0590678S | N9: X | P9: X | Q9: X | R9: Vbis | S9: 3ème | U9: Opératrice photos | V9: 6 mois | W9: 41177 | X9: 41177 | Y9: 41274 | AA9: Accompagnement renforcé | AB9: Aucun contact malgré relances. Sortie à envisager
A10: =A9+1 -> 5 | B10: BAROUDI | C10: Miloud | D10: M | E10: 24133 | F10: =INT((TODAY()-E10)/365) -> 48 | G10: Marié | H10: Pissevin | I10: Migrant | K10: 8265875X | M10: X | P10: X | Q10: X | R10: VI | U10: Agent de nettoyage industriel | W10: 41579 | X10: 41579 | Y10: 42004 | AA10: Accompagnement renforcé | AB10: Projet professionnel à définir
A11: =A10+1 -> 6 | B11: BELABBAS | C11: Meriem | D11: F | E11: 31823 | F11: =INT((TODAY()-E11)/365) -> 26 | G11: Marié | H11: Autre | I11: Minorité | J11: X | K11: 8241938D | N11: X | P11: X | Q11: X | R11: IV | W11: 41609 | X11: 41609 | Y11: 42004 | AA11: Formation | AB11: Prépa concours aide-soignante. Entrée nov. 13. AMS
A12: =A11+1 -> 7 | B12: BOUAZZA-SELLAM | C12: Horiya | D12: F | E12: 30341 | F12: =INT((TODAY()-E12)/365) -> 31 | G12: Marié | H12: Valdegour | I12: Migrant | J12: X | K12: 7868480W | N12: X | R12: III | U12: Educatrice jeunes enfants | V12: Stage | W12: 41541 | X12: 41541 | Y12: 42004 | AA12: Accompagnement renforcé | AB12: A relancer
A13: =A12+1 -> 8 | B13: BOUKARNAFA | C13: Hadjira | D13: F | E13: 34196 | F13: =INT((TODAY()-E13)/365) -> 20 | G13: Marié | H13: Valdegour | I13: Minorité | J13: X | K13: 8210935E | M13: X | O13: X | R13: IV | U13: Agent administratif | V13: 2 mois | W13: 41625 | X13: 41625 | Y13: 42004 | AA13: Accompagnement renforcé | AB13: Projet professionnel à définir
A14: =A13+1 -> 9 | B14: DAHBI | C14: Mohammed | D14: M | E14: 27829 | F14: =INT((TODAY()-E14)/365) -> 37 | G14: Divorcé | H14: Valdegour | I14: TH-Migrant | J14: X | K14: 7470327W | N14: X | P14: X | R14: V | U14: Agent de service voiries | V14: Intérim | W14: 41625 | X14: 41625 | Y14: 42004 | AA14: Accompagnement renforcé | AB14: Orientation Cap Emploi. Réorientation à envisager
A15: =A14+1 -> 10 | B15: DJOUADI | C15: Nassira | D15: F | E15: 21495 | F15: =INT((TODAY()-E15)/365) -> 55 | G15: Marié | H15: Pissevin | I15: Migrant | K15: 0731731K | N15: X | R15: VI | U15: Agent d'entretien | W15: 41541 | X15: 41541 | Y15: 42004 | AA15: Accompagnement renforcé | AB15: Numéro de téléphone plus attribué. Courrier à envoyer avant sortie
A16: =A15+1 -> 11 | B16: EL BAY | C16: Karima | D16: F | E16: 32265 | F16: =INT((TODAY()-E16)/365) -> 25 | G16: Marié | H16: Valdegour | I16: Migrant | J16: X | K16: 8052771M | N16: X | P16: X | Q16: X | R16: IV | U16: Aide à domicile | W16: 41609 | X16: 41609 | Y16: 42004 | AA16: Accompagnement renforcé | AB16: Projet professionnel à définir
A17: =A16+1 -> 12 | B17: FADIL | C17: Latifa | D17: F | E17: 30215 | F17: =INT((TODAY()-E17)/365) -> 31 | G17: Séparé | H17: Pissevin | I17: Migrant | K17: 8034540W | N17: X | R17: VI | U17: Agent de conditionnement | V17: 3 mois | W17: 41456 | X17: 41456 | Y17: 42004 | AA17: Accompagnement renforcé | AB17: Travail saisonnier Conserves de France jusqu'en octobre
A18: =A17+1 -> 13 | B18: HABBECHE | C18: Ahcene | D18: M | E18: 21871 | F18: =INT((TODAY()-E18)/365) -> 54 | G18: Marié | H18: Valdegour | I18: Migrant | K18: 7474142T | N18: X | P18: X | Q18: X | R18: IV | U18: Agent polyvalent de services | V18: 2 ans | W18: 41541 | X18: 41541 | Y18: 42004 | AA18: Accompagnement renforcé
A19: =A18+1 -> 14 | B19: HAFDI | C19: Abdelkader | D19: M | E19: 21581 | F19: =INT((TODAY()-E19)/365) -> 55 | G19: Divorcé | H19: Valdegour | I19: TH-Migrant | J19: X | K19: 0785227H | N19: X | P19: X | R19: VI | U19: Manutentionnaire | V19: 1 an | W19: 41625 | X19: 41625 | Y19: 42004 | AA19: Accompagnement renforcé | AB19: Réorientation à envisager
A20: =A19+1 -> 15 | B20: IBEN- KHALID | C20: Nadia | D20: F | E20: 27123 | F20: =INT((TODAY()-E20)/365) -> 39 | G20: Marié | H20: Valdegour | I20: Migrant | J20: X | K20: 0757875C | N20: X | P20: X | R20: V | S20: BEP | U20: Serveuse | V20: 2 ans | W20: 39896 | X20: 39896 | Y20: 41541 | Z20: Abandon | AA20: Abandon | AB20: Abandon suite à déménagement
A21: =A20+1 -> 16 | B21: IBRAHIM | C21: Nawaoui | D21: M | E21: 27759 | F21: =INT((TODAY()-E21)/365) -> 38 | G21: Célibataire | H21: Pissevin | I21: Migrant | K21: 8303782A | M21: X | R21: VI | U21: Plongeur | W21: 41625 | X21: 41625 | Y21: 42004 | AA21: Accompagnement renforcé | AB21: Extras comme plongeur en restauration. Contrats demandés
A22: =A21+1 -> 17 | B22: LAGHA/KHOBZAOUI | C22: Nahima | D22: F | E22: 29432 | F22: =INT((TODAY()-E22)/365) -> 33 | G22: Séparé | H22: Pissevin | I22: Migrant | J22: X | K22: 7430004S | N22: X | R22: V | S22: Terminale Alger | U22: Agent d'entretien | V22: 3 ans | W22: 41205 | X22: 41205 | Y22: 42004 | AA22: Accompagnement renforcé | AB22: Aucun contact. Sortie à envisager
A23: =A22+1 -> 18 | B23: LAMHAZ | C23: Fathia | D23: F | E23: 21805 | F23: =INT((TODAY()-E23)/365) -> 54 | G23: Marié | H23: Pissevin | I23: Migrant | K23: 7551915D | N23: X | R23: V | S23: bac+2 Algérie | U23: Agent d'entretien | W23: 39735 | X23: 41003 | Y23: 42004 | AA23: Accompagnement renforcé
A24: =A23+1 -> 19 | B24: LOONES | C24: Slimane | D24: M | E24: 33742 | F24: 20 | G24: Célibataire | H24: Valdegour | K24: 8085329B | L24: X | M24: X | O24: X | R24: Vbis | S24: 3ème | W24: 40631 | X24: 41086 | Y24: 42004 | AA24: Accompagnement renforcé | AB24: Projet professionnel à définir
A25: =A24+1 -> 20 | B25: LOURHZAL | C25: Taha | D25: M | E25: 30511 | F25: =INT((TODAY()-E25)/365) -> 30 | G25: Marié | H25: Valdegour | I25: Minorité | J25: X | K25: 7334369R | M25: X | P25: X | Q25: X | R25: V | U25: Gérant | V25: 2 ans | W25: 41541 | X25: 41541 | Y25: 42004 | AA25: Formation | AB25: Formation Cap Métiers d'Avenir. CRFP. Attestation demandée
A26: =A25+1 -> 21 | B26: MIHOUBI | C26: Fatima | D26: F | E26: 31047 | F26: =INT((TODAY()-E26)/365) -> 29 | G26: Marié | H26: Pissevin | I26: Migrant | K26: 1086779G | N26: X | R26: VI | U26: Agent d'entretien | W26: 41579 | X26: 41579 | Y26: 42004 | AA26: Accompagnement renforcé | AB26: Quelques heures de ménages. Contrats demandés
A27: =A26+1 -> 22 | B27: OUADI | C27: Hassane | D27: M | E27: 24214 | F27: 49 | G27: Célibataire | H27: Valdegour | I27: Migrant | J27: X | K27: 7573421E | N27: X | P27: X | R27: Vbis | S27: 5ème | U27: agent d'entretien | V27: 1 mois | W27: 40631 | X27: 41043 | Y27: 42004 | AA27: Accompagnement renforcé
A28: =A27+1 -> 23 | B28: PLANTEROSE | C28: Isabelle | D28: F | E28: 26205 | F28: =INT((TODAY()-E28)/365) -> 42 | G28: Marié | H28: Pissevin | J28: X | K28: 8141919M | M28: X | P28: X | R28: IV | U28: Agent administratif | W28: 41541 | X28: 41541 | Y28: 42004 | AA28: Formation | AB28: Formation Cap Métiers d'Avenir. CRFP 25/11/13 au 05/05/2014
A29: =A28+1 -> 24 | B29: RAISS | C29: Houria | D29: F | E29: 25456 | F29: =INT((TODAY()-E29)/365) -> 44 | G29: Divorcé | H29: Valdegour | I29: Migrant | J29: X | K29: 7898018C | N29: X | P29: X | R29: VI | U29: Employée polyvanente | V29: Stage | W29: 41456 | X29: 41456 | Y29: 42004 | AA29: Formation | AB29: Formation EPR. INFA 09/10/2013 au 03/02/2014
A30: =A29+1 -> 25 | B30: SAÏD MOISSI | C30: Haoudhoi | D30: F | E30: 30024 | F30: =INT((TODAY()-E30)/365) -> 31 | G30: Célibataire | H30: Valdegour | I30: Migrant | J30: X | K30: 7697351L | R30: Vbis | S30: 3ème | U30: Agent d'entretien | V30: 3 mois | W30: 40162 | X30: 40162 | Y30: 41541 | Z30: Accés à un contrat aidé | AA30: CAE + 6 mois | AB30: CAE Mémoires Vives
A31: =A30+1 -> 26 | B31: SELIA | C31: Faouziat | D31: F | E31: 26569 | F31: =INT((TODAY()-E31)/365) -> 41 | G31: Célibataire | H31: Pissevin | I31: Migrant | J31: X | K31: 0881681Z | N31: X | R31: V | S31: 1ère gestion | U31: agent entretien | V31: 3 ans | W31: 40841 | X31: 40841 | Y31: 42004 | AA31: Accompagnement renforcé | AB31: Aucun contact malgré relances. Sortie à envisager
A32: =A31+1 -> 27 | B32: SEMAANE | C32: Meriem | D32: F | E32: 25971 | F32: =INT((TODAY()-E32)/365) -> 43 | G32: Marié | H32: Pissevin | I32: Migrant | J32: X | K32: 7884569J | N32: X | P32: X | Q32: X | R32: V | U32: EPR | V32: 1 mois | W32: 41579 | X32: 41579 | Y32: 42004 | AA32: Accompagnement renforcé | AB32: CDD 3 mois Restaurant Universitaire. Contrat demandé
A33: =A32+1 -> 28 | B33: TACHFINE | C33: Mustapha | D33: M | E33: 26114 | F33: =INT((TODAY()-E33)/365) -> 42 | G33: Marié | H33: Valdegour | I33: Migrant | J33: X | K33: 7925560P | N33: X | P33: X | Q33: X | R33: VI | U33: Chauffeur VL | V33: 6 mois | W33: 41456 | X33: 41456 | Y33: 41541 | Z33: Accés à un contrat aidé | AA33: CAE + 6 mois | AB33: CAE ACEE
A34: =A33+1 -> 29 | B34: TOILIHA-FADHILA | C34: Natacha | D34: F | E34: 28085 | F34: =INT((TODAY()-E34)/365) -> 37 | G34: Marié | H34: Pissevin | I34: Migrant | J34: X | K34: 8144464D | M34: X | R34: V | S34: BAC | U34: Agent d'entretien | V34: 6mois | W34: 41177 | X34: 41177 | Y34: 42004 | AA34: Accompagnement renforcé | AB34: En attente de l' ACI C'FAIRE en 01/ 2013

Sheet Nouveau TABLEAU DE BORD PLIE
C1: 41275 | D1: 41306 | E1: 41334 | F1: 41365 | G1: 41395 | H1: 41426 | I1: 41456 | J1: 41487 | K1: 41518 | L1: 41548 | M1: 41579 | N1: 41609 | O1: TOTAL
A2: Typologie | B2: CUMUL DE L'ANNEE | C2: =COUNTIF(Feuil1!$X$6:$X$34,">=01/01/2007")-COUNTIF(Feuil1!$X$6:$X$34,">=31/12/12") -> 9 | O2: =SUM(C2:N2) -> 9
B3: Entrées | C3: =COUNTIF(Feuil1!$X$6:$X$34,">=01/01/2013")-COUNTIF(Feuil1!$X$6:$X$34,">31/01/2013") -> 0 | D3: =COUNTIF(Feuil1!$X$6:$X$34,">=01/02/2013")-COUNTIF(Feuil1!$X$6:$X$34,">28/02/2013") -> 0 | E3: =COUNTIF(Feuil1!$X$6:$X$34,">=01/03/2013")-COUNTIF(Feuil1!$X$6:$X$34,">31/03/2013") -> 0 | F3: =COUNTIF(Feuil1!$X$6:$X$34,">=01/04/2013")-COUNTIF(Feuil1!$X$6:$X$34,">30/04/2013") -> 0 | G3: =COUNTIF(Feuil1!$X$6:$X$34,">=01/05/2013")-COUNTIF(Feuil1!$X$6:$X$34,">31/05/2013") -> 0 | H3: =COUNTIF(Feuil1!$X$6:$X$34,">=01/06/2013")-COUNTIF(Feuil1!$X$6:$X$34,">30/06/2013") -> 0 | I3: =COUNTIF(Feuil1!$X$6:$X$34,">=01/07/2013")-COUNTIF(Feuil1!$X$6:$X$34,">31/07/2013") -> 4 | J3: =COUNTIF(Feuil1!$X$6:$X$34,">=01/08/2013")-COUNTIF(Feuil1!$X$6:$X$34,">31/08/2013") -> 2 | K3: =COUNTIF(Feuil1!$X$6:$X$34,">=01/09/2013")-COUNTIF(Feuil1!$X$6:$X$34,">30/09/2013") -> 5 | L3: =COUNTIF(Feuil1!$X$6:$X$34,">=01/10/2013")-COUNTIF(Feuil1!$X$6:$X$34,">31/10/2013") -> 0 | M3: =COUNTIF(Feuil1!$X$6:$X$34,">=01/11/2013")-COUNTIF(Feuil1!$X$6:$X$34,">30/11/2013") -> 3 | N3: =COUNTIF(Feuil1!$X$6:$X$34,">=01/12/2013")-COUNTIF(Feuil1!$X$6:$X$34,">31/12/2013") -> 6 | O3: =SUM(I3:N3) -> 20
B4: Sorties | C4: =COUNTIF(Feuil1!Y6:Y34,">=01/01/2013")-COUNTIF(Feuil1!Y6:Y34,">=31/01/2013") -> 0 | D4: =COUNTIF(Feuil1!$Y$6:$Y$34,">=01/02/2013")-COUNTIF(Feuil1!$Y$6:$Y$34,">28/02/2013") -> 0 | E4: =COUNTIF(Feuil1!$Y$6:$Y$34,">=01/03/2013")-COUNTIF(Feuil1!$Y$6:$Y$34,">31/03/2013") -> 0 | F4: =COUNTIF(Feuil1!$Y$6:$Y$34,">=01/04/2013")-COUNTIF(Feuil1!$Y$6:$Y$34,">30/04/2013") -> 0 | G4: =COUNTIF(Feuil1!$Y$6:$Y$34,">=01/05/2013")-COUNTIF(Feuil1!$Y$6:$Y$34,">31/05/2013") -> 0 | H4: =COUNTIF(Feuil1!$Y$6:$Y$34,">=01/06/2013")-COUNTIF(Feuil1!$Y$6:$Y$34,">30/06/2013") -> 0 | I4: =COUNTIF(Feuil1!$Y$6:$Y$34,">=01/07/2013")-COUNTIF(Feuil1!$Y$6:$Y$34,">31/07/2013") -> 0 | J4: =COUNTIF(Feuil1!$Y$6:$Y$34,">=01/08/2013")-COUNTIF(Feuil1!$Y$6:$Y$34,">31/08/2013") -> 0 | K4: =COUNTIF(Feuil1!$Y$6:$Y$34,">=01/09/2013")-COUNTIF(Feuil1!$Y$6:$Y$34,">30/09/2013") -> 3 | L4: =COUNTIF(Feuil1!$Y$6:$Y$34,">=01/10/2013")-COUNTIF(Feuil1!$Y$6:$Y$34,">31/10/2013") -> 0 | M4: =COUNTIF(Feuil1!$Y$6:$Y$34,">=01/11/2013")-COUNTIF(Feuil1!$Y$6:$Y$34,">30/11/2013") -> 0 | N4: =COUNTIF(Feuil1!$Y$6:$Y$34,">=01/12/2013")-COUNTIF(Feuil1!$Y$6:$Y$34,">31/12/2013") -> 0 | O4: =SUM(C4:N4) -> 3
B5: TOTAL(file active)
B6: Homme | C6: =SUMPRODUCT((MONTH(C$1)=MONTH(Feuil1!$X$6:$X$34))*((Feuil1!$D$6:$D$34)="M")) -> 0 | D6: =SUMPRODUCT((MONTH(D$1)=MONTH(Feuil1!$X$6:$X$34))*((Feuil1!$D$6:$D$34)="M")) -> 0 | E6: =SUMPRODUCT((MONTH(E$1)=MONTH(Feuil1!$X$6:$X$34))*((Feuil1!$D$6:$D$34)="M")) -> 0 | F6: =SUMPRODUCT((MONTH(F$1)=MONTH(Feuil1!$X$6:$X$34))*((Feuil1!$D$6:$D$34)="M")) -> 0 | G6: =SUMPRODUCT((MONTH(G$1)=MONTH(Feuil1!$X$6:$X$34))*((Feuil1!$D$6:$D$34)="M")) -> 1 | H6: =SUMPRODUCT((MONTH(H$1)=MONTH(Feuil1!$X$6:$X$34))*((Feuil1!$D$6:$D$34)="M")) -> 1 | I6: =SUMPRODUCT((MONTH(I$1)=MONTH(Feuil1!$X$6:$X$34))*((Feuil1!$D$6:$D$34)="M")) -> 2 | J6: =SUMPRODUCT((MONTH(J$1)=MONTH(Feuil1!$X$6:$X$34))*((Feuil1!$D$6:$D$34)="M")) -> 1 | ... N6: =SUMPRODUCT((MONTH(N$1)=MONTH(Feuil1!$X$6:$X$34))*((Feuil1!$D$6:$D$34)="M")) -> 3
B7: Femme | C7: =SUMPRODUCT((MONTH(C$1)=MONTH(Feuil1!$X$6:$X$34))*((Feuil1!$D$6:$D$34)="F")) -> 0 | D7: =SUMPRODUCT((MONTH(D$1)=MONTH(Feuil1!$X$6:$X$34))*((Feuil1!$D$6:$D$34)="F")) -> 0 | E7: =SUMPRODUCT((MONTH(E$1)=MONTH(Feuil1!$X$6:$X$34))*((Feuil1!$D$6:$D$34)="F")) -> 1 | F7: =SUMPRODUCT((MONTH(F$1)=MONTH(Feuil1!$X$6:$X$34))*((Feuil1!$D$6:$D$34)="F")) -> 1 | G7: =SUMPRODUCT((MONTH(G$1)=MONTH(Feuil1!$X$6:$X$34))*((Feuil1!$D$6:$D$34)="F")) -> 0 | H7: =SUMPRODUCT((MONTH(H$1)=MONTH(Feuil1!$X$6:$X$34))*((Feuil1!$D$6:$D$34)="F")) -> 0 | I7: =SUMPRODUCT((MONTH(I$1)=MONTH(Feuil1!$X$6:$X$34))*((Feuil1!$D$6:$D$34)="F")) -> 2 | J7: =SUMPRODUCT((MONTH(J$1)=MONTH(Feuil1!$X$6:$X$34))*((Feuil1!$D$6:$D$34)="F")) -> 1 | ... N7: =SUMPRODUCT((MONTH(N$1)=MONTH(Feuil1!$X$6:$X$34))*((Feuil1!$D$6:$D$34)="F")) -> 4
A8: Tranche d'âge | B8: < 15 ans
B9: 15 à 24 ans
B10: 25 à 44 ans
B11: 45 à 54 ans
B12: 55 à 64 ans
B13: > 65 ans
A14: Quartier d'habitation | B14: Valdegour
B15: Pissevin
B16: Est
B17: Autres
A18: Statuts | B18: Salarié
B19: Chef d'entreprise
B20: DE
B21: DELD
B22: DE en formation
B23: Scolaire
B24: Retraité
A25: Niveau de formation | B25: VI
B26: Vbis
B27: V
B28: IV
B29: III
B30: II
B31: I
A32: Groupes vulnérables | B32: TH
B33: Migrant
B34: Minorité
B35: Autres personnes défavorisées
A36: CSP | B36: Agriculteurs
B37: Artisans, commerçants, chefs d'entreprises
B38: Cadres et prof. Intellectuelles supérieures
B39: Professions intermédiaires
B40: Employés
...

Sheet Feuil2
A2: Migrant | D2: I
A3: TH | D3: II
A4: Minorité | D4: III
A5: Autres personnes défavorisées | D5: IV
A6: TH-Migrant | D6: V
D7: Vbis
D8: VI
A9: Célibataire
A10: Marié
A11: Divorcé
A12: Séparé
A14: Valdegour
A15: Pissevin
A16: Est
A17: Autre
A19: Sexe
A20: M
A21: F
A23: Création d'entreprise
... A33: Autres sorties

Sheet Feuil3

Sheet Feuil4
