Workbook

Sheet Enoncé
A1: Gestion du temps dans la société JFaisTout
A4: L'activité de la société JFaisTout est constituée de projets. Les employé(e)s ont à remplir chaque mois le nombre d'heures passées par projet sur des fiches individuelles (figure 1). Ces fiches individuelles sont dans les onglets dont le nom est le nom de l'employé.
A7: Figure 1 : Fiches mensuelles.
A16: Dans la figure 2, l'onglet "Données Personnelles", on trouve le taux horaire et le temps de travail des employé(e)s . Un temps de travail de 100% correspond à 154 heures.
A20: Figure 2 : Onglet Données Personnels
A26: Question 1
A28: A partir du classeur Excel fourni, modifiez les éléments suivants :
B30: ➔ 1 Faire la présentation de l'onglet "Données Personnelles" comme dans la Figure 2 ;
B31: ➔ 2 Faire la présentation de la zone A1:B2 de l'onglet "Dupont" (nom en italique, et gras, contenu de la cellule A2 sur plusieurs lignes) ;
B32: ➔ 3 Compléter les cellules sur la ligne "total mensuel" pour obtenir la "durée mensuelle de travail" ;
B33: ➔ 4 Faire la présentation (zone A4:M9 de l'onglet "Dupont") pour le titre des lignes (mois) et le titre des colonnes (nom des projets) en cohérence avec la Figure 1 ;
B34: ➔ 5 A l'aide de la fonction RechercheV, compléter la cellule B2 durée mensuelle du travail : la fonction RechercheV est utilisée pour obtenir le temps de travail du salarié (100% ou 80%) ;
B35: ➔ 6 En utilisant la Mise en Forme Conditionnelle, présentez les cellules de B5 à M9 de manière à mettre en rouge les colonnes du mois dont le "total mensuel" est inférieur à la "durée hebdomadaire du travail" (cellule B2) ;
B36: ➔ 7 Utilisez une validation de données pour n'autoriser que la saisie de nombres d'heures comprises entre 0 et 200 ;
B37: ➔ 8 Faites ce travail pour les 2 autres employés Durant et Smith (onglet "Durant" t onglet "Smith").
A40: Dans la figure 3, onglet "bilan horaire personnels", on a une vue sur l'ensemble des horaires effectués par les employé(e)s.
A43: Figure 3 onglet "Bilan horaire Personnels" : horaires effectués par les employé(e)s
A48: Question 2
B50: A l'aide de formules (pas de copier coller) , compléter ce tableau, comme indiqué à la figure 3 (en utilisant des formules) à partir des données des autres onglets.
B52: Pour avoir une vue sur le nombre d'heures et le coût des projets, les données sont regroupées dans l'onglet "Bilan Projet" (figure 4). Dans le tableau "liste des projets" (zone de A4:M8), on trouve le temps passé pour l'ensemble des employé(e)s pour chaque mois.
B53: Dans le tableau "Coût des projets" (zone de A12:M17), on trouve le coût du projet calculé à partir du nombre d'heures passées et coût horaire de l'employé.
A58: Figure 4 : onglet "bilan projet"
A66: Dans l'onglet Récapitulatif projet (figure 5), on peut, après avoir fixé le nom du projet et le mois à l'aide d'une liste déroulante, avoir le nombre d'heures passées et le coût du projet pour le mois.
A70: Figure 5 : Récapitulatif du projet
A74: Question 3
B76: ➔ 1 Faire la présentation du tableau de la zone de A1:B5 ;
B77: ➔ 2 Mettre en place la déroulante pour le du projet ;
B78: ➔ 3 Mettre en place la déroulante pour le mois ;
B79: ➔ 4 A l'aide de la fonction RechercheV trouver le "nombre d'heures passées" ;
B80: ➔ 5 A l'aide de la fonction RechercheV trouver le "coût mensuel du projet".

Sheet Données Personnelles
A1: Durée Mensuelle du travail | B1: 154
A3: Nom | B3: taux horaire | C3: Temps de travail
A4: Dupont | B4: 40 | C4: 1
A5: Durant | B5: 120 | C5: 0.8
A6: Smith | B6: 80 | C6: 1

Sheet Bilan horaire Personnels
B5: Janvier | C5: Février | D5: Mars | E5: Avril | F5: Mai | G5: Juin | H5: Juillet | I5: Août | J5: Septembre | K5: Octobre | L5: Novembre | M5: Décembre
A6: Dupont | B6: =Dupont!B9 -> 150 | C6: =Dupont!C9 -> 155 | D6: =Dupont!D9 -> 180 | E6: =Dupont!E9 -> 160 | F6: =Dupont!F9 -> 0 | G6: =Dupont!G9 -> 0 | H6: =Dupont!H9 -> 0 | I6: =Dupont!I9 -> 0 | ... M6: =Dupont!M9 -> 0
A7: Durant | B7: =Durant!B9 -> 150 | C7: =Durant!C9 -> 160 | D7: =Durant!D9 -> 240 | E7: =Durant!E9 -> 180 | F7: =Durant!F9 -> 0 | G7: =Durant!G9 -> 0 | H7: =Durant!H9 -> 0 | I7: =Durant!I9 -> 0 | ... M7: =Durant!M9 -> 0
A8: Smith | B8: =Smith!B9 -> 150 | C8: =Smith!C9 -> 170 | D8: =Smith!D9 -> 240 | E8: =Smith!E9 -> 180 | F8: =Smith!F9 -> 0 | G8: =Smith!G9 -> 0 | H8: =Smith!H9 -> 0 | I8: =Smith!I9 -> 0 | ... M8: =Smith!M9 -> 0
A10: Total | B10: =SUM(B6:B8) -> 450 | C10: =SUM(C6:C8) -> 485 | D10: =SUM(D6:D8) -> 660 | E10: =SUM(E6:E8) -> 520 | F10: =SUM(F6:F8) -> 0 | G10: =SUM(G6:G8) -> 0 | H10: =SUM(H6:H8) -> 0 | I10: =SUM(I6:I8) -> 0 | ... M10: =SUM(M6:M8) -> 0

Sheet Recapitulatif projet
A1: Nom du projet | B1: CAT
A2: Mois | B2: Février
A4: Nombre d'heures passées | B4: =HLOOKUP(B2,'Bilan Projet'!$A$4:$N$8,VLOOKUP(B1,'Bilan Projet'!$A$5:$B$8,2,FALSE),FALSE) -> 150 | C4: RH(RV())
A5: Coût Mensuel | B5: =HLOOKUP(B2,'Bilan Projet'!$A$12:$N$17,VLOOKUP(B1,'Bilan Projet'!$A$13:$B$17,2,FALSE),FALSE) -> 16800 | C5: RH(RV())
A8: Nombre d'heures passées | B8: =VLOOKUP($B$1,'Bilan Projet II'!$A$4:$M$8,MATCH('Recapitulatif projet'!$B$2,'Bilan Projet II'!$A$4:$M$4),FALSE) -> 150 | C8: RV(EQUI())
A9: Coût Mensuel | B9: =VLOOKUP($B$1,'Bilan Projet II'!$A$12:$M$17,MATCH('Recapitulatif projet'!$B$2,'Bilan Projet II'!$A$12:$M$12),FALSE) -> 16800 | C9: RV(EQUI())

Sheet Bilan Projet
A4: Liste des projets | B4: 1 | C4: Janvier | D4: Février | E4: Mars | F4: Avril | G4: Mai | H4: Juin | I4: Juillet | J4: Août | K4: Septembre | L4: Octobre | M4: Novembre | N4: Décembre
A5: CAT | B5: 2 | C5: =Durant!B5+Smith!B6 -> 120 | D5: =Durant!C5+Smith!C6 -> 150 | E5: =Durant!D5+Smith!D6 -> 130 | F5: =Durant!E5+Smith!E6 -> 150 | G5: =Durant!F5+Smith!F6 -> 0 | H5: =Durant!G5+Smith!G6 -> 0 | I5: =Durant!H5+Smith!H6 -> 0 | J5: =Durant!I5+Smith!I6 -> 0 | ... N5: =Durant!M5+Smith!M6 -> 0
A6: SPAR | B6: 3 | C6: =Dupont!B5 -> 100 | D6: =Dupont!C5 -> 50 | E6: =Dupont!D5 -> 80 | F6: =Dupont!E5 -> 50 | G6: =Dupont!F5 -> 0 | H6: =Dupont!G5 -> 0 | I6: =Dupont!H5 -> 0 | J6: =Dupont!I5 -> 0 | ... N6: =Dupont!M5 -> 0
A7: SPIC | B7: 4 | C7: =Dupont!B6+Durant!B7+Smith!B5 -> 140 | D7: =Dupont!C6+Durant!C7+Smith!C5 -> 170 | E7: =Dupont!D6+Durant!D7+Smith!D5 -> 260 | F7: =Dupont!E6+Durant!E7+Smith!E5 -> 120 | G7: =Dupont!F6+Durant!F7+Smith!F5 -> 0 | H7: =Dupont!G6+Durant!G7+Smith!G5 -> 0 | I7: =Dupont!H6+Durant!H7+Smith!H5 -> 0 | J7: =Dupont!I6+Durant!I7+Smith!I5 -> 0 | ... N7: =Dupont!M6+Durant!M7+Smith!M5 -> 0
A8: TRIM | B8: 5 | C8: =Dupont!B7+Durant!B6+Smith!B7 -> 90 | D8: =Dupont!C7+Durant!C6+Smith!C7 -> 115 | E8: =Dupont!D7+Durant!D6+Smith!D7 -> 190 | F8: =Dupont!E7+Durant!E6+Smith!E7 -> 200 | G8: =Dupont!F7+Durant!F6+Smith!F7 -> 0 | H8: =Dupont!G7+Durant!G6+Smith!G7 -> 0 | I8: =Dupont!H7+Durant!H6+Smith!H7 -> 0 | J8: =Dupont!I7+Durant!I6+Smith!I7 -> 0 | ... N8: =Dupont!M7+Durant!M6+Smith!M7 -> 0
A12: Coût des projets | B12: 1 | C12: Janvier | D12: Février | E12: Mars | F12: Avril | G12: Mai | H12: Juin | I12: Juillet | J12: Août | K12: Septembre | L12: Octobre | M12: Novembre | N12: Décembre
A13: CAT | B13: 2 | C13: =Durant!B$5*'Données Personnelles'!$B$5+Smith!B$6*'Données Personnelles'!$B$6 -> 13600 | D13: =Durant!C$5*'Données Personnelles'!$B$5+Smith!C$6*'Données Personnelles'!$B$6 -> 16800 | E13: =Durant!D$5*'Données Personnelles'!$B$5+Smith!D$6*'Données Personnelles'!$B$6 -> 14800 | F13: =Durant!E$5*'Données Personnelles'!$B$5+Smith!E$6*'Données Personnelles'!$B$6 -> 12400 | G13: =Durant!F$5*'Données Personnelles'!$B$5+Smith!F$6*'Données Personnelles'!$B$6 -> 0 | H13: =Durant!G$5*'Données Personnelles'!$B$5+Smith!G$6*'Données Personnelles'!$B$6 -> 0 | I13: =Durant!H$5*'Données Personnelles'!$B$5+Smith!H$6*'Données Personnelles'!$B$6 -> 0 | J13: =Durant!I$5*'Données Personnelles'!$B$5+Smith!I$6*'Données Personnelles'!$B$6 -> 0 | ... N13: =Durant!M$5*'Données Personnelles'!$B$5+Smith!M$6*'Données Personnelles'!$B$6 -> 0
A14: SPAR | B14: 3 | C14: =C6*'Données Personnelles'!$B$4 -> 4000 | D14: =D6*'Données Personnelles'!$B$4 -> 2000 | E14: =E6*'Données Personnelles'!$B$4 -> 3200 | F14: =F6*'Données Personnelles'!$B$4 -> 2000 | G14: =G6*'Données Personnelles'!$B$4 -> 0 | H14: =H6*'Données Personnelles'!$B$4 -> 0 | I14: =I6*'Données Personnelles'!$B$4 -> 0 | J14: =J6*'Données Personnelles'!$B$4 -> 0 | ... N14: =N6*'Données Personnelles'!$B$4 -> 0
A15: SPIC | B15: 4 | C15: =Dupont!B$6*'Données Personnelles'!$B$4+Durant!B$7*'Données Personnelles'!$B$5+Smith!B$5*'Données Personnelles'!$B$6 -> 11600 | D15: =Dupont!C$6*'Données Personnelles'!$B$4+Durant!C$7*'Données Personnelles'!$B$5+Smith!C$5*'Données Personnelles'!$B$6 -> 11600 | E15: =Dupont!D$6*'Données Personnelles'!$B$4+Durant!D$7*'Données Personnelles'!$B$5+Smith!D$5*'Données Personnelles'!$B$6 -> 23600 | F15: =Dupont!E$6*'Données Personnelles'!$B$4+Durant!E$7*'Données Personnelles'!$B$5+Smith!E$5*'Données Personnelles'!$B$6 -> 7600 | G15: =Dupont!F$6*'Données Personnelles'!$B$4+Durant!F$7*'Données Personnelles'!$B$5+Smith!F$5*'Données Personnelles'!$B$6 -> 0 | H15: =Dupont!G$6*'Données Personnelles'!$B$4+Durant!G$7*'Données Personnelles'!$B$5+Smith!G$5*'Données Personnelles'!$B$6 -> 0 | I15: =Dupont!H$6*'Données Personnelles'!$B$4+Durant!H$7*'Données Personnelles'!$B$5+Smith!H$5*'Données Personnelles'!$B$6 -> 0 | J15: =Dupont!I$6*'Données Personnelles'!$B$4+Durant!I$7*'Données Personnelles'!$B$5+Smith!I$5*'Données Personnelles'!$B$6 -> 0 | ... N15: =Dupont!M$6*'Données Personnelles'!$B$4+Durant!M$7*'Données Personnelles'!$B$5+Smith!M$5*'Données Personnelles'!$B$6 -> 0
A16: TRIM | B16: 5 | C16: =Dupont!B$7*'Données Personnelles'!$B$4+Durant!B$6*'Données Personnelles'!$B$5+Smith!B$7*'Données Personnelles'!$B$6 -> 6800 | D16: =Dupont!C$7*'Données Personnelles'!$B$4+Durant!C$6*'Données Personnelles'!$B$5+Smith!C$7*'Données Personnelles'!$B$6 -> 8600 | E16: =Dupont!D$7*'Données Personnelles'!$B$4+Durant!D$6*'Données Personnelles'!$B$5+Smith!D$7*'Données Personnelles'!$B$6 -> 13600 | F16: =Dupont!E$7*'Données Personnelles'!$B$4+Durant!E$6*'Données Personnelles'!$B$5+Smith!E$7*'Données Personnelles'!$B$6 -> 20400 | G16: =Dupont!F$7*'Données Personnelles'!$B$4+Durant!F$6*'Données Personnelles'!$B$5+Smith!F$7*'Données Personnelles'!$B$6 -> 0 | H16: =Dupont!G$7*'Données Personnelles'!$B$4+Durant!G$6*'Données Personnelles'!$B$5+Smith!G$7*'Données Personnelles'!$B$6 -> 0 | I16: =Dupont!H$7*'Données Personnelles'!$B$4+Durant!H$6*'Données Personnelles'!$B$5+Smith!H$7*'Données Personnelles'!$B$6 -> 0 | J16: =Dupont!I$7*'Données Personnelles'!$B$4+Durant!I$6*'Données Personnelles'!$B$5+Smith!I$7*'Données Personnelles'!$B$6 -> 0 | ... N16: =Dupont!M$7*'Données Personnelles'!$B$4+Durant!M$6*'Données Personnelles'!$B$5+Smith!M$7*'Données Personnelles'!$B$6 -> 0
A17: Coût total | B17: 6 | C17: =SUM(C13:C16) -> 36000 | D17: =SUM(D13:D16) -> 39000 | E17: =SUM(E13:E16) -> 55200 | F17: =SUM(F13:F16) -> 42400 | G17: =SUM(G13:G16) -> 0 | H17: =SUM(H13:H16) -> 0 | I17: =SUM(I13:I16) -> 0 | J17: =SUM(J13:J16) -> 0 | ... N17: =SUM(N13:N16) -> 0

Sheet Bilan Projet II
A4: Liste des projets | B4: Janvier | C4: Février | D4: Mars | E4: Avril | F4: Mai | G4: Juin | H4: Juillet | I4: Août | J4: Septembre | K4: Octobre | L4: Novembre | M4: Décembre
A5: CAT | B5: =Durant!B5+Smith!B6 -> 120 | C5: =Durant!C5+Smith!C6 -> 150 | D5: =Durant!D5+Smith!D6 -> 130 | E5: =Durant!E5+Smith!E6 -> 150 | F5: =Durant!F5+Smith!F6 -> 0 | G5: =Durant!G5+Smith!G6 -> 0 | H5: =Durant!H5+Smith!H6 -> 0 | I5: =Durant!I5+Smith!I6 -> 0 | ... M5: =Durant!M5+Smith!M6 -> 0
A6: SPAR | B6: =Dupont!B5 -> 100 | C6: =Dupont!C5 -> 50 | D6: =Dupont!D5 -> 80 | E6: =Dupont!E5 -> 50 | F6: =Dupont!F5 -> 0 | G6: =Dupont!G5 -> 0 | H6: =Dupont!H5 -> 0 | I6: =Dupont!I5 -> 0 | ... M6: =Dupont!M5 -> 0
A7: SPIC | B7: =Dupont!B6+Durant!B7+Smith!B5 -> 140 | C7: =Dupont!C6+Durant!C7+Smith!C5 -> 170 | D7: =Dupont!D6+Durant!D7+Smith!D5 -> 260 | E7: =Dupont!E6+Durant!E7+Smith!E5 -> 120 | F7: =Dupont!F6+Durant!F7+Smith!F5 -> 0 | G7: =Dupont!G6+Durant!G7+Smith!G5 -> 0 | H7: =Dupont!H6+Durant!H7+Smith!H5 -> 0 | I7: =Dupont!I6+Durant!I7+Smith!I5 -> 0 | ... M7: =Dupont!M6+Durant!M7+Smith!M5 -> 0
A8: TRIM | B8: =Dupont!B7+Durant!B6+Smith!B7 -> 90 | C8: =Dupont!C7+Durant!C6+Smith!C7 -> 115 | D8: =Dupont!D7+Durant!D6+Smith!D7 -> 190 | E8: =Dupont!E7+Durant!E6+Smith!E7 -> 200 | F8: =Dupont!F7+Durant!F6+Smith!F7 -> 0 | G8: =Dupont!G7+Durant!G6+Smith!G7 -> 0 | H8: =Dupont!H7+Durant!H6+Smith!H7 -> 0 | I8: =Dupont!I7+Durant!I6+Smith!I7 -> 0 | ... M8: =Dupont!M7+Durant!M6+Smith!M7 -> 0
A12: Coût des projets | B12: Janvier | C12: Février | D12: Mars | E12: Avril | F12: Mai | G12: Juin | H12: Juillet | I12: Août | J12: Septembre | K12: Octobre | L12: Novembre | M12: Décembre
A13: CAT | B13: =Durant!B$5*'Données Personnelles'!$B$5+Smith!B$6*'Données Personnelles'!$B$6 -> 13600 | C13: =Durant!C$5*'Données Personnelles'!$B$5+Smith!C$6*'Données Personnelles'!$B$6 -> 16800 | D13: =Durant!D$5*'Données Personnelles'!$B$5+Smith!D$6*'Données Personnelles'!$B$6 -> 14800 | E13: =Durant!E$5*'Données Personnelles'!$B$5+Smith!E$6*'Données Personnelles'!$B$6 -> 12400 | F13: =Durant!F$5*'Données Personnelles'!$B$5+Smith!F$6*'Données Personnelles'!$B$6 -> 0 | G13: =Durant!G$5*'Données Personnelles'!$B$5+Smith!G$6*'Données Personnelles'!$B$6 -> 0 | H13: =Durant!H$5*'Données Personnelles'!$B$5+Smith!H$6*'Données Personnelles'!$B$6 -> 0 | I13: =Durant!I$5*'Données Personnelles'!$B$5+Smith!I$6*'Données Personnelles'!$B$6 -> 0 | ... M13: =Durant!M$5*'Données Personnelles'!$B$5+Smith!M$6*'Données Personnelles'!$B$6 -> 0
A14: SPAR | B14: =B6*'Données Personnelles'!$B$4 -> 4000 | C14: =C6*'Données Personnelles'!$B$4 -> 2000 | D14: =D6*'Données Personnelles'!$B$4 -> 3200 | E14: =E6*'Données Personnelles'!$B$4 -> 2000 | F14: =F6*'Données Personnelles'!$B$4 -> 0 | G14: =G6*'Données Personnelles'!$B$4 -> 0 | H14: =H6*'Données Personnelles'!$B$4 -> 0 | I14: =I6*'Données Personnelles'!$B$4 -> 0 | ... M14: =M6*'Données Personnelles'!$B$4 -> 0
A15: SPIC | B15: =Dupont!B$6*'Données Personnelles'!$B$4+Durant!B$7*'Données Personnelles'!$B$5+Smith!B$5*'Données Personnelles'!$B$6 -> 11600 | C15: =Dupont!C$6*'Données Personnelles'!$B$4+Durant!C$7*'Données Personnelles'!$B$5+Smith!C$5*'Données Personnelles'!$B$6 -> 11600 | D15: =Dupont!D$6*'Données Personnelles'!$B$4+Durant!D$7*'Données Personnelles'!$B$5+Smith!D$5*'Données Personnelles'!$B$6 -> 23600 | E15: =Dupont!E$6*'Données Personnelles'!$B$4+Durant!E$7*'Données Personnelles'!$B$5+Smith!E$5*'Données Personnelles'!$B$6 -> 7600 | F15: =Dupont!F$6*'Données Personnelles'!$B$4+Durant!F$7*'Données Personnelles'!$B$5+Smith!F$5*'Données Personnelles'!$B$6 -> 0 | G15: =Dupont!G$6*'Données Personnelles'!$B$4+Durant!G$7*'Données Personnelles'!$B$5+Smith!G$5*'Données Personnelles'!$B$6 -> 0 | H15: =Dupont!H$6*'Données Personnelles'!$B$4+Durant!H$7*'Données Personnelles'!$B$5+Smith!H$5*'Données Personnelles'!$B$6 -> 0 | I15: =Dupont!I$6*'Données Personnelles'!$B$4+Durant!I$7*'Données Personnelles'!$B$5+Smith!I$5*'Données Personnelles'!$B$6 -> 0 | ... M15: =Dupont!M$6*'Données Personnelles'!$B$4+Durant!M$7*'Données Personnelles'!$B$5+Smith!M$5*'Données Personnelles'!$B$6 -> 0
A16: TRIM | B16: =Dupont!B$7*'Données Personnelles'!$B$4+Durant!B$6*'Données Personnelles'!$B$5+Smith!B$7*'Données Personnelles'!$B$6 -> 6800 | C16: =Dupont!C$7*'Données Personnelles'!$B$4+Durant!C$6*'Données Personnelles'!$B$5+Smith!C$7*'Données Personnelles'!$B$6 -> 8600 | D16: =Dupont!D$7*'Données Personnelles'!$B$4+Durant!D$6*'Données Personnelles'!$B$5+Smith!D$7*'Données Personnelles'!$B$6 -> 13600 | E16: =Dupont!E$7*'Données Personnelles'!$B$4+Durant!E$6*'Données Personnelles'!$B$5+Smith!E$7*'Données Personnelles'!$B$6 -> 20400 | F16: =Dupont!F$7*'Données Personnelles'!$B$4+Durant!F$6*'Données Personnelles'!$B$5+Smith!F$7*'Données Personnelles'!$B$6 -> 0 | G16: =Dupont!G$7*'Données Personnelles'!$B$4+Durant!G$6*'Données Personnelles'!$B$5+Smith!G$7*'Données Personnelles'!$B$6 -> 0 | H16: =Dupont!H$7*'Données Personnelles'!$B$4+Durant!H$6*'Données Personnelles'!$B$5+Smith!H$7*'Données Personnelles'!$B$6 -> 0 | I16: =Dupont!I$7*'Données Personnelles'!$B$4+Durant!I$6*'Données Personnelles'!$B$5+Smith!I$7*'Données Personnelles'!$B$6 -> 0 | ... M16: =Dupont!M$7*'Données Personnelles'!$B$4+Durant!M$6*'Données Personnelles'!$B$5+Smith!M$7*'Données Personnelles'!$B$6 -> 0
A17: Coût total | B17: =SUM(B13:B16) -> 36000 | C17: =SUM(C13:C16) -> 39000 | D17: =SUM(D13:D16) -> 55200 | E17: =SUM(E13:E16) -> 42400 | F17: =SUM(F13:F16) -> 0 | G17: =SUM(G13:G16) -> 0 | H17: =SUM(H13:H16) -> 0 | I17: =SUM(I13:I16) -> 0 | ... M17: =SUM(M13:M16) -> 0

Sheet Dupont
A1: Mr | B1: Dupont
A2: Durée mensuelle de travail
A4: Projet | B4: Janvier | C4: Février | D4: Mars | E4: Avril | F4: Mai | G4: Juin | H4: Juillet | I4: Août | J4: Septembre | K4: Octobre | L4: Novembre | M4: Décembre
A5: SPAR | B5: 100 | C5: 50 | D5: 80 | E5: 50 | F5: 0 | G5: 0 | H5: 0 | I5: 0 | J5: 0 | K5: 0 | L5: 0 | M5: 0
A6: SPIC | B6: 20 | C6: 80 | D6: 40 | E6: 80 | F6: 0 | G6: 0 | H6: 0 | I6: 0 | J6: 0 | K6: 0 | L6: 0 | M6: 0
A7: TRIM | B7: 30 | C7: 25 | D7: 60 | E7: 30 | F7: 0 | G7: 0 | H7: 0 | I7: 0 | J7: 0 | K7: 0 | L7: 0 | M7: 0
A9: Total Mensuel | B9: =SUM(B5:B8) -> 150 | C9: =SUM(C5:C8) -> 155 | D9: =SUM(D5:D8) -> 180 | E9: =SUM(E5:E8) -> 160 | F9: =SUM(F5:F8) -> 0 | G9: =SUM(G5:G8) -> 0 | H9: =SUM(H5:H8) -> 0 | I9: =SUM(I5:I8) -> 0 | ... M9: =SUM(M5:M8) -> 0

Sheet Durant
A1: Mr | B1: Durant
A2: Durée mensuelle de travail
A4: Projet | B4: Janvier | C4: Février | D4: Mars | E4: Avril | F4: Mai | G4: Juin | H4: Juillet | I4: Août | J4: Septembre | K4: Octobre | L4: Novembre | M4: Décembre
A5: CAT | B5: 100 | C5: 120 | D5: 110 | E5: 10 | F5: 0 | G5: 0 | H5: 0 | I5: 0 | J5: 0 | K5: 0 | L5: 0 | M5: 0
A6: TRIM | B6: 20 | C6: 10 | D6: 20 | E6: 140 | F6: 0 | G6: 0 | H6: 0 | I6: 0 | J6: 0 | K6: 0 | L6: 0 | M6: 0
A7: SPIC | B7: 30 | C7: 30 | D7: 110 | E7: 30 | F7: 0 | G7: 0 | H7: 0 | I7: 0 | J7: 0 | K7: 0 | L7: 0 | M7: 0
A9: Total Mensuel | B9: =SUM(B5:B8) -> 150 | C9: =SUM(C5:C8) -> 160 | D9: =SUM(D5:D8) -> 240 | E9: =SUM(E5:E8) -> 180 | F9: =SUM(F5:F8) -> 0 | G9: =SUM(G5:G8) -> 0 | H9: =SUM(H5:H8) -> 0 | I9: =SUM(I5:I8) -> 0 | ... M9: =SUM(M5:M8) -> 0

Sheet Smith
A1: Mr | B1: Smith
A2: Durée mensuelle de travail
A4: Projet | B4: Janvier | C4: Février | D4: Mars | E4: Avril | F4: Mai | G4: Juin | H4: Juillet | I4: Août | J4: Septembre | K4: Octobre | L4: Novembre | M4: Décembre
A5: SPIC | B5: 90 | C5: 60 | D5: 110 | E5: 10 | F5: 0 | G5: 0 | H5: 0 | I5: 0 | J5: 0 | K5: 0 | L5: 0 | M5: 0
A6: CAT | B6: 20 | C6: 30 | D6: 20 | E6: 140 | F6: 0 | G6: 0 | H6: 0 | I6: 0 | J6: 0 | K6: 0 | L6: 0 | M6: 0
A7: TRIM | B7: 40 | C7: 80 | D7: 110 | E7: 30 | F7: 0 | G7: 0 | H7: 0 | I7: 0 | J7: 0 | K7: 0 | L7: 0 | M7: 0
A9: Total Mensuel | B9: =SUM(B5:B8) -> 150 | C9: =SUM(C5:C8) -> 170 | D9: =SUM(D5:D8) -> 240 | E9: =SUM(E5:E8) -> 180 | F9: =SUM(F5:F8) -> 0 | G9: =SUM(G5:G8) -> 0 | H9: =SUM(H5:H8) -> 0 | I9: =SUM(I5:I8) -> 0 | ... M9: =SUM(M5:M8) -> 0
