Workbook

Sheet BD
A1: Mois | B1: Nb Samedi | C1: Cumul | D1: Résultat | O1: Date paie | P1: Mois | Q1: Année | R1: jour
A2: 43922 | B2: =NETWORKDAYS.INTL(A2,EOMONTH(A2,0),"1111101") -> 4 | C2: =SUM($B$2:B2) -> 4 | D2: =ROUNDDOWN(C2/2,0) -> 2 | F2: Première paie le 4 avril 2020 | O2: 43925 | P2: =TEXT(O2,"mmmm") -> avril | Q2: =TEXT(O2,"aaaa") -> 2020 | R2: =TEXT(O2,"jjjj") -> samedi
A3: =EOMONTH(A2,0)+1 -> 43952 | B3: =NETWORKDAYS.INTL(A3,EOMONTH(A3,0),"1111101") -> 5 | C3: =SUM($B$2:B3) -> 9 | D3: =ROUNDDOWN(C3/2,0)-D2 -> 2 | F3: payer au 2 semaines | O3: =O2+14 -> 43939 | P3: =TEXT(O3,"mmmm") -> avril | Q3: =TEXT(O3,"aaaa") -> 2020 | R3: =TEXT(O3,"jjjj") -> samedi
A4: =EOMONTH(A3,0)+1 -> 43983 | B4: =NETWORKDAYS.INTL(A4,EOMONTH(A4,0),"1111101") -> 4 | C4: =SUM($B$2:B4) -> 13 | D4: =ROUNDDOWN(C4/2,0)-SUM($D$2:D3) -> 2 | O4: =O3+14 -> 43953 | P4: =TEXT(O4,"mmmm") -> mai | Q4: =TEXT(O4,"aaaa") -> 2020 | R4: =TEXT(O4,"jjjj") -> samedi
A5: =EOMONTH(A4,0)+1 -> 44013 | B5: =NETWORKDAYS.INTL(A5,EOMONTH(A5,0),"1111101") -> 4 | C5: =SUM($B$2:B5) -> 17 | D5: =ROUNDDOWN(C5/2,0)-SUM($D$2:D4) -> 2 | O5: =O4+14 -> 43967 | P5: =TEXT(O5,"mmmm") -> mai | Q5: =TEXT(O5,"aaaa") -> 2020 | R5: =TEXT(O5,"jjjj") -> samedi
A6: =EOMONTH(A5,0)+1 -> 44044 | B6: =NETWORKDAYS.INTL(A6,EOMONTH(A6,0),"1111101") -> 5 | C6: =SUM($B$2:B6) -> 22 | D6: =ROUNDDOWN(C6/2,0)-SUM($D$2:D5) -> 3 | F6: Il devrait ainsi avoir 2 paie au mois août soit le 8 et 22 août 2020 | O6: =O5+14 -> 43981 | P6: =TEXT(O6,"mmmm") -> mai | Q6: =TEXT(O6,"aaaa") -> 2020 | R6: =TEXT(O6,"jjjj") -> samedi
A7: =EOMONTH(A6,0)+1 -> 44075 | B7: =NETWORKDAYS.INTL(A7,EOMONTH(A7,0),"1111101") -> 4 | C7: =SUM($B$2:B7) -> 26 | D7: =ROUNDDOWN(C7/2,0)-SUM($D$2:D6) -> 2 | F7: Comment faire pour tenir compte de la date de paie du départ pour connaître le nombre de paie pour les mois suivants ? | O7: =O6+14 -> 43995 | P7: =TEXT(O7,"mmmm") -> juin | Q7: =TEXT(O7,"aaaa") -> 2020 | R7: =TEXT(O7,"jjjj") -> samedi
A8: =EOMONTH(A7,0)+1 -> 44105 | B8: =NETWORKDAYS.INTL(A8,EOMONTH(A8,0),"1111101") -> 5 | C8: =SUM($B$2:B8) -> 31 | D8: =ROUNDDOWN(C8/2,0)-SUM($D$2:D7) -> 2 | O8: =O7+14 -> 44009 | P8: =TEXT(O8,"mmmm") -> juin | Q8: =TEXT(O8,"aaaa") -> 2020 | R8: =TEXT(O8,"jjjj") -> samedi
A9: =EOMONTH(A8,0)+1 -> 44136 | B9: =NETWORKDAYS.INTL(A9,EOMONTH(A9,0),"1111101") -> 4 | C9: =SUM($B$2:B9) -> 35 | D9: =ROUNDDOWN(C9/2,0)-SUM($D$2:D8) -> 2 | O9: =O8+14 -> 44023 | P9: =TEXT(O9,"mmmm") -> juillet | Q9: =TEXT(O9,"aaaa") -> 2020 | R9: =TEXT(O9,"jjjj") -> samedi
A10: =EOMONTH(A9,0)+1 -> 44166 | B10: =NETWORKDAYS.INTL(A10,EOMONTH(A10,0),"1111101") -> 4 | C10: =SUM($B$2:B10) -> 39 | D10: =ROUNDDOWN(C10/2,0)-SUM($D$2:D9) -> 2 | O10: =O9+14 -> 44037 | P10: =TEXT(O10,"mmmm") -> juillet | Q10: =TEXT(O10,"aaaa") -> 2020 | R10: =TEXT(O10,"jjjj") -> samedi
A11: =EOMONTH(A10,0)+1 -> 44197 | B11: =NETWORKDAYS.INTL(A11,EOMONTH(A11,0),"1111101") -> 5 | C11: =SUM($B$2:B11) -> 44 | D11: =ROUNDDOWN(C11/2,0)-SUM($D$2:D10) -> 3 | O11: =O10+14 -> 44051 | P11: =TEXT(O11,"mmmm") -> août | Q11: =TEXT(O11,"aaaa") -> 2020 | R11: =TEXT(O11,"jjjj") -> samedi
A12: =EOMONTH(A11,0)+1 -> 44228 | B12: =NETWORKDAYS.INTL(A12,EOMONTH(A12,0),"1111101") -> 4 | C12: =SUM($B$2:B12) -> 48 | D12: =ROUNDDOWN(C12/2,0)-SUM($D$2:D11) -> 2 | O12: =O11+14 -> 44065 | P12: =TEXT(O12,"mmmm") -> août | Q12: =TEXT(O12,"aaaa") -> 2020 | R12: =TEXT(O12,"jjjj") -> samedi
A13: =EOMONTH(A12,0)+1 -> 44256 | B13: =NETWORKDAYS.INTL(A13,EOMONTH(A13,0),"1111101") -> 4 | C13: =SUM($B$2:B13) -> 52 | D13: =ROUNDDOWN(C13/2,0)-SUM($D$2:D12) -> 2 | O13: =O12+14 -> 44079 | P13: =TEXT(O13,"mmmm") -> septembre | Q13: =TEXT(O13,"aaaa") -> 2020 | R13: =TEXT(O13,"jjjj") -> samedi
A14: Total | B14: =SUBTOTAL(109,Tableau2[Nb Samedi]) -> 52 | D14: =SUBTOTAL(109,Tableau2[Résultat]) -> 26 | O14: =O13+14 -> 44093 | P14: =TEXT(O14,"mmmm") -> septembre | Q14: =TEXT(O14,"aaaa") -> 2020 | R14: =TEXT(O14,"jjjj") -> samedi
O15: =O14+14 -> 44107 | P15: =TEXT(O15,"mmmm") -> octobre | Q15: =TEXT(O15,"aaaa") -> 2020 | R15: =TEXT(O15,"jjjj") -> samedi
O16: =O15+14 -> 44121 | P16: =TEXT(O16,"mmmm") -> octobre | Q16: =TEXT(O16,"aaaa") -> 2020 | R16: =TEXT(O16,"jjjj") -> samedi
O17: =O16+14 -> 44135 | P17: =TEXT(O17,"mmmm") -> octobre | Q17: =TEXT(O17,"aaaa") -> 2020 | R17: =TEXT(O17,"jjjj") -> samedi
O18: =O17+14 -> 44149 | P18: =TEXT(O18,"mmmm") -> novembre | Q18: =TEXT(O18,"aaaa") -> 2020 | R18: =TEXT(O18,"jjjj") -> samedi
O19: =O18+14 -> 44163 | P19: =TEXT(O19,"mmmm") -> novembre | Q19: =TEXT(O19,"aaaa") -> 2020 | R19: =TEXT(O19,"jjjj") -> samedi
O20: =O19+14 -> 44177 | P20: =TEXT(O20,"mmmm") -> décembre | Q20: =TEXT(O20,"aaaa") -> 2020 | R20: =TEXT(O20,"jjjj") -> samedi
O21: =O20+14 -> 44191 | P21: =TEXT(O21,"mmmm") -> décembre | Q21: =TEXT(O21,"aaaa") -> 2020 | R21: =TEXT(O21,"jjjj") -> samedi
O22: =O21+14 -> 44205 | P22: =TEXT(O22,"mmmm") -> janvier | Q22: =TEXT(O22,"aaaa") -> 2021 | R22: =TEXT(O22,"jjjj") -> samedi
O23: =O22+14 -> 44219 | P23: =TEXT(O23,"mmmm") -> janvier | Q23: =TEXT(O23,"aaaa") -> 2021 | R23: =TEXT(O23,"jjjj") -> samedi
O24: =O23+14 -> 44233 | P24: =TEXT(O24,"mmmm") -> février | Q24: =TEXT(O24,"aaaa") -> 2021 | R24: =TEXT(O24,"jjjj") -> samedi
O25: =O24+14 -> 44247 | P25: =TEXT(O25,"mmmm") -> février | Q25: =TEXT(O25,"aaaa") -> 2021 | R25: =TEXT(O25,"jjjj") -> samedi
O26: =O25+14 -> 44261 | P26: =TEXT(O26,"mmmm") -> mars | Q26: =TEXT(O26,"aaaa") -> 2021 | R26: =TEXT(O26,"jjjj") -> samedi
... O105: =O104+14 -> 45367 | P105: =TEXT(O105,"mmmm") -> mars | Q105: =TEXT(O105,"aaaa") -> 2024 | R105: =TEXT(O105,"jjjj") -> samedi

Sheet Tableau
A1: Année | B1: Mois | C1: Nb paie
A2: 2020 | B2: Avril | C2: =COUNTIFS(BD!$P:$P,Tableau!$B2,BD!$Q:$Q,Tableau!$A2) -> 2
A3: 2020 | B3: Mai | C3: =COUNTIFS(BD!P:P,Tableau!B3,BD!Q:Q,Tableau!A3) -> 3
A4: 2020 | B4: Juin | C4: =COUNTIFS(BD!P:P,Tableau!B4,BD!Q:Q,Tableau!A4) -> 2
A5: 2020 | B5: Juillet | C5: =COUNTIFS(BD!P:P,Tableau!B5,BD!Q:Q,Tableau!A5) -> 2
A6: 2020 | B6: Août | C6: =COUNTIFS(BD!P:P,Tableau!B6,BD!Q:Q,Tableau!A6) -> 2
A7: 2020 | B7: Septembre | C7: =COUNTIFS(BD!P:P,Tableau!B7,BD!Q:Q,Tableau!A7) -> 2
A8: 2020 | B8: Octobre | C8: =COUNTIFS(BD!P:P,Tableau!B8,BD!Q:Q,Tableau!A8) -> 3
A9: 2020 | B9: Novembre | C9: =COUNTIFS(BD!P:P,Tableau!B9,BD!Q:Q,Tableau!A9) -> 2
A10: 2020 | B10: Décembre | C10: =COUNTIFS(BD!P:P,Tableau!B10,BD!Q:Q,Tableau!A10) -> 2
A11: 2021 | B11: Janvier | C11: =COUNTIFS(BD!P:P,Tableau!B11,BD!Q:Q,Tableau!A11) -> 2
A12: 2021 | B12: Février | C12: =COUNTIFS(BD!P:P,Tableau!B12,BD!Q:Q,Tableau!A12) -> 2
A13: 2021 | B13: Mars | C13: =COUNTIFS(BD!P:P,Tableau!B13,BD!Q:Q,Tableau!A13) -> 2
B14: Total | C14: =SUM(C2:C13) -> 26
