Workbook
Name FOURNITURE: [1]Données!$O$2:$O$1232
Name Fournitures: [1]Données!$O$2:$O$408
Name listefourni: OFFSET([2]bibfourni!$A$1,0,0,COUNTA([2]bibfourni!$A$1:$A$99),1)
Name listemat: OFFSET([2]bibmat!$A$1,0,0,COUNTA([2]bibmat!$A$1:$A$100),1)
Name listeperso: OFFSET([2]bibpers!$A$1,0,0,COUNTA([2]bibpers!$A$1:$A$10),1)
Name Materiels: [1]Données!$A$2:$A$252
Name MO: [1]Données!$H$2:$H$30
Name TACHES: [1]Données!$V$2:$V$348

Sheet Indicateurs Janvier
F1: JANVIER
A2: Nom | B2: Code Site | C2: Document | D2: Nombre | E2: Collaborateur | F2: 1 | G2: 2 | H2: 3 | I2: 4 | J2: 5 | K2: 6 | L2: 7 | M2: 8 | N2: 9 | O2: 10 | P2: 11 | Q2: 12 | R2: 13 | S2: 14 | T2: 15 | U2: 16 | V2: 17 | W2: 18 | X2: 19 | Y2: 20 | Z2: 21 | AA2: 22 | AB2: 23 | AC2: 24 | AD2: 25 | AE2: 26 | AF2: 27 | AG2: 28 | AH2: 29 | AI2: 30 | AJ2: 31
A3: Paris 1 | C3: Doc 4 | D3: =SUM(F3:AJ3) -> 2 | E3: Paul 1 | G3: 2
A4: Paris 2 | C4: Doc 5 | D4: =SUM(F4:AJ4) -> 1 | E4: Paul 2 | H4: 1 | AL4: SYNTHESE | AN4: Prix
A5: Paris 3 | C5: Doc 1 | D5: =SUM(F5:AJ5) -> 1 | E5: Paul 3 | I5: 1 | AL5: Documents | AM5: Nombres | AN5: PU | AO5: PT
A6: Paris 4 | C6: Doc 3 | D6: =SUM(F6:AJ6) -> 1 | E6: Paul 4 | J6: 1 | AL6: Doc 1 | AM6: =SUMIF($C$3:$C$59,AL6,$D$3:$D$59) -> 1 | AN6: =IF(AL6="","",VLOOKUP(AL6,Données!$F$2:$I$25,3,FALSE)) -> 1 | AO6: =IFERROR(AM6*AN6,"") -> 1
A7: Paris 5 | C7: Doc 3 | D7: =SUM(F7:AJ7) -> 1 | E7: Paul 1 | K7: 1 | AL7: Doc 2 | AM7: =SUMIF($C$3:$C$59,AL7,$D$3:$D$59) -> 2 | AN7: =IF(AL7="","",VLOOKUP(AL7,Données!$F$2:$I$25,3,FALSE)) -> 1 | AO7: =IFERROR(AM7*AN7,"") -> 2
A8: Paris 6 | C8: Doc 2 | D8: =SUM(F8:AJ8) -> 2 | E8: Paul 2 | L8: 2 | AL8: Doc 3 | AM8: =SUMIF($C$3:$C$59,AL8,$D$3:$D$59) -> 2 | AN8: =IF(AL8="","",VLOOKUP(AL8,Données!$F$2:$I$25,3,FALSE)) -> 1 | AO8: =IFERROR(AM8*AN8,"") -> 2
D9: =SUM(F9:AJ9) -> 0 | AL9: Doc 4 | AM9: =SUMIF($C$3:$C$59,AL9,$D$3:$D$59) -> 2 | AN9: =IF(AL9="","",VLOOKUP(AL9,Données!$F$2:$I$25,3,FALSE)) -> 1 | AO9: =IFERROR(AM9*AN9,"") -> 2
D10: =SUM(F10:AJ10) -> 0 | AL10: Doc 5 | AM10: =SUMIF($C$3:$C$59,AL10,$D$3:$D$59) -> 1 | AN10: =IF(AL10="","",VLOOKUP(AL10,Données!$F$2:$I$25,3,FALSE)) -> 1 | AO10: =IFERROR(AM10*AN10,"") -> 1
D11: =SUM(F11:AJ11) -> 0 | AM11: =SUMIF($C$3:$C$59,AL11,$D$3:$D$59) -> 0 | AN11: =IF(AL11="","",VLOOKUP(AL11,Données!$F$2:$I$25,3,FALSE)) | AO11: =IFERROR(AM11*AN11,"")
D12: =SUM(F12:AJ12) -> 0 | AM12: =SUMIF($C$3:$C$59,AL12,$D$3:$D$59) -> 0 | AN12: =IF(AL12="","",VLOOKUP(AL12,Données!$F$2:$I$25,3,FALSE)) | AO12: =IFERROR(AM12*AN12,"")
D13: =SUM(F13:AJ13) -> 0 | AM13: =SUMIF($C$3:$C$59,AL13,$D$3:$D$59) -> 0 | AN13: =IF(AL13="","",VLOOKUP(AL13,Données!$F$2:$I$25,3,FALSE)) | AO13: =IFERROR(AM13*AN13,"")
D14: =SUM(F14:AJ14) -> 0 | AM14: =SUMIF($C$3:$C$59,AL14,$D$3:$D$59) -> 0 | AN14: =IF(AL14="","",VLOOKUP(AL14,Données!$F$2:$I$25,3,FALSE)) | AO14: =IFERROR(AM14*AN14,"")
AM15: =SUMIF($C$3:$C$59,AL15,$D$3:$D$59) -> 0 | AN15: =IF(AL15="","",VLOOKUP(AL15,Données!$F$2:$I$25,3,FALSE)) | AO15: =IFERROR(AM15*AN15,"")
AM16: =SUMIF($C$3:$C$59,AL16,$D$3:$D$59) -> 0 | AN16: =IF(AL16="","",VLOOKUP(AL16,Données!$F$2:$I$25,3,FALSE)) | AO16: =IFERROR(AM16*AN16,"")
AM17: =SUMIF($C$3:$C$59,AL17,$D$3:$D$59) -> 0 | AN17: =IF(AL17="","",VLOOKUP(AL17,Données!$F$2:$I$25,3,FALSE)) | AO17: =IFERROR(AM17*AN17,"")
AM18: =SUMIF($C$3:$C$59,AL18,$D$3:$D$59) -> 0 | AN18: =IF(AL18="","",VLOOKUP(AL18,Données!$F$2:$I$25,3,FALSE)) | AO18: =IFERROR(AM18*AN18,"")
AM19: =SUMIF($C$3:$C$59,AL19,$D$3:$D$59) -> 0 | AN19: =IF(AL19="","",VLOOKUP(AL19,Données!$F$2:$I$25,3,FALSE)) | AO19: =IFERROR(AM19*AN19,"")
AM20: =SUMIF($C$3:$C$59,AL20,$D$3:$D$59) -> 0 | AN20: =IF(AL20="","",VLOOKUP(AL20,Données!$F$2:$I$25,3,FALSE)) | AO20: =IFERROR(AM20*AN20,"")
AM21: =SUMIF($C$3:$C$59,AL21,$D$3:$D$59) -> 0 | AN21: =IF(AL21="","",VLOOKUP(AL21,Données!$F$2:$I$25,3,FALSE)) | AO21: =IFERROR(AM21*AN21,"")
AM22: =SUMIF($C$3:$C$59,AL22,$D$3:$D$59) -> 0 | AN22: =IF(AL22="","",VLOOKUP(AL22,Données!$F$2:$I$25,3,FALSE)) | AO22: =IFERROR(AM22*AN22,"")
AM23: =SUMIF($C$3:$C$59,AL23,$D$3:$D$59) -> 0 | AN23: =IF(AL23="","",VLOOKUP(AL23,Données!$F$2:$I$25,3,FALSE)) | AO23: =IFERROR(AM23*AN23,"")
AM24: =SUMIF($C$3:$C$59,AL24,$D$3:$D$59) -> 0 | AN24: =IF(AL24="","",VLOOKUP(AL24,Données!$F$2:$I$25,3,FALSE)) | AO24: =IFERROR(AM24*AN24,"")
AM25: =SUMIF($C$3:$C$59,AL25,$D$3:$D$59) -> 0 | AN25: =IF(AL25="","",VLOOKUP(AL25,Données!$F$2:$I$25,3,FALSE)) | AO25: =IFERROR(AM25*AN25,"")
AM26: =SUMIF($C$3:$C$59,AL26,$D$3:$D$59) -> 0 | AN26: =IF(AL26="","",VLOOKUP(AL26,Données!$F$2:$I$25,3,FALSE)) | AO26: =IFERROR(AM26*AN26,"")
... AM29: =SUMIF($C$3:$C$59,AL29,$D$3:$D$59) -> 0 | AN29: =IF(AL29="","",VLOOKUP(AL29,Données!$F$2:$I$25,3,FALSE)) | AO29: =IFERROR(AM29*AN29,"")
AN30: TOTAL | AO30: =SUM(AO6:AO29) -> 8
AL33: Collaborateur
AL34: Documents | AM34: Collaborateur | AN34: Nombre | AO34: PU | AP34: PT
AL35: Doc 1 | AM35: Paul 2
AL36: Doc 2 | AM36: Paul 1
AL37: Doc 3
AL38: Doc 4
B39: =IF(A39="","",VLOOKUP(A39,Données!$A$2:B2235,2,FALSE)) | D39: =SUM(F39:AJ39) -> 0 | AL39: Doc 5
B40: =IF(A40="","",VLOOKUP(A40,Données!$A$2:B2236,2,FALSE)) | D40: =SUM(F40:AJ40) -> 0
B41: =IF(A41="","",VLOOKUP(A41,Données!$A$2:B2237,2,FALSE)) | D41: =SUM(F41:AJ41) -> 0
B42: =IF(A42="","",VLOOKUP(A42,Données!$A$2:B2238,2,FALSE)) | D42: =SUM(F42:AJ42) -> 0
B43: =IF(A43="","",VLOOKUP(A43,Données!$A$2:B2239,2,FALSE)) | D43: =SUM(F43:AJ43) -> 0
B44: =IF(A44="","",VLOOKUP(A44,Données!$A$2:B2240,2,FALSE)) | D44: =SUM(F44:AJ44) -> 0
B45: =IF(A45="","",VLOOKUP(A45,Données!$A$2:B2241,2,FALSE)) | D45: =SUM(F45:AJ45) -> 0
B46: =IF(A46="","",VLOOKUP(A46,Données!$A$2:B2242,2,FALSE)) | D46: =SUM(F46:AJ46) -> 0
B47: =IF(A47="","",VLOOKUP(A47,Données!$A$2:B2243,2,FALSE)) | D47: =SUM(F47:AJ47) -> 0
B48: =IF(A48="","",VLOOKUP(A48,Données!$A$2:B2244,2,FALSE)) | D48: =SUM(F48:AJ48) -> 0
B49: =IF(A49="","",VLOOKUP(A49,Données!$A$2:B2245,2,FALSE)) | D49: =SUM(F49:AJ49) -> 0
B50: =IF(A50="","",VLOOKUP(A50,Données!$A$2:B2246,2,FALSE)) | D50: =SUM(F50:AJ50) -> 0
B51: =IF(A51="","",VLOOKUP(A51,Données!$A$2:B2247,2,FALSE)) | D51: =SUM(F51:AJ51) -> 0
... B59: =IF(A59="","",VLOOKUP(A59,Données!$A$2:B2255,2,FALSE)) | D59: =SUM(F59:AJ59) -> 0

Sheet Données
A1: Nom | B1: Code Site | D1: Collaborateur | F1: Document / Prestation | G1: Nombre | H1: PU | I1: PT
A2: Paris 1 | B2: 1 | D2: Paul 1 | F2: Doc 1 | H2: 1 | I2: =G2*H2 -> 0
A3: Paris 2 | B3: 2 | D3: Paul 2 | F3: Doc 2 | H3: 1 | I3: =G3*H3 -> 0
A4: Paris 3 | B4: 3 | D4: Paul 3 | F4: Doc 3 | H4: 1 | I4: =G4*H4 -> 0
A5: Paris 4 | B5: 4 | D5: Paul 4 | F5: Doc 4 | H5: 1 | I5: =G5*H5 -> 0
A6: Paris 5 | B6: 5 | D6: Paul 5 | F6: Doc 5 | H6: 1 | I6: =G6*H6 -> 0
A7: Paris 6 | B7: 6 | D7: Paul 6 | F7: Doc 6 | H7: 1 | I7: =G7*H7 -> 0
A8: Paris 7 | B8: 7 | D8: Paul 7 | F8: Doc 7 | H8: 1 | I8: =G8*H8 -> 0
A9: Paris 8 | B9: 8 | D9: Paul 8 | F9: Doc 8 | H9: 1 | I9: =G9*H9 -> 0
A10: Paris 9 | B10: 9 | D10: Paul 9 | F10: Doc 9 | H10: 1 | I10: =G10*H10 -> 0
A11: Paris 10 | B11: 10 | D11: Paul 10 | F11: Doc 10 | H11: 1 | I11: =G11*H11 -> 0
I12: =G12*H12 -> 0
I13: =G13*H13 -> 0
I14: =G14*H14 -> 0
I15: =G15*H15 -> 0
I16: =G16*H16 -> 0
I17: =G17*H17 -> 0
I18: =G18*H18 -> 0
I19: =G19*H19 -> 0
I20: =G20*H20 -> 0
I21: =G21*H21 -> 0
I22: =G22*H22 -> 0
I23: =G23*H23 -> 0
... I40: =G40*H40 -> 0
