Workbook

Sheet saisie
B1: temps en heures (+centièmes)
B2: hors pauses | D2: préventif | E2: correctif | F2: transport | G2: admin | H2: autres
A3: semaine 1 | B3: 41638 | C3: P1
C4: P2 | D4: 22
B5: =B3+1 -> 41639 | C5: P1
C6: P2
B7: =B5+1 -> 41640 | C7: P1
C8: P2
B9: =B7+1 -> 41641 | C9: P1
C10: P2
B11: =B9+1 -> 41642 | C11: P1
C12: P2 | D12: 44
B13: =B11+1 -> 41643 | C13: P1
C14: P2
B15: =B13+1 -> 41644 | C15: P1
C16: P2
A17: semaine 2 | B17: =B15+1 -> 41645 | C17: P1
C18: P2
B19: =B17+1 -> 41646 | C19: P1
C20: P2
B21: =B19+1 -> 41647 | C21: P1
C22: P2
B23: =B21+1 -> 41648 | C23: P1
C24: P2
B25: =B23+1 -> 41649 | C25: P1
C26: P2
B27: =B25+1 -> 41650 | C27: P1
C28: P2
B29: =B27+1 -> 41651 | C29: P1
C30: P2
A31: semaine 3 | B31: =B29+1 -> 41652 | C31: P1
C32: P2
B33: =B31+1 -> 41653 | C33: P1
C34: P2
B35: =B33+1 -> 41654 | C35: P1
C36: P2
B37: =B35+1 -> 41655 | C37: P1
C38: P2
B39: =B37+1 -> 41656 | C39: P1
C40: P2
B41: =B39+1 -> 41657 | C41: P1
C42: P2
B43: =B41+1 -> 41658 | C43: P1
C44: P2
A45: semaine 4 | B45: =B43+1 -> 41659 | C45: P1
C46: P2
B47: =B45+1 -> 41660 | C47: P1
C48: P2
B49: =B47+1 -> 41661 | C49: P1
C50: P2
B51: =B49+1 -> 41662 | C51: P1
C52: P2
B53: =B51+1 -> 41663 | C53: P1
C54: P2
B55: =B53+1 -> 41664 | C55: P1
C56: P2
B57: =B55+1 -> 41665 | C57: P1
C58: P2
A59: semaine 5 | B59: =B57+1 -> 41666 | C59: P1
C60: P2
B61: =B59+1 -> 41667 | C61: P1
C62: P2
B63: =B61+1 -> 41668 | C63: P1
C64: P2
B65: =B63+1 -> 41669 | C65: P1
C66: P2
B67: =B65+1 -> 41670 | C67: P1
C68: P2
B69: =B67+1 -> 41671 | C69: P1
C70: P2
B71: =B69+1 -> 41672 | C71: P1
C72: P2
A73: semaine 6 | B73: =B71+1 -> 41673 | C73: P1
C74: P2
B75: =B73+1 -> 41674 | C75: P1
C76: P2
B77: =B75+1 -> 41675 | C77: P1
C78: P2
B79: =B77+1 -> 41676 | C79: P1
C80: P2
B81: =B79+1 -> 41677 | C81: P1
C82: P2
B83: =B81+1 -> 41678 | C83: P1
C84: P2
B85: =B83+1 -> 41679 | C85: P1
C86: P2
A87: semaine 7 | B87: =B85+1 -> 41680 | C87: P1
C88: P2
B89: =B87+1 -> 41681 | C89: P1
C90: P2
B91: =B89+1 -> 41682 | C91: P1
C92: P2
B93: =B91+1 -> 41683 | C93: P1
C94: P2
B95: =B93+1 -> 41684 | C95: P1
C96: P2
B97: =B95+1 -> 41685 | C97: P1
C98: P2
B99: =B97+1 -> 41686 | C99: P1
C100: P2
...

Sheet suivi
A1: temps en heures (+centièmes)
A2: hors pauses | C2: préventif | D2: correctif | E2: transport | F2: admin | G2: autres
A3: semaine 1 | B3: total | C3: =SUM(saisie!D3:D16) -> 66 | D3: =SUM(saisie!E3:E16) -> 0 | E3: =SUM(saisie!F3:F16) -> 0 | F3: =SUM(saisie!G3:G16) -> 0 | G3: =SUM(saisie!H3:H16) -> 0
A4: semaine 2 | B4: total | C4: =SUM(saisie!D17:D30) -> 0 | D4: =SUM(saisie!E17:E30) -> 0 | E4: =SUM(saisie!F17:F30) -> 0 | F4: =SUM(saisie!G17:G30) -> 0 | G4: =SUM(saisie!H17:H30) -> 0
B5: cumul | C5: =C4+C3 -> 66 | D5: =D4+D3 -> 0 | E5: =E4+E3 -> 0 | F5: =F4+F3 -> 0 | G5: =G4+G3 -> 0 | J5: janvier | K5: total
A6: semaine 3 | B6: total | C6: =SUM(saisie!D31:D44) -> 0 | D6: =SUM(saisie!E31:E44) -> 0 | E6: =SUM(saisie!F31:F44) -> 0 | F6: =SUM(saisie!G31:G44) -> 0 | G6: =SUM(saisie!H31:H44) -> 0 | K6: cumul
B7: cumul | C7: =C6+C5 -> 66 | D7: =D6+D5 -> 0 | E7: =E6+E5 -> 0 | F7: =F6+F5 -> 0 | G7: =G6+G5 -> 0 | J7: février | K7: total
A8: semaine 4 | B8: total | C8: =SUM(saisie!D45:D58) -> 0 | D8: =SUM(saisie!E45:E58) -> 0 | E8: =SUM(saisie!F45:F58) -> 0 | F8: =SUM(saisie!G45:G58) -> 0 | G8: =SUM(saisie!H45:H58) -> 0 | K8: cumul
B9: cumul | C9: =C8+C7 -> 66 | D9: =D8+D7 -> 0 | E9: =E8+E7 -> 0 | F9: =F8+F7 -> 0 | G9: =G8+G7 -> 0 | J9: mars | K9: total
A10: semaine 5 | B10: total | C10: =SUM(saisie!D59:D72) -> 0 | D10: =SUM(saisie!E59:E72) -> 0 | E10: =SUM(saisie!F59:F72) -> 0 | F10: =SUM(saisie!G59:G72) -> 0 | G10: =SUM(saisie!H59:H72) -> 0 | K10: cumul
B11: cumul | C11: =C10+C9 -> 66 | D11: =D10+D9 -> 0 | E11: =E10+E9 -> 0 | F11: =F10+F9 -> 0 | G11: =G10+G9 -> 0 | J11: avril | K11: total
A12: semaine 6 | B12: total | C12: =SUM(saisie!D73:D86) -> 0 | D12: =SUM(saisie!E73:E86) -> 0 | E12: =SUM(saisie!F73:F86) -> 0 | F12: =SUM(saisie!G73:G86) -> 0 | G12: =SUM(saisie!H73:H86) -> 0 | K12: cumul
B13: cumul | C13: =C12+C11 -> 66 | D13: =D12+D11 -> 0 | E13: =E12+E11 -> 0 | F13: =F12+F11 -> 0 | G13: =G12+G11 -> 0 | J13: mai | K13: total
A14: semaine 7 | B14: total | C14: =SUM(saisie!D87:D100) -> 0 | D14: =SUM(saisie!E87:E100) -> 0 | E14: =SUM(saisie!F87:F100) -> 0 | F14: =SUM(saisie!G87:G100) -> 0 | G14: =SUM(saisie!H87:H100) -> 0 | K14: cumul
B15: cumul | C15: =C14+C13 -> 66 | D15: =D14+D13 -> 0 | E15: =E14+E13 -> 0 | F15: =F14+F13 -> 0 | G15: =G14+G13 -> 0 | J15: juin | K15: total
A16: semaine 8 | B16: total | C16: =SUM(saisie!D101:D114) -> 0 | D16: =SUM(saisie!E101:E114) -> 0 | E16: =SUM(saisie!F101:F114) -> 0 | F16: =SUM(saisie!G101:G114) -> 0 | G16: =SUM(saisie!H101:H114) -> 0 | K16: cumul
B17: cumul | C17: =C16+C15 -> 66 | D17: =D16+D15 -> 0 | E17: =E16+E15 -> 0 | F17: =F16+F15 -> 0 | G17: =G16+G15 -> 0 | J17: juillet | K17: total
A18: semaine 9 | B18: total | C18: =SUM(saisie!D115:D128) -> 0 | D18: =SUM(saisie!E115:E128) -> 0 | E18: =SUM(saisie!F115:F128) -> 0 | F18: =SUM(saisie!G115:G128) -> 0 | G18: =SUM(saisie!H115:H128) -> 0 | K18: cumul
B19: cumul | C19: =C18+C17 -> 66 | D19: =D18+D17 -> 0 | E19: =E18+E17 -> 0 | F19: =F18+F17 -> 0 | G19: =G18+G17 -> 0 | J19: août | K19: total
A20: semaine 10 | B20: total | C20: =SUM(saisie!D129:D142) -> 0 | D20: =SUM(saisie!E129:E142) -> 0 | E20: =SUM(saisie!F129:F142) -> 0 | F20: =SUM(saisie!G129:G142) -> 0 | G20: =SUM(saisie!H129:H142) -> 0 | K20: cumul
B21: cumul | C21: =C20+C19 -> 66 | D21: =D20+D19 -> 0 | E21: =E20+E19 -> 0 | F21: =F20+F19 -> 0 | G21: =G20+G19 -> 0 | J21: septembre | K21: total
A22: semaine 11 | B22: total | K22: cumul
B23: cumul | C23: =C22+C21 -> 66 | D23: =D22+D21 -> 0 | E23: =E22+E21 -> 0 | F23: =F22+F21 -> 0 | G23: =G22+G21 -> 0 | J23: octobre | K23: total
A24: semaine 12 | B24: total | K24: cumul
B25: cumul | C25: =C24+C23 -> 66 | D25: =D24+D23 -> 0 | E25: =E24+E23 -> 0 | F25: =F24+F23 -> 0 | G25: =G24+G23 -> 0 | J25: novembre | K25: total
A26: semaine 13 | B26: total | K26: cumul
B27: cumul | C27: =C26+C25 -> 66 | D27: =D26+D25 -> 0 | E27: =E26+E25 -> 0 | F27: =F26+F25 -> 0 | G27: =G26+G25 -> 0 | J27: décembre | K27: total
A28: semaine 14 | B28: total | K28: cumul
B29: cumul | C29: =C28+C27 -> 66 | D29: =D28+D27 -> 0 | E29: =E28+E27 -> 0 | F29: =F28+F27 -> 0 | G29: =G28+G27 -> 0
A30: semaine 15 | B30: total
B31: cumul | C31: =C30+C29 -> 66 | D31: =D30+D29 -> 0 | E31: =E30+E29 -> 0 | F31: =F30+F29 -> 0 | G31: =G30+G29 -> 0
A32: semaine 16 | B32: total
B33: cumul | C33: =C32+C31 -> 66 | D33: =D32+D31 -> 0 | E33: =E32+E31 -> 0 | F33: =F32+F31 -> 0 | G33: =G32+G31 -> 0
A34: semaine 17 | B34: total
B35: cumul | C35: =C34+C33 -> 66 | D35: =D34+D33 -> 0 | E35: =E34+E33 -> 0 | F35: =F34+F33 -> 0 | G35: =G34+G33 -> 0
A36: semaine 18 | B36: total
B37: cumul | C37: =C36+C35 -> 66 | D37: =D36+D35 -> 0 | E37: =E36+E35 -> 0 | F37: =F36+F35 -> 0 | G37: =G36+G35 -> 0
A38: semaine 19 | B38: total
B39: cumul | C39: =C38+C37 -> 66 | D39: =D38+D37 -> 0 | E39: =E38+E37 -> 0 | F39: =F38+F37 -> 0 | G39: =G38+G37 -> 0
A40: semaine 20 | B40: total
B41: cumul | C41: =C40+C39 -> 66 | D41: =D40+D39 -> 0 | E41: =E40+E39 -> 0 | F41: =F40+F39 -> 0 | G41: =G40+G39 -> 0
A42: semaine 21 | B42: total
B43: cumul | C43: =C42+C41 -> 66 | D43: =D42+D41 -> 0 | E43: =E42+E41 -> 0 | F43: =F42+F41 -> 0 | G43: =G42+G41 -> 0
A44: semaine 22 | B44: total
B45: cumul | C45: =C44+C43 -> 66 | D45: =D44+D43 -> 0 | E45: =E44+E43 -> 0 | F45: =F44+F43 -> 0 | G45: =G44+G43 -> 0
A46: semaine 23 | B46: total
B47: cumul | C47: =C46+C45 -> 66 | D47: =D46+D45 -> 0 | E47: =E46+E45 -> 0 | F47: =F46+F45 -> 0 | G47: =G46+G45 -> 0
A48: semaine 24 | B48: total
B49: cumul | C49: =C48+C47 -> 66 | D49: =D48+D47 -> 0 | E49: =E48+E47 -> 0 | F49: =F48+F47 -> 0 | G49: =G48+G47 -> 0
A50: semaine 25 | B50: total
B51: cumul | C51: =C50+C49 -> 66 | D51: =D50+D49 -> 0 | E51: =E50+E49 -> 0 | F51: =F50+F49 -> 0 | G51: =G50+G49 -> 0
A52: semaine 26 | B52: total
B53: cumul | C53: =C52+C51 -> 66 | D53: =D52+D51 -> 0 | E53: =E52+E51 -> 0 | F53: =F52+F51 -> 0 | G53: =G52+G51 -> 0
A54: semaine 27 | B54: total
B55: cumul | C55: =C54+C53 -> 66 | D55: =D54+D53 -> 0 | E55: =E54+E53 -> 0 | F55: =F54+F53 -> 0 | G55: =G54+G53 -> 0
A56: semaine 28 | B56: total
B57: cumul | C57: =C56+C55 -> 66 | D57: =D56+D55 -> 0 | E57: =E56+E55 -> 0 | F57: =F56+F55 -> 0 | G57: =G56+G55 -> 0
A58: semaine 29 | B58: total
B59: cumul | C59: =C58+C57 -> 66 | D59: =D58+D57 -> 0 | E59: =E58+E57 -> 0 | F59: =F58+F57 -> 0 | G59: =G58+G57 -> 0
A60: semaine 30 | B60: total
B61: cumul | C61: =C60+C59 -> 66 | D61: =D60+D59 -> 0 | E61: =E60+E59 -> 0 | F61: =F60+F59 -> 0 | G61: =G60+G59 -> 0
A62: semaine 31 | B62: total
B63: cumul | C63: =C62+C61 -> 66 | D63: =D62+D61 -> 0 | E63: =E62+E61 -> 0 | F63: =F62+F61 -> 0 | G63: =G62+G61 -> 0
A64: semaine 32 | B64: total
B65: cumul | C65: =C64+C63 -> 66 | D65: =D64+D63 -> 0 | E65: =E64+E63 -> 0 | F65: =F64+F63 -> 0 | G65: =G64+G63 -> 0
A66: semaine 33 | B66: total
B67: cumul | C67: =C66+C65 -> 66 | D67: =D66+D65 -> 0 | E67: =E66+E65 -> 0 | F67: =F66+F65 -> 0 | G67: =G66+G65 -> 0
A68: semaine 34 | B68: total
B69: cumul | C69: =C68+C67 -> 66 | D69: =D68+D67 -> 0 | E69: =E68+E67 -> 0 | F69: =F68+F67 -> 0 | G69: =G68+G67 -> 0
A70: semaine 35 | B70: total
B71: cumul | C71: =C70+C69 -> 66 | D71: =D70+D69 -> 0 | E71: =E70+E69 -> 0 | F71: =F70+F69 -> 0 | G71: =G70+G69 -> 0
A72: semaine 36 | B72: total
B73: cumul | C73: =C72+C71 -> 66 | D73: =D72+D71 -> 0 | E73: =E72+E71 -> 0 | F73: =F72+F71 -> 0 | G73: =G72+G71 -> 0
A74: semaine 37 | B74: total
B75: cumul | C75: =C74+C73 -> 66 | D75: =D74+D73 -> 0 | E75: =E74+E73 -> 0 | F75: =F74+F73 -> 0 | G75: =G74+G73 -> 0
A76: semaine 38 | B76: total
B77: cumul | C77: =C76+C75 -> 66 | D77: =D76+D75 -> 0 | E77: =E76+E75 -> 0 | F77: =F76+F75 -> 0 | G77: =G76+G75 -> 0
A78: semaine 39 | B78: total
B79: cumul | C79: =C78+C77 -> 66 | D79: =D78+D77 -> 0 | E79: =E78+E77 -> 0 | F79: =F78+F77 -> 0 | G79: =G78+G77 -> 0
A80: semaine 40 | B80: total
B81: cumul | C81: =C80+C79 -> 66 | D81: =D80+D79 -> 0 | E81: =E80+E79 -> 0 | F81: =F80+F79 -> 0 | G81: =G80+G79 -> 0
A82: semaine 41 | B82: total
B83: cumul | C83: =C82+C81 -> 66 | D83: =D82+D81 -> 0 | E83: =E82+E81 -> 0 | F83: =F82+F81 -> 0 | G83: =G82+G81 -> 0
A84: semaine 42 | B84: total
B85: cumul | C85: =C84+C83 -> 66 | D85: =D84+D83 -> 0 | E85: =E84+E83 -> 0 | F85: =F84+F83 -> 0 | G85: =G84+G83 -> 0
A86: semaine 43 | B86: total
B87: cumul | C87: =C86+C85 -> 66 | D87: =D86+D85 -> 0 | E87: =E86+E85 -> 0 | F87: =F86+F85 -> 0 | G87: =G86+G85 -> 0
A88: semaine 44 | B88: total
B89: cumul | C89: =C88+C87 -> 66 | D89: =D88+D87 -> 0 | E89: =E88+E87 -> 0 | F89: =F88+F87 -> 0 | G89: =G88+G87 -> 0
A90: semaine 45 | B90: total
B91: cumul | C91: =C90+C89 -> 66 | D91: =D90+D89 -> 0 | E91: =E90+E89 -> 0 | F91: =F90+F89 -> 0 | G91: =G90+G89 -> 0
A92: semaine 46 | B92: total
B93: cumul | C93: =C92+C91 -> 66 | D93: =D92+D91 -> 0 | E93: =E92+E91 -> 0 | F93: =F92+F91 -> 0 | G93: =G92+G91 -> 0
A94: semaine 47 | B94: total
B95: cumul | C95: =C94+C93 -> 66 | D95: =D94+D93 -> 0 | E95: =E94+E93 -> 0 | F95: =F94+F93 -> 0 | G95: =G94+G93 -> 0
A96: semaine 48 | B96: total
B97: cumul | C97: =C96+C95 -> 66 | D97: =D96+D95 -> 0 | E97: =E96+E95 -> 0 | F97: =F96+F95 -> 0 | G97: =G96+G95 -> 0
A98: semaine 49 | B98: total
B99: cumul | C99: =C98+C97 -> 66 | D99: =D98+D97 -> 0 | E99: =E98+E97 -> 0 | F99: =F98+F97 -> 0 | G99: =G98+G97 -> 0
A100: semaine 50 | B100: total
...
