Workbook

Sheet saisie
B1: temps en heures (+centièmes)
B2: hors pauses | D2: préventif | E2: correctif | F2: transport | G2: admin | H2: autres
A3: semaine 1 | B3: 41638 | C3: P1
C4: P2 | D4: 22
B5: =B3+1 -> 41639 | C5: P1
C6: P2
B7: =B5+1 -> 41640 | C7: P1
C8: P2
B9: =B7+1 -> 41641 | C9: P1
C10: P2
B11: =B9+1 -> 41642 | C11: P1
C12: P2 | D12: 44
B13: =B11+1 -> 41643 | C13: P1
C14: P2
B15: =B13+1 -> 41644 | C15: P1
C16: P2
A17: semaine 2 | B17: =B15+1 -> 41645 | C17: P1
C18: P2
B19: =B17+1 -> 41646 | C19: P1
C20: P2
B21: =B19+1 -> 41647 | C21: P1
C22: P2
B23: =B21+1 -> 41648 | C23: P1
C24: P2
B25: =B23+1 -> 41649 | C25: P1
C26: P2
B27: =B25+1 -> 41650 | C27: P1
C28: P2
B29: =B27+1 -> 41651 | C29: P1
C30: P2
A31: semaine 3 | B31: =B29+1 -> 41652 | C31: P1
C32: P2
B33: =B31+1 -> 41653 | C33: P1
C34: P2
B35: =B33+1 -> 41654 | C35: P1
C36: P2
B37: =B35+1 -> 41655 | C37: P1
C38: P2
B39: =B37+1 -> 41656 | C39: P1
C40: P2
...

Sheet suivi
A1: temps en heures (+centièmes)
A2: hors pauses | C2: préventif | D2: correctif | E2: transport | F2: admin | G2: autres
A3: semaine 1 | B3: total | C3: =SUM(saisie!D3:D16) -> 66 | D3: =SUM(saisie!E3:E16) -> 0 | E3: =SUM(saisie!F3:F16) -> 0 | F3: =SUM(saisie!G3:G16) -> 0 | G3: =SUM(saisie!H3:H16) -> 0
A4: semaine 2 | B4: total | C4: =SUM(saisie!D17:D30) -> 0 | D4: =SUM(saisie!E17:E30) -> 0 | E4: =SUM(saisie!F17:F30) -> 0 | F4: =SUM(saisie!G17:G30) -> 0 | G4: =SUM(saisie!H17:H30) -> 0
B5: cumul | C5: =C4+C3 -> 66 | D5: =D4+D3 -> 0 | E5: =E4+E3 -> 0 | F5: =F4+F3 -> 0 | G5: =G4+G3 -> 0 | J5: janvier | K5: total
A6: semaine 3 | B6: total | C6: =SUM(saisie!D31:D44) -> 0 | D6: =SUM(saisie!E31:E44) -> 0 | E6: =SUM(saisie!F31:F44) -> 0 | F6: =SUM(saisie!G31:G44) -> 0 | G6: =SUM(saisie!H31:H44) -> 0 | K6: cumul
B7: cumul | C7: =C6+C5 -> 66 | D7: =D6+D5 -> 0 | E7: =E6+E5 -> 0 | F7: =F6+F5 -> 0 | G7: =G6+G5 -> 0 | J7: février | K7: total
A8: semaine 4 | B8: total | C8: =SUM(saisie!D45:D58) -> 0 | D8: =SUM(saisie!E45:E58) -> 0 | E8: =SUM(saisie!F45:F58) -> 0 | F8: =SUM(saisie!G45:G58) -> 0 | G8: =SUM(saisie!H45:H58) -> 0 | K8: cumul
B9: cumul | C9: =C8+C7 -> 66 | D9: =D8+D7 -> 0 | E9: =E8+E7 -> 0 | F9: =F8+F7 -> 0 | G9: =G8+G7 -> 0 | J9: mars | K9: total
A10: semaine 5 | B10: total | C10: =SUM(saisie!D59:D72) -> 0 | D10: =SUM(saisie!E59:E72) -> 0 | E10: =SUM(saisie!F59:F72) -> 0 | F10: =SUM(saisie!G59:G72) -> 0 | G10: =SUM(saisie!H59:H72) -> 0 | K10: cumul
B11: cumul | C11: =C10+C9 -> 66 | D11: =D10+D9 -> 0 | E11: =E10+E9 -> 0 | F11: =F10+F9 -> 0 | G11: =G10+G9 -> 0 | J11: avril | K11: total
A12: semaine 6 | B12: total | C12: =SUM(saisie!D73:D86) -> 0 | D12: =SUM(saisie!E73:E86) -> 0 | E12: =SUM(saisie!F73:F86) -> 0 | F12: =SUM(saisie!G73:G86) -> 0 | G12: =SUM(saisie!H73:H86) -> 0 | K12: cumul
B13: cumul | C13: =C12+C11 -> 66 | D13: =D12+D11 -> 0 | E13: =E12+E11 -> 0 | F13: =F12+F11 -> 0 | G13: =G12+G11 -> 0 | J13: mai | K13: total
A14: semaine 7 | B14: total | C14: =SUM(saisie!D87:D100) -> 0 | D14: =SUM(saisie!E87:E100) -> 0 | E14: =SUM(saisie!F87:F100) -> 0 | F14: =SUM(saisie!G87:G100) -> 0 | G14: =SUM(saisie!H87:H100) -> 0 | K14: cumul
B15: cumul | C15: =C14+C13 -> 66 | D15: =D14+D13 -> 0 | E15: =E14+E13 -> 0 | F15: =F14+F13 -> 0 | G15: =G14+G13 -> 0 | J15: juin | K15: total
A16: semaine 8 | B16: total | C16: =SUM(saisie!D101:D114) -> 0 | D16: =SUM(saisie!E101:E114) -> 0 | E16: =SUM(saisie!F101:F114) -> 0 | F16: =SUM(saisie!G101:G114) -> 0 | G16: =SUM(saisie!H101:H114) -> 0 | K16: cumul
B17: cumul | C17: =C16+C15 -> 66 | D17: =D16+D15 -> 0 | E17: =E16+E15 -> 0 | F17: =F16+F15 -> 0 | G17: =G16+G15 -> 0 | J17: juillet | K17: total
A18: semaine 9 | B18: total | C18: =SUM(saisie!D115:D128) -> 0 | D18: =SUM(saisie!E115:E128) -> 0 | E18: =SUM(saisie!F115:F128) -> 0 | F18: =SUM(saisie!G115:G128) -> 0 | G18: =SUM(saisie!H115:H128) -> 0 | K18: cumul
B19: cumul | C19: =C18+C17 -> 66 | D19: =D18+D17 -> 0 | E19: =E18+E17 -> 0 | F19: =F18+F17 -> 0 | G19: =G18+G17 -> 0 | J19: août | K19: total
A20: semaine 10 | B20: total | C20: =SUM(saisie!D129:D142) -> 0 | D20: =SUM(saisie!E129:E142) -> 0 | E20: =SUM(saisie!F129:F142) -> 0 | F20: =SUM(saisie!G129:G142) -> 0 | G20: =SUM(saisie!H129:H142) -> 0 | K20: cumul
B21: cumul | C21: =C20+C19 -> 66 | D21: =D20+D19 -> 0 | E21: =E20+E19 -> 0 | F21: =F20+F19 -> 0 | G21: =G20+G19 -> 0 | J21: septembre | K21: total
A22: semaine 11 | B22: total | K22: cumul
B23: cumul | C23: =C22+C21 -> 66 | D23: =D22+D21 -> 0 | E23: =E22+E21 -> 0 | F23: =F22+F21 -> 0 | G23: =G22+G21 -> 0 | J23: octobre | K23: total
A24: semaine 12 | B24: total | K24: cumul
B25: cumul | C25: =C24+C23 -> 66 | D25: =D24+D23 -> 0 | E25: =E24+E23 -> 0 | F25: =F24+F23 -> 0 | G25: =G24+G23 -> 0 | J25: novembre | K25: total
A26: semaine 13 | B26: total | K26: cumul
B27: cumul | C27: =C26+C25 -> 66 | D27: =D26+D25 -> 0 | E27: =E26+E25 -> 0 | F27: =F26+F25 -> 0 | G27: =G26+G25 -> 0 | J27: décembre | K27: total
A28: semaine 14 | B28: total | K28: cumul
B29: cumul | C29: =C28+C27 -> 66 | D29: =D28+D27 -> 0 | E29: =E28+E27 -> 0 | F29: =F28+F27 -> 0 | G29: =G28+G27 -> 0
A30: semaine 15 | B30: total
B31: cumul | C31: =C30+C29 -> 66 | D31: =D30+D29 -> 0 | E31: =E30+E29 -> 0 | F31: =F30+F29 -> 0 | G31: =G30+G29 -> 0
A32: semaine 16 | B32: total
B33: cumul | C33: =C32+C31 -> 66 | D33: =D32+D31 -> 0 | E33: =E32+E31 -> 0 | F33: =F32+F31 -> 0 | G33: =G32+G31 -> 0
A34: semaine 17 | B34: total
B35: cumul | C35: =C34+C33 -> 66 | D35: =D34+D33 -> 0 | E35: =E34+E33 -> 0 | F35: =F34+F33 -> 0 | G35: =G34+G33 -> 0
A36: semaine 18 | B36: total
B37: cumul | C37: =C36+C35 -> 66 | D37: =D36+D35 -> 0 | E37: =E36+E35 -> 0 | F37: =F36+F35 -> 0 | G37: =G36+G35 -> 0
A38: semaine 19 | B38: total
B39: cumul | C39: =C38+C37 -> 66 | D39: =D38+D37 -> 0 | E39: =E38+E37 -> 0 | F39: =F38+F37 -> 0 | G39: =G38+G37 -> 0
A40: semaine 20 | B40: total
...
