Workbook
Name ansclaire: variables!$E$2:$E$13
Name mat: variables!$A$2:$A$11
Name matiere: bdd!$CK$3:$CT$3

Sheet variables
A1: matière [mat] | B1: mois | C1: choix matière | D1: Inscrire ici année du début | E1: année scolaire [ansclaire] | F1: Choix année | G1: Classes | H1: Index
A2: Français | B2: janvier | C2: 1 | D2: 2013 | E2: =D2&"/"&D2+1 -> 2013/2014 | F2: =SUM(F4:F15) -> 1 | G2: CE1 | H2: 1 | I2: vert | J2: modifiable
A3: Math | B3: février | D3: =D2+1 -> 2014 | E3: =D3&"/"&D3+1 -> 2014/2015 | F3: =CHOOSE(F2,E2,E3,E4,E5,E6,E7,E8,E9,E10,E11,E12,E13) -> 2013/2014 | G3: CE2 | H3: 2 | I3: rouge | J3: ne pas modifier
A4: physique chimie | B4: mars | D4: =D3+1 -> 2015 | E4: =D4&"/"&D4+1 -> 2015/2016 | F4: =IF(E2=analyse!$D$1,ROW(K1)) -> 1 | G4: CM1 | H4: 3 | I4: [nomdéfini]
A5: svt | B5: avril | D5: =D4+1 -> 2016 | E5: =D5&"/"&D5+1 -> 2016/2017 | F5: =IF(E3=analyse!$D$1,ROW(K2)) -> FALSE | G5: CM2 | H5: 4
A6: histoire geo | B6: mai | D6: =D5+1 -> 2017 | E6: =D6&"/"&D6+1 -> 2017/2018 | F6: =IF(E4=analyse!$D$1,ROW(K3)) -> FALSE | G6: 6EME | H6: 5
A7: EXCEL | B7: juin | D7: =D6+1 -> 2018 | E7: =D7&"/"&D7+1 -> 2018/2019 | F7: =IF(E5=analyse!$D$1,ROW(K4)) -> FALSE | G7: 5EME | H7: 6
A8: anglais | B8: juillet | D8: =D7+1 -> 2019 | E8: =D8&"/"&D8+1 -> 2019/2020 | F8: =IF(E6=analyse!$D$1,ROW(K5)) -> FALSE | G8: 4EME | H8: 7
A9: Espagnol | B9: août | D9: =D8+1 -> 2020 | E9: =D9&"/"&D9+1 -> 2020/2021 | F9: =IF(E7=analyse!$D$1,ROW(K6)) -> FALSE | G9: 3EME | H9: 8
A10: sport | B10: septembre | D10: =D9+1 -> 2021 | E10: =D10&"/"&D10+1 -> 2021/2022 | F10: =IF(E8=analyse!$D$1,ROW(K7)) -> FALSE | H10: 9
A11: Musique | B11: octobre | D11: =D10+1 -> 2022 | E11: =D11&"/"&D11+1 -> 2022/2023 | F11: =IF(E9=analyse!$D$1,ROW(K8)) -> FALSE | H11: 10
B12: novembre | D12: =D11+1 -> 2023 | E12: =D12&"/"&D12+1 -> 2023/2024 | F12: =IF(E10=analyse!$D$1,ROW(K9)) -> FALSE | H12: 11
B13: décembre | D13: =D12+1 -> 2024 | E13: =D13&"/"&D13+1 -> 2024/2025 | F13: =IF(E11=analyse!$D$1,ROW(K10)) -> FALSE | H13: 12
F14: =IF(E12=analyse!$D$1,ROW(K11)) -> FALSE
F15: =IF(E13=analyse!$D$1,ROW(K12)) -> FALSE

Sheet bdd
B1: DONNEES | G1: FORMULES | M1: moyenne /mois | Y1: moyenne / semaine | BY1: année scolaire | CK1: matiere
M2: =IF(ISERROR(AVERAGE(M4:M49074)),"",AVERAGE(M4:M49074)) -> 10 | N2: =IF(ISERROR(AVERAGE(N4:N49074)),"",AVERAGE(N4:N49074)) -> 9.5 | O2: =IF(ISERROR(AVERAGE(O4:O49074)),"",AVERAGE(O4:O49074)) -> 6.3333333 | P2: =IF(ISERROR(AVERAGE(P4:P49074)),"",AVERAGE(P4:P49074)) -> 12.333333 | Q2: =IF(ISERROR(AVERAGE(Q4:Q49074)),"",AVERAGE(Q4:Q49074)) -> 10.666667 | R2: =IF(ISERROR(AVERAGE(R4:R49074)),"",AVERAGE(R4:R49074)) -> 11.666667 | S2: =IF(ISERROR(AVERAGE(S4:S49074)),"",AVERAGE(S4:S49074)) -> 16.333333 | T2: =IF(ISERROR(AVERAGE(T4:T49074)),"",AVERAGE(T4:T49074)) -> 15 | ... CT2: =IF(ISERROR(AVERAGE(CT4:CT49074)),"",AVERAGE(CT4:CT49074)) -> 14
B3: année scolaire | C3: date | D3: matiere | E3: note | F3: rapport | G3: sur 20 | H3: oral /ecrit | I3: semaine | J3: mois | K3: année | L3: note/matière | M3: =variables!B10 -> septembre | N3: =variables!B11 -> octobre | O3: =variables!B12 -> novembre | P3: =variables!B13 -> décembre | Q3: =variables!B2 -> janvier | R3: =variables!B3 -> février | S3: =variables!B4 -> mars | T3: =variables!B5 -> avril | U3: =variables!B6 -> mai | V3: =variables!B7 -> juin | W3: =variables!B8 -> juillet | X3: =variables!B9 -> août | Y3: 34 | Z3: =Y3+1 -> 35 | AA3: =Z3+1 -> 36 | AB3: =AA3+1 -> 37 | AC3: =AB3+1 -> 38 | AD3: =AC3+1 -> 39 | AE3: =AD3+1 -> 40 | AF3: =AE3+1 -> 41 | AG3: =AF3+1 -> 42 | ... AQ3: =AP3+1 -> 52 | AR3: 1 | AS3: =AR3+1 -> 2 | AT3: =AS3+1 -> 3 | AU3: =AT3+1 -> 4 | AV3: =AU3+1 -> 5 | AW3: =AV3+1 -> 6 | AX3: =AW3+1 -> 7 | AY3: =AX3+1 -> 8 | AZ3: =AY3+1 -> 9 | ... BX3: =BW3+1 -> 33 | BY3: 2013/2014 | BZ3: 2014/2015 | CA3: 2015/2016 | CB3: 2016/2017 | CC3: 2017/2018 | CD3: 2018/2019 | CE3: 2019/2020 | CF3: 2020/2021 | CG3: 2021/2022 | CH3: 2022/2023 | CI3: 2023/2024 | CJ3: 2024/2025 | CK3: =variables!A2 -> Français | CL3: =variables!A3 -> Math | CM3: =variables!A4 -> physique chimie | CN3: =variables!A5 -> svt | CO3: =variables!A6 -> histoire geo | CP3: =variables!A7 -> EXCEL | CQ3: =variables!A8 -> anglais | CR3: =variables!A9 -> Espagnol | CS3: =variables!A10 -> sport | CT3: =variables!A11 -> Musique
B4: 2013/2014 | C4: 41527 | D4: Français | E4: 2 | F4: 10 | G4: =IF(F4=10,E4*2,E4) -> 4 | H4: écrit | I4: =WEEKNUM(C4,1) -> 37 | J4: =CHOOSE(MONTH(C4),variables!$B$2,variables!$B$3,variables!$B$4,variables!$B$5,variables!$B$6,variables!$B$7,variables!$B$8,variables!$B$9,variables!$B$10,variables!$B$11,variables!$B$12,variables!$B$13) -> septembre | K4: =YEAR(C4) -> 2013 | L4: =IF(variables!$C$2=1,G4, IF($D4=analyse!$C$3,$G4,"") ) -> 4 | M4: =IF(variables!$F$3=$B4, IF(N($J4=M$3)=0,"",$L4), "" ) -> 4 | N4: =IF(variables!$F$3=$B4, IF(N($J4=N$3)=0,"",$L4), "" ) | O4: =IF(variables!$F$3=$B4, IF(N($J4=O$3)=0,"",$L4), "" ) | P4: =IF(variables!$F$3=$B4, IF(N($J4=P$3)=0,"",$L4), "" ) | Q4: =IF(variables!$F$3=$B4, IF(N($J4=Q$3)=0,"",$L4), "" ) | R4: =IF(variables!$F$3=$B4, IF(N($J4=R$3)=0,"",$L4), "" ) | S4: =IF(variables!$F$3=$B4, IF(N($J4=S$3)=0,"",$L4), "" ) | T4: =IF(variables!$F$3=$B4, IF(N($J4=T$3)=0,"",$L4), "" ) | ... X4: =IF(variables!$F$3=$B4, IF(N($J4=X$3)=0,"",$L4), "" ) | Y4: =IF(variables!$F$3=$B4, IF(N($I4=Y$3)=0,"",$L4), "" ) | Z4: =IF(variables!$F$3=$B4, IF(N($I4=Z$3)=0,"",$L4), "" ) | AA4: =IF(variables!$F$3=$B4, IF(N($I4=AA$3)=0,"",$L4), "" ) | AB4: =IF(variables!$F$3=$B4, IF(N($I4=AB$3)=0,"",$L4), "" ) -> 4 | AC4: =IF(variables!$F$3=$B4, IF(N($I4=AC$3)=0,"",$L4), "" ) | AD4: =IF(variables!$F$3=$B4, IF(N($I4=AD$3)=0,"",$L4), "" ) | AE4: =IF(variables!$F$3=$B4, IF(N($I4=AE$3)=0,"",$L4), "" ) | AF4: =IF(variables!$F$3=$B4, IF(N($I4=AF$3)=0,"",$L4), "" ) | ... AO4: =IF(variables!$F$3=$B4, IF(N($I4=AO$3)=0,"",$L4), "" ) | AP4: =IF(variables!$F$3=$B4, IF(N($J4=AP$3)=0,"",$L4), "" ) | AQ4: =IF(variables!$F$3=$B4, IF(N($J4=AQ$3)=0,"",$L4), "" ) | AR4: =IF(variables!$F$3=$B4, IF(N($J4=AR$3)=0,"",$L4), "" ) | AS4: =IF(variables!$F$3=$B4, IF(N($J4=AS$3)=0,"",$L4), "" ) | AT4: =IF(variables!$F$3=$B4, IF(N($J4=AT$3)=0,"",$L4), "" ) | AU4: =IF(variables!$F$3=$B4, IF(N($J4=AU$3)=0,"",$L4), "" ) | AV4: =IF(variables!$F$3=$B4, IF(N($J4=AV$3)=0,"",$L4), "" ) | AW4: =IF(variables!$F$3=$B4, IF(N($J4=AW$3)=0,"",$L4), "" ) | ... BX4: =IF(variables!$F$3=$B4, IF(N($J4=BX$3)=0,"",$L4), "" ) | BY4: =IF(N($B4=BY$3)=0,"",$G4) -> 4 | BZ4: =IF(N($B4=BZ$3)=0,"",$G4) | CA4: =IF(N($B4=CA$3)=0,"",$G4) | CB4: =IF(N($B4=CB$3)=0,"",$G4) | CC4: =IF(N($B4=CC$3)=0,"",$G4) | CD4: =IF(N($B4=CD$3)=0,"",$G4) | CE4: =IF(N($B4=CE$3)=0,"",$G4) | CF4: =IF(N($B4=CF$3)=0,"",$G4) | ... CJ4: =IF(N($B4=CJ$3)=0,"",$G4) | CK4: =IF(analyse!$G$18=bdd!$B4,IF(matiere=bdd!$D4,bdd!$G4,""),"") -> 4 | CL4: =IF(analyse!$G$18=bdd!$B4,IF(matiere=bdd!$D4,bdd!$G4,""),"") | CM4: =IF(analyse!$G$18=bdd!$B4,IF(matiere=bdd!$D4,bdd!$G4,""),"") | CN4: =IF(analyse!$G$18=bdd!$B4,IF(matiere=bdd!$D4,bdd!$G4,""),"") | CO4: =IF(analyse!$G$18=bdd!$B4,IF(matiere=bdd!$D4,bdd!$G4,""),"") | CP4: =IF(analyse!$G$18=bdd!$B4,IF(matiere=bdd!$D4,bdd!$G4,""),"") | CQ4: =IF(analyse!$G$18=bdd!$B4,IF(matiere=bdd!$D4,bdd!$G4,""),"") | CR4: =IF(analyse!$G$18=bdd!$B4,IF(matiere=bdd!$D4,bdd!$G4,""),"") | ... CT4: =IF(analyse!$G$18=bdd!$B4,IF(matiere=bdd!$D4,bdd!$G4,""),"")
B5: 2013/2014 | C5: =C4+17 -> 41544 | D5: physique chimie | E5: 8 | F5: 10 | G5: =IF(F5=10,E5*2,E5) -> 16 | H5: écrit | I5: =WEEKNUM(C5,1) -> 39 | J5: =CHOOSE(MONTH(C5),variables!$B$2,variables!$B$3,variables!$B$4,variables!$B$5,variables!$B$6,variables!$B$7,variables!$B$8,variables!$B$9,variables!$B$10,variables!$B$11,variables!$B$12,variables!$B$13) -> septembre | K5: =YEAR(C5) -> 2013 | L5: =IF(variables!$C$2=1,G5, IF($D5=analyse!$C$3,$G5,"") ) -> 16 | M5: =IF(variables!$F$3=$B5, IF(N($J5=M$3)=0,"",$L5), "" ) -> 16 | N5: =IF(variables!$F$3=$B5, IF(N($J5=N$3)=0,"",$L5), "" ) | O5: =IF(variables!$F$3=$B5, IF(N($J5=O$3)=0,"",$L5), "" ) | P5: =IF(variables!$F$3=$B5, IF(N($J5=P$3)=0,"",$L5), "" ) | Q5: =IF(variables!$F$3=$B5, IF(N($J5=Q$3)=0,"",$L5), "" ) | R5: =IF(variables!$F$3=$B5, IF(N($J5=R$3)=0,"",$L5), "" ) | S5: =IF(variables!$F$3=$B5, IF(N($J5=S$3)=0,"",$L5), "" ) | T5: =IF(variables!$F$3=$B5, IF(N($J5=T$3)=0,"",$L5), "" ) | ... X5: =IF(variables!$F$3=$B5, IF(N($J5=X$3)=0,"",$L5), "" ) | Y5: =IF(variables!$F$3=$B5, IF(N($I5=Y$3)=0,"",$L5), "" ) | Z5: =IF(variables!$F$3=$B5, IF(N($I5=Z$3)=0,"",$L5), "" ) | AA5: =IF(variables!$F$3=$B5, IF(N($I5=AA$3)=0,"",$L5), "" ) | AB5: =IF(variables!$F$3=$B5, IF(N($I5=AB$3)=0,"",$L5), "" ) | AC5: =IF(variables!$F$3=$B5, IF(N($I5=AC$3)=0,"",$L5), "" ) | AD5: =IF(variables!$F$3=$B5, IF(N($I5=AD$3)=0,"",$L5), "" ) -> 16 | AE5: =IF(variables!$F$3=$B5, IF(N($I5=AE$3)=0,"",$L5), "" ) | AF5: =IF(variables!$F$3=$B5, IF(N($I5=AF$3)=0,"",$L5), "" ) | ... AO5: =IF(variables!$F$3=$B5, IF(N($I5=AO$3)=0,"",$L5), "" ) | AP5: =IF(variables!$F$3=$B5, IF(N($J5=AP$3)=0,"",$L5), "" ) | AQ5: =IF(variables!$F$3=$B5, IF(N($J5=AQ$3)=0,"",$L5), "" ) | AR5: =IF(variables!$F$3=$B5, IF(N($J5=AR$3)=0,"",$L5), "" ) | AS5: =IF(variables!$F$3=$B5, IF(N($J5=AS$3)=0,"",$L5), "" ) | AT5: =IF(variables!$F$3=$B5, IF(N($J5=AT$3)=0,"",$L5), "" ) | AU5: =IF(variables!$F$3=$B5, IF(N($J5=AU$3)=0,"",$L5), "" ) | AV5: =IF(variables!$F$3=$B5, IF(N($J5=AV$3)=0,"",$L5), "" ) | AW5: =IF(variables!$F$3=$B5, IF(N($J5=AW$3)=0,"",$L5), "" ) | ... BX5: =IF(variables!$F$3=$B5, IF(N($J5=BX$3)=0,"",$L5), "" ) | BY5: =IF(N($B5=BY$3)=0,"",$G5) -> 16 | BZ5: =IF(N($B5=BZ$3)=0,"",$G5) | CA5: =IF(N($B5=CA$3)=0,"",$G5) | CB5: =IF(N($B5=CB$3)=0,"",$G5) | CC5: =IF(N($B5=CC$3)=0,"",$G5) | CD5: =IF(N($B5=CD$3)=0,"",$G5) | CE5: =IF(N($B5=CE$3)=0,"",$G5) | CF5: =IF(N($B5=CF$3)=0,"",$G5) | ... CJ5: =IF(N($B5=CJ$3)=0,"",$G5) | CK5: =IF(analyse!$G$18=bdd!$B5,IF(matiere=bdd!$D5,bdd!$G5,""),"") | CL5: =IF(analyse!$G$18=bdd!$B5,IF(matiere=bdd!$D5,bdd!$G5,""),"") | CM5: =IF(analyse!$G$18=bdd!$B5,IF(matiere=bdd!$D5,bdd!$G5,""),"") -> 16 | CN5: =IF(analyse!$G$18=bdd!$B5,IF(matiere=bdd!$D5,bdd!$G5,""),"") | CO5: =IF(analyse!$G$18=bdd!$B5,IF(matiere=bdd!$D5,bdd!$G5,""),"") | CP5: =IF(analyse!$G$18=bdd!$B5,IF(matiere=bdd!$D5,bdd!$G5,""),"") | CQ5: =IF(analyse!$G$18=bdd!$B5,IF(matiere=bdd!$D5,bdd!$G5,""),"") | CR5: =IF(analyse!$G$18=bdd!$B5,IF(matiere=bdd!$D5,bdd!$G5,""),"") | ... CT5: =IF(analyse!$G$18=bdd!$B5,IF(matiere=bdd!$D5,bdd!$G5,""),"")
B6: 2013/2014 | C6: =C5+17 -> 41561 | D6: Français | E6: 16 | F6: 20 | G6: =IF(F6=10,E6*2,E6) -> 16 | H6: oral | I6: =WEEKNUM(C6,1) -> 42 | J6: =CHOOSE(MONTH(C6),variables!$B$2,variables!$B$3,variables!$B$4,variables!$B$5,variables!$B$6,variables!$B$7,variables!$B$8,variables!$B$9,variables!$B$10,variables!$B$11,variables!$B$12,variables!$B$13) -> octobre | K6: =YEAR(C6) -> 2013 | L6: =IF(variables!$C$2=1,G6, IF($D6=analyse!$C$3,$G6,"") ) -> 16 | M6: =IF(variables!$F$3=$B6, IF(N($J6=M$3)=0,"",$L6), "" ) | N6: =IF(variables!$F$3=$B6, IF(N($J6=N$3)=0,"",$L6), "" ) -> 16 | O6: =IF(variables!$F$3=$B6, IF(N($J6=O$3)=0,"",$L6), "" ) | P6: =IF(variables!$F$3=$B6, IF(N($J6=P$3)=0,"",$L6), "" ) | Q6: =IF(variables!$F$3=$B6, IF(N($J6=Q$3)=0,"",$L6), "" ) | R6: =IF(variables!$F$3=$B6, IF(N($J6=R$3)=0,"",$L6), "" ) | S6: =IF(variables!$F$3=$B6, IF(N($J6=S$3)=0,"",$L6), "" ) | T6: =IF(variables!$F$3=$B6, IF(N($J6=T$3)=0,"",$L6), "" ) | ... X6: =IF(variables!$F$3=$B6, IF(N($J6=X$3)=0,"",$L6), "" ) | Y6: =IF(variables!$F$3=$B6, IF(N($I6=Y$3)=0,"",$L6), "" ) | Z6: =IF(variables!$F$3=$B6, IF(N($I6=Z$3)=0,"",$L6), "" ) | AA6: =IF(variables!$F$3=$B6, IF(N($I6=AA$3)=0,"",$L6), "" ) | AB6: =IF(variables!$F$3=$B6, IF(N($I6=AB$3)=0,"",$L6), "" ) | AC6: =IF(variables!$F$3=$B6, IF(N($I6=AC$3)=0,"",$L6), "" ) | AD6: =IF(variables!$F$3=$B6, IF(N($I6=AD$3)=0,"",$L6), "" ) | AE6: =IF(variables!$F$3=$B6, IF(N($I6=AE$3)=0,"",$L6), "" ) | AF6: =IF(variables!$F$3=$B6, IF(N($I6=AF$3)=0,"",$L6), "" ) | ... AO6: =IF(variables!$F$3=$B6, IF(N($I6=AO$3)=0,"",$L6), "" ) | AP6: =IF(variables!$F$3=$B6, IF(N($J6=AP$3)=0,"",$L6), "" ) | AQ6: =IF(variables!$F$3=$B6, IF(N($J6=AQ$3)=0,"",$L6), "" ) | AR6: =IF(variables!$F$3=$B6, IF(N($J6=AR$3)=0,"",$L6), "" ) | AS6: =IF(variables!$F$3=$B6, IF(N($J6=AS$3)=0,"",$L6), "" ) | AT6: =IF(variables!$F$3=$B6, IF(N($J6=AT$3)=0,"",$L6), "" ) | AU6: =IF(variables!$F$3=$B6, IF(N($J6=AU$3)=0,"",$L6), "" ) | AV6: =IF(variables!$F$3=$B6, IF(N($J6=AV$3)=0,"",$L6), "" ) | AW6: =IF(variables!$F$3=$B6, IF(N($J6=AW$3)=0,"",$L6), "" ) | ... BX6: =IF(variables!$F$3=$B6, IF(N($J6=BX$3)=0,"",$L6), "" ) | BY6: =IF(N($B6=BY$3)=0,"",$G6) -> 16 | BZ6: =IF(N($B6=BZ$3)=0,"",$G6) | CA6: =IF(N($B6=CA$3)=0,"",$G6) | CB6: =IF(N($B6=CB$3)=0,"",$G6) | CC6: =IF(N($B6=CC$3)=0,"",$G6) | CD6: =IF(N($B6=CD$3)=0,"",$G6) | CE6: =IF(N($B6=CE$3)=0,"",$G6) | CF6: =IF(N($B6=CF$3)=0,"",$G6) | ... CJ6: =IF(N($B6=CJ$3)=0,"",$G6) | CK6: =IF(analyse!$G$18=bdd!$B6,IF(matiere=bdd!$D6,bdd!$G6,""),"") -> 16 | CL6: =IF(analyse!$G$18=bdd!$B6,IF(matiere=bdd!$D6,bdd!$G6,""),"") | CM6: =IF(analyse!$G$18=bdd!$B6,IF(matiere=bdd!$D6,bdd!$G6,""),"") | CN6: =IF(analyse!$G$18=bdd!$B6,IF(matiere=bdd!$D6,bdd!$G6,""),"") | CO6: =IF(analyse!$G$18=bdd!$B6,IF(matiere=bdd!$D6,bdd!$G6,""),"") | CP6: =IF(analyse!$G$18=bdd!$B6,IF(matiere=bdd!$D6,bdd!$G6,""),"") | CQ6: =IF(analyse!$G$18=bdd!$B6,IF(matiere=bdd!$D6,bdd!$G6,""),"") | CR6: =IF(analyse!$G$18=bdd!$B6,IF(matiere=bdd!$D6,bdd!$G6,""),"") | ... CT6: =IF(analyse!$G$18=bdd!$B6,IF(matiere=bdd!$D6,bdd!$G6,""),"")
B7: 2013/2014 | C7: =C6+17 -> 41578 | D7: Math | E7: 3 | F7: 20 | G7: =IF(F7=10,E7*2,E7) -> 3 | H7: écrit | I7: =WEEKNUM(C7,1) -> 44 | J7: =CHOOSE(MONTH(C7),variables!$B$2,variables!$B$3,variables!$B$4,variables!$B$5,variables!$B$6,variables!$B$7,variables!$B$8,variables!$B$9,variables!$B$10,variables!$B$11,variables!$B$12,variables!$B$13) -> octobre | K7: =YEAR(C7) -> 2013 | L7: =IF(variables!$C$2=1,G7, IF($D7=analyse!$C$3,$G7,"") ) -> 3 | M7: =IF(variables!$F$3=$B7, IF(N($J7=M$3)=0,"",$L7), "" ) | N7: =IF(variables!$F$3=$B7, IF(N($J7=N$3)=0,"",$L7), "" ) -> 3 | O7: =IF(variables!$F$3=$B7, IF(N($J7=O$3)=0,"",$L7), "" ) | P7: =IF(variables!$F$3=$B7, IF(N($J7=P$3)=0,"",$L7), "" ) | Q7: =IF(variables!$F$3=$B7, IF(N($J7=Q$3)=0,"",$L7), "" ) | R7: =IF(variables!$F$3=$B7, IF(N($J7=R$3)=0,"",$L7), "" ) | S7: =IF(variables!$F$3=$B7, IF(N($J7=S$3)=0,"",$L7), "" ) | T7: =IF(variables!$F$3=$B7, IF(N($J7=T$3)=0,"",$L7), "" ) | ... X7: =IF(variables!$F$3=$B7, IF(N($J7=X$3)=0,"",$L7), "" ) | Y7: =IF(variables!$F$3=$B7, IF(N($I7=Y$3)=0,"",$L7), "" ) | Z7: =IF(variables!$F$3=$B7, IF(N($I7=Z$3)=0,"",$L7), "" ) | AA7: =IF(variables!$F$3=$B7, IF(N($I7=AA$3)=0,"",$L7), "" ) | AB7: =IF(variables!$F$3=$B7, IF(N($I7=AB$3)=0,"",$L7), "" ) | AC7: =IF(variables!$F$3=$B7, IF(N($I7=AC$3)=0,"",$L7), "" ) | AD7: =IF(variables!$F$3=$B7, IF(N($I7=AD$3)=0,"",$L7), "" ) | AE7: =IF(variables!$F$3=$B7, IF(N($I7=AE$3)=0,"",$L7), "" ) | AF7: =IF(variables!$F$3=$B7, IF(N($I7=AF$3)=0,"",$L7), "" ) | ... AO7: =IF(variables!$F$3=$B7, IF(N($I7=AO$3)=0,"",$L7), "" ) | AP7: =IF(variables!$F$3=$B7, IF(N($J7=AP$3)=0,"",$L7), "" ) | AQ7: =IF(variables!$F$3=$B7, IF(N($J7=AQ$3)=0,"",$L7), "" ) | AR7: =IF(variables!$F$3=$B7, IF(N($J7=AR$3)=0,"",$L7), "" ) | AS7: =IF(variables!$F$3=$B7, IF(N($J7=AS$3)=0,"",$L7), "" ) | AT7: =IF(variables!$F$3=$B7, IF(N($J7=AT$3)=0,"",$L7), "" ) | AU7: =IF(variables!$F$3=$B7, IF(N($J7=AU$3)=0,"",$L7), "" ) | AV7: =IF(variables!$F$3=$B7, IF(N($J7=AV$3)=0,"",$L7), "" ) | AW7: =IF(variables!$F$3=$B7, IF(N($J7=AW$3)=0,"",$L7), "" ) | ... BX7: =IF(variables!$F$3=$B7, IF(N($J7=BX$3)=0,"",$L7), "" ) | BY7: =IF(N($B7=BY$3)=0,"",$G7) -> 3 | BZ7: =IF(N($B7=BZ$3)=0,"",$G7) | CA7: =IF(N($B7=CA$3)=0,"",$G7) | CB7: =IF(N($B7=CB$3)=0,"",$G7) | CC7: =IF(N($B7=CC$3)=0,"",$G7) | CD7: =IF(N($B7=CD$3)=0,"",$G7) | CE7: =IF(N($B7=CE$3)=0,"",$G7) | CF7: =IF(N($B7=CF$3)=0,"",$G7) | ... CJ7: =IF(N($B7=CJ$3)=0,"",$G7) | CK7: =IF(analyse!$G$18=bdd!$B7,IF(matiere=bdd!$D7,bdd!$G7,""),"") | CL7: =IF(analyse!$G$18=bdd!$B7,IF(matiere=bdd!$D7,bdd!$G7,""),"") -> 3 | CM7: =IF(analyse!$G$18=bdd!$B7,IF(matiere=bdd!$D7,bdd!$G7,""),"") | CN7: =IF(analyse!$G$18=bdd!$B7,IF(matiere=bdd!$D7,bdd!$G7,""),"") | CO7: =IF(analyse!$G$18=bdd!$B7,IF(matiere=bdd!$D7,bdd!$G7,""),"") | CP7: =IF(analyse!$G$18=bdd!$B7,IF(matiere=bdd!$D7,bdd!$G7,""),"") | CQ7: =IF(analyse!$G$18=bdd!$B7,IF(matiere=bdd!$D7,bdd!$G7,""),"") | CR7: =IF(analyse!$G$18=bdd!$B7,IF(matiere=bdd!$D7,bdd!$G7,""),"") | ... CT7: =IF(analyse!$G$18=bdd!$B7,IF(matiere=bdd!$D7,bdd!$G7,""),"")
B8: 2013/2014 | C8: =C7+10 -> 41588 | D8: physique chimie | E8: 12 | F8: 20 | G8: 0 | H8: écrit | I8: =WEEKNUM(C8,1) -> 46 | J8: =CHOOSE(MONTH(C8),variables!$B$2,variables!$B$3,variables!$B$4,variables!$B$5,variables!$B$6,variables!$B$7,variables!$B$8,variables!$B$9,variables!$B$10,variables!$B$11,variables!$B$12,variables!$B$13) -> novembre | K8: =YEAR(C8) -> 2013 | L8: =IF(variables!$C$2=1,G8, IF($D8=analyse!$C$3,$G8,"") ) -> 0 | M8: =IF(variables!$F$3=$B8, IF(N($J8=M$3)=0,"",$L8), "" ) | N8: =IF(variables!$F$3=$B8, IF(N($J8=N$3)=0,"",$L8), "" ) | O8: =IF(variables!$F$3=$B8, IF(N($J8=O$3)=0,"",$L8), "" ) -> 0 | P8: =IF(variables!$F$3=$B8, IF(N($J8=P$3)=0,"",$L8), "" ) | Q8: =IF(variables!$F$3=$B8, IF(N($J8=Q$3)=0,"",$L8), "" ) | R8: =IF(variables!$F$3=$B8, IF(N($J8=R$3)=0,"",$L8), "" ) | S8: =IF(variables!$F$3=$B8, IF(N($J8=S$3)=0,"",$L8), "" ) | T8: =IF(variables!$F$3=$B8, IF(N($J8=T$3)=0,"",$L8), "" ) | ... X8: =IF(variables!$F$3=$B8, IF(N($J8=X$3)=0,"",$L8), "" ) | Y8: =IF(variables!$F$3=$B8, IF(N($I8=Y$3)=0,"",$L8), "" ) | Z8: =IF(variables!$F$3=$B8, IF(N($I8=Z$3)=0,"",$L8), "" ) | AA8: =IF(variables!$F$3=$B8, IF(N($I8=AA$3)=0,"",$L8), "" ) | AB8: =IF(variables!$F$3=$B8, IF(N($I8=AB$3)=0,"",$L8), "" ) | AC8: =IF(variables!$F$3=$B8, IF(N($I8=AC$3)=0,"",$L8), "" ) | AD8: =IF(variables!$F$3=$B8, IF(N($I8=AD$3)=0,"",$L8), "" ) | AE8: =IF(variables!$F$3=$B8, IF(N($I8=AE$3)=0,"",$L8), "" ) | AF8: =IF(variables!$F$3=$B8, IF(N($I8=AF$3)=0,"",$L8), "" ) | ... AO8: =IF(variables!$F$3=$B8, IF(N($I8=AO$3)=0,"",$L8), "" ) | AP8: =IF(variables!$F$3=$B8, IF(N($J8=AP$3)=0,"",$L8), "" ) | AQ8: =IF(variables!$F$3=$B8, IF(N($J8=AQ$3)=0,"",$L8), "" ) | AR8: =IF(variables!$F$3=$B8, IF(N($J8=AR$3)=0,"",$L8), "" ) | AS8: =IF(variables!$F$3=$B8, IF(N($J8=AS$3)=0,"",$L8), "" ) | AT8: =IF(variables!$F$3=$B8, IF(N($J8=AT$3)=0,"",$L8), "" ) | AU8: =IF(variables!$F$3=$B8, IF(N($J8=AU$3)=0,"",$L8), "" ) | AV8: =IF(variables!$F$3=$B8, IF(N($J8=AV$3)=0,"",$L8), "" ) | AW8: =IF(variables!$F$3=$B8, IF(N($J8=AW$3)=0,"",$L8), "" ) | ... BX8: =IF(variables!$F$3=$B8, IF(N($J8=BX$3)=0,"",$L8), "" ) | BY8: =IF(N($B8=BY$3)=0,"",$G8) -> 0 | BZ8: =IF(N($B8=BZ$3)=0,"",$G8) | CA8: =IF(N($B8=CA$3)=0,"",$G8) | CB8: =IF(N($B8=CB$3)=0,"",$G8) | CC8: =IF(N($B8=CC$3)=0,"",$G8) | CD8: =IF(N($B8=CD$3)=0,"",$G8) | CE8: =IF(N($B8=CE$3)=0,"",$G8) | CF8: =IF(N($B8=CF$3)=0,"",$G8) | ... CJ8: =IF(N($B8=CJ$3)=0,"",$G8) | CK8: =IF(analyse!$G$18=bdd!$B8,IF(matiere=bdd!$D8,bdd!$G8,""),"") | CL8: =IF(analyse!$G$18=bdd!$B8,IF(matiere=bdd!$D8,bdd!$G8,""),"") | CM8: =IF(analyse!$G$18=bdd!$B8,IF(matiere=bdd!$D8,bdd!$G8,""),"") -> 0 | CN8: =IF(analyse!$G$18=bdd!$B8,IF(matiere=bdd!$D8,bdd!$G8,""),"") | CO8: =IF(analyse!$G$18=bdd!$B8,IF(matiere=bdd!$D8,bdd!$G8,""),"") | CP8: =IF(analyse!$G$18=bdd!$B8,IF(matiere=bdd!$D8,bdd!$G8,""),"") | CQ8: =IF(analyse!$G$18=bdd!$B8,IF(matiere=bdd!$D8,bdd!$G8,""),"") | CR8: =IF(analyse!$G$18=bdd!$B8,IF(matiere=bdd!$D8,bdd!$G8,""),"") | ... CT8: =IF(analyse!$G$18=bdd!$B8,IF(matiere=bdd!$D8,bdd!$G8,""),"")
B9: 2013/2014 | C9: =C8+10 -> 41598 | D9: histoire geo | E9: 11 | F9: 20 | G9: =IF(F9=10,E9*2,E9) -> 11 | H9: oral | I9: =WEEKNUM(C9,1) -> 47 | J9: =CHOOSE(MONTH(C9),variables!$B$2,variables!$B$3,variables!$B$4,variables!$B$5,variables!$B$6,variables!$B$7,variables!$B$8,variables!$B$9,variables!$B$10,variables!$B$11,variables!$B$12,variables!$B$13) -> novembre | K9: =YEAR(C9) -> 2013 | L9: =IF(variables!$C$2=1,G9, IF($D9=analyse!$C$3,$G9,"") ) -> 11 | M9: =IF(variables!$F$3=$B9, IF(N($J9=M$3)=0,"",$L9), "" ) | N9: =IF(variables!$F$3=$B9, IF(N($J9=N$3)=0,"",$L9), "" ) | O9: =IF(variables!$F$3=$B9, IF(N($J9=O$3)=0,"",$L9), "" ) -> 11 | P9: =IF(variables!$F$3=$B9, IF(N($J9=P$3)=0,"",$L9), "" ) | Q9: =IF(variables!$F$3=$B9, IF(N($J9=Q$3)=0,"",$L9), "" ) | R9: =IF(variables!$F$3=$B9, IF(N($J9=R$3)=0,"",$L9), "" ) | S9: =IF(variables!$F$3=$B9, IF(N($J9=S$3)=0,"",$L9), "" ) | T9: =IF(variables!$F$3=$B9, IF(N($J9=T$3)=0,"",$L9), "" ) | ... X9: =IF(variables!$F$3=$B9, IF(N($J9=X$3)=0,"",$L9), "" ) | Y9: =IF(variables!$F$3=$B9, IF(N($I9=Y$3)=0,"",$L9), "" ) | Z9: =IF(variables!$F$3=$B9, IF(N($I9=Z$3)=0,"",$L9), "" ) | AA9: =IF(variables!$F$3=$B9, IF(N($I9=AA$3)=0,"",$L9), "" ) | AB9: =IF(variables!$F$3=$B9, IF(N($I9=AB$3)=0,"",$L9), "" ) | AC9: =IF(variables!$F$3=$B9, IF(N($I9=AC$3)=0,"",$L9), "" ) | AD9: =IF(variables!$F$3=$B9, IF(N($I9=AD$3)=0,"",$L9), "" ) | AE9: =IF(variables!$F$3=$B9, IF(N($I9=AE$3)=0,"",$L9), "" ) | AF9: =IF(variables!$F$3=$B9, IF(N($I9=AF$3)=0,"",$L9), "" ) | ... AO9: =IF(variables!$F$3=$B9, IF(N($I9=AO$3)=0,"",$L9), "" ) | AP9: =IF(variables!$F$3=$B9, IF(N($J9=AP$3)=0,"",$L9), "" ) | AQ9: =IF(variables!$F$3=$B9, IF(N($J9=AQ$3)=0,"",$L9), "" ) | AR9: =IF(variables!$F$3=$B9, IF(N($J9=AR$3)=0,"",$L9), "" ) | AS9: =IF(variables!$F$3=$B9, IF(N($J9=AS$3)=0,"",$L9), "" ) | AT9: =IF(variables!$F$3=$B9, IF(N($J9=AT$3)=0,"",$L9), "" ) | AU9: =IF(variables!$F$3=$B9, IF(N($J9=AU$3)=0,"",$L9), "" ) | AV9: =IF(variables!$F$3=$B9, IF(N($J9=AV$3)=0,"",$L9), "" ) | AW9: =IF(variables!$F$3=$B9, IF(N($J9=AW$3)=0,"",$L9), "" ) | ... BX9: =IF(variables!$F$3=$B9, IF(N($J9=BX$3)=0,"",$L9), "" ) | BY9: =IF(N($B9=BY$3)=0,"",$G9) -> 11 | BZ9: =IF(N($B9=BZ$3)=0,"",$G9) | CA9: =IF(N($B9=CA$3)=0,"",$G9) | CB9: =IF(N($B9=CB$3)=0,"",$G9) | CC9: =IF(N($B9=CC$3)=0,"",$G9) | CD9: =IF(N($B9=CD$3)=0,"",$G9) | CE9: =IF(N($B9=CE$3)=0,"",$G9) | CF9: =IF(N($B9=CF$3)=0,"",$G9) | ... CJ9: =IF(N($B9=CJ$3)=0,"",$G9) | CK9: =IF(analyse!$G$18=bdd!$B9,IF(matiere=bdd!$D9,bdd!$G9,""),"") | CL9: =IF(analyse!$G$18=bdd!$B9,IF(matiere=bdd!$D9,bdd!$G9,""),"") | CM9: =IF(analyse!$G$18=bdd!$B9,IF(matiere=bdd!$D9,bdd!$G9,""),"") | CN9: =IF(analyse!$G$18=bdd!$B9,IF(matiere=bdd!$D9,bdd!$G9,""),"") | CO9: =IF(analyse!$G$18=bdd!$B9,IF(matiere=bdd!$D9,bdd!$G9,""),"") -> 11 | CP9: =IF(analyse!$G$18=bdd!$B9,IF(matiere=bdd!$D9,bdd!$G9,""),"") | CQ9: =IF(analyse!$G$18=bdd!$B9,IF(matiere=bdd!$D9,bdd!$G9,""),"") | CR9: =IF(analyse!$G$18=bdd!$B9,IF(matiere=bdd!$D9,bdd!$G9,""),"") | ... CT9: =IF(analyse!$G$18=bdd!$B9,IF(matiere=bdd!$D9,bdd!$G9,""),"")
B10: 2013/2014 | C10: =C9+10 -> 41608 | D10: anglais | E10: 4 | F10: 10 | G10: =IF(F10=10,E10*2,E10) -> 8 | H10: écrit | I10: =WEEKNUM(C10,1) -> 48 | J10: =CHOOSE(MONTH(C10),variables!$B$2,variables!$B$3,variables!$B$4,variables!$B$5,variables!$B$6,variables!$B$7,variables!$B$8,variables!$B$9,variables!$B$10,variables!$B$11,variables!$B$12,variables!$B$13) -> novembre | K10: =YEAR(C10) -> 2013 | L10: =IF(variables!$C$2=1,G10, IF($D10=analyse!$C$3,$G10,"") ) -> 8 | M10: =IF(variables!$F$3=$B10, IF(N($J10=M$3)=0,"",$L10), "" ) | N10: =IF(variables!$F$3=$B10, IF(N($J10=N$3)=0,"",$L10), "" ) | O10: =IF(variables!$F$3=$B10, IF(N($J10=O$3)=0,"",$L10), "" ) -> 8 | P10: =IF(variables!$F$3=$B10, IF(N($J10=P$3)=0,"",$L10), "" ) | Q10: =IF(variables!$F$3=$B10, IF(N($J10=Q$3)=0,"",$L10), "" ) | R10: =IF(variables!$F$3=$B10, IF(N($J10=R$3)=0,"",$L10), "" ) | S10: =IF(variables!$F$3=$B10, IF(N($J10=S$3)=0,"",$L10), "" ) | T10: =IF(variables!$F$3=$B10, IF(N($J10=T$3)=0,"",$L10), "" ) | ... X10: =IF(variables!$F$3=$B10, IF(N($J10=X$3)=0,"",$L10), "" ) | Y10: =IF(variables!$F$3=$B10, IF(N($I10=Y$3)=0,"",$L10), "" ) | Z10: =IF(variables!$F$3=$B10, IF(N($I10=Z$3)=0,"",$L10), "" ) | AA10: =IF(variables!$F$3=$B10, IF(N($I10=AA$3)=0,"",$L10), "" ) | AB10: =IF(variables!$F$3=$B10, IF(N($I10=AB$3)=0,"",$L10), "" ) | AC10: =IF(variables!$F$3=$B10, IF(N($I10=AC$3)=0,"",$L10), "" ) | AD10: =IF(variables!$F$3=$B10, IF(N($I10=AD$3)=0,"",$L10), "" ) | AE10: =IF(variables!$F$3=$B10, IF(N($I10=AE$3)=0,"",$L10), "" ) | AF10: =IF(variables!$F$3=$B10, IF(N($I10=AF$3)=0,"",$L10), "" ) | ... BX10: =IF(variables!$F$3=$B10, IF(N($I10=BX$3)=0,"",$L10), "" ) | BY10: =IF(N($B10=BY$3)=0,"",$G10) -> 8 | BZ10: =IF(N($B10=BZ$3)=0,"",$G10) | CA10: =IF(N($B10=CA$3)=0,"",$G10) | CB10: =IF(N($B10=CB$3)=0,"",$G10) | CC10: =IF(N($B10=CC$3)=0,"",$G10) | CD10: =IF(N($B10=CD$3)=0,"",$G10) | CE10: =IF(N($B10=CE$3)=0,"",$G10) | CF10: =IF(N($B10=CF$3)=0,"",$G10) | ... CJ10: =IF(N($B10=CJ$3)=0,"",$G10) | CK10: =IF(analyse!$G$18=bdd!$B10,IF(matiere=bdd!$D10,bdd!$G10,""),"") | CL10: =IF(analyse!$G$18=bdd!$B10,IF(matiere=bdd!$D10,bdd!$G10,""),"") | CM10: =IF(analyse!$G$18=bdd!$B10,IF(matiere=bdd!$D10,bdd!$G10,""),"") | CN10: =IF(analyse!$G$18=bdd!$B10,IF(matiere=bdd!$D10,bdd!$G10,""),"") | CO10: =IF(analyse!$G$18=bdd!$B10,IF(matiere=bdd!$D10,bdd!$G10,""),"") | CP10: =IF(analyse!$G$18=bdd!$B10,IF(matiere=bdd!$D10,bdd!$G10,""),"") | CQ10: =IF(analyse!$G$18=bdd!$B10,IF(matiere=bdd!$D10,bdd!$G10,""),"") -> 8 | CR10: =IF(analyse!$G$18=bdd!$B10,IF(matiere=bdd!$D10,bdd!$G10,""),"") | ... CT10: =IF(analyse!$G$18=bdd!$B10,IF(matiere=bdd!$D10,bdd!$G10,""),"")
B11: 2013/2014 | C11: =C10+10 -> 41618 | D11: Math | E11: 14 | F11: 20 | G11: =IF(F11=10,E11*2,E11) -> 14 | H11: écrit | I11: =WEEKNUM(C11,1) -> 50 | J11: =CHOOSE(MONTH(C11),variables!$B$2,variables!$B$3,variables!$B$4,variables!$B$5,variables!$B$6,variables!$B$7,variables!$B$8,variables!$B$9,variables!$B$10,variables!$B$11,variables!$B$12,variables!$B$13) -> décembre | K11: =YEAR(C11) -> 2013 | L11: =IF(variables!$C$2=1,G11, IF($D11=analyse!$C$3,$G11,"") ) -> 14 | M11: =IF(variables!$F$3=$B11, IF(N($J11=M$3)=0,"",$L11), "" ) | N11: =IF(variables!$F$3=$B11, IF(N($J11=N$3)=0,"",$L11), "" ) | O11: =IF(variables!$F$3=$B11, IF(N($J11=O$3)=0,"",$L11), "" ) | P11: =IF(variables!$F$3=$B11, IF(N($J11=P$3)=0,"",$L11), "" ) -> 14 | Q11: =IF(variables!$F$3=$B11, IF(N($J11=Q$3)=0,"",$L11), "" ) | R11: =IF(variables!$F$3=$B11, IF(N($J11=R$3)=0,"",$L11), "" ) | S11: =IF(variables!$F$3=$B11, IF(N($J11=S$3)=0,"",$L11), "" ) | T11: =IF(variables!$F$3=$B11, IF(N($J11=T$3)=0,"",$L11), "" ) | ... X11: =IF(variables!$F$3=$B11, IF(N($J11=X$3)=0,"",$L11), "" ) | Y11: =IF(variables!$F$3=$B11, IF(N($I11=Y$3)=0,"",$L11), "" ) | Z11: =IF(variables!$F$3=$B11, IF(N($I11=Z$3)=0,"",$L11), "" ) | AA11: =IF(variables!$F$3=$B11, IF(N($I11=AA$3)=0,"",$L11), "" ) | AB11: =IF(variables!$F$3=$B11, IF(N($I11=AB$3)=0,"",$L11), "" ) | AC11: =IF(variables!$F$3=$B11, IF(N($I11=AC$3)=0,"",$L11), "" ) | AD11: =IF(variables!$F$3=$B11, IF(N($I11=AD$3)=0,"",$L11), "" ) | AE11: =IF(variables!$F$3=$B11, IF(N($I11=AE$3)=0,"",$L11), "" ) | AF11: =IF(variables!$F$3=$B11, IF(N($I11=AF$3)=0,"",$L11), "" ) | ... BX11: =IF(variables!$F$3=$B11, IF(N($I11=BX$3)=0,"",$L11), "" ) | BY11: =IF(N($B11=BY$3)=0,"",$G11) -> 14 | BZ11: =IF(N($B11=BZ$3)=0,"",$G11) | CA11: =IF(N($B11=CA$3)=0,"",$G11) | CB11: =IF(N($B11=CB$3)=0,"",$G11) | CC11: =IF(N($B11=CC$3)=0,"",$G11) | CD11: =IF(N($B11=CD$3)=0,"",$G11) | CE11: =IF(N($B11=CE$3)=0,"",$G11) | CF11: =IF(N($B11=CF$3)=0,"",$G11) | ... CJ11: =IF(N($B11=CJ$3)=0,"",$G11) | CK11: =IF(analyse!$G$18=bdd!$B11,IF(matiere=bdd!$D11,bdd!$G11,""),"") | CL11: =IF(analyse!$G$18=bdd!$B11,IF(matiere=bdd!$D11,bdd!$G11,""),"") -> 14 | CM11: =IF(analyse!$G$18=bdd!$B11,IF(matiere=bdd!$D11,bdd!$G11,""),"") | CN11: =IF(analyse!$G$18=bdd!$B11,IF(matiere=bdd!$D11,bdd!$G11,""),"") | CO11: =IF(analyse!$G$18=bdd!$B11,IF(matiere=bdd!$D11,bdd!$G11,""),"") | CP11: =IF(analyse!$G$18=bdd!$B11,IF(matiere=bdd!$D11,bdd!$G11,""),"") | CQ11: =IF(analyse!$G$18=bdd!$B11,IF(matiere=bdd!$D11,bdd!$G11,""),"") | CR11: =IF(analyse!$G$18=bdd!$B11,IF(matiere=bdd!$D11,bdd!$G11,""),"") | ... CT11: =IF(analyse!$G$18=bdd!$B11,IF(matiere=bdd!$D11,bdd!$G11,""),"")
B12: 2013/2014 | C12: =C11+10 -> 41628 | D12: Espagnol | E12: 16 | F12: 20 | G12: =IF(F12=10,E12*2,E12) -> 16 | H12: écrit | I12: =WEEKNUM(C12,1) -> 51 | J12: =CHOOSE(MONTH(C12),variables!$B$2,variables!$B$3,variables!$B$4,variables!$B$5,variables!$B$6,variables!$B$7,variables!$B$8,variables!$B$9,variables!$B$10,variables!$B$11,variables!$B$12,variables!$B$13) -> décembre | K12: =YEAR(C12) -> 2013 | L12: =IF(variables!$C$2=1,G12, IF($D12=analyse!$C$3,$G12,"") ) -> 16 | M12: =IF(variables!$F$3=$B12, IF(N($J12=M$3)=0,"",$L12), "" ) | N12: =IF(variables!$F$3=$B12, IF(N($J12=N$3)=0,"",$L12), "" ) | O12: =IF(variables!$F$3=$B12, IF(N($J12=O$3)=0,"",$L12), "" ) | P12: =IF(variables!$F$3=$B12, IF(N($J12=P$3)=0,"",$L12), "" ) -> 16 | Q12: =IF(variables!$F$3=$B12, IF(N($J12=Q$3)=0,"",$L12), "" ) | R12: =IF(variables!$F$3=$B12, IF(N($J12=R$3)=0,"",$L12), "" ) | S12: =IF(variables!$F$3=$B12, IF(N($J12=S$3)=0,"",$L12), "" ) | T12: =IF(variables!$F$3=$B12, IF(N($J12=T$3)=0,"",$L12), "" ) | ... X12: =IF(variables!$F$3=$B12, IF(N($J12=X$3)=0,"",$L12), "" ) | Y12: =IF(variables!$F$3=$B12, IF(N($I12=Y$3)=0,"",$L12), "" ) | Z12: =IF(variables!$F$3=$B12, IF(N($I12=Z$3)=0,"",$L12), "" ) | AA12: =IF(variables!$F$3=$B12, IF(N($I12=AA$3)=0,"",$L12), "" ) | AB12: =IF(variables!$F$3=$B12, IF(N($I12=AB$3)=0,"",$L12), "" ) | AC12: =IF(variables!$F$3=$B12, IF(N($I12=AC$3)=0,"",$L12), "" ) | AD12: =IF(variables!$F$3=$B12, IF(N($I12=AD$3)=0,"",$L12), "" ) | AE12: =IF(variables!$F$3=$B12, IF(N($I12=AE$3)=0,"",$L12), "" ) | AF12: =IF(variables!$F$3=$B12, IF(N($I12=AF$3)=0,"",$L12), "" ) | ... BX12: =IF(variables!$F$3=$B12, IF(N($I12=BX$3)=0,"",$L12), "" ) | BY12: =IF(N($B12=BY$3)=0,"",$G12) -> 16 | BZ12: =IF(N($B12=BZ$3)=0,"",$G12) | CA12: =IF(N($B12=CA$3)=0,"",$G12) | CB12: =IF(N($B12=CB$3)=0,"",$G12) | CC12: =IF(N($B12=CC$3)=0,"",$G12) | CD12: =IF(N($B12=CD$3)=0,"",$G12) | CE12: =IF(N($B12=CE$3)=0,"",$G12) | CF12: =IF(N($B12=CF$3)=0,"",$G12) | ... CJ12: =IF(N($B12=CJ$3)=0,"",$G12) | CK12: =IF(analyse!$G$18=bdd!$B12,IF(matiere=bdd!$D12,bdd!$G12,""),"") | CL12: =IF(analyse!$G$18=bdd!$B12,IF(matiere=bdd!$D12,bdd!$G12,""),"") | CM12: =IF(analyse!$G$18=bdd!$B12,IF(matiere=bdd!$D12,bdd!$G12,""),"") | CN12: =IF(analyse!$G$18=bdd!$B12,IF(matiere=bdd!$D12,bdd!$G12,""),"") | CO12: =IF(analyse!$G$18=bdd!$B12,IF(matiere=bdd!$D12,bdd!$G12,""),"") | CP12: =IF(analyse!$G$18=bdd!$B12,IF(matiere=bdd!$D12,bdd!$G12,""),"") | CQ12: =IF(analyse!$G$18=bdd!$B12,IF(matiere=bdd!$D12,bdd!$G12,""),"") | CR12: =IF(analyse!$G$18=bdd!$B12,IF(matiere=bdd!$D12,bdd!$G12,""),"") -> 16 | ... CT12: =IF(analyse!$G$18=bdd!$B12,IF(matiere=bdd!$D12,bdd!$G12,""),"")
B13: 2013/2014 | C13: =C12+10 -> 41638 | D13: svt | E13: 7 | F13: 20 | G13: =IF(F13=10,E13*2,E13) -> 7 | H13: écrit | I13: =WEEKNUM(C13,1) -> 53 | J13: =CHOOSE(MONTH(C13),variables!$B$2,variables!$B$3,variables!$B$4,variables!$B$5,variables!$B$6,variables!$B$7,variables!$B$8,variables!$B$9,variables!$B$10,variables!$B$11,variables!$B$12,variables!$B$13) -> décembre | K13: =YEAR(C13) -> 2013 | L13: =IF(variables!$C$2=1,G13, IF($D13=analyse!$C$3,$G13,"") ) -> 7 | M13: =IF(variables!$F$3=$B13, IF(N($J13=M$3)=0,"",$L13), "" ) | N13: =IF(variables!$F$3=$B13, IF(N($J13=N$3)=0,"",$L13), "" ) | O13: =IF(variables!$F$3=$B13, IF(N($J13=O$3)=0,"",$L13), "" ) | P13: =IF(variables!$F$3=$B13, IF(N($J13=P$3)=0,"",$L13), "" ) -> 7 | Q13: =IF(variables!$F$3=$B13, IF(N($J13=Q$3)=0,"",$L13), "" ) | R13: =IF(variables!$F$3=$B13, IF(N($J13=R$3)=0,"",$L13), "" ) | S13: =IF(variables!$F$3=$B13, IF(N($J13=S$3)=0,"",$L13), "" ) | T13: =IF(variables!$F$3=$B13, IF(N($J13=T$3)=0,"",$L13), "" ) | ... X13: =IF(variables!$F$3=$B13, IF(N($J13=X$3)=0,"",$L13), "" ) | Y13: =IF(variables!$F$3=$B13, IF(N($I13=Y$3)=0,"",$L13), "" ) | Z13: =IF(variables!$F$3=$B13, IF(N($I13=Z$3)=0,"",$L13), "" ) | AA13: =IF(variables!$F$3=$B13, IF(N($I13=AA$3)=0,"",$L13), "" ) | AB13: =IF(variables!$F$3=$B13, IF(N($I13=AB$3)=0,"",$L13), "" ) | AC13: =IF(variables!$F$3=$B13, IF(N($I13=AC$3)=0,"",$L13), "" ) | AD13: =IF(variables!$F$3=$B13, IF(N($I13=AD$3)=0,"",$L13), "" ) | AE13: =IF(variables!$F$3=$B13, IF(N($I13=AE$3)=0,"",$L13), "" ) | AF13: =IF(variables!$F$3=$B13, IF(N($I13=AF$3)=0,"",$L13), "" ) | ... BX13: =IF(variables!$F$3=$B13, IF(N($I13=BX$3)=0,"",$L13), "" ) | BY13: =IF(N($B13=BY$3)=0,"",$G13) -> 7 | BZ13: =IF(N($B13=BZ$3)=0,"",$G13) | CA13: =IF(N($B13=CA$3)=0,"",$G13) | CB13: =IF(N($B13=CB$3)=0,"",$G13) | CC13: =IF(N($B13=CC$3)=0,"",$G13) | CD13: =IF(N($B13=CD$3)=0,"",$G13) | CE13: =IF(N($B13=CE$3)=0,"",$G13) | CF13: =IF(N($B13=CF$3)=0,"",$G13) | ... CJ13: =IF(N($B13=CJ$3)=0,"",$G13) | CK13: =IF(analyse!$G$18=bdd!$B13,IF(matiere=bdd!$D13,bdd!$G13,""),"") | CL13: =IF(analyse!$G$18=bdd!$B13,IF(matiere=bdd!$D13,bdd!$G13,""),"") | CM13: =IF(analyse!$G$18=bdd!$B13,IF(matiere=bdd!$D13,bdd!$G13,""),"") | CN13: =IF(analyse!$G$18=bdd!$B13,IF(matiere=bdd!$D13,bdd!$G13,""),"") -> 7 | CO13: =IF(analyse!$G$18=bdd!$B13,IF(matiere=bdd!$D13,bdd!$G13,""),"") | CP13: =IF(analyse!$G$18=bdd!$B13,IF(matiere=bdd!$D13,bdd!$G13,""),"") | CQ13: =IF(analyse!$G$18=bdd!$B13,IF(matiere=bdd!$D13,bdd!$G13,""),"") | CR13: =IF(analyse!$G$18=bdd!$B13,IF(matiere=bdd!$D13,bdd!$G13,""),"") | ... CT13: =IF(analyse!$G$18=bdd!$B13,IF(matiere=bdd!$D13,bdd!$G13,""),"")
B14: 2013/2014 | C14: =C13+10 -> 41648 | D14: sport | E14: 13 | F14: 20 | G14: =IF(F14=10,E14*2,E14) -> 13 | H14: écrit | I14: =WEEKNUM(C14,1) -> 2 | J14: =CHOOSE(MONTH(C14),variables!$B$2,variables!$B$3,variables!$B$4,variables!$B$5,variables!$B$6,variables!$B$7,variables!$B$8,variables!$B$9,variables!$B$10,variables!$B$11,variables!$B$12,variables!$B$13) -> janvier | K14: =YEAR(C14) -> 2014 | L14: =IF(variables!$C$2=1,G14, IF($D14=analyse!$C$3,$G14,"") ) -> 13 | M14: =IF(variables!$F$3=$B14, IF(N($J14=M$3)=0,"",$L14), "" ) | N14: =IF(variables!$F$3=$B14, IF(N($J14=N$3)=0,"",$L14), "" ) | O14: =IF(variables!$F$3=$B14, IF(N($J14=O$3)=0,"",$L14), "" ) | P14: =IF(variables!$F$3=$B14, IF(N($J14=P$3)=0,"",$L14), "" ) | Q14: =IF(variables!$F$3=$B14, IF(N($J14=Q$3)=0,"",$L14), "" ) -> 13 | R14: =IF(variables!$F$3=$B14, IF(N($J14=R$3)=0,"",$L14), "" ) | S14: =IF(variables!$F$3=$B14, IF(N($J14=S$3)=0,"",$L14), "" ) | T14: =IF(variables!$F$3=$B14, IF(N($J14=T$3)=0,"",$L14), "" ) | ... X14: =IF(variables!$F$3=$B14, IF(N($J14=X$3)=0,"",$L14), "" ) | Y14: =IF(variables!$F$3=$B14, IF(N($I14=Y$3)=0,"",$L14), "" ) | Z14: =IF(variables!$F$3=$B14, IF(N($I14=Z$3)=0,"",$L14), "" ) | AA14: =IF(variables!$F$3=$B14, IF(N($I14=AA$3)=0,"",$L14), "" ) | AB14: =IF(variables!$F$3=$B14, IF(N($I14=AB$3)=0,"",$L14), "" ) | AC14: =IF(variables!$F$3=$B14, IF(N($I14=AC$3)=0,"",$L14), "" ) | AD14: =IF(variables!$F$3=$B14, IF(N($I14=AD$3)=0,"",$L14), "" ) | AE14: =IF(variables!$F$3=$B14, IF(N($I14=AE$3)=0,"",$L14), "" ) | AF14: =IF(variables!$F$3=$B14, IF(N($I14=AF$3)=0,"",$L14), "" ) | ... BX14: =IF(variables!$F$3=$B14, IF(N($I14=BX$3)=0,"",$L14), "" ) | BY14: =IF(N($B14=BY$3)=0,"",$G14) -> 13 | BZ14: =IF(N($B14=BZ$3)=0,"",$G14) | CA14: =IF(N($B14=CA$3)=0,"",$G14) | CB14: =IF(N($B14=CB$3)=0,"",$G14) | CC14: =IF(N($B14=CC$3)=0,"",$G14) | CD14: =IF(N($B14=CD$3)=0,"",$G14) | CE14: =IF(N($B14=CE$3)=0,"",$G14) | CF14: =IF(N($B14=CF$3)=0,"",$G14) | ... CJ14: =IF(N($B14=CJ$3)=0,"",$G14) | CK14: =IF(analyse!$G$18=bdd!$B14,IF(matiere=bdd!$D14,bdd!$G14,""),"") | CL14: =IF(analyse!$G$18=bdd!$B14,IF(matiere=bdd!$D14,bdd!$G14,""),"") | CM14: =IF(analyse!$G$18=bdd!$B14,IF(matiere=bdd!$D14,bdd!$G14,""),"") | CN14: =IF(analyse!$G$18=bdd!$B14,IF(matiere=bdd!$D14,bdd!$G14,""),"") | CO14: =IF(analyse!$G$18=bdd!$B14,IF(matiere=bdd!$D14,bdd!$G14,""),"") | CP14: =IF(analyse!$G$18=bdd!$B14,IF(matiere=bdd!$D14,bdd!$G14,""),"") | CQ14: =IF(analyse!$G$18=bdd!$B14,IF(matiere=bdd!$D14,bdd!$G14,""),"") | CR14: =IF(analyse!$G$18=bdd!$B14,IF(matiere=bdd!$D14,bdd!$G14,""),"") | ... CT14: =IF(analyse!$G$18=bdd!$B14,IF(matiere=bdd!$D14,bdd!$G14,""),"")
B15: 2013/2014 | C15: =C14+10 -> 41658 | D15: svt | E15: 12 | F15: 20 | G15: =IF(F15=10,E15*2,E15) -> 12 | H15: écrit | I15: =WEEKNUM(C15,1) -> 4 | J15: =CHOOSE(MONTH(C15),variables!$B$2,variables!$B$3,variables!$B$4,variables!$B$5,variables!$B$6,variables!$B$7,variables!$B$8,variables!$B$9,variables!$B$10,variables!$B$11,variables!$B$12,variables!$B$13) -> janvier | K15: =YEAR(C15) -> 2014 | L15: =IF(variables!$C$2=1,G15, IF($D15=analyse!$C$3,$G15,"") ) -> 12 | M15: =IF(variables!$F$3=$B15, IF(N($J15=M$3)=0,"",$L15), "" ) | N15: =IF(variables!$F$3=$B15, IF(N($J15=N$3)=0,"",$L15), "" ) | O15: =IF(variables!$F$3=$B15, IF(N($J15=O$3)=0,"",$L15), "" ) | P15: =IF(variables!$F$3=$B15, IF(N($J15=P$3)=0,"",$L15), "" ) | Q15: =IF(variables!$F$3=$B15, IF(N($J15=Q$3)=0,"",$L15), "" ) -> 12 | R15: =IF(variables!$F$3=$B15, IF(N($J15=R$3)=0,"",$L15), "" ) | S15: =IF(variables!$F$3=$B15, IF(N($J15=S$3)=0,"",$L15), "" ) | T15: =IF(variables!$F$3=$B15, IF(N($J15=T$3)=0,"",$L15), "" ) | ... X15: =IF(variables!$F$3=$B15, IF(N($J15=X$3)=0,"",$L15), "" ) | Y15: =IF(variables!$F$3=$B15, IF(N($I15=Y$3)=0,"",$L15), "" ) | Z15: =IF(variables!$F$3=$B15, IF(N($I15=Z$3)=0,"",$L15), "" ) | AA15: =IF(variables!$F$3=$B15, IF(N($I15=AA$3)=0,"",$L15), "" ) | AB15: =IF(variables!$F$3=$B15, IF(N($I15=AB$3)=0,"",$L15), "" ) | AC15: =IF(variables!$F$3=$B15, IF(N($I15=AC$3)=0,"",$L15), "" ) | AD15: =IF(variables!$F$3=$B15, IF(N($I15=AD$3)=0,"",$L15), "" ) | AE15: =IF(variables!$F$3=$B15, IF(N($I15=AE$3)=0,"",$L15), "" ) | AF15: =IF(variables!$F$3=$B15, IF(N($I15=AF$3)=0,"",$L15), "" ) | ... BX15: =IF(variables!$F$3=$B15, IF(N($I15=BX$3)=0,"",$L15), "" ) | BY15: =IF(N($B15=BY$3)=0,"",$G15) -> 12 | BZ15: =IF(N($B15=BZ$3)=0,"",$G15) | CA15: =IF(N($B15=CA$3)=0,"",$G15) | CB15: =IF(N($B15=CB$3)=0,"",$G15) | CC15: =IF(N($B15=CC$3)=0,"",$G15) | CD15: =IF(N($B15=CD$3)=0,"",$G15) | CE15: =IF(N($B15=CE$3)=0,"",$G15) | CF15: =IF(N($B15=CF$3)=0,"",$G15) | ... CJ15: =IF(N($B15=CJ$3)=0,"",$G15) | CK15: =IF(analyse!$G$18=bdd!$B15,IF(matiere=bdd!$D15,bdd!$G15,""),"") | CL15: =IF(analyse!$G$18=bdd!$B15,IF(matiere=bdd!$D15,bdd!$G15,""),"") | CM15: =IF(analyse!$G$18=bdd!$B15,IF(matiere=bdd!$D15,bdd!$G15,""),"") | CN15: =IF(analyse!$G$18=bdd!$B15,IF(matiere=bdd!$D15,bdd!$G15,""),"") -> 12 | CO15: =IF(analyse!$G$18=bdd!$B15,IF(matiere=bdd!$D15,bdd!$G15,""),"") | CP15: =IF(analyse!$G$18=bdd!$B15,IF(matiere=bdd!$D15,bdd!$G15,""),"") | CQ15: =IF(analyse!$G$18=bdd!$B15,IF(matiere=bdd!$D15,bdd!$G15,""),"") | CR15: =IF(analyse!$G$18=bdd!$B15,IF(matiere=bdd!$D15,bdd!$G15,""),"") | ... CT15: =IF(analyse!$G$18=bdd!$B15,IF(matiere=bdd!$D15,bdd!$G15,""),"")
B16: 2013/2014 | C16: =C15+10 -> 41668 | D16: anglais | E16: 7 | F16: 20 | G16: =IF(F16=10,E16*2,E16) -> 7 | H16: oral | I16: =WEEKNUM(C16,1) -> 5 | J16: =CHOOSE(MONTH(C16),variables!$B$2,variables!$B$3,variables!$B$4,variables!$B$5,variables!$B$6,variables!$B$7,variables!$B$8,variables!$B$9,variables!$B$10,variables!$B$11,variables!$B$12,variables!$B$13) -> janvier | K16: =YEAR(C16) -> 2014 | L16: =IF(variables!$C$2=1,G16, IF($D16=analyse!$C$3,$G16,"") ) -> 7 | M16: =IF(variables!$F$3=$B16, IF(N($J16=M$3)=0,"",$L16), "" ) | N16: =IF(variables!$F$3=$B16, IF(N($J16=N$3)=0,"",$L16), "" ) | O16: =IF(variables!$F$3=$B16, IF(N($J16=O$3)=0,"",$L16), "" ) | P16: =IF(variables!$F$3=$B16, IF(N($J16=P$3)=0,"",$L16), "" ) | Q16: =IF(variables!$F$3=$B16, IF(N($J16=Q$3)=0,"",$L16), "" ) -> 7 | R16: =IF(variables!$F$3=$B16, IF(N($J16=R$3)=0,"",$L16), "" ) | S16: =IF(variables!$F$3=$B16, IF(N($J16=S$3)=0,"",$L16), "" ) | T16: =IF(variables!$F$3=$B16, IF(N($J16=T$3)=0,"",$L16), "" ) | ... X16: =IF(variables!$F$3=$B16, IF(N($J16=X$3)=0,"",$L16), "" ) | Y16: =IF(variables!$F$3=$B16, IF(N($I16=Y$3)=0,"",$L16), "" ) | Z16: =IF(variables!$F$3=$B16, IF(N($I16=Z$3)=0,"",$L16), "" ) | AA16: =IF(variables!$F$3=$B16, IF(N($I16=AA$3)=0,"",$L16), "" ) | AB16: =IF(variables!$F$3=$B16, IF(N($I16=AB$3)=0,"",$L16), "" ) | AC16: =IF(variables!$F$3=$B16, IF(N($I16=AC$3)=0,"",$L16), "" ) | AD16: =IF(variables!$F$3=$B16, IF(N($I16=AD$3)=0,"",$L16), "" ) | AE16: =IF(variables!$F$3=$B16, IF(N($I16=AE$3)=0,"",$L16), "" ) | AF16: =IF(variables!$F$3=$B16, IF(N($I16=AF$3)=0,"",$L16), "" ) | ... BX16: =IF(variables!$F$3=$B16, IF(N($I16=BX$3)=0,"",$L16), "" ) | BY16: =IF(N($B16=BY$3)=0,"",$G16) -> 7 | BZ16: =IF(N($B16=BZ$3)=0,"",$G16) | CA16: =IF(N($B16=CA$3)=0,"",$G16) | CB16: =IF(N($B16=CB$3)=0,"",$G16) | CC16: =IF(N($B16=CC$3)=0,"",$G16) | CD16: =IF(N($B16=CD$3)=0,"",$G16) | CE16: =IF(N($B16=CE$3)=0,"",$G16) | CF16: =IF(N($B16=CF$3)=0,"",$G16) | ... CJ16: =IF(N($B16=CJ$3)=0,"",$G16) | CK16: =IF(analyse!$G$18=bdd!$B16,IF(matiere=bdd!$D16,bdd!$G16,""),"") | CL16: =IF(analyse!$G$18=bdd!$B16,IF(matiere=bdd!$D16,bdd!$G16,""),"") | CM16: =IF(analyse!$G$18=bdd!$B16,IF(matiere=bdd!$D16,bdd!$G16,""),"") | CN16: =IF(analyse!$G$18=bdd!$B16,IF(matiere=bdd!$D16,bdd!$G16,""),"") | CO16: =IF(analyse!$G$18=bdd!$B16,IF(matiere=bdd!$D16,bdd!$G16,""),"") | CP16: =IF(analyse!$G$18=bdd!$B16,IF(matiere=bdd!$D16,bdd!$G16,""),"") | CQ16: =IF(analyse!$G$18=bdd!$B16,IF(matiere=bdd!$D16,bdd!$G16,""),"") -> 7 | CR16: =IF(analyse!$G$18=bdd!$B16,IF(matiere=bdd!$D16,bdd!$G16,""),"") | ... CT16: =IF(analyse!$G$18=bdd!$B16,IF(matiere=bdd!$D16,bdd!$G16,""),"")
B17: 2013/2014 | C17: =C16+10 -> 41678 | D17: EXCEL | E17: =E14+1 -> 14 | F17: 20 | G17: =IF(F17=10,E17*2,E17) -> 14 | H17: écrit | I17: =WEEKNUM(C17,1) -> 6 | J17: =CHOOSE(MONTH(C17),variables!$B$2,variables!$B$3,variables!$B$4,variables!$B$5,variables!$B$6,variables!$B$7,variables!$B$8,variables!$B$9,variables!$B$10,variables!$B$11,variables!$B$12,variables!$B$13) -> février | K17: =YEAR(C17) -> 2014 | L17: =IF(variables!$C$2=1,G17, IF($D17=analyse!$C$3,$G17,"") ) -> 14 | M17: =IF(variables!$F$3=$B17, IF(N($J17=M$3)=0,"",$L17), "" ) | N17: =IF(variables!$F$3=$B17, IF(N($J17=N$3)=0,"",$L17), "" ) | O17: =IF(variables!$F$3=$B17, IF(N($J17=O$3)=0,"",$L17), "" ) | P17: =IF(variables!$F$3=$B17, IF(N($J17=P$3)=0,"",$L17), "" ) | Q17: =IF(variables!$F$3=$B17, IF(N($J17=Q$3)=0,"",$L17), "" ) | R17: =IF(variables!$F$3=$B17, IF(N($J17=R$3)=0,"",$L17), "" ) -> 14 | S17: =IF(variables!$F$3=$B17, IF(N($J17=S$3)=0,"",$L17), "" ) | T17: =IF(variables!$F$3=$B17, IF(N($J17=T$3)=0,"",$L17), "" ) | ... X17: =IF(variables!$F$3=$B17, IF(N($J17=X$3)=0,"",$L17), "" ) | Y17: =IF(variables!$F$3=$B17, IF(N($I17=Y$3)=0,"",$L17), "" ) | Z17: =IF(variables!$F$3=$B17, IF(N($I17=Z$3)=0,"",$L17), "" ) | AA17: =IF(variables!$F$3=$B17, IF(N($I17=AA$3)=0,"",$L17), "" ) | AB17: =IF(variables!$F$3=$B17, IF(N($I17=AB$3)=0,"",$L17), "" ) | AC17: =IF(variables!$F$3=$B17, IF(N($I17=AC$3)=0,"",$L17), "" ) | AD17: =IF(variables!$F$3=$B17, IF(N($I17=AD$3)=0,"",$L17), "" ) | AE17: =IF(variables!$F$3=$B17, IF(N($I17=AE$3)=0,"",$L17), "" ) | AF17: =IF(variables!$F$3=$B17, IF(N($I17=AF$3)=0,"",$L17), "" ) | ... BX17: =IF(variables!$F$3=$B17, IF(N($I17=BX$3)=0,"",$L17), "" ) | BY17: =IF(N($B17=BY$3)=0,"",$G17) -> 14 | BZ17: =IF(N($B17=BZ$3)=0,"",$G17) | CA17: =IF(N($B17=CA$3)=0,"",$G17) | CB17: =IF(N($B17=CB$3)=0,"",$G17) | CC17: =IF(N($B17=CC$3)=0,"",$G17) | CD17: =IF(N($B17=CD$3)=0,"",$G17) | CE17: =IF(N($B17=CE$3)=0,"",$G17) | CF17: =IF(N($B17=CF$3)=0,"",$G17) | ... CJ17: =IF(N($B17=CJ$3)=0,"",$G17) | CK17: =IF(analyse!$G$18=bdd!$B17,IF(matiere=bdd!$D17,bdd!$G17,""),"") | CL17: =IF(analyse!$G$18=bdd!$B17,IF(matiere=bdd!$D17,bdd!$G17,""),"") | CM17: =IF(analyse!$G$18=bdd!$B17,IF(matiere=bdd!$D17,bdd!$G17,""),"") | CN17: =IF(analyse!$G$18=bdd!$B17,IF(matiere=bdd!$D17,bdd!$G17,""),"") | CO17: =IF(analyse!$G$18=bdd!$B17,IF(matiere=bdd!$D17,bdd!$G17,""),"") | CP17: =IF(analyse!$G$18=bdd!$B17,IF(matiere=bdd!$D17,bdd!$G17,""),"") -> 14 | CQ17: =IF(analyse!$G$18=bdd!$B17,IF(matiere=bdd!$D17,bdd!$G17,""),"") | CR17: =IF(analyse!$G$18=bdd!$B17,IF(matiere=bdd!$D17,bdd!$G17,""),"") | ... CT17: =IF(analyse!$G$18=bdd!$B17,IF(matiere=bdd!$D17,bdd!$G17,""),"")
B18: 2013/2014 | C18: =C17+10 -> 41688 | D18: Français | E18: =E15+1 -> 13 | F18: 20 | G18: =IF(F18=10,E18*2,E18) -> 13 | H18: écrit | I18: =WEEKNUM(C18,1) -> 8 | J18: =CHOOSE(MONTH(C18),variables!$B$2,variables!$B$3,variables!$B$4,variables!$B$5,variables!$B$6,variables!$B$7,variables!$B$8,variables!$B$9,variables!$B$10,variables!$B$11,variables!$B$12,variables!$B$13) -> février | K18: =YEAR(C18) -> 2014 | L18: =IF(variables!$C$2=1,G18, IF($D18=analyse!$C$3,$G18,"") ) -> 13 | M18: =IF(variables!$F$3=$B18, IF(N($J18=M$3)=0,"",$L18), "" ) | N18: =IF(variables!$F$3=$B18, IF(N($J18=N$3)=0,"",$L18), "" ) | O18: =IF(variables!$F$3=$B18, IF(N($J18=O$3)=0,"",$L18), "" ) | P18: =IF(variables!$F$3=$B18, IF(N($J18=P$3)=0,"",$L18), "" ) | Q18: =IF(variables!$F$3=$B18, IF(N($J18=Q$3)=0,"",$L18), "" ) | R18: =IF(variables!$F$3=$B18, IF(N($J18=R$3)=0,"",$L18), "" ) -> 13 | S18: =IF(variables!$F$3=$B18, IF(N($J18=S$3)=0,"",$L18), "" ) | T18: =IF(variables!$F$3=$B18, IF(N($J18=T$3)=0,"",$L18), "" ) | ... X18: =IF(variables!$F$3=$B18, IF(N($J18=X$3)=0,"",$L18), "" ) | Y18: =IF(variables!$F$3=$B18, IF(N($I18=Y$3)=0,"",$L18), "" ) | Z18: =IF(variables!$F$3=$B18, IF(N($I18=Z$3)=0,"",$L18), "" ) | AA18: =IF(variables!$F$3=$B18, IF(N($I18=AA$3)=0,"",$L18), "" ) | AB18: =IF(variables!$F$3=$B18, IF(N($I18=AB$3)=0,"",$L18), "" ) | AC18: =IF(variables!$F$3=$B18, IF(N($I18=AC$3)=0,"",$L18), "" ) | AD18: =IF(variables!$F$3=$B18, IF(N($I18=AD$3)=0,"",$L18), "" ) | AE18: =IF(variables!$F$3=$B18, IF(N($I18=AE$3)=0,"",$L18), "" ) | AF18: =IF(variables!$F$3=$B18, IF(N($I18=AF$3)=0,"",$L18), "" ) | ... BX18: =IF(variables!$F$3=$B18, IF(N($I18=BX$3)=0,"",$L18), "" ) | BY18: =IF(N($B18=BY$3)=0,"",$G18) -> 13 | BZ18: =IF(N($B18=BZ$3)=0,"",$G18) | CA18: =IF(N($B18=CA$3)=0,"",$G18) | CB18: =IF(N($B18=CB$3)=0,"",$G18) | CC18: =IF(N($B18=CC$3)=0,"",$G18) | CD18: =IF(N($B18=CD$3)=0,"",$G18) | CE18: =IF(N($B18=CE$3)=0,"",$G18) | CF18: =IF(N($B18=CF$3)=0,"",$G18) | ... CJ18: =IF(N($B18=CJ$3)=0,"",$G18) | CK18: =IF(analyse!$G$18=bdd!$B18,IF(matiere=bdd!$D18,bdd!$G18,""),"") -> 13 | CL18: =IF(analyse!$G$18=bdd!$B18,IF(matiere=bdd!$D18,bdd!$G18,""),"") | CM18: =IF(analyse!$G$18=bdd!$B18,IF(matiere=bdd!$D18,bdd!$G18,""),"") | CN18: =IF(analyse!$G$18=bdd!$B18,IF(matiere=bdd!$D18,bdd!$G18,""),"") | CO18: =IF(analyse!$G$18=bdd!$B18,IF(matiere=bdd!$D18,bdd!$G18,""),"") | CP18: =IF(analyse!$G$18=bdd!$B18,IF(matiere=bdd!$D18,bdd!$G18,""),"") | CQ18: =IF(analyse!$G$18=bdd!$B18,IF(matiere=bdd!$D18,bdd!$G18,""),"") | CR18: =IF(analyse!$G$18=bdd!$B18,IF(matiere=bdd!$D18,bdd!$G18,""),"") | ... CT18: =IF(analyse!$G$18=bdd!$B18,IF(matiere=bdd!$D18,bdd!$G18,""),"")
B19: 2013/2014 | C19: =C18+10 -> 41698 | D19: Français | E19: =E16+1 -> 8 | F19: 20 | G19: =IF(F19=10,E19*2,E19) -> 8 | H19: oral | I19: =WEEKNUM(C19,1) -> 9 | J19: =CHOOSE(MONTH(C19),variables!$B$2,variables!$B$3,variables!$B$4,variables!$B$5,variables!$B$6,variables!$B$7,variables!$B$8,variables!$B$9,variables!$B$10,variables!$B$11,variables!$B$12,variables!$B$13) -> février | K19: =YEAR(C19) -> 2014 | L19: =IF(variables!$C$2=1,G19, IF($D19=analyse!$C$3,$G19,"") ) -> 8 | M19: =IF(variables!$F$3=$B19, IF(N($J19=M$3)=0,"",$L19), "" ) | N19: =IF(variables!$F$3=$B19, IF(N($J19=N$3)=0,"",$L19), "" ) | O19: =IF(variables!$F$3=$B19, IF(N($J19=O$3)=0,"",$L19), "" ) | P19: =IF(variables!$F$3=$B19, IF(N($J19=P$3)=0,"",$L19), "" ) | Q19: =IF(variables!$F$3=$B19, IF(N($J19=Q$3)=0,"",$L19), "" ) | R19: =IF(variables!$F$3=$B19, IF(N($J19=R$3)=0,"",$L19), "" ) -> 8 | S19: =IF(variables!$F$3=$B19, IF(N($J19=S$3)=0,"",$L19), "" ) | T19: =IF(variables!$F$3=$B19, IF(N($J19=T$3)=0,"",$L19), "" ) | ... X19: =IF(variables!$F$3=$B19, IF(N($J19=X$3)=0,"",$L19), "" ) | Y19: =IF(variables!$F$3=$B19, IF(N($I19=Y$3)=0,"",$L19), "" ) | Z19: =IF(variables!$F$3=$B19, IF(N($I19=Z$3)=0,"",$L19), "" ) | AA19: =IF(variables!$F$3=$B19, IF(N($I19=AA$3)=0,"",$L19), "" ) | AB19: =IF(variables!$F$3=$B19, IF(N($I19=AB$3)=0,"",$L19), "" ) | AC19: =IF(variables!$F$3=$B19, IF(N($I19=AC$3)=0,"",$L19), "" ) | AD19: =IF(variables!$F$3=$B19, IF(N($I19=AD$3)=0,"",$L19), "" ) | AE19: =IF(variables!$F$3=$B19, IF(N($I19=AE$3)=0,"",$L19), "" ) | AF19: =IF(variables!$F$3=$B19, IF(N($I19=AF$3)=0,"",$L19), "" ) | ... BX19: =IF(variables!$F$3=$B19, IF(N($I19=BX$3)=0,"",$L19), "" ) | BY19: =IF(N($B19=BY$3)=0,"",$G19) -> 8 | BZ19: =IF(N($B19=BZ$3)=0,"",$G19) | CA19: =IF(N($B19=CA$3)=0,"",$G19) | CB19: =IF(N($B19=CB$3)=0,"",$G19) | CC19: =IF(N($B19=CC$3)=0,"",$G19) | CD19: =IF(N($B19=CD$3)=0,"",$G19) | CE19: =IF(N($B19=CE$3)=0,"",$G19) | CF19: =IF(N($B19=CF$3)=0,"",$G19) | ... CJ19: =IF(N($B19=CJ$3)=0,"",$G19) | CK19: =IF(analyse!$G$18=bdd!$B19,IF(matiere=bdd!$D19,bdd!$G19,""),"") -> 8 | CL19: =IF(analyse!$G$18=bdd!$B19,IF(matiere=bdd!$D19,bdd!$G19,""),"") | CM19: =IF(analyse!$G$18=bdd!$B19,IF(matiere=bdd!$D19,bdd!$G19,""),"") | CN19: =IF(analyse!$G$18=bdd!$B19,IF(matiere=bdd!$D19,bdd!$G19,""),"") | CO19: =IF(analyse!$G$18=bdd!$B19,IF(matiere=bdd!$D19,bdd!$G19,""),"") | CP19: =IF(analyse!$G$18=bdd!$B19,IF(matiere=bdd!$D19,bdd!$G19,""),"") | CQ19: =IF(analyse!$G$18=bdd!$B19,IF(matiere=bdd!$D19,bdd!$G19,""),"") | CR19: =IF(analyse!$G$18=bdd!$B19,IF(matiere=bdd!$D19,bdd!$G19,""),"") | ... CT19: =IF(analyse!$G$18=bdd!$B19,IF(matiere=bdd!$D19,bdd!$G19,""),"")
B20: 2013/2014 | C20: =C19+10 -> 41708 | D20: Français | E20: =E17+1 -> 15 | F20: 20 | G20: =IF(F20=10,E20*2,E20) -> 15 | H20: écrit | I20: =WEEKNUM(C20,1) -> 11 | J20: =CHOOSE(MONTH(C20),variables!$B$2,variables!$B$3,variables!$B$4,variables!$B$5,variables!$B$6,variables!$B$7,variables!$B$8,variables!$B$9,variables!$B$10,variables!$B$11,variables!$B$12,variables!$B$13) -> mars | K20: =YEAR(C20) -> 2014 | L20: =IF(variables!$C$2=1,G20, IF($D20=analyse!$C$3,$G20,"") ) -> 15 | M20: =IF(variables!$F$3=$B20, IF(N($J20=M$3)=0,"",$L20), "" ) | N20: =IF(variables!$F$3=$B20, IF(N($J20=N$3)=0,"",$L20), "" ) | O20: =IF(variables!$F$3=$B20, IF(N($J20=O$3)=0,"",$L20), "" ) | P20: =IF(variables!$F$3=$B20, IF(N($J20=P$3)=0,"",$L20), "" ) | Q20: =IF(variables!$F$3=$B20, IF(N($J20=Q$3)=0,"",$L20), "" ) | R20: =IF(variables!$F$3=$B20, IF(N($J20=R$3)=0,"",$L20), "" ) | S20: =IF(variables!$F$3=$B20, IF(N($J20=S$3)=0,"",$L20), "" ) -> 15 | T20: =IF(variables!$F$3=$B20, IF(N($J20=T$3)=0,"",$L20), "" ) | ... X20: =IF(variables!$F$3=$B20, IF(N($J20=X$3)=0,"",$L20), "" ) | Y20: =IF(variables!$F$3=$B20, IF(N($I20=Y$3)=0,"",$L20), "" ) | Z20: =IF(variables!$F$3=$B20, IF(N($I20=Z$3)=0,"",$L20), "" ) | AA20: =IF(variables!$F$3=$B20, IF(N($I20=AA$3)=0,"",$L20), "" ) | AB20: =IF(variables!$F$3=$B20, IF(N($I20=AB$3)=0,"",$L20), "" ) | AC20: =IF(variables!$F$3=$B20, IF(N($I20=AC$3)=0,"",$L20), "" ) | AD20: =IF(variables!$F$3=$B20, IF(N($I20=AD$3)=0,"",$L20), "" ) | AE20: =IF(variables!$F$3=$B20, IF(N($I20=AE$3)=0,"",$L20), "" ) | AF20: =IF(variables!$F$3=$B20, IF(N($I20=AF$3)=0,"",$L20), "" ) | ... BX20: =IF(variables!$F$3=$B20, IF(N($I20=BX$3)=0,"",$L20), "" ) | BY20: =IF(N($B20=BY$3)=0,"",$G20) -> 15 | BZ20: =IF(N($B20=BZ$3)=0,"",$G20) | CA20: =IF(N($B20=CA$3)=0,"",$G20) | CB20: =IF(N($B20=CB$3)=0,"",$G20) | CC20: =IF(N($B20=CC$3)=0,"",$G20) | CD20: =IF(N($B20=CD$3)=0,"",$G20) | CE20: =IF(N($B20=CE$3)=0,"",$G20) | CF20: =IF(N($B20=CF$3)=0,"",$G20) | ... CJ20: =IF(N($B20=CJ$3)=0,"",$G20) | CK20: =IF(analyse!$G$18=bdd!$B20,IF(matiere=bdd!$D20,bdd!$G20,""),"") -> 15 | CL20: =IF(analyse!$G$18=bdd!$B20,IF(matiere=bdd!$D20,bdd!$G20,""),"") | CM20: =IF(analyse!$G$18=bdd!$B20,IF(matiere=bdd!$D20,bdd!$G20,""),"") | CN20: =IF(analyse!$G$18=bdd!$B20,IF(matiere=bdd!$D20,bdd!$G20,""),"") | CO20: =IF(analyse!$G$18=bdd!$B20,IF(matiere=bdd!$D20,bdd!$G20,""),"") | CP20: =IF(analyse!$G$18=bdd!$B20,IF(matiere=bdd!$D20,bdd!$G20,""),"") | CQ20: =IF(analyse!$G$18=bdd!$B20,IF(matiere=bdd!$D20,bdd!$G20,""),"") | CR20: =IF(analyse!$G$18=bdd!$B20,IF(matiere=bdd!$D20,bdd!$G20,""),"") | ... CT20: =IF(analyse!$G$18=bdd!$B20,IF(matiere=bdd!$D20,bdd!$G20,""),"")
B21: 2013/2014 | C21: =C20+10 -> 41718 | D21: EXCEL | E21: 20 | F21: 20 | G21: =IF(F21=10,E21*2,E21) -> 20 | H21: oral | I21: =WEEKNUM(C21,1) -> 12 | J21: =CHOOSE(MONTH(C21),variables!$B$2,variables!$B$3,variables!$B$4,variables!$B$5,variables!$B$6,variables!$B$7,variables!$B$8,variables!$B$9,variables!$B$10,variables!$B$11,variables!$B$12,variables!$B$13) -> mars | K21: =YEAR(C21) -> 2014 | L21: =IF(variables!$C$2=1,G21, IF($D21=analyse!$C$3,$G21,"") ) -> 20 | M21: =IF(variables!$F$3=$B21, IF(N($J21=M$3)=0,"",$L21), "" ) | N21: =IF(variables!$F$3=$B21, IF(N($J21=N$3)=0,"",$L21), "" ) | O21: =IF(variables!$F$3=$B21, IF(N($J21=O$3)=0,"",$L21), "" ) | P21: =IF(variables!$F$3=$B21, IF(N($J21=P$3)=0,"",$L21), "" ) | Q21: =IF(variables!$F$3=$B21, IF(N($J21=Q$3)=0,"",$L21), "" ) | R21: =IF(variables!$F$3=$B21, IF(N($J21=R$3)=0,"",$L21), "" ) | S21: =IF(variables!$F$3=$B21, IF(N($J21=S$3)=0,"",$L21), "" ) -> 20 | T21: =IF(variables!$F$3=$B21, IF(N($J21=T$3)=0,"",$L21), "" ) | ... X21: =IF(variables!$F$3=$B21, IF(N($J21=X$3)=0,"",$L21), "" ) | Y21: =IF(variables!$F$3=$B21, IF(N($I21=Y$3)=0,"",$L21), "" ) | Z21: =IF(variables!$F$3=$B21, IF(N($I21=Z$3)=0,"",$L21), "" ) | AA21: =IF(variables!$F$3=$B21, IF(N($I21=AA$3)=0,"",$L21), "" ) | AB21: =IF(variables!$F$3=$B21, IF(N($I21=AB$3)=0,"",$L21), "" ) | AC21: =IF(variables!$F$3=$B21, IF(N($I21=AC$3)=0,"",$L21), "" ) | AD21: =IF(variables!$F$3=$B21, IF(N($I21=AD$3)=0,"",$L21), "" ) | AE21: =IF(variables!$F$3=$B21, IF(N($I21=AE$3)=0,"",$L21), "" ) | AF21: =IF(variables!$F$3=$B21, IF(N($I21=AF$3)=0,"",$L21), "" ) | ... BX21: =IF(variables!$F$3=$B21, IF(N($I21=BX$3)=0,"",$L21), "" ) | BY21: =IF(N($B21=BY$3)=0,"",$G21) -> 20 | BZ21: =IF(N($B21=BZ$3)=0,"",$G21) | CA21: =IF(N($B21=CA$3)=0,"",$G21) | CB21: =IF(N($B21=CB$3)=0,"",$G21) | CC21: =IF(N($B21=CC$3)=0,"",$G21) | CD21: =IF(N($B21=CD$3)=0,"",$G21) | CE21: =IF(N($B21=CE$3)=0,"",$G21) | CF21: =IF(N($B21=CF$3)=0,"",$G21) | ... CJ21: =IF(N($B21=CJ$3)=0,"",$G21) | CK21: =IF(analyse!$G$18=bdd!$B21,IF(matiere=bdd!$D21,bdd!$G21,""),"") | CL21: =IF(analyse!$G$18=bdd!$B21,IF(matiere=bdd!$D21,bdd!$G21,""),"") | CM21: =IF(analyse!$G$18=bdd!$B21,IF(matiere=bdd!$D21,bdd!$G21,""),"") | CN21: =IF(analyse!$G$18=bdd!$B21,IF(matiere=bdd!$D21,bdd!$G21,""),"") | CO21: =IF(analyse!$G$18=bdd!$B21,IF(matiere=bdd!$D21,bdd!$G21,""),"") | CP21: =IF(analyse!$G$18=bdd!$B21,IF(matiere=bdd!$D21,bdd!$G21,""),"") -> 20 | CQ21: =IF(analyse!$G$18=bdd!$B21,IF(matiere=bdd!$D21,bdd!$G21,""),"") | CR21: =IF(analyse!$G$18=bdd!$B21,IF(matiere=bdd!$D21,bdd!$G21,""),"") | ... CT21: =IF(analyse!$G$18=bdd!$B21,IF(matiere=bdd!$D21,bdd!$G21,""),"")
B22: 2013/2014 | C22: =C21+10 -> 41728 | D22: Musique | E22: 7 | F22: 10 | G22: =IF(F22=10,E22*2,E22) -> 14 | H22: écrit | I22: =WEEKNUM(C22,1) -> 14 | J22: =CHOOSE(MONTH(C22),variables!$B$2,variables!$B$3,variables!$B$4,variables!$B$5,variables!$B$6,variables!$B$7,variables!$B$8,variables!$B$9,variables!$B$10,variables!$B$11,variables!$B$12,variables!$B$13) -> mars | K22: =YEAR(C22) -> 2014 | L22: =IF(variables!$C$2=1,G22, IF($D22=analyse!$C$3,$G22,"") ) -> 14 | M22: =IF(variables!$F$3=$B22, IF(N($J22=M$3)=0,"",$L22), "" ) | N22: =IF(variables!$F$3=$B22, IF(N($J22=N$3)=0,"",$L22), "" ) | O22: =IF(variables!$F$3=$B22, IF(N($J22=O$3)=0,"",$L22), "" ) | P22: =IF(variables!$F$3=$B22, IF(N($J22=P$3)=0,"",$L22), "" ) | Q22: =IF(variables!$F$3=$B22, IF(N($J22=Q$3)=0,"",$L22), "" ) | R22: =IF(variables!$F$3=$B22, IF(N($J22=R$3)=0,"",$L22), "" ) | S22: =IF(variables!$F$3=$B22, IF(N($J22=S$3)=0,"",$L22), "" ) -> 14 | T22: =IF(variables!$F$3=$B22, IF(N($J22=T$3)=0,"",$L22), "" ) | ... X22: =IF(variables!$F$3=$B22, IF(N($J22=X$3)=0,"",$L22), "" ) | Y22: =IF(variables!$F$3=$B22, IF(N($I22=Y$3)=0,"",$L22), "" ) | Z22: =IF(variables!$F$3=$B22, IF(N($I22=Z$3)=0,"",$L22), "" ) | AA22: =IF(variables!$F$3=$B22, IF(N($I22=AA$3)=0,"",$L22), "" ) | AB22: =IF(variables!$F$3=$B22, IF(N($I22=AB$3)=0,"",$L22), "" ) | AC22: =IF(variables!$F$3=$B22, IF(N($I22=AC$3)=0,"",$L22), "" ) | AD22: =IF(variables!$F$3=$B22, IF(N($I22=AD$3)=0,"",$L22), "" ) | AE22: =IF(variables!$F$3=$B22, IF(N($I22=AE$3)=0,"",$L22), "" ) | AF22: =IF(variables!$F$3=$B22, IF(N($I22=AF$3)=0,"",$L22), "" ) | ... BX22: =IF(variables!$F$3=$B22, IF(N($I22=BX$3)=0,"",$L22), "" ) | BY22: =IF(N($B22=BY$3)=0,"",$G22) -> 14 | BZ22: =IF(N($B22=BZ$3)=0,"",$G22) | CA22: =IF(N($B22=CA$3)=0,"",$G22) | CB22: =IF(N($B22=CB$3)=0,"",$G22) | CC22: =IF(N($B22=CC$3)=0,"",$G22) | CD22: =IF(N($B22=CD$3)=0,"",$G22) | CE22: =IF(N($B22=CE$3)=0,"",$G22) | CF22: =IF(N($B22=CF$3)=0,"",$G22) | ... CJ22: =IF(N($B22=CJ$3)=0,"",$G22) | CK22: =IF(analyse!$G$18=bdd!$B22,IF(matiere=bdd!$D22,bdd!$G22,""),"") | CL22: =IF(analyse!$G$18=bdd!$B22,IF(matiere=bdd!$D22,bdd!$G22,""),"") | CM22: =IF(analyse!$G$18=bdd!$B22,IF(matiere=bdd!$D22,bdd!$G22,""),"") | CN22: =IF(analyse!$G$18=bdd!$B22,IF(matiere=bdd!$D22,bdd!$G22,""),"") | CO22: =IF(analyse!$G$18=bdd!$B22,IF(matiere=bdd!$D22,bdd!$G22,""),"") | CP22: =IF(analyse!$G$18=bdd!$B22,IF(matiere=bdd!$D22,bdd!$G22,""),"") | CQ22: =IF(analyse!$G$18=bdd!$B22,IF(matiere=bdd!$D22,bdd!$G22,""),"") | CR22: =IF(analyse!$G$18=bdd!$B22,IF(matiere=bdd!$D22,bdd!$G22,""),"") | ... CT22: =IF(analyse!$G$18=bdd!$B22,IF(matiere=bdd!$D22,bdd!$G22,""),"") -> 14
B23: 2013/2014 | C23: =C22+10 -> 41738 | D23: Espagnol | E23: =E20+1 -> 16 | F23: 20 | G23: =IF(F23=10,E23*2,E23) -> 16 | H23: écrit | I23: =WEEKNUM(C23,1) -> 15 | J23: =CHOOSE(MONTH(C23),variables!$B$2,variables!$B$3,variables!$B$4,variables!$B$5,variables!$B$6,variables!$B$7,variables!$B$8,variables!$B$9,variables!$B$10,variables!$B$11,variables!$B$12,variables!$B$13) -> avril | K23: =YEAR(C23) -> 2014 | L23: =IF(variables!$C$2=1,G23, IF($D23=analyse!$C$3,$G23,"") ) -> 16 | M23: =IF(variables!$F$3=$B23, IF(N($J23=M$3)=0,"",$L23), "" ) | N23: =IF(variables!$F$3=$B23, IF(N($J23=N$3)=0,"",$L23), "" ) | O23: =IF(variables!$F$3=$B23, IF(N($J23=O$3)=0,"",$L23), "" ) | P23: =IF(variables!$F$3=$B23, IF(N($J23=P$3)=0,"",$L23), "" ) | Q23: =IF(variables!$F$3=$B23, IF(N($J23=Q$3)=0,"",$L23), "" ) | R23: =IF(variables!$F$3=$B23, IF(N($J23=R$3)=0,"",$L23), "" ) | S23: =IF(variables!$F$3=$B23, IF(N($J23=S$3)=0,"",$L23), "" ) | T23: =IF(variables!$F$3=$B23, IF(N($J23=T$3)=0,"",$L23), "" ) -> 16 | ... X23: =IF(variables!$F$3=$B23, IF(N($J23=X$3)=0,"",$L23), "" ) | Y23: =IF(variables!$F$3=$B23, IF(N($I23=Y$3)=0,"",$L23), "" ) | Z23: =IF(variables!$F$3=$B23, IF(N($I23=Z$3)=0,"",$L23), "" ) | AA23: =IF(variables!$F$3=$B23, IF(N($I23=AA$3)=0,"",$L23), "" ) | AB23: =IF(variables!$F$3=$B23, IF(N($I23=AB$3)=0,"",$L23), "" ) | AC23: =IF(variables!$F$3=$B23, IF(N($I23=AC$3)=0,"",$L23), "" ) | AD23: =IF(variables!$F$3=$B23, IF(N($I23=AD$3)=0,"",$L23), "" ) | AE23: =IF(variables!$F$3=$B23, IF(N($I23=AE$3)=0,"",$L23), "" ) | AF23: =IF(variables!$F$3=$B23, IF(N($I23=AF$3)=0,"",$L23), "" ) | ... BX23: =IF(variables!$F$3=$B23, IF(N($I23=BX$3)=0,"",$L23), "" ) | BY23: =IF(N($B23=BY$3)=0,"",$G23) -> 16 | BZ23: =IF(N($B23=BZ$3)=0,"",$G23) | CA23: =IF(N($B23=CA$3)=0,"",$G23) | CB23: =IF(N($B23=CB$3)=0,"",$G23) | CC23: =IF(N($B23=CC$3)=0,"",$G23) | CD23: =IF(N($B23=CD$3)=0,"",$G23) | CE23: =IF(N($B23=CE$3)=0,"",$G23) | CF23: =IF(N($B23=CF$3)=0,"",$G23) | ... CJ23: =IF(N($B23=CJ$3)=0,"",$G23) | CK23: =IF(analyse!$G$18=bdd!$B23,IF(matiere=bdd!$D23,bdd!$G23,""),"") | CL23: =IF(analyse!$G$18=bdd!$B23,IF(matiere=bdd!$D23,bdd!$G23,""),"") | CM23: =IF(analyse!$G$18=bdd!$B23,IF(matiere=bdd!$D23,bdd!$G23,""),"") | CN23: =IF(analyse!$G$18=bdd!$B23,IF(matiere=bdd!$D23,bdd!$G23,""),"") | CO23: =IF(analyse!$G$18=bdd!$B23,IF(matiere=bdd!$D23,bdd!$G23,""),"") | CP23: =IF(analyse!$G$18=bdd!$B23,IF(matiere=bdd!$D23,bdd!$G23,""),"") | CQ23: =IF(analyse!$G$18=bdd!$B23,IF(matiere=bdd!$D23,bdd!$G23,""),"") | CR23: =IF(analyse!$G$18=bdd!$B23,IF(matiere=bdd!$D23,bdd!$G23,""),"") -> 16 | ... CT23: =IF(analyse!$G$18=bdd!$B23,IF(matiere=bdd!$D23,bdd!$G23,""),"")
B24: 2013/2014 | C24: =C23+10 -> 41748 | D24: sport | E24: =E21+1 -> 21 | F24: 20 | G24: =IF(F24=10,E24*2,E24) -> 21 | H24: écrit | I24: =WEEKNUM(C24,1) -> 16 | J24: =CHOOSE(MONTH(C24),variables!$B$2,variables!$B$3,variables!$B$4,variables!$B$5,variables!$B$6,variables!$B$7,variables!$B$8,variables!$B$9,variables!$B$10,variables!$B$11,variables!$B$12,variables!$B$13) -> avril | K24: =YEAR(C24) -> 2014 | L24: =IF(variables!$C$2=1,G24, IF($D24=analyse!$C$3,$G24,"") ) -> 21 | M24: =IF(variables!$F$3=$B24, IF(N($J24=M$3)=0,"",$L24), "" ) | N24: =IF(variables!$F$3=$B24, IF(N($J24=N$3)=0,"",$L24), "" ) | O24: =IF(variables!$F$3=$B24, IF(N($J24=O$3)=0,"",$L24), "" ) | P24: =IF(variables!$F$3=$B24, IF(N($J24=P$3)=0,"",$L24), "" ) | Q24: =IF(variables!$F$3=$B24, IF(N($J24=Q$3)=0,"",$L24), "" ) | R24: =IF(variables!$F$3=$B24, IF(N($J24=R$3)=0,"",$L24), "" ) | S24: =IF(variables!$F$3=$B24, IF(N($J24=S$3)=0,"",$L24), "" ) | T24: =IF(variables!$F$3=$B24, IF(N($J24=T$3)=0,"",$L24), "" ) -> 21 | ... X24: =IF(variables!$F$3=$B24, IF(N($J24=X$3)=0,"",$L24), "" ) | Y24: =IF(variables!$F$3=$B24, IF(N($I24=Y$3)=0,"",$L24), "" ) | Z24: =IF(variables!$F$3=$B24, IF(N($I24=Z$3)=0,"",$L24), "" ) | AA24: =IF(variables!$F$3=$B24, IF(N($I24=AA$3)=0,"",$L24), "" ) | AB24: =IF(variables!$F$3=$B24, IF(N($I24=AB$3)=0,"",$L24), "" ) | AC24: =IF(variables!$F$3=$B24, IF(N($I24=AC$3)=0,"",$L24), "" ) | AD24: =IF(variables!$F$3=$B24, IF(N($I24=AD$3)=0,"",$L24), "" ) | AE24: =IF(variables!$F$3=$B24, IF(N($I24=AE$3)=0,"",$L24), "" ) | AF24: =IF(variables!$F$3=$B24, IF(N($I24=AF$3)=0,"",$L24), "" ) | ... BX24: =IF(variables!$F$3=$B24, IF(N($I24=BX$3)=0,"",$L24), "" ) | BY24: =IF(N($B24=BY$3)=0,"",$G24) -> 21 | BZ24: =IF(N($B24=BZ$3)=0,"",$G24) | CA24: =IF(N($B24=CA$3)=0,"",$G24) | CB24: =IF(N($B24=CB$3)=0,"",$G24) | CC24: =IF(N($B24=CC$3)=0,"",$G24) | CD24: =IF(N($B24=CD$3)=0,"",$G24) | CE24: =IF(N($B24=CE$3)=0,"",$G24) | CF24: =IF(N($B24=CF$3)=0,"",$G24) | ... CJ24: =IF(N($B24=CJ$3)=0,"",$G24) | CK24: =IF(analyse!$G$18=bdd!$B24,IF(matiere=bdd!$D24,bdd!$G24,""),"") | CL24: =IF(analyse!$G$18=bdd!$B24,IF(matiere=bdd!$D24,bdd!$G24,""),"") | CM24: =IF(analyse!$G$18=bdd!$B24,IF(matiere=bdd!$D24,bdd!$G24,""),"") | CN24: =IF(analyse!$G$18=bdd!$B24,IF(matiere=bdd!$D24,bdd!$G24,""),"") | CO24: =IF(analyse!$G$18=bdd!$B24,IF(matiere=bdd!$D24,bdd!$G24,""),"") | CP24: =IF(analyse!$G$18=bdd!$B24,IF(matiere=bdd!$D24,bdd!$G24,""),"") | CQ24: =IF(analyse!$G$18=bdd!$B24,IF(matiere=bdd!$D24,bdd!$G24,""),"") | CR24: =IF(analyse!$G$18=bdd!$B24,IF(matiere=bdd!$D24,bdd!$G24,""),"") | ... CT24: =IF(analyse!$G$18=bdd!$B24,IF(matiere=bdd!$D24,bdd!$G24,""),"")
B25: 2013/2014 | C25: =C24+10 -> 41758 | D25: Espagnol | E25: =E22+1 -> 8 | F25: 20 | G25: =IF(F25=10,E25*2,E25) -> 8 | H25: écrit | I25: =WEEKNUM(C25,1) -> 18 | J25: =CHOOSE(MONTH(C25),variables!$B$2,variables!$B$3,variables!$B$4,variables!$B$5,variables!$B$6,variables!$B$7,variables!$B$8,variables!$B$9,variables!$B$10,variables!$B$11,variables!$B$12,variables!$B$13) -> avril | K25: =YEAR(C25) -> 2014 | L25: =IF(variables!$C$2=1,G25, IF($D25=analyse!$C$3,$G25,"") ) -> 8 | M25: =IF(variables!$F$3=$B25, IF(N($J25=M$3)=0,"",$L25), "" ) | N25: =IF(variables!$F$3=$B25, IF(N($J25=N$3)=0,"",$L25), "" ) | O25: =IF(variables!$F$3=$B25, IF(N($J25=O$3)=0,"",$L25), "" ) | P25: =IF(variables!$F$3=$B25, IF(N($J25=P$3)=0,"",$L25), "" ) | Q25: =IF(variables!$F$3=$B25, IF(N($J25=Q$3)=0,"",$L25), "" ) | R25: =IF(variables!$F$3=$B25, IF(N($J25=R$3)=0,"",$L25), "" ) | S25: =IF(variables!$F$3=$B25, IF(N($J25=S$3)=0,"",$L25), "" ) | T25: =IF(variables!$F$3=$B25, IF(N($J25=T$3)=0,"",$L25), "" ) -> 8 | ... X25: =IF(variables!$F$3=$B25, IF(N($J25=X$3)=0,"",$L25), "" ) | Y25: =IF(variables!$F$3=$B25, IF(N($I25=Y$3)=0,"",$L25), "" ) | Z25: =IF(variables!$F$3=$B25, IF(N($I25=Z$3)=0,"",$L25), "" ) | AA25: =IF(variables!$F$3=$B25, IF(N($I25=AA$3)=0,"",$L25), "" ) | AB25: =IF(variables!$F$3=$B25, IF(N($I25=AB$3)=0,"",$L25), "" ) | AC25: =IF(variables!$F$3=$B25, IF(N($I25=AC$3)=0,"",$L25), "" ) | AD25: =IF(variables!$F$3=$B25, IF(N($I25=AD$3)=0,"",$L25), "" ) | AE25: =IF(variables!$F$3=$B25, IF(N($I25=AE$3)=0,"",$L25), "" ) | AF25: =IF(variables!$F$3=$B25, IF(N($I25=AF$3)=0,"",$L25), "" ) | ... BX25: =IF(variables!$F$3=$B25, IF(N($I25=BX$3)=0,"",$L25), "" ) | BY25: =IF(N($B25=BY$3)=0,"",$G25) -> 8 | BZ25: =IF(N($B25=BZ$3)=0,"",$G25) | CA25: =IF(N($B25=CA$3)=0,"",$G25) | CB25: =IF(N($B25=CB$3)=0,"",$G25) | CC25: =IF(N($B25=CC$3)=0,"",$G25) | CD25: =IF(N($B25=CD$3)=0,"",$G25) | CE25: =IF(N($B25=CE$3)=0,"",$G25) | CF25: =IF(N($B25=CF$3)=0,"",$G25) | ... CJ25: =IF(N($B25=CJ$3)=0,"",$G25) | CK25: =IF(analyse!$G$18=bdd!$B25,IF(matiere=bdd!$D25,bdd!$G25,""),"") | CL25: =IF(analyse!$G$18=bdd!$B25,IF(matiere=bdd!$D25,bdd!$G25,""),"") | CM25: =IF(analyse!$G$18=bdd!$B25,IF(matiere=bdd!$D25,bdd!$G25,""),"") | CN25: =IF(analyse!$G$18=bdd!$B25,IF(matiere=bdd!$D25,bdd!$G25,""),"") | CO25: =IF(analyse!$G$18=bdd!$B25,IF(matiere=bdd!$D25,bdd!$G25,""),"") | CP25: =IF(analyse!$G$18=bdd!$B25,IF(matiere=bdd!$D25,bdd!$G25,""),"") | CQ25: =IF(analyse!$G$18=bdd!$B25,IF(matiere=bdd!$D25,bdd!$G25,""),"") | CR25: =IF(analyse!$G$18=bdd!$B25,IF(matiere=bdd!$D25,bdd!$G25,""),"") -> 8 | ... CT25: =IF(analyse!$G$18=bdd!$B25,IF(matiere=bdd!$D25,bdd!$G25,""),"")
B26: 2013/2014 | C26: =C25+10 -> 41768 | D26: physique chimie | E26: =E23+1 -> 17 | F26: 20 | G26: =IF(F26=10,E26*2,E26) -> 17 | H26: oral | I26: =WEEKNUM(C26,1) -> 19 | J26: =CHOOSE(MONTH(C26),variables!$B$2,variables!$B$3,variables!$B$4,variables!$B$5,variables!$B$6,variables!$B$7,variables!$B$8,variables!$B$9,variables!$B$10,variables!$B$11,variables!$B$12,variables!$B$13) -> mai | K26: =YEAR(C26) -> 2014 | L26: =IF(variables!$C$2=1,G26, IF($D26=analyse!$C$3,$G26,"") ) -> 17 | M26: =IF(variables!$F$3=$B26, IF(N($J26=M$3)=0,"",$L26), "" ) | N26: =IF(variables!$F$3=$B26, IF(N($J26=N$3)=0,"",$L26), "" ) | O26: =IF(variables!$F$3=$B26, IF(N($J26=O$3)=0,"",$L26), "" ) | P26: =IF(variables!$F$3=$B26, IF(N($J26=P$3)=0,"",$L26), "" ) | Q26: =IF(variables!$F$3=$B26, IF(N($J26=Q$3)=0,"",$L26), "" ) | R26: =IF(variables!$F$3=$B26, IF(N($J26=R$3)=0,"",$L26), "" ) | S26: =IF(variables!$F$3=$B26, IF(N($J26=S$3)=0,"",$L26), "" ) | T26: =IF(variables!$F$3=$B26, IF(N($J26=T$3)=0,"",$L26), "" ) | ... X26: =IF(variables!$F$3=$B26, IF(N($J26=X$3)=0,"",$L26), "" ) | Y26: =IF(variables!$F$3=$B26, IF(N($I26=Y$3)=0,"",$L26), "" ) | Z26: =IF(variables!$F$3=$B26, IF(N($I26=Z$3)=0,"",$L26), "" ) | AA26: =IF(variables!$F$3=$B26, IF(N($I26=AA$3)=0,"",$L26), "" ) | AB26: =IF(variables!$F$3=$B26, IF(N($I26=AB$3)=0,"",$L26), "" ) | AC26: =IF(variables!$F$3=$B26, IF(N($I26=AC$3)=0,"",$L26), "" ) | AD26: =IF(variables!$F$3=$B26, IF(N($I26=AD$3)=0,"",$L26), "" ) | AE26: =IF(variables!$F$3=$B26, IF(N($I26=AE$3)=0,"",$L26), "" ) | AF26: =IF(variables!$F$3=$B26, IF(N($I26=AF$3)=0,"",$L26), "" ) | ... BX26: =IF(variables!$F$3=$B26, IF(N($I26=BX$3)=0,"",$L26), "" ) | BY26: =IF(N($B26=BY$3)=0,"",$G26) -> 17 | BZ26: =IF(N($B26=BZ$3)=0,"",$G26) | CA26: =IF(N($B26=CA$3)=0,"",$G26) | CB26: =IF(N($B26=CB$3)=0,"",$G26) | CC26: =IF(N($B26=CC$3)=0,"",$G26) | CD26: =IF(N($B26=CD$3)=0,"",$G26) | CE26: =IF(N($B26=CE$3)=0,"",$G26) | CF26: =IF(N($B26=CF$3)=0,"",$G26) | ... CJ26: =IF(N($B26=CJ$3)=0,"",$G26) | CK26: =IF(analyse!$G$18=bdd!$B26,IF(matiere=bdd!$D26,bdd!$G26,""),"") | CL26: =IF(analyse!$G$18=bdd!$B26,IF(matiere=bdd!$D26,bdd!$G26,""),"") | CM26: =IF(analyse!$G$18=bdd!$B26,IF(matiere=bdd!$D26,bdd!$G26,""),"") -> 17 | CN26: =IF(analyse!$G$18=bdd!$B26,IF(matiere=bdd!$D26,bdd!$G26,""),"") | CO26: =IF(analyse!$G$18=bdd!$B26,IF(matiere=bdd!$D26,bdd!$G26,""),"") | CP26: =IF(analyse!$G$18=bdd!$B26,IF(matiere=bdd!$D26,bdd!$G26,""),"") | CQ26: =IF(analyse!$G$18=bdd!$B26,IF(matiere=bdd!$D26,bdd!$G26,""),"") | CR26: =IF(analyse!$G$18=bdd!$B26,IF(matiere=bdd!$D26,bdd!$G26,""),"") | ... CT26: =IF(analyse!$G$18=bdd!$B26,IF(matiere=bdd!$D26,bdd!$G26,""),"")
B27: 2013/2014 | C27: =C26+10 -> 41778 | D27: Français | E27: 13 | F27: 20 | G27: =IF(F27=10,E27*2,E27) -> 13 | H27: écrit | I27: =WEEKNUM(C27,1) -> 21 | J27: =CHOOSE(MONTH(C27),variables!$B$2,variables!$B$3,variables!$B$4,variables!$B$5,variables!$B$6,variables!$B$7,variables!$B$8,variables!$B$9,variables!$B$10,variables!$B$11,variables!$B$12,variables!$B$13) -> mai | K27: =YEAR(C27) -> 2014 | L27: =IF(variables!$C$2=1,G27, IF($D27=analyse!$C$3,$G27,"") ) -> 13 | M27: =IF(variables!$F$3=$B27, IF(N($J27=M$3)=0,"",$L27), "" ) | N27: =IF(variables!$F$3=$B27, IF(N($J27=N$3)=0,"",$L27), "" ) | O27: =IF(variables!$F$3=$B27, IF(N($J27=O$3)=0,"",$L27), "" ) | P27: =IF(variables!$F$3=$B27, IF(N($J27=P$3)=0,"",$L27), "" ) | Q27: =IF(variables!$F$3=$B27, IF(N($J27=Q$3)=0,"",$L27), "" ) | R27: =IF(variables!$F$3=$B27, IF(N($J27=R$3)=0,"",$L27), "" ) | S27: =IF(variables!$F$3=$B27, IF(N($J27=S$3)=0,"",$L27), "" ) | T27: =IF(variables!$F$3=$B27, IF(N($J27=T$3)=0,"",$L27), "" ) | ... X27: =IF(variables!$F$3=$B27, IF(N($J27=X$3)=0,"",$L27), "" ) | Y27: =IF(variables!$F$3=$B27, IF(N($I27=Y$3)=0,"",$L27), "" ) | Z27: =IF(variables!$F$3=$B27, IF(N($I27=Z$3)=0,"",$L27), "" ) | AA27: =IF(variables!$F$3=$B27, IF(N($I27=AA$3)=0,"",$L27), "" ) | AB27: =IF(variables!$F$3=$B27, IF(N($I27=AB$3)=0,"",$L27), "" ) | AC27: =IF(variables!$F$3=$B27, IF(N($I27=AC$3)=0,"",$L27), "" ) | AD27: =IF(variables!$F$3=$B27, IF(N($I27=AD$3)=0,"",$L27), "" ) | AE27: =IF(variables!$F$3=$B27, IF(N($I27=AE$3)=0,"",$L27), "" ) | AF27: =IF(variables!$F$3=$B27, IF(N($I27=AF$3)=0,"",$L27), "" ) | ... BX27: =IF(variables!$F$3=$B27, IF(N($I27=BX$3)=0,"",$L27), "" ) | BY27: =IF(N($B27=BY$3)=0,"",$G27) -> 13 | BZ27: =IF(N($B27=BZ$3)=0,"",$G27) | CA27: =IF(N($B27=CA$3)=0,"",$G27) | CB27: =IF(N($B27=CB$3)=0,"",$G27) | CC27: =IF(N($B27=CC$3)=0,"",$G27) | CD27: =IF(N($B27=CD$3)=0,"",$G27) | CE27: =IF(N($B27=CE$3)=0,"",$G27) | CF27: =IF(N($B27=CF$3)=0,"",$G27) | ... CJ27: =IF(N($B27=CJ$3)=0,"",$G27) | CK27: =IF(analyse!$G$18=bdd!$B27,IF(matiere=bdd!$D27,bdd!$G27,""),"") -> 13 | CL27: =IF(analyse!$G$18=bdd!$B27,IF(matiere=bdd!$D27,bdd!$G27,""),"") | CM27: =IF(analyse!$G$18=bdd!$B27,IF(matiere=bdd!$D27,bdd!$G27,""),"") | CN27: =IF(analyse!$G$18=bdd!$B27,IF(matiere=bdd!$D27,bdd!$G27,""),"") | CO27: =IF(analyse!$G$18=bdd!$B27,IF(matiere=bdd!$D27,bdd!$G27,""),"") | CP27: =IF(analyse!$G$18=bdd!$B27,IF(matiere=bdd!$D27,bdd!$G27,""),"") | CQ27: =IF(analyse!$G$18=bdd!$B27,IF(matiere=bdd!$D27,bdd!$G27,""),"") | CR27: =IF(analyse!$G$18=bdd!$B27,IF(matiere=bdd!$D27,bdd!$G27,""),"") | ... CT27: =IF(analyse!$G$18=bdd!$B27,IF(matiere=bdd!$D27,bdd!$G27,""),"")
B28: 2013/2014 | C28: =C27+10 -> 41788 | D28: Math | E28: =E25+1 -> 9 | F28: 20 | G28: =IF(F28=10,E28*2,E28) -> 9 | H28: oral | I28: =WEEKNUM(C28,1) -> 22 | J28: =CHOOSE(MONTH(C28),variables!$B$2,variables!$B$3,variables!$B$4,variables!$B$5,variables!$B$6,variables!$B$7,variables!$B$8,variables!$B$9,variables!$B$10,variables!$B$11,variables!$B$12,variables!$B$13) -> mai | K28: =YEAR(C28) -> 2014 | L28: =IF(variables!$C$2=1,G28, IF($D28=analyse!$C$3,$G28,"") ) -> 9 | M28: =IF(variables!$F$3=$B28, IF(N($J28=M$3)=0,"",$L28), "" ) | N28: =IF(variables!$F$3=$B28, IF(N($J28=N$3)=0,"",$L28), "" ) | O28: =IF(variables!$F$3=$B28, IF(N($J28=O$3)=0,"",$L28), "" ) | P28: =IF(variables!$F$3=$B28, IF(N($J28=P$3)=0,"",$L28), "" ) | Q28: =IF(variables!$F$3=$B28, IF(N($J28=Q$3)=0,"",$L28), "" ) | R28: =IF(variables!$F$3=$B28, IF(N($J28=R$3)=0,"",$L28), "" ) | S28: =IF(variables!$F$3=$B28, IF(N($J28=S$3)=0,"",$L28), "" ) | T28: =IF(variables!$F$3=$B28, IF(N($J28=T$3)=0,"",$L28), "" ) | ... X28: =IF(variables!$F$3=$B28, IF(N($J28=X$3)=0,"",$L28), "" ) | Y28: =IF(variables!$F$3=$B28, IF(N($I28=Y$3)=0,"",$L28), "" ) | Z28: =IF(variables!$F$3=$B28, IF(N($I28=Z$3)=0,"",$L28), "" ) | AA28: =IF(variables!$F$3=$B28, IF(N($I28=AA$3)=0,"",$L28), "" ) | AB28: =IF(variables!$F$3=$B28, IF(N($I28=AB$3)=0,"",$L28), "" ) | AC28: =IF(variables!$F$3=$B28, IF(N($I28=AC$3)=0,"",$L28), "" ) | AD28: =IF(variables!$F$3=$B28, IF(N($I28=AD$3)=0,"",$L28), "" ) | AE28: =IF(variables!$F$3=$B28, IF(N($I28=AE$3)=0,"",$L28), "" ) | AF28: =IF(variables!$F$3=$B28, IF(N($I28=AF$3)=0,"",$L28), "" ) | ... BX28: =IF(variables!$F$3=$B28, IF(N($I28=BX$3)=0,"",$L28), "" ) | BY28: =IF(N($B28=BY$3)=0,"",$G28) -> 9 | BZ28: =IF(N($B28=BZ$3)=0,"",$G28) | CA28: =IF(N($B28=CA$3)=0,"",$G28) | CB28: =IF(N($B28=CB$3)=0,"",$G28) | CC28: =IF(N($B28=CC$3)=0,"",$G28) | CD28: =IF(N($B28=CD$3)=0,"",$G28) | CE28: =IF(N($B28=CE$3)=0,"",$G28) | CF28: =IF(N($B28=CF$3)=0,"",$G28) | ... CJ28: =IF(N($B28=CJ$3)=0,"",$G28) | CK28: =IF(analyse!$G$18=bdd!$B28,IF(matiere=bdd!$D28,bdd!$G28,""),"") | CL28: =IF(analyse!$G$18=bdd!$B28,IF(matiere=bdd!$D28,bdd!$G28,""),"") -> 9 | CM28: =IF(analyse!$G$18=bdd!$B28,IF(matiere=bdd!$D28,bdd!$G28,""),"") | CN28: =IF(analyse!$G$18=bdd!$B28,IF(matiere=bdd!$D28,bdd!$G28,""),"") | CO28: =IF(analyse!$G$18=bdd!$B28,IF(matiere=bdd!$D28,bdd!$G28,""),"") | CP28: =IF(analyse!$G$18=bdd!$B28,IF(matiere=bdd!$D28,bdd!$G28,""),"") | CQ28: =IF(analyse!$G$18=bdd!$B28,IF(matiere=bdd!$D28,bdd!$G28,""),"") | CR28: =IF(analyse!$G$18=bdd!$B28,IF(matiere=bdd!$D28,bdd!$G28,""),"") | ... CT28: =IF(analyse!$G$18=bdd!$B28,IF(matiere=bdd!$D28,bdd!$G28,""),"")
B29: 2013/2015 | C29: 41890 | D29: Français | E29: 2 | F29: 20 | G29: =IF(F29=10,E29*2,E29) -> 2 | H29: oral | I29: =WEEKNUM(C29,1) -> 37 | J29: =CHOOSE(MONTH(C29),variables!$B$2,variables!$B$3,variables!$B$4,variables!$B$5,variables!$B$6,variables!$B$7,variables!$B$8,variables!$B$9,variables!$B$10,variables!$B$11,variables!$B$12,variables!$B$13) -> septembre | K29: =YEAR(C29) -> 2014 | L29: =IF(variables!$C$2=1,G29, IF($D29=analyse!$C$3,$G29,"") ) -> 2 | M29: =IF(variables!$F$3=$B29, IF(N($J29=M$3)=0,"",$L29), "" ) | N29: =IF(variables!$F$3=$B29, IF(N($J29=N$3)=0,"",$L29), "" ) | O29: =IF(variables!$F$3=$B29, IF(N($J29=O$3)=0,"",$L29), "" ) | P29: =IF(variables!$F$3=$B29, IF(N($J29=P$3)=0,"",$L29), "" ) | Q29: =IF(variables!$F$3=$B29, IF(N($J29=Q$3)=0,"",$L29), "" ) | R29: =IF(variables!$F$3=$B29, IF(N($J29=R$3)=0,"",$L29), "" ) | S29: =IF(variables!$F$3=$B29, IF(N($J29=S$3)=0,"",$L29), "" ) | T29: =IF(variables!$F$3=$B29, IF(N($J29=T$3)=0,"",$L29), "" ) | ... X29: =IF(variables!$F$3=$B29, IF(N($J29=X$3)=0,"",$L29), "" ) | Y29: =IF(variables!$F$3=$B29, IF(N($I29=Y$3)=0,"",$L29), "" ) | Z29: =IF(variables!$F$3=$B29, IF(N($I29=Z$3)=0,"",$L29), "" ) | AA29: =IF(variables!$F$3=$B29, IF(N($I29=AA$3)=0,"",$L29), "" ) | AB29: =IF(variables!$F$3=$B29, IF(N($I29=AB$3)=0,"",$L29), "" ) | AC29: =IF(variables!$F$3=$B29, IF(N($I29=AC$3)=0,"",$L29), "" ) | AD29: =IF(variables!$F$3=$B29, IF(N($I29=AD$3)=0,"",$L29), "" ) | AE29: =IF(variables!$F$3=$B29, IF(N($I29=AE$3)=0,"",$L29), "" ) | AF29: =IF(variables!$F$3=$B29, IF(N($I29=AF$3)=0,"",$L29), "" ) | ... BX29: =IF(variables!$F$3=$B29, IF(N($I29=BX$3)=0,"",$L29), "" ) | BY29: =IF(N($B29=BY$3)=0,"",$G29) | BZ29: =IF(N($B29=BZ$3)=0,"",$G29) | CA29: =IF(N($B29=CA$3)=0,"",$G29) | CB29: =IF(N($B29=CB$3)=0,"",$G29) | CC29: =IF(N($B29=CC$3)=0,"",$G29) | CD29: =IF(N($B29=CD$3)=0,"",$G29) | CE29: =IF(N($B29=CE$3)=0,"",$G29) | CF29: =IF(N($B29=CF$3)=0,"",$G29) | ... CJ29: =IF(N($B29=CJ$3)=0,"",$G29) | CK29: =IF(analyse!$G$18=bdd!$B29,IF(matiere=bdd!$D29,bdd!$G29,""),"") | CL29: =IF(analyse!$G$18=bdd!$B29,IF(matiere=bdd!$D29,bdd!$G29,""),"") | CM29: =IF(analyse!$G$18=bdd!$B29,IF(matiere=bdd!$D29,bdd!$G29,""),"") | CN29: =IF(analyse!$G$18=bdd!$B29,IF(matiere=bdd!$D29,bdd!$G29,""),"") | CO29: =IF(analyse!$G$18=bdd!$B29,IF(matiere=bdd!$D29,bdd!$G29,""),"") | CP29: =IF(analyse!$G$18=bdd!$B29,IF(matiere=bdd!$D29,bdd!$G29,""),"") | CQ29: =IF(analyse!$G$18=bdd!$B29,IF(matiere=bdd!$D29,bdd!$G29,""),"") | CR29: =IF(analyse!$G$18=bdd!$B29,IF(matiere=bdd!$D29,bdd!$G29,""),"") | ... CT29: =IF(analyse!$G$18=bdd!$B29,IF(matiere=bdd!$D29,bdd!$G29,""),"")
B30: 2014/2015 | C30: =C29+10 -> 41900 | D30: physique chimie | E30: 8 | F30: 20 | G30: =IF(F30=10,E30*2,E30) -> 8 | H30: oral | I30: =WEEKNUM(C30,1) -> 38 | J30: =CHOOSE(MONTH(C30),variables!$B$2,variables!$B$3,variables!$B$4,variables!$B$5,variables!$B$6,variables!$B$7,variables!$B$8,variables!$B$9,variables!$B$10,variables!$B$11,variables!$B$12,variables!$B$13) -> septembre | K30: =YEAR(C30) -> 2014 | L30: =IF(variables!$C$2=1,G30, IF($D30=analyse!$C$3,$G30,"") ) -> 8 | M30: =IF(variables!$F$3=$B30, IF(N($J30=M$3)=0,"",$L30), "" ) | N30: =IF(variables!$F$3=$B30, IF(N($J30=N$3)=0,"",$L30), "" ) | O30: =IF(variables!$F$3=$B30, IF(N($J30=O$3)=0,"",$L30), "" ) | P30: =IF(variables!$F$3=$B30, IF(N($J30=P$3)=0,"",$L30), "" ) | Q30: =IF(variables!$F$3=$B30, IF(N($J30=Q$3)=0,"",$L30), "" ) | R30: =IF(variables!$F$3=$B30, IF(N($J30=R$3)=0,"",$L30), "" ) | S30: =IF(variables!$F$3=$B30, IF(N($J30=S$3)=0,"",$L30), "" ) | T30: =IF(variables!$F$3=$B30, IF(N($J30=T$3)=0,"",$L30), "" ) | ... X30: =IF(variables!$F$3=$B30, IF(N($J30=X$3)=0,"",$L30), "" ) | Y30: =IF(variables!$F$3=$B30, IF(N($I30=Y$3)=0,"",$L30), "" ) | Z30: =IF(variables!$F$3=$B30, IF(N($I30=Z$3)=0,"",$L30), "" ) | AA30: =IF(variables!$F$3=$B30, IF(N($I30=AA$3)=0,"",$L30), "" ) | AB30: =IF(variables!$F$3=$B30, IF(N($I30=AB$3)=0,"",$L30), "" ) | AC30: =IF(variables!$F$3=$B30, IF(N($I30=AC$3)=0,"",$L30), "" ) | AD30: =IF(variables!$F$3=$B30, IF(N($I30=AD$3)=0,"",$L30), "" ) | AE30: =IF(variables!$F$3=$B30, IF(N($I30=AE$3)=0,"",$L30), "" ) | AF30: =IF(variables!$F$3=$B30, IF(N($I30=AF$3)=0,"",$L30), "" ) | ... BX30: =IF(variables!$F$3=$B30, IF(N($I30=BX$3)=0,"",$L30), "" ) | BY30: =IF(N($B30=BY$3)=0,"",$G30) | BZ30: =IF(N($B30=BZ$3)=0,"",$G30) -> 8 | CA30: =IF(N($B30=CA$3)=0,"",$G30) | CB30: =IF(N($B30=CB$3)=0,"",$G30) | CC30: =IF(N($B30=CC$3)=0,"",$G30) | CD30: =IF(N($B30=CD$3)=0,"",$G30) | CE30: =IF(N($B30=CE$3)=0,"",$G30) | CF30: =IF(N($B30=CF$3)=0,"",$G30) | ... CJ30: =IF(N($B30=CJ$3)=0,"",$G30) | CK30: =IF(analyse!$G$18=bdd!$B30,IF(matiere=bdd!$D30,bdd!$G30,""),"") | CL30: =IF(analyse!$G$18=bdd!$B30,IF(matiere=bdd!$D30,bdd!$G30,""),"") | CM30: =IF(analyse!$G$18=bdd!$B30,IF(matiere=bdd!$D30,bdd!$G30,""),"") | CN30: =IF(analyse!$G$18=bdd!$B30,IF(matiere=bdd!$D30,bdd!$G30,""),"") | CO30: =IF(analyse!$G$18=bdd!$B30,IF(matiere=bdd!$D30,bdd!$G30,""),"") | CP30: =IF(analyse!$G$18=bdd!$B30,IF(matiere=bdd!$D30,bdd!$G30,""),"") | CQ30: =IF(analyse!$G$18=bdd!$B30,IF(matiere=bdd!$D30,bdd!$G30,""),"") | CR30: =IF(analyse!$G$18=bdd!$B30,IF(matiere=bdd!$D30,bdd!$G30,""),"") | ... CT30: =IF(analyse!$G$18=bdd!$B30,IF(matiere=bdd!$D30,bdd!$G30,""),"")
B31: 2014/2015 | C31: =C30+10 -> 41910 | D31: Musique | E31: 16 | F31: 20 | G31: =IF(F31=10,E31*2,E31) -> 16 | H31: oral | I31: =WEEKNUM(C31,1) -> 40 | J31: =CHOOSE(MONTH(C31),variables!$B$2,variables!$B$3,variables!$B$4,variables!$B$5,variables!$B$6,variables!$B$7,variables!$B$8,variables!$B$9,variables!$B$10,variables!$B$11,variables!$B$12,variables!$B$13) -> septembre | K31: =YEAR(C31) -> 2014 | L31: =IF(variables!$C$2=1,G31, IF($D31=analyse!$C$3,$G31,"") ) -> 16 | M31: =IF(variables!$F$3=$B31, IF(N($J31=M$3)=0,"",$L31), "" ) | N31: =IF(variables!$F$3=$B31, IF(N($J31=N$3)=0,"",$L31), "" ) | O31: =IF(variables!$F$3=$B31, IF(N($J31=O$3)=0,"",$L31), "" ) | P31: =IF(variables!$F$3=$B31, IF(N($J31=P$3)=0,"",$L31), "" ) | Q31: =IF(variables!$F$3=$B31, IF(N($J31=Q$3)=0,"",$L31), "" ) | R31: =IF(variables!$F$3=$B31, IF(N($J31=R$3)=0,"",$L31), "" ) | S31: =IF(variables!$F$3=$B31, IF(N($J31=S$3)=0,"",$L31), "" ) | T31: =IF(variables!$F$3=$B31, IF(N($J31=T$3)=0,"",$L31), "" ) | ... X31: =IF(variables!$F$3=$B31, IF(N($J31=X$3)=0,"",$L31), "" ) | Y31: =IF(variables!$F$3=$B31, IF(N($I31=Y$3)=0,"",$L31), "" ) | Z31: =IF(variables!$F$3=$B31, IF(N($I31=Z$3)=0,"",$L31), "" ) | AA31: =IF(variables!$F$3=$B31, IF(N($I31=AA$3)=0,"",$L31), "" ) | AB31: =IF(variables!$F$3=$B31, IF(N($I31=AB$3)=0,"",$L31), "" ) | AC31: =IF(variables!$F$3=$B31, IF(N($I31=AC$3)=0,"",$L31), "" ) | AD31: =IF(variables!$F$3=$B31, IF(N($I31=AD$3)=0,"",$L31), "" ) | AE31: =IF(variables!$F$3=$B31, IF(N($I31=AE$3)=0,"",$L31), "" ) | AF31: =IF(variables!$F$3=$B31, IF(N($I31=AF$3)=0,"",$L31), "" ) | ... BX31: =IF(variables!$F$3=$B31, IF(N($I31=BX$3)=0,"",$L31), "" ) | BY31: =IF(N($B31=BY$3)=0,"",$G31) | BZ31: =IF(N($B31=BZ$3)=0,"",$G31) -> 16 | CA31: =IF(N($B31=CA$3)=0,"",$G31) | CB31: =IF(N($B31=CB$3)=0,"",$G31) | CC31: =IF(N($B31=CC$3)=0,"",$G31) | CD31: =IF(N($B31=CD$3)=0,"",$G31) | CE31: =IF(N($B31=CE$3)=0,"",$G31) | CF31: =IF(N($B31=CF$3)=0,"",$G31) | ... CJ31: =IF(N($B31=CJ$3)=0,"",$G31) | CK31: =IF(analyse!$G$18=bdd!$B31,IF(matiere=bdd!$D31,bdd!$G31,""),"") | CL31: =IF(analyse!$G$18=bdd!$B31,IF(matiere=bdd!$D31,bdd!$G31,""),"") | CM31: =IF(analyse!$G$18=bdd!$B31,IF(matiere=bdd!$D31,bdd!$G31,""),"") | CN31: =IF(analyse!$G$18=bdd!$B31,IF(matiere=bdd!$D31,bdd!$G31,""),"") | CO31: =IF(analyse!$G$18=bdd!$B31,IF(matiere=bdd!$D31,bdd!$G31,""),"") | CP31: =IF(analyse!$G$18=bdd!$B31,IF(matiere=bdd!$D31,bdd!$G31,""),"") | CQ31: =IF(analyse!$G$18=bdd!$B31,IF(matiere=bdd!$D31,bdd!$G31,""),"") | CR31: =IF(analyse!$G$18=bdd!$B31,IF(matiere=bdd!$D31,bdd!$G31,""),"") | ... CT31: =IF(analyse!$G$18=bdd!$B31,IF(matiere=bdd!$D31,bdd!$G31,""),"")
B32: 2014/2015 | C32: =C31+10 -> 41920 | D32: Math | E32: 13 | F32: 20 | G32: =IF(F32=10,E32*2,E32) -> 13 | H32: oral | I32: =WEEKNUM(C32,1) -> 41 | J32: =CHOOSE(MONTH(C32),variables!$B$2,variables!$B$3,variables!$B$4,variables!$B$5,variables!$B$6,variables!$B$7,variables!$B$8,variables!$B$9,variables!$B$10,variables!$B$11,variables!$B$12,variables!$B$13) -> octobre | K32: =YEAR(C32) -> 2014 | L32: =IF(variables!$C$2=1,G32, IF($D32=analyse!$C$3,$G32,"") ) -> 13 | M32: =IF(variables!$F$3=$B32, IF(N($J32=M$3)=0,"",$L32), "" ) | N32: =IF(variables!$F$3=$B32, IF(N($J32=N$3)=0,"",$L32), "" ) | O32: =IF(variables!$F$3=$B32, IF(N($J32=O$3)=0,"",$L32), "" ) | P32: =IF(variables!$F$3=$B32, IF(N($J32=P$3)=0,"",$L32), "" ) | Q32: =IF(variables!$F$3=$B32, IF(N($J32=Q$3)=0,"",$L32), "" ) | R32: =IF(variables!$F$3=$B32, IF(N($J32=R$3)=0,"",$L32), "" ) | S32: =IF(variables!$F$3=$B32, IF(N($J32=S$3)=0,"",$L32), "" ) | T32: =IF(variables!$F$3=$B32, IF(N($J32=T$3)=0,"",$L32), "" ) | ... X32: =IF(variables!$F$3=$B32, IF(N($J32=X$3)=0,"",$L32), "" ) | Y32: =IF(variables!$F$3=$B32, IF(N($I32=Y$3)=0,"",$L32), "" ) | Z32: =IF(variables!$F$3=$B32, IF(N($I32=Z$3)=0,"",$L32), "" ) | AA32: =IF(variables!$F$3=$B32, IF(N($I32=AA$3)=0,"",$L32), "" ) | AB32: =IF(variables!$F$3=$B32, IF(N($I32=AB$3)=0,"",$L32), "" ) | AC32: =IF(variables!$F$3=$B32, IF(N($I32=AC$3)=0,"",$L32), "" ) | AD32: =IF(variables!$F$3=$B32, IF(N($I32=AD$3)=0,"",$L32), "" ) | AE32: =IF(variables!$F$3=$B32, IF(N($I32=AE$3)=0,"",$L32), "" ) | AF32: =IF(variables!$F$3=$B32, IF(N($I32=AF$3)=0,"",$L32), "" ) | ... BX32: =IF(variables!$F$3=$B32, IF(N($I32=BX$3)=0,"",$L32), "" ) | BY32: =IF(N($B32=BY$3)=0,"",$G32) | BZ32: =IF(N($B32=BZ$3)=0,"",$G32) -> 13 | CA32: =IF(N($B32=CA$3)=0,"",$G32) | CB32: =IF(N($B32=CB$3)=0,"",$G32) | CC32: =IF(N($B32=CC$3)=0,"",$G32) | CD32: =IF(N($B32=CD$3)=0,"",$G32) | CE32: =IF(N($B32=CE$3)=0,"",$G32) | CF32: =IF(N($B32=CF$3)=0,"",$G32) | ... CJ32: =IF(N($B32=CJ$3)=0,"",$G32) | CK32: =IF(analyse!$G$18=bdd!$B32,IF(matiere=bdd!$D32,bdd!$G32,""),"") | CL32: =IF(analyse!$G$18=bdd!$B32,IF(matiere=bdd!$D32,bdd!$G32,""),"") | CM32: =IF(analyse!$G$18=bdd!$B32,IF(matiere=bdd!$D32,bdd!$G32,""),"") | CN32: =IF(analyse!$G$18=bdd!$B32,IF(matiere=bdd!$D32,bdd!$G32,""),"") | CO32: =IF(analyse!$G$18=bdd!$B32,IF(matiere=bdd!$D32,bdd!$G32,""),"") | CP32: =IF(analyse!$G$18=bdd!$B32,IF(matiere=bdd!$D32,bdd!$G32,""),"") | CQ32: =IF(analyse!$G$18=bdd!$B32,IF(matiere=bdd!$D32,bdd!$G32,""),"") | CR32: =IF(analyse!$G$18=bdd!$B32,IF(matiere=bdd!$D32,bdd!$G32,""),"") | ... CT32: =IF(analyse!$G$18=bdd!$B32,IF(matiere=bdd!$D32,bdd!$G32,""),"")
B33: 2014/2015 | C33: =C32+10 -> 41930 | D33: physique chimie | E33: 12 | F33: 20 | G33: =IF(F33=10,E33*2,E33) -> 12 | H33: oral | I33: =WEEKNUM(C33,1) -> 42 | J33: =CHOOSE(MONTH(C33),variables!$B$2,variables!$B$3,variables!$B$4,variables!$B$5,variables!$B$6,variables!$B$7,variables!$B$8,variables!$B$9,variables!$B$10,variables!$B$11,variables!$B$12,variables!$B$13) -> octobre | K33: =YEAR(C33) -> 2014 | L33: =IF(variables!$C$2=1,G33, IF($D33=analyse!$C$3,$G33,"") ) -> 12 | M33: =IF(variables!$F$3=$B33, IF(N($J33=M$3)=0,"",$L33), "" ) | N33: =IF(variables!$F$3=$B33, IF(N($J33=N$3)=0,"",$L33), "" ) | O33: =IF(variables!$F$3=$B33, IF(N($J33=O$3)=0,"",$L33), "" ) | P33: =IF(variables!$F$3=$B33, IF(N($J33=P$3)=0,"",$L33), "" ) | Q33: =IF(variables!$F$3=$B33, IF(N($J33=Q$3)=0,"",$L33), "" ) | R33: =IF(variables!$F$3=$B33, IF(N($J33=R$3)=0,"",$L33), "" ) | S33: =IF(variables!$F$3=$B33, IF(N($J33=S$3)=0,"",$L33), "" ) | T33: =IF(variables!$F$3=$B33, IF(N($J33=T$3)=0,"",$L33), "" ) | ... X33: =IF(variables!$F$3=$B33, IF(N($J33=X$3)=0,"",$L33), "" ) | Y33: =IF(variables!$F$3=$B33, IF(N($I33=Y$3)=0,"",$L33), "" ) | Z33: =IF(variables!$F$3=$B33, IF(N($I33=Z$3)=0,"",$L33), "" ) | AA33: =IF(variables!$F$3=$B33, IF(N($I33=AA$3)=0,"",$L33), "" ) | AB33: =IF(variables!$F$3=$B33, IF(N($I33=AB$3)=0,"",$L33), "" ) | AC33: =IF(variables!$F$3=$B33, IF(N($I33=AC$3)=0,"",$L33), "" ) | AD33: =IF(variables!$F$3=$B33, IF(N($I33=AD$3)=0,"",$L33), "" ) | AE33: =IF(variables!$F$3=$B33, IF(N($I33=AE$3)=0,"",$L33), "" ) | AF33: =IF(variables!$F$3=$B33, IF(N($I33=AF$3)=0,"",$L33), "" ) | ... BX33: =IF(variables!$F$3=$B33, IF(N($I33=BX$3)=0,"",$L33), "" ) | BY33: =IF(N($B33=BY$3)=0,"",$G33) | BZ33: =IF(N($B33=BZ$3)=0,"",$G33) -> 12 | CA33: =IF(N($B33=CA$3)=0,"",$G33) | CB33: =IF(N($B33=CB$3)=0,"",$G33) | CC33: =IF(N($B33=CC$3)=0,"",$G33) | CD33: =IF(N($B33=CD$3)=0,"",$G33) | CE33: =IF(N($B33=CE$3)=0,"",$G33) | CF33: =IF(N($B33=CF$3)=0,"",$G33) | ... CJ33: =IF(N($B33=CJ$3)=0,"",$G33) | CK33: =IF(analyse!$G$18=bdd!$B33,IF(matiere=bdd!$D33,bdd!$G33,""),"") | CL33: =IF(analyse!$G$18=bdd!$B33,IF(matiere=bdd!$D33,bdd!$G33,""),"") | CM33: =IF(analyse!$G$18=bdd!$B33,IF(matiere=bdd!$D33,bdd!$G33,""),"") | CN33: =IF(analyse!$G$18=bdd!$B33,IF(matiere=bdd!$D33,bdd!$G33,""),"") | CO33: =IF(analyse!$G$18=bdd!$B33,IF(matiere=bdd!$D33,bdd!$G33,""),"") | CP33: =IF(analyse!$G$18=bdd!$B33,IF(matiere=bdd!$D33,bdd!$G33,""),"") | CQ33: =IF(analyse!$G$18=bdd!$B33,IF(matiere=bdd!$D33,bdd!$G33,""),"") | CR33: =IF(analyse!$G$18=bdd!$B33,IF(matiere=bdd!$D33,bdd!$G33,""),"") | ... CT33: =IF(analyse!$G$18=bdd!$B33,IF(matiere=bdd!$D33,bdd!$G33,""),"")
B34: 2014/2015 | C34: =C33+10 -> 41940 | D34: histoire geo | E34: 19 | F34: 20 | G34: =IF(F34=10,E34*2,E34) -> 19 | H34: oral | I34: =WEEKNUM(C34,1) -> 44 | J34: =CHOOSE(MONTH(C34),variables!$B$2,variables!$B$3,variables!$B$4,variables!$B$5,variables!$B$6,variables!$B$7,variables!$B$8,variables!$B$9,variables!$B$10,variables!$B$11,variables!$B$12,variables!$B$13) -> octobre | K34: =YEAR(C34) -> 2014 | L34: =IF(variables!$C$2=1,G34, IF($D34=analyse!$C$3,$G34,"") ) -> 19 | M34: =IF(variables!$F$3=$B34, IF(N($J34=M$3)=0,"",$L34), "" ) | N34: =IF(variables!$F$3=$B34, IF(N($J34=N$3)=0,"",$L34), "" ) | O34: =IF(variables!$F$3=$B34, IF(N($J34=O$3)=0,"",$L34), "" ) | P34: =IF(variables!$F$3=$B34, IF(N($J34=P$3)=0,"",$L34), "" ) | Q34: =IF(variables!$F$3=$B34, IF(N($J34=Q$3)=0,"",$L34), "" ) | R34: =IF(variables!$F$3=$B34, IF(N($J34=R$3)=0,"",$L34), "" ) | S34: =IF(variables!$F$3=$B34, IF(N($J34=S$3)=0,"",$L34), "" ) | T34: =IF(variables!$F$3=$B34, IF(N($J34=T$3)=0,"",$L34), "" ) | ... X34: =IF(variables!$F$3=$B34, IF(N($J34=X$3)=0,"",$L34), "" ) | Y34: =IF(variables!$F$3=$B34, IF(N($I34=Y$3)=0,"",$L34), "" ) | Z34: =IF(variables!$F$3=$B34, IF(N($I34=Z$3)=0,"",$L34), "" ) | AA34: =IF(variables!$F$3=$B34, IF(N($I34=AA$3)=0,"",$L34), "" ) | AB34: =IF(variables!$F$3=$B34, IF(N($I34=AB$3)=0,"",$L34), "" ) | AC34: =IF(variables!$F$3=$B34, IF(N($I34=AC$3)=0,"",$L34), "" ) | AD34: =IF(variables!$F$3=$B34, IF(N($I34=AD$3)=0,"",$L34), "" ) | AE34: =IF(variables!$F$3=$B34, IF(N($I34=AE$3)=0,"",$L34), "" ) | AF34: =IF(variables!$F$3=$B34, IF(N($I34=AF$3)=0,"",$L34), "" ) | ... BX34: =IF(variables!$F$3=$B34, IF(N($I34=BX$3)=0,"",$L34), "" ) | BY34: =IF(N($B34=BY$3)=0,"",$G34) | BZ34: =IF(N($B34=BZ$3)=0,"",$G34) -> 19 | CA34: =IF(N($B34=CA$3)=0,"",$G34) | CB34: =IF(N($B34=CB$3)=0,"",$G34) | CC34: =IF(N($B34=CC$3)=0,"",$G34) | CD34: =IF(N($B34=CD$3)=0,"",$G34) | CE34: =IF(N($B34=CE$3)=0,"",$G34) | CF34: =IF(N($B34=CF$3)=0,"",$G34) | ... CJ34: =IF(N($B34=CJ$3)=0,"",$G34) | CK34: =IF(analyse!$G$18=bdd!$B34,IF(matiere=bdd!$D34,bdd!$G34,""),"") | CL34: =IF(analyse!$G$18=bdd!$B34,IF(matiere=bdd!$D34,bdd!$G34,""),"") | CM34: =IF(analyse!$G$18=bdd!$B34,IF(matiere=bdd!$D34,bdd!$G34,""),"") | CN34: =IF(analyse!$G$18=bdd!$B34,IF(matiere=bdd!$D34,bdd!$G34,""),"") | CO34: =IF(analyse!$G$18=bdd!$B34,IF(matiere=bdd!$D34,bdd!$G34,""),"") | CP34: =IF(analyse!$G$18=bdd!$B34,IF(matiere=bdd!$D34,bdd!$G34,""),"") | CQ34: =IF(analyse!$G$18=bdd!$B34,IF(matiere=bdd!$D34,bdd!$G34,""),"") | CR34: =IF(analyse!$G$18=bdd!$B34,IF(matiere=bdd!$D34,bdd!$G34,""),"") | ... CT34: =IF(analyse!$G$18=bdd!$B34,IF(matiere=bdd!$D34,bdd!$G34,""),"")
B35: 2014/2015 | C35: =C34+10 -> 41950 | D35: anglais | E35: 6 | F35: 20 | G35: =IF(F35=10,E35*2,E35) -> 6 | H35: oral | I35: =WEEKNUM(C35,1) -> 45 | J35: =CHOOSE(MONTH(C35),variables!$B$2,variables!$B$3,variables!$B$4,variables!$B$5,variables!$B$6,variables!$B$7,variables!$B$8,variables!$B$9,variables!$B$10,variables!$B$11,variables!$B$12,variables!$B$13) -> novembre | K35: =YEAR(C35) -> 2014 | L35: =IF(variables!$C$2=1,G35, IF($D35=analyse!$C$3,$G35,"") ) -> 6 | M35: =IF(variables!$F$3=$B35, IF(N($J35=M$3)=0,"",$L35), "" ) | N35: =IF(variables!$F$3=$B35, IF(N($J35=N$3)=0,"",$L35), "" ) | O35: =IF(variables!$F$3=$B35, IF(N($J35=O$3)=0,"",$L35), "" ) | P35: =IF(variables!$F$3=$B35, IF(N($J35=P$3)=0,"",$L35), "" ) | Q35: =IF(variables!$F$3=$B35, IF(N($J35=Q$3)=0,"",$L35), "" ) | R35: =IF(variables!$F$3=$B35, IF(N($J35=R$3)=0,"",$L35), "" ) | S35: =IF(variables!$F$3=$B35, IF(N($J35=S$3)=0,"",$L35), "" ) | T35: =IF(variables!$F$3=$B35, IF(N($J35=T$3)=0,"",$L35), "" ) | ... X35: =IF(variables!$F$3=$B35, IF(N($J35=X$3)=0,"",$L35), "" ) | Y35: =IF(variables!$F$3=$B35, IF(N($I35=Y$3)=0,"",$L35), "" ) | Z35: =IF(variables!$F$3=$B35, IF(N($I35=Z$3)=0,"",$L35), "" ) | AA35: =IF(variables!$F$3=$B35, IF(N($I35=AA$3)=0,"",$L35), "" ) | AB35: =IF(variables!$F$3=$B35, IF(N($I35=AB$3)=0,"",$L35), "" ) | AC35: =IF(variables!$F$3=$B35, IF(N($I35=AC$3)=0,"",$L35), "" ) | AD35: =IF(variables!$F$3=$B35, IF(N($I35=AD$3)=0,"",$L35), "" ) | AE35: =IF(variables!$F$3=$B35, IF(N($I35=AE$3)=0,"",$L35), "" ) | AF35: =IF(variables!$F$3=$B35, IF(N($I35=AF$3)=0,"",$L35), "" ) | ... BX35: =IF(variables!$F$3=$B35, IF(N($I35=BX$3)=0,"",$L35), "" ) | BY35: =IF(N($B35=BY$3)=0,"",$G35) | BZ35: =IF(N($B35=BZ$3)=0,"",$G35) -> 6 | CA35: =IF(N($B35=CA$3)=0,"",$G35) | CB35: =IF(N($B35=CB$3)=0,"",$G35) | CC35: =IF(N($B35=CC$3)=0,"",$G35) | CD35: =IF(N($B35=CD$3)=0,"",$G35) | CE35: =IF(N($B35=CE$3)=0,"",$G35) | CF35: =IF(N($B35=CF$3)=0,"",$G35) | ... CJ35: =IF(N($B35=CJ$3)=0,"",$G35) | CK35: =IF(analyse!$G$18=bdd!$B35,IF(matiere=bdd!$D35,bdd!$G35,""),"") | CL35: =IF(analyse!$G$18=bdd!$B35,IF(matiere=bdd!$D35,bdd!$G35,""),"") | CM35: =IF(analyse!$G$18=bdd!$B35,IF(matiere=bdd!$D35,bdd!$G35,""),"") | CN35: =IF(analyse!$G$18=bdd!$B35,IF(matiere=bdd!$D35,bdd!$G35,""),"") | CO35: =IF(analyse!$G$18=bdd!$B35,IF(matiere=bdd!$D35,bdd!$G35,""),"") | CP35: =IF(analyse!$G$18=bdd!$B35,IF(matiere=bdd!$D35,bdd!$G35,""),"") | CQ35: =IF(analyse!$G$18=bdd!$B35,IF(matiere=bdd!$D35,bdd!$G35,""),"") | CR35: =IF(analyse!$G$18=bdd!$B35,IF(matiere=bdd!$D35,bdd!$G35,""),"") | ... CT35: =IF(analyse!$G$18=bdd!$B35,IF(matiere=bdd!$D35,bdd!$G35,""),"")
B36: 2014/2015 | C36: =C35+10 -> 41960 | D36: Math | E36: 14 | F36: 20 | G36: =IF(F36=10,E36*2,E36) -> 14 | H36: oral | I36: =WEEKNUM(C36,1) -> 47 | J36: =CHOOSE(MONTH(C36),variables!$B$2,variables!$B$3,variables!$B$4,variables!$B$5,variables!$B$6,variables!$B$7,variables!$B$8,variables!$B$9,variables!$B$10,variables!$B$11,variables!$B$12,variables!$B$13) -> novembre | K36: =YEAR(C36) -> 2014 | L36: =IF(variables!$C$2=1,G36, IF($D36=analyse!$C$3,$G36,"") ) -> 14 | M36: =IF(variables!$F$3=$B36, IF(N($J36=M$3)=0,"",$L36), "" ) | N36: =IF(variables!$F$3=$B36, IF(N($J36=N$3)=0,"",$L36), "" ) | O36: =IF(variables!$F$3=$B36, IF(N($J36=O$3)=0,"",$L36), "" ) | P36: =IF(variables!$F$3=$B36, IF(N($J36=P$3)=0,"",$L36), "" ) | Q36: =IF(variables!$F$3=$B36, IF(N($J36=Q$3)=0,"",$L36), "" ) | R36: =IF(variables!$F$3=$B36, IF(N($J36=R$3)=0,"",$L36), "" ) | S36: =IF(variables!$F$3=$B36, IF(N($J36=S$3)=0,"",$L36), "" ) | T36: =IF(variables!$F$3=$B36, IF(N($J36=T$3)=0,"",$L36), "" ) | ... X36: =IF(variables!$F$3=$B36, IF(N($J36=X$3)=0,"",$L36), "" ) | Y36: =IF(variables!$F$3=$B36, IF(N($I36=Y$3)=0,"",$L36), "" ) | Z36: =IF(variables!$F$3=$B36, IF(N($I36=Z$3)=0,"",$L36), "" ) | AA36: =IF(variables!$F$3=$B36, IF(N($I36=AA$3)=0,"",$L36), "" ) | AB36: =IF(variables!$F$3=$B36, IF(N($I36=AB$3)=0,"",$L36), "" ) | AC36: =IF(variables!$F$3=$B36, IF(N($I36=AC$3)=0,"",$L36), "" ) | AD36: =IF(variables!$F$3=$B36, IF(N($I36=AD$3)=0,"",$L36), "" ) | AE36: =IF(variables!$F$3=$B36, IF(N($I36=AE$3)=0,"",$L36), "" ) | AF36: =IF(variables!$F$3=$B36, IF(N($I36=AF$3)=0,"",$L36), "" ) | ... BX36: =IF(variables!$F$3=$B36, IF(N($I36=BX$3)=0,"",$L36), "" ) | BY36: =IF(N($B36=BY$3)=0,"",$G36) | BZ36: =IF(N($B36=BZ$3)=0,"",$G36) -> 14 | CA36: =IF(N($B36=CA$3)=0,"",$G36) | CB36: =IF(N($B36=CB$3)=0,"",$G36) | CC36: =IF(N($B36=CC$3)=0,"",$G36) | CD36: =IF(N($B36=CD$3)=0,"",$G36) | CE36: =IF(N($B36=CE$3)=0,"",$G36) | CF36: =IF(N($B36=CF$3)=0,"",$G36) | ... CJ36: =IF(N($B36=CJ$3)=0,"",$G36) | CK36: =IF(analyse!$G$18=bdd!$B36,IF(matiere=bdd!$D36,bdd!$G36,""),"") | CL36: =IF(analyse!$G$18=bdd!$B36,IF(matiere=bdd!$D36,bdd!$G36,""),"") | CM36: =IF(analyse!$G$18=bdd!$B36,IF(matiere=bdd!$D36,bdd!$G36,""),"") | CN36: =IF(analyse!$G$18=bdd!$B36,IF(matiere=bdd!$D36,bdd!$G36,""),"") | CO36: =IF(analyse!$G$18=bdd!$B36,IF(matiere=bdd!$D36,bdd!$G36,""),"") | CP36: =IF(analyse!$G$18=bdd!$B36,IF(matiere=bdd!$D36,bdd!$G36,""),"") | CQ36: =IF(analyse!$G$18=bdd!$B36,IF(matiere=bdd!$D36,bdd!$G36,""),"") | CR36: =IF(analyse!$G$18=bdd!$B36,IF(matiere=bdd!$D36,bdd!$G36,""),"") | ... CT36: =IF(analyse!$G$18=bdd!$B36,IF(matiere=bdd!$D36,bdd!$G36,""),"")
B37: 2014/2015 | C37: =C36+10 -> 41970 | D37: Espagnol | E37: 19 | F37: 20 | G37: =IF(F37=10,E37*2,E37) -> 19 | H37: oral | I37: =WEEKNUM(C37,1) -> 48 | J37: =CHOOSE(MONTH(C37),variables!$B$2,variables!$B$3,variables!$B$4,variables!$B$5,variables!$B$6,variables!$B$7,variables!$B$8,variables!$B$9,variables!$B$10,variables!$B$11,variables!$B$12,variables!$B$13) -> novembre | K37: =YEAR(C37) -> 2014 | L37: =IF(variables!$C$2=1,G37, IF($D37=analyse!$C$3,$G37,"") ) -> 19 | M37: =IF(variables!$F$3=$B37, IF(N($J37=M$3)=0,"",$L37), "" ) | N37: =IF(variables!$F$3=$B37, IF(N($J37=N$3)=0,"",$L37), "" ) | O37: =IF(variables!$F$3=$B37, IF(N($J37=O$3)=0,"",$L37), "" ) | P37: =IF(variables!$F$3=$B37, IF(N($J37=P$3)=0,"",$L37), "" ) | Q37: =IF(variables!$F$3=$B37, IF(N($J37=Q$3)=0,"",$L37), "" ) | R37: =IF(variables!$F$3=$B37, IF(N($J37=R$3)=0,"",$L37), "" ) | S37: =IF(variables!$F$3=$B37, IF(N($J37=S$3)=0,"",$L37), "" ) | T37: =IF(variables!$F$3=$B37, IF(N($J37=T$3)=0,"",$L37), "" ) | ... X37: =IF(variables!$F$3=$B37, IF(N($J37=X$3)=0,"",$L37), "" ) | Y37: =IF(variables!$F$3=$B37, IF(N($I37=Y$3)=0,"",$L37), "" ) | Z37: =IF(variables!$F$3=$B37, IF(N($I37=Z$3)=0,"",$L37), "" ) | AA37: =IF(variables!$F$3=$B37, IF(N($I37=AA$3)=0,"",$L37), "" ) | AB37: =IF(variables!$F$3=$B37, IF(N($I37=AB$3)=0,"",$L37), "" ) | AC37: =IF(variables!$F$3=$B37, IF(N($I37=AC$3)=0,"",$L37), "" ) | AD37: =IF(variables!$F$3=$B37, IF(N($I37=AD$3)=0,"",$L37), "" ) | AE37: =IF(variables!$F$3=$B37, IF(N($I37=AE$3)=0,"",$L37), "" ) | AF37: =IF(variables!$F$3=$B37, IF(N($I37=AF$3)=0,"",$L37), "" ) | ... BX37: =IF(variables!$F$3=$B37, IF(N($I37=BX$3)=0,"",$L37), "" ) | BY37: =IF(N($B37=BY$3)=0,"",$G37) | BZ37: =IF(N($B37=BZ$3)=0,"",$G37) -> 19 | CA37: =IF(N($B37=CA$3)=0,"",$G37) | CB37: =IF(N($B37=CB$3)=0,"",$G37) | CC37: =IF(N($B37=CC$3)=0,"",$G37) | CD37: =IF(N($B37=CD$3)=0,"",$G37) | CE37: =IF(N($B37=CE$3)=0,"",$G37) | CF37: =IF(N($B37=CF$3)=0,"",$G37) | ... CJ37: =IF(N($B37=CJ$3)=0,"",$G37) | CK37: =IF(analyse!$G$18=bdd!$B37,IF(matiere=bdd!$D37,bdd!$G37,""),"") | CL37: =IF(analyse!$G$18=bdd!$B37,IF(matiere=bdd!$D37,bdd!$G37,""),"") | CM37: =IF(analyse!$G$18=bdd!$B37,IF(matiere=bdd!$D37,bdd!$G37,""),"") | CN37: =IF(analyse!$G$18=bdd!$B37,IF(matiere=bdd!$D37,bdd!$G37,""),"") | CO37: =IF(analyse!$G$18=bdd!$B37,IF(matiere=bdd!$D37,bdd!$G37,""),"") | CP37: =IF(analyse!$G$18=bdd!$B37,IF(matiere=bdd!$D37,bdd!$G37,""),"") | CQ37: =IF(analyse!$G$18=bdd!$B37,IF(matiere=bdd!$D37,bdd!$G37,""),"") | CR37: =IF(analyse!$G$18=bdd!$B37,IF(matiere=bdd!$D37,bdd!$G37,""),"") | ... CT37: =IF(analyse!$G$18=bdd!$B37,IF(matiere=bdd!$D37,bdd!$G37,""),"")
B38: 2014/2015 | C38: =C37+10 -> 41980 | D38: EXCEL | E38: 4 | F38: 20 | G38: =IF(F38=10,E38*2,E38) -> 4 | H38: oral | I38: =WEEKNUM(C38,1) -> 50 | J38: =CHOOSE(MONTH(C38),variables!$B$2,variables!$B$3,variables!$B$4,variables!$B$5,variables!$B$6,variables!$B$7,variables!$B$8,variables!$B$9,variables!$B$10,variables!$B$11,variables!$B$12,variables!$B$13) -> décembre | K38: =YEAR(C38) -> 2014 | L38: =IF(variables!$C$2=1,G38, IF($D38=analyse!$C$3,$G38,"") ) -> 4 | M38: =IF(variables!$F$3=$B38, IF(N($J38=M$3)=0,"",$L38), "" ) | N38: =IF(variables!$F$3=$B38, IF(N($J38=N$3)=0,"",$L38), "" ) | O38: =IF(variables!$F$3=$B38, IF(N($J38=O$3)=0,"",$L38), "" ) | P38: =IF(variables!$F$3=$B38, IF(N($J38=P$3)=0,"",$L38), "" ) | Q38: =IF(variables!$F$3=$B38, IF(N($J38=Q$3)=0,"",$L38), "" ) | R38: =IF(variables!$F$3=$B38, IF(N($J38=R$3)=0,"",$L38), "" ) | S38: =IF(variables!$F$3=$B38, IF(N($J38=S$3)=0,"",$L38), "" ) | T38: =IF(variables!$F$3=$B38, IF(N($J38=T$3)=0,"",$L38), "" ) | ... X38: =IF(variables!$F$3=$B38, IF(N($J38=X$3)=0,"",$L38), "" ) | Y38: =IF(variables!$F$3=$B38, IF(N($I38=Y$3)=0,"",$L38), "" ) | Z38: =IF(variables!$F$3=$B38, IF(N($I38=Z$3)=0,"",$L38), "" ) | AA38: =IF(variables!$F$3=$B38, IF(N($I38=AA$3)=0,"",$L38), "" ) | AB38: =IF(variables!$F$3=$B38, IF(N($I38=AB$3)=0,"",$L38), "" ) | AC38: =IF(variables!$F$3=$B38, IF(N($I38=AC$3)=0,"",$L38), "" ) | AD38: =IF(variables!$F$3=$B38, IF(N($I38=AD$3)=0,"",$L38), "" ) | AE38: =IF(variables!$F$3=$B38, IF(N($I38=AE$3)=0,"",$L38), "" ) | AF38: =IF(variables!$F$3=$B38, IF(N($I38=AF$3)=0,"",$L38), "" ) | ... BX38: =IF(variables!$F$3=$B38, IF(N($I38=BX$3)=0,"",$L38), "" ) | BY38: =IF(N($B38=BY$3)=0,"",$G38) | BZ38: =IF(N($B38=BZ$3)=0,"",$G38) -> 4 | CA38: =IF(N($B38=CA$3)=0,"",$G38) | CB38: =IF(N($B38=CB$3)=0,"",$G38) | CC38: =IF(N($B38=CC$3)=0,"",$G38) | CD38: =IF(N($B38=CD$3)=0,"",$G38) | CE38: =IF(N($B38=CE$3)=0,"",$G38) | CF38: =IF(N($B38=CF$3)=0,"",$G38) | ... CJ38: =IF(N($B38=CJ$3)=0,"",$G38) | CK38: =IF(analyse!$G$18=bdd!$B38,IF(matiere=bdd!$D38,bdd!$G38,""),"") | CL38: =IF(analyse!$G$18=bdd!$B38,IF(matiere=bdd!$D38,bdd!$G38,""),"") | CM38: =IF(analyse!$G$18=bdd!$B38,IF(matiere=bdd!$D38,bdd!$G38,""),"") | CN38: =IF(analyse!$G$18=bdd!$B38,IF(matiere=bdd!$D38,bdd!$G38,""),"") | CO38: =IF(analyse!$G$18=bdd!$B38,IF(matiere=bdd!$D38,bdd!$G38,""),"") | CP38: =IF(analyse!$G$18=bdd!$B38,IF(matiere=bdd!$D38,bdd!$G38,""),"") | CQ38: =IF(analyse!$G$18=bdd!$B38,IF(matiere=bdd!$D38,bdd!$G38,""),"") | CR38: =IF(analyse!$G$18=bdd!$B38,IF(matiere=bdd!$D38,bdd!$G38,""),"") | ... CT38: =IF(analyse!$G$18=bdd!$B38,IF(matiere=bdd!$D38,bdd!$G38,""),"")
B39: 2014/2015 | C39: =C38+10 -> 41990 | D39: sport | E39: 7 | F39: 20 | G39: =IF(F39=10,E39*2,E39) -> 7 | H39: oral | I39: =WEEKNUM(C39,1) -> 51 | J39: =CHOOSE(MONTH(C39),variables!$B$2,variables!$B$3,variables!$B$4,variables!$B$5,variables!$B$6,variables!$B$7,variables!$B$8,variables!$B$9,variables!$B$10,variables!$B$11,variables!$B$12,variables!$B$13) -> décembre | K39: =YEAR(C39) -> 2014 | L39: =IF(variables!$C$2=1,G39, IF($D39=analyse!$C$3,$G39,"") ) -> 7 | M39: =IF(variables!$F$3=$B39, IF(N($J39=M$3)=0,"",$L39), "" ) | N39: =IF(variables!$F$3=$B39, IF(N($J39=N$3)=0,"",$L39), "" ) | O39: =IF(variables!$F$3=$B39, IF(N($J39=O$3)=0,"",$L39), "" ) | P39: =IF(variables!$F$3=$B39, IF(N($J39=P$3)=0,"",$L39), "" ) | Q39: =IF(variables!$F$3=$B39, IF(N($J39=Q$3)=0,"",$L39), "" ) | R39: =IF(variables!$F$3=$B39, IF(N($J39=R$3)=0,"",$L39), "" ) | S39: =IF(variables!$F$3=$B39, IF(N($J39=S$3)=0,"",$L39), "" ) | T39: =IF(variables!$F$3=$B39, IF(N($J39=T$3)=0,"",$L39), "" ) | ... X39: =IF(variables!$F$3=$B39, IF(N($J39=X$3)=0,"",$L39), "" ) | Y39: =IF(variables!$F$3=$B39, IF(N($I39=Y$3)=0,"",$L39), "" ) | Z39: =IF(variables!$F$3=$B39, IF(N($I39=Z$3)=0,"",$L39), "" ) | AA39: =IF(variables!$F$3=$B39, IF(N($I39=AA$3)=0,"",$L39), "" ) | AB39: =IF(variables!$F$3=$B39, IF(N($I39=AB$3)=0,"",$L39), "" ) | AC39: =IF(variables!$F$3=$B39, IF(N($I39=AC$3)=0,"",$L39), "" ) | AD39: =IF(variables!$F$3=$B39, IF(N($I39=AD$3)=0,"",$L39), "" ) | AE39: =IF(variables!$F$3=$B39, IF(N($I39=AE$3)=0,"",$L39), "" ) | AF39: =IF(variables!$F$3=$B39, IF(N($I39=AF$3)=0,"",$L39), "" ) | ... BX39: =IF(variables!$F$3=$B39, IF(N($I39=BX$3)=0,"",$L39), "" ) | BY39: =IF(N($B39=BY$3)=0,"",$G39) | BZ39: =IF(N($B39=BZ$3)=0,"",$G39) -> 7 | CA39: =IF(N($B39=CA$3)=0,"",$G39) | CB39: =IF(N($B39=CB$3)=0,"",$G39) | CC39: =IF(N($B39=CC$3)=0,"",$G39) | CD39: =IF(N($B39=CD$3)=0,"",$G39) | CE39: =IF(N($B39=CE$3)=0,"",$G39) | CF39: =IF(N($B39=CF$3)=0,"",$G39) | ... CJ39: =IF(N($B39=CJ$3)=0,"",$G39) | CK39: =IF(analyse!$G$18=bdd!$B39,IF(matiere=bdd!$D39,bdd!$G39,""),"") | CL39: =IF(analyse!$G$18=bdd!$B39,IF(matiere=bdd!$D39,bdd!$G39,""),"") | CM39: =IF(analyse!$G$18=bdd!$B39,IF(matiere=bdd!$D39,bdd!$G39,""),"") | CN39: =IF(analyse!$G$18=bdd!$B39,IF(matiere=bdd!$D39,bdd!$G39,""),"") | CO39: =IF(analyse!$G$18=bdd!$B39,IF(matiere=bdd!$D39,bdd!$G39,""),"") | CP39: =IF(analyse!$G$18=bdd!$B39,IF(matiere=bdd!$D39,bdd!$G39,""),"") | CQ39: =IF(analyse!$G$18=bdd!$B39,IF(matiere=bdd!$D39,bdd!$G39,""),"") | CR39: =IF(analyse!$G$18=bdd!$B39,IF(matiere=bdd!$D39,bdd!$G39,""),"") | ... CT39: =IF(analyse!$G$18=bdd!$B39,IF(matiere=bdd!$D39,bdd!$G39,""),"")
B40: 2014/2015 | C40: =C39+10 -> 42000 | D40: EXCEL | E40: 19 | F40: 20 | G40: =IF(ISBLANK(IF(F40=10,E40*2,E40)),"",IF(F40=10,E40*2,E40)) -> 19 | H40: oral | I40: =WEEKNUM(C40,1) -> 52 | J40: =CHOOSE(MONTH(C40),variables!$B$2,variables!$B$3,variables!$B$4,variables!$B$5,variables!$B$6,variables!$B$7,variables!$B$8,variables!$B$9,variables!$B$10,variables!$B$11,variables!$B$12,variables!$B$13) -> décembre | K40: =YEAR(C40) -> 2014 | L40: =IF(variables!$C$2=1,G40, IF($D40=analyse!$C$3,$G40,"") ) -> 19 | M40: =IF(variables!$F$3=$B40, IF(N($J40=M$3)=0,"",$L40), "" ) | N40: =IF(variables!$F$3=$B40, IF(N($J40=N$3)=0,"",$L40), "" ) | O40: =IF(variables!$F$3=$B40, IF(N($J40=O$3)=0,"",$L40), "" ) | P40: =IF(variables!$F$3=$B40, IF(N($J40=P$3)=0,"",$L40), "" ) | Q40: =IF(variables!$F$3=$B40, IF(N($J40=Q$3)=0,"",$L40), "" ) | R40: =IF(variables!$F$3=$B40, IF(N($J40=R$3)=0,"",$L40), "" ) | S40: =IF(variables!$F$3=$B40, IF(N($J40=S$3)=0,"",$L40), "" ) | T40: =IF(variables!$F$3=$B40, IF(N($J40=T$3)=0,"",$L40), "" ) | ... X40: =IF(variables!$F$3=$B40, IF(N($J40=X$3)=0,"",$L40), "" ) | Y40: =IF(variables!$F$3=$B40, IF(N($I40=Y$3)=0,"",$L40), "" ) | Z40: =IF(variables!$F$3=$B40, IF(N($I40=Z$3)=0,"",$L40), "" ) | AA40: =IF(variables!$F$3=$B40, IF(N($I40=AA$3)=0,"",$L40), "" ) | AB40: =IF(variables!$F$3=$B40, IF(N($I40=AB$3)=0,"",$L40), "" ) | AC40: =IF(variables!$F$3=$B40, IF(N($I40=AC$3)=0,"",$L40), "" ) | AD40: =IF(variables!$F$3=$B40, IF(N($I40=AD$3)=0,"",$L40), "" ) | AE40: =IF(variables!$F$3=$B40, IF(N($I40=AE$3)=0,"",$L40), "" ) | AF40: =IF(variables!$F$3=$B40, IF(N($I40=AF$3)=0,"",$L40), "" ) | ... BX40: =IF(variables!$F$3=$B40, IF(N($I40=BX$3)=0,"",$L40), "" ) | BY40: =IF(N($B40=BY$3)=0,"",$G40) | BZ40: =IF(N($B40=BZ$3)=0,"",$G40) -> 19 | CA40: =IF(N($B40=CA$3)=0,"",$G40) | CB40: =IF(N($B40=CB$3)=0,"",$G40) | CC40: =IF(N($B40=CC$3)=0,"",$G40) | CD40: =IF(N($B40=CD$3)=0,"",$G40) | CE40: =IF(N($B40=CE$3)=0,"",$G40) | CF40: =IF(N($B40=CF$3)=0,"",$G40) | ... CJ40: =IF(N($B40=CJ$3)=0,"",$G40) | CK40: =IF(analyse!$G$18=bdd!$B40,IF(matiere=bdd!$D40,bdd!$G40,""),"") | CL40: =IF(analyse!$G$18=bdd!$B40,IF(matiere=bdd!$D40,bdd!$G40,""),"") | CM40: =IF(analyse!$G$18=bdd!$B40,IF(matiere=bdd!$D40,bdd!$G40,""),"") | CN40: =IF(analyse!$G$18=bdd!$B40,IF(matiere=bdd!$D40,bdd!$G40,""),"") | CO40: =IF(analyse!$G$18=bdd!$B40,IF(matiere=bdd!$D40,bdd!$G40,""),"") | CP40: =IF(analyse!$G$18=bdd!$B40,IF(matiere=bdd!$D40,bdd!$G40,""),"") | CQ40: =IF(analyse!$G$18=bdd!$B40,IF(matiere=bdd!$D40,bdd!$G40,""),"") | CR40: =IF(analyse!$G$18=bdd!$B40,IF(matiere=bdd!$D40,bdd!$G40,""),"") | ... CT40: =IF(analyse!$G$18=bdd!$B40,IF(matiere=bdd!$D40,bdd!$G40,""),"")
B41: 2014/2015 | C41: =C40+10 -> 42010 | D41: anglais | E41: 7 | F41: 20 | G41: =IF(ISBLANK(IF(F41=10,E41*2,E41)),"",IF(F41=10,E41*2,E41)) -> 7 | H41: oral | I41: =WEEKNUM(C41,1) -> 2 | J41: =CHOOSE(MONTH(C41),variables!$B$2,variables!$B$3,variables!$B$4,variables!$B$5,variables!$B$6,variables!$B$7,variables!$B$8,variables!$B$9,variables!$B$10,variables!$B$11,variables!$B$12,variables!$B$13) -> janvier | K41: =YEAR(C41) -> 2015 | L41: =IF(variables!$C$2=1,G41, IF($D41=analyse!$C$3,$G41,"") ) -> 7 | M41: =IF(variables!$F$3=$B41, IF(N($J41=M$3)=0,"",$L41), "" ) | N41: =IF(variables!$F$3=$B41, IF(N($J41=N$3)=0,"",$L41), "" ) | O41: =IF(variables!$F$3=$B41, IF(N($J41=O$3)=0,"",$L41), "" ) | P41: =IF(variables!$F$3=$B41, IF(N($J41=P$3)=0,"",$L41), "" ) | Q41: =IF(variables!$F$3=$B41, IF(N($J41=Q$3)=0,"",$L41), "" ) | R41: =IF(variables!$F$3=$B41, IF(N($J41=R$3)=0,"",$L41), "" ) | S41: =IF(variables!$F$3=$B41, IF(N($J41=S$3)=0,"",$L41), "" ) | T41: =IF(variables!$F$3=$B41, IF(N($J41=T$3)=0,"",$L41), "" ) | ... X41: =IF(variables!$F$3=$B41, IF(N($J41=X$3)=0,"",$L41), "" ) | Y41: =IF(variables!$F$3=$B41, IF(N($I41=Y$3)=0,"",$L41), "" ) | Z41: =IF(variables!$F$3=$B41, IF(N($I41=Z$3)=0,"",$L41), "" ) | AA41: =IF(variables!$F$3=$B41, IF(N($I41=AA$3)=0,"",$L41), "" ) | AB41: =IF(variables!$F$3=$B41, IF(N($I41=AB$3)=0,"",$L41), "" ) | AC41: =IF(variables!$F$3=$B41, IF(N($I41=AC$3)=0,"",$L41), "" ) | AD41: =IF(variables!$F$3=$B41, IF(N($I41=AD$3)=0,"",$L41), "" ) | AE41: =IF(variables!$F$3=$B41, IF(N($I41=AE$3)=0,"",$L41), "" ) | AF41: =IF(variables!$F$3=$B41, IF(N($I41=AF$3)=0,"",$L41), "" ) | ... BX41: =IF(variables!$F$3=$B41, IF(N($I41=BX$3)=0,"",$L41), "" ) | BY41: =IF(N($B41=BY$3)=0,"",$G41) | BZ41: =IF(N($B41=BZ$3)=0,"",$G41) -> 7 | CA41: =IF(N($B41=CA$3)=0,"",$G41) | CB41: =IF(N($B41=CB$3)=0,"",$G41) | CC41: =IF(N($B41=CC$3)=0,"",$G41) | CD41: =IF(N($B41=CD$3)=0,"",$G41) | CE41: =IF(N($B41=CE$3)=0,"",$G41) | CF41: =IF(N($B41=CF$3)=0,"",$G41) | ... CJ41: =IF(N($B41=CJ$3)=0,"",$G41) | CK41: =IF(analyse!$G$18=bdd!$B41,IF(matiere=bdd!$D41,bdd!$G41,""),"") | CL41: =IF(analyse!$G$18=bdd!$B41,IF(matiere=bdd!$D41,bdd!$G41,""),"") | CM41: =IF(analyse!$G$18=bdd!$B41,IF(matiere=bdd!$D41,bdd!$G41,""),"") | CN41: =IF(analyse!$G$18=bdd!$B41,IF(matiere=bdd!$D41,bdd!$G41,""),"") | CO41: =IF(analyse!$G$18=bdd!$B41,IF(matiere=bdd!$D41,bdd!$G41,""),"") | CP41: =IF(analyse!$G$18=bdd!$B41,IF(matiere=bdd!$D41,bdd!$G41,""),"") | CQ41: =IF(analyse!$G$18=bdd!$B41,IF(matiere=bdd!$D41,bdd!$G41,""),"") | CR41: =IF(analyse!$G$18=bdd!$B41,IF(matiere=bdd!$D41,bdd!$G41,""),"") | ... CT41: =IF(analyse!$G$18=bdd!$B41,IF(matiere=bdd!$D41,bdd!$G41,""),"")
B42: 2014/2015 | C42: =C41+10 -> 42020 | D42: svt | E42: 13 | F42: 20 | G42: =IF(ISBLANK(IF(F42=10,E42*2,E42)),"",IF(F42=10,E42*2,E42)) -> 13 | H42: oral | I42: =WEEKNUM(C42,1) -> 3 | J42: =CHOOSE(MONTH(C42),variables!$B$2,variables!$B$3,variables!$B$4,variables!$B$5,variables!$B$6,variables!$B$7,variables!$B$8,variables!$B$9,variables!$B$10,variables!$B$11,variables!$B$12,variables!$B$13) -> janvier | K42: =YEAR(C42) -> 2015 | L42: =IF(variables!$C$2=1,G42, IF($D42=analyse!$C$3,$G42,"") ) -> 13 | M42: =IF(variables!$F$3=$B42, IF(N($J42=M$3)=0,"",$L42), "" ) | N42: =IF(variables!$F$3=$B42, IF(N($J42=N$3)=0,"",$L42), "" ) | O42: =IF(variables!$F$3=$B42, IF(N($J42=O$3)=0,"",$L42), "" ) | P42: =IF(variables!$F$3=$B42, IF(N($J42=P$3)=0,"",$L42), "" ) | Q42: =IF(variables!$F$3=$B42, IF(N($J42=Q$3)=0,"",$L42), "" ) | R42: =IF(variables!$F$3=$B42, IF(N($J42=R$3)=0,"",$L42), "" ) | S42: =IF(variables!$F$3=$B42, IF(N($J42=S$3)=0,"",$L42), "" ) | T42: =IF(variables!$F$3=$B42, IF(N($J42=T$3)=0,"",$L42), "" ) | ... X42: =IF(variables!$F$3=$B42, IF(N($J42=X$3)=0,"",$L42), "" ) | Y42: =IF(variables!$F$3=$B42, IF(N($I42=Y$3)=0,"",$L42), "" ) | Z42: =IF(variables!$F$3=$B42, IF(N($I42=Z$3)=0,"",$L42), "" ) | AA42: =IF(variables!$F$3=$B42, IF(N($I42=AA$3)=0,"",$L42), "" ) | AB42: =IF(variables!$F$3=$B42, IF(N($I42=AB$3)=0,"",$L42), "" ) | AC42: =IF(variables!$F$3=$B42, IF(N($I42=AC$3)=0,"",$L42), "" ) | AD42: =IF(variables!$F$3=$B42, IF(N($I42=AD$3)=0,"",$L42), "" ) | AE42: =IF(variables!$F$3=$B42, IF(N($I42=AE$3)=0,"",$L42), "" ) | AF42: =IF(variables!$F$3=$B42, IF(N($I42=AF$3)=0,"",$L42), "" ) | ... BX42: =IF(variables!$F$3=$B42, IF(N($I42=BX$3)=0,"",$L42), "" ) | BY42: =IF(N($B42=BY$3)=0,"",$G42) | BZ42: =IF(N($B42=BZ$3)=0,"",$G42) -> 13 | CA42: =IF(N($B42=CA$3)=0,"",$G42) | CB42: =IF(N($B42=CB$3)=0,"",$G42) | CC42: =IF(N($B42=CC$3)=0,"",$G42) | CD42: =IF(N($B42=CD$3)=0,"",$G42) | CE42: =IF(N($B42=CE$3)=0,"",$G42) | CF42: =IF(N($B42=CF$3)=0,"",$G42) | ... CJ42: =IF(N($B42=CJ$3)=0,"",$G42) | CK42: =IF(analyse!$G$18=bdd!$B42,IF(matiere=bdd!$D42,bdd!$G42,""),"") | CL42: =IF(analyse!$G$18=bdd!$B42,IF(matiere=bdd!$D42,bdd!$G42,""),"") | CM42: =IF(analyse!$G$18=bdd!$B42,IF(matiere=bdd!$D42,bdd!$G42,""),"") | CN42: =IF(analyse!$G$18=bdd!$B42,IF(matiere=bdd!$D42,bdd!$G42,""),"") | CO42: =IF(analyse!$G$18=bdd!$B42,IF(matiere=bdd!$D42,bdd!$G42,""),"") | CP42: =IF(analyse!$G$18=bdd!$B42,IF(matiere=bdd!$D42,bdd!$G42,""),"") | CQ42: =IF(analyse!$G$18=bdd!$B42,IF(matiere=bdd!$D42,bdd!$G42,""),"") | CR42: =IF(analyse!$G$18=bdd!$B42,IF(matiere=bdd!$D42,bdd!$G42,""),"") | ... CT42: =IF(analyse!$G$18=bdd!$B42,IF(matiere=bdd!$D42,bdd!$G42,""),"")
B43: 2014/2015 | C43: =C42+10 -> 42030 | D43: Français | E43: 19 | F43: 20 | G43: =IF(ISBLANK(IF(F43=10,E43*2,E43)),"",IF(F43=10,E43*2,E43)) -> 19 | H43: oral | I43: =WEEKNUM(C43,1) -> 5 | J43: =CHOOSE(MONTH(C43),variables!$B$2,variables!$B$3,variables!$B$4,variables!$B$5,variables!$B$6,variables!$B$7,variables!$B$8,variables!$B$9,variables!$B$10,variables!$B$11,variables!$B$12,variables!$B$13) -> janvier | K43: =YEAR(C43) -> 2015 | L43: =IF(variables!$C$2=1,G43, IF($D43=analyse!$C$3,$G43,"") ) -> 19 | M43: =IF(variables!$F$3=$B43, IF(N($J43=M$3)=0,"",$L43), "" ) | N43: =IF(variables!$F$3=$B43, IF(N($J43=N$3)=0,"",$L43), "" ) | O43: =IF(variables!$F$3=$B43, IF(N($J43=O$3)=0,"",$L43), "" ) | P43: =IF(variables!$F$3=$B43, IF(N($J43=P$3)=0,"",$L43), "" ) | Q43: =IF(variables!$F$3=$B43, IF(N($J43=Q$3)=0,"",$L43), "" ) | R43: =IF(variables!$F$3=$B43, IF(N($J43=R$3)=0,"",$L43), "" ) | S43: =IF(variables!$F$3=$B43, IF(N($J43=S$3)=0,"",$L43), "" ) | T43: =IF(variables!$F$3=$B43, IF(N($J43=T$3)=0,"",$L43), "" ) | ... X43: =IF(variables!$F$3=$B43, IF(N($J43=X$3)=0,"",$L43), "" ) | Y43: =IF(variables!$F$3=$B43, IF(N($I43=Y$3)=0,"",$L43), "" ) | Z43: =IF(variables!$F$3=$B43, IF(N($I43=Z$3)=0,"",$L43), "" ) | AA43: =IF(variables!$F$3=$B43, IF(N($I43=AA$3)=0,"",$L43), "" ) | AB43: =IF(variables!$F$3=$B43, IF(N($I43=AB$3)=0,"",$L43), "" ) | AC43: =IF(variables!$F$3=$B43, IF(N($I43=AC$3)=0,"",$L43), "" ) | AD43: =IF(variables!$F$3=$B43, IF(N($I43=AD$3)=0,"",$L43), "" ) | AE43: =IF(variables!$F$3=$B43, IF(N($I43=AE$3)=0,"",$L43), "" ) | AF43: =IF(variables!$F$3=$B43, IF(N($I43=AF$3)=0,"",$L43), "" ) | ... BX43: =IF(variables!$F$3=$B43, IF(N($I43=BX$3)=0,"",$L43), "" ) | BY43: =IF(N($B43=BY$3)=0,"",$G43) | BZ43: =IF(N($B43=BZ$3)=0,"",$G43) -> 19 | CA43: =IF(N($B43=CA$3)=0,"",$G43) | CB43: =IF(N($B43=CB$3)=0,"",$G43) | CC43: =IF(N($B43=CC$3)=0,"",$G43) | CD43: =IF(N($B43=CD$3)=0,"",$G43) | CE43: =IF(N($B43=CE$3)=0,"",$G43) | CF43: =IF(N($B43=CF$3)=0,"",$G43) | ... CJ43: =IF(N($B43=CJ$3)=0,"",$G43) | CK43: =IF(analyse!$G$18=bdd!$B43,IF(matiere=bdd!$D43,bdd!$G43,""),"") | CL43: =IF(analyse!$G$18=bdd!$B43,IF(matiere=bdd!$D43,bdd!$G43,""),"") | CM43: =IF(analyse!$G$18=bdd!$B43,IF(matiere=bdd!$D43,bdd!$G43,""),"") | CN43: =IF(analyse!$G$18=bdd!$B43,IF(matiere=bdd!$D43,bdd!$G43,""),"") | CO43: =IF(analyse!$G$18=bdd!$B43,IF(matiere=bdd!$D43,bdd!$G43,""),"") | CP43: =IF(analyse!$G$18=bdd!$B43,IF(matiere=bdd!$D43,bdd!$G43,""),"") | CQ43: =IF(analyse!$G$18=bdd!$B43,IF(matiere=bdd!$D43,bdd!$G43,""),"") | CR43: =IF(analyse!$G$18=bdd!$B43,IF(matiere=bdd!$D43,bdd!$G43,""),"") | ... CT43: =IF(analyse!$G$18=bdd!$B43,IF(matiere=bdd!$D43,bdd!$G43,""),"")
B44: 2014/2015 | C44: =C43+10 -> 42040 | D44: Français | E44: =E41+1 -> 8 | F44: 20 | G44: =IF(ISBLANK(IF(F44=10,E44*2,E44)),"",IF(F44=10,E44*2,E44)) -> 8 | H44: oral | I44: =WEEKNUM(C44,1) -> 6 | J44: =CHOOSE(MONTH(C44),variables!$B$2,variables!$B$3,variables!$B$4,variables!$B$5,variables!$B$6,variables!$B$7,variables!$B$8,variables!$B$9,variables!$B$10,variables!$B$11,variables!$B$12,variables!$B$13) -> février | K44: =YEAR(C44) -> 2015 | L44: =IF(variables!$C$2=1,G44, IF($D44=analyse!$C$3,$G44,"") ) -> 8 | M44: =IF(variables!$F$3=$B44, IF(N($J44=M$3)=0,"",$L44), "" ) | N44: =IF(variables!$F$3=$B44, IF(N($J44=N$3)=0,"",$L44), "" ) | O44: =IF(variables!$F$3=$B44, IF(N($J44=O$3)=0,"",$L44), "" ) | P44: =IF(variables!$F$3=$B44, IF(N($J44=P$3)=0,"",$L44), "" ) | Q44: =IF(variables!$F$3=$B44, IF(N($J44=Q$3)=0,"",$L44), "" ) | R44: =IF(variables!$F$3=$B44, IF(N($J44=R$3)=0,"",$L44), "" ) | S44: =IF(variables!$F$3=$B44, IF(N($J44=S$3)=0,"",$L44), "" ) | T44: =IF(variables!$F$3=$B44, IF(N($J44=T$3)=0,"",$L44), "" ) | ... X44: =IF(variables!$F$3=$B44, IF(N($J44=X$3)=0,"",$L44), "" ) | Y44: =IF(variables!$F$3=$B44, IF(N($I44=Y$3)=0,"",$L44), "" ) | Z44: =IF(variables!$F$3=$B44, IF(N($I44=Z$3)=0,"",$L44), "" ) | AA44: =IF(variables!$F$3=$B44, IF(N($I44=AA$3)=0,"",$L44), "" ) | AB44: =IF(variables!$F$3=$B44, IF(N($I44=AB$3)=0,"",$L44), "" ) | AC44: =IF(variables!$F$3=$B44, IF(N($I44=AC$3)=0,"",$L44), "" ) | AD44: =IF(variables!$F$3=$B44, IF(N($I44=AD$3)=0,"",$L44), "" ) | AE44: =IF(variables!$F$3=$B44, IF(N($I44=AE$3)=0,"",$L44), "" ) | AF44: =IF(variables!$F$3=$B44, IF(N($I44=AF$3)=0,"",$L44), "" ) | ... BX44: =IF(variables!$F$3=$B44, IF(N($I44=BX$3)=0,"",$L44), "" ) | BY44: =IF(N($B44=BY$3)=0,"",$G44) | BZ44: =IF(N($B44=BZ$3)=0,"",$G44) -> 8 | CA44: =IF(N($B44=CA$3)=0,"",$G44) | CB44: =IF(N($B44=CB$3)=0,"",$G44) | CC44: =IF(N($B44=CC$3)=0,"",$G44) | CD44: =IF(N($B44=CD$3)=0,"",$G44) | CE44: =IF(N($B44=CE$3)=0,"",$G44) | CF44: =IF(N($B44=CF$3)=0,"",$G44) | ... CJ44: =IF(N($B44=CJ$3)=0,"",$G44) | CK44: =IF(analyse!$G$18=bdd!$B44,IF(matiere=bdd!$D44,bdd!$G44,""),"") | CL44: =IF(analyse!$G$18=bdd!$B44,IF(matiere=bdd!$D44,bdd!$G44,""),"") | CM44: =IF(analyse!$G$18=bdd!$B44,IF(matiere=bdd!$D44,bdd!$G44,""),"") | CN44: =IF(analyse!$G$18=bdd!$B44,IF(matiere=bdd!$D44,bdd!$G44,""),"") | CO44: =IF(analyse!$G$18=bdd!$B44,IF(matiere=bdd!$D44,bdd!$G44,""),"") | CP44: =IF(analyse!$G$18=bdd!$B44,IF(matiere=bdd!$D44,bdd!$G44,""),"") | CQ44: =IF(analyse!$G$18=bdd!$B44,IF(matiere=bdd!$D44,bdd!$G44,""),"") | CR44: =IF(analyse!$G$18=bdd!$B44,IF(matiere=bdd!$D44,bdd!$G44,""),"") | ... CT44: =IF(analyse!$G$18=bdd!$B44,IF(matiere=bdd!$D44,bdd!$G44,""),"")
B45: 2014/2015 | C45: =C44+10 -> 42050 | D45: Français | E45: 14 | F45: 20 | G45: =IF(ISBLANK(IF(F45=10,E45*2,E45)),"",IF(F45=10,E45*2,E45)) -> 14 | H45: oral | I45: =WEEKNUM(C45,1) -> 8 | J45: =CHOOSE(MONTH(C45),variables!$B$2,variables!$B$3,variables!$B$4,variables!$B$5,variables!$B$6,variables!$B$7,variables!$B$8,variables!$B$9,variables!$B$10,variables!$B$11,variables!$B$12,variables!$B$13) -> février | K45: =YEAR(C45) -> 2015 | L45: =IF(variables!$C$2=1,G45, IF($D45=analyse!$C$3,$G45,"") ) -> 14 | M45: =IF(variables!$F$3=$B45, IF(N($J45=M$3)=0,"",$L45), "" ) | N45: =IF(variables!$F$3=$B45, IF(N($J45=N$3)=0,"",$L45), "" ) | O45: =IF(variables!$F$3=$B45, IF(N($J45=O$3)=0,"",$L45), "" ) | P45: =IF(variables!$F$3=$B45, IF(N($J45=P$3)=0,"",$L45), "" ) | Q45: =IF(variables!$F$3=$B45, IF(N($J45=Q$3)=0,"",$L45), "" ) | R45: =IF(variables!$F$3=$B45, IF(N($J45=R$3)=0,"",$L45), "" ) | S45: =IF(variables!$F$3=$B45, IF(N($J45=S$3)=0,"",$L45), "" ) | T45: =IF(variables!$F$3=$B45, IF(N($J45=T$3)=0,"",$L45), "" ) | ... X45: =IF(variables!$F$3=$B45, IF(N($J45=X$3)=0,"",$L45), "" ) | Y45: =IF(variables!$F$3=$B45, IF(N($I45=Y$3)=0,"",$L45), "" ) | Z45: =IF(variables!$F$3=$B45, IF(N($I45=Z$3)=0,"",$L45), "" ) | AA45: =IF(variables!$F$3=$B45, IF(N($I45=AA$3)=0,"",$L45), "" ) | AB45: =IF(variables!$F$3=$B45, IF(N($I45=AB$3)=0,"",$L45), "" ) | AC45: =IF(variables!$F$3=$B45, IF(N($I45=AC$3)=0,"",$L45), "" ) | AD45: =IF(variables!$F$3=$B45, IF(N($I45=AD$3)=0,"",$L45), "" ) | AE45: =IF(variables!$F$3=$B45, IF(N($I45=AE$3)=0,"",$L45), "" ) | AF45: =IF(variables!$F$3=$B45, IF(N($I45=AF$3)=0,"",$L45), "" ) | ... BX45: =IF(variables!$F$3=$B45, IF(N($I45=BX$3)=0,"",$L45), "" ) | BY45: =IF(N($B45=BY$3)=0,"",$G45) | BZ45: =IF(N($B45=BZ$3)=0,"",$G45) -> 14 | CA45: =IF(N($B45=CA$3)=0,"",$G45) | CB45: =IF(N($B45=CB$3)=0,"",$G45) | CC45: =IF(N($B45=CC$3)=0,"",$G45) | CD45: =IF(N($B45=CD$3)=0,"",$G45) | CE45: =IF(N($B45=CE$3)=0,"",$G45) | CF45: =IF(N($B45=CF$3)=0,"",$G45) | ... CJ45: =IF(N($B45=CJ$3)=0,"",$G45) | CK45: =IF(analyse!$G$18=bdd!$B45,IF(matiere=bdd!$D45,bdd!$G45,""),"") | CL45: =IF(analyse!$G$18=bdd!$B45,IF(matiere=bdd!$D45,bdd!$G45,""),"") | CM45: =IF(analyse!$G$18=bdd!$B45,IF(matiere=bdd!$D45,bdd!$G45,""),"") | CN45: =IF(analyse!$G$18=bdd!$B45,IF(matiere=bdd!$D45,bdd!$G45,""),"") | CO45: =IF(analyse!$G$18=bdd!$B45,IF(matiere=bdd!$D45,bdd!$G45,""),"") | CP45: =IF(analyse!$G$18=bdd!$B45,IF(matiere=bdd!$D45,bdd!$G45,""),"") | CQ45: =IF(analyse!$G$18=bdd!$B45,IF(matiere=bdd!$D45,bdd!$G45,""),"") | CR45: =IF(analyse!$G$18=bdd!$B45,IF(matiere=bdd!$D45,bdd!$G45,""),"") | ... CT45: =IF(analyse!$G$18=bdd!$B45,IF(matiere=bdd!$D45,bdd!$G45,""),"")
B46: 2014/2015 | C46: =C45+10 -> 42060 | D46: svt | E46: =E43+1 -> 20 | F46: 20 | G46: =IF(ISBLANK(IF(F46=10,E46*2,E46)),"",IF(F46=10,E46*2,E46)) -> 20 | H46: oral | I46: =WEEKNUM(C46,1) -> 9 | J46: =CHOOSE(MONTH(C46),variables!$B$2,variables!$B$3,variables!$B$4,variables!$B$5,variables!$B$6,variables!$B$7,variables!$B$8,variables!$B$9,variables!$B$10,variables!$B$11,variables!$B$12,variables!$B$13) -> février | K46: =YEAR(C46) -> 2015 | L46: =IF(variables!$C$2=1,G46, IF($D46=analyse!$C$3,$G46,"") ) -> 20 | M46: =IF(variables!$F$3=$B46, IF(N($J46=M$3)=0,"",$L46), "" ) | N46: =IF(variables!$F$3=$B46, IF(N($J46=N$3)=0,"",$L46), "" ) | O46: =IF(variables!$F$3=$B46, IF(N($J46=O$3)=0,"",$L46), "" ) | P46: =IF(variables!$F$3=$B46, IF(N($J46=P$3)=0,"",$L46), "" ) | Q46: =IF(variables!$F$3=$B46, IF(N($J46=Q$3)=0,"",$L46), "" ) | R46: =IF(variables!$F$3=$B46, IF(N($J46=R$3)=0,"",$L46), "" ) | S46: =IF(variables!$F$3=$B46, IF(N($J46=S$3)=0,"",$L46), "" ) | T46: =IF(variables!$F$3=$B46, IF(N($J46=T$3)=0,"",$L46), "" ) | ... X46: =IF(variables!$F$3=$B46, IF(N($J46=X$3)=0,"",$L46), "" ) | Y46: =IF(variables!$F$3=$B46, IF(N($I46=Y$3)=0,"",$L46), "" ) | Z46: =IF(variables!$F$3=$B46, IF(N($I46=Z$3)=0,"",$L46), "" ) | AA46: =IF(variables!$F$3=$B46, IF(N($I46=AA$3)=0,"",$L46), "" ) | AB46: =IF(variables!$F$3=$B46, IF(N($I46=AB$3)=0,"",$L46), "" ) | AC46: =IF(variables!$F$3=$B46, IF(N($I46=AC$3)=0,"",$L46), "" ) | AD46: =IF(variables!$F$3=$B46, IF(N($I46=AD$3)=0,"",$L46), "" ) | AE46: =IF(variables!$F$3=$B46, IF(N($I46=AE$3)=0,"",$L46), "" ) | AF46: =IF(variables!$F$3=$B46, IF(N($I46=AF$3)=0,"",$L46), "" ) | ... BX46: =IF(variables!$F$3=$B46, IF(N($I46=BX$3)=0,"",$L46), "" ) | BY46: =IF(N($B46=BY$3)=0,"",$G46) | BZ46: =IF(N($B46=BZ$3)=0,"",$G46) -> 20 | CA46: =IF(N($B46=CA$3)=0,"",$G46) | CB46: =IF(N($B46=CB$3)=0,"",$G46) | CC46: =IF(N($B46=CC$3)=0,"",$G46) | CD46: =IF(N($B46=CD$3)=0,"",$G46) | CE46: =IF(N($B46=CE$3)=0,"",$G46) | CF46: =IF(N($B46=CF$3)=0,"",$G46) | ... CJ46: =IF(N($B46=CJ$3)=0,"",$G46) | CK46: =IF(analyse!$G$18=bdd!$B46,IF(matiere=bdd!$D46,bdd!$G46,""),"") | CL46: =IF(analyse!$G$18=bdd!$B46,IF(matiere=bdd!$D46,bdd!$G46,""),"") | CM46: =IF(analyse!$G$18=bdd!$B46,IF(matiere=bdd!$D46,bdd!$G46,""),"") | CN46: =IF(analyse!$G$18=bdd!$B46,IF(matiere=bdd!$D46,bdd!$G46,""),"") | CO46: =IF(analyse!$G$18=bdd!$B46,IF(matiere=bdd!$D46,bdd!$G46,""),"") | CP46: =IF(analyse!$G$18=bdd!$B46,IF(matiere=bdd!$D46,bdd!$G46,""),"") | CQ46: =IF(analyse!$G$18=bdd!$B46,IF(matiere=bdd!$D46,bdd!$G46,""),"") | CR46: =IF(analyse!$G$18=bdd!$B46,IF(matiere=bdd!$D46,bdd!$G46,""),"") | ... CT46: =IF(analyse!$G$18=bdd!$B46,IF(matiere=bdd!$D46,bdd!$G46,""),"")
B47: 2014/2015 | C47: =C46+10 -> 42070 | D47: Musique | E47: =E44+1 -> 9 | F47: 20 | G47: =IF(ISBLANK(IF(F47=10,E47*2,E47)),"",IF(F47=10,E47*2,E47)) -> 9 | H47: oral | I47: =WEEKNUM(C47,1) -> 10 | J47: =CHOOSE(MONTH(C47),variables!$B$2,variables!$B$3,variables!$B$4,variables!$B$5,variables!$B$6,variables!$B$7,variables!$B$8,variables!$B$9,variables!$B$10,variables!$B$11,variables!$B$12,variables!$B$13) -> mars | K47: =YEAR(C47) -> 2015 | L47: =IF(variables!$C$2=1,G47, IF($D47=analyse!$C$3,$G47,"") ) -> 9 | M47: =IF(variables!$F$3=$B47, IF(N($J47=M$3)=0,"",$L47), "" ) | N47: =IF(variables!$F$3=$B47, IF(N($J47=N$3)=0,"",$L47), "" ) | O47: =IF(variables!$F$3=$B47, IF(N($J47=O$3)=0,"",$L47), "" ) | P47: =IF(variables!$F$3=$B47, IF(N($J47=P$3)=0,"",$L47), "" ) | Q47: =IF(variables!$F$3=$B47, IF(N($J47=Q$3)=0,"",$L47), "" ) | R47: =IF(variables!$F$3=$B47, IF(N($J47=R$3)=0,"",$L47), "" ) | S47: =IF(variables!$F$3=$B47, IF(N($J47=S$3)=0,"",$L47), "" ) | T47: =IF(variables!$F$3=$B47, IF(N($J47=T$3)=0,"",$L47), "" ) | ... X47: =IF(variables!$F$3=$B47, IF(N($J47=X$3)=0,"",$L47), "" ) | Y47: =IF(variables!$F$3=$B47, IF(N($I47=Y$3)=0,"",$L47), "" ) | Z47: =IF(variables!$F$3=$B47, IF(N($I47=Z$3)=0,"",$L47), "" ) | AA47: =IF(variables!$F$3=$B47, IF(N($I47=AA$3)=0,"",$L47), "" ) | AB47: =IF(variables!$F$3=$B47, IF(N($I47=AB$3)=0,"",$L47), "" ) | AC47: =IF(variables!$F$3=$B47, IF(N($I47=AC$3)=0,"",$L47), "" ) | AD47: =IF(variables!$F$3=$B47, IF(N($I47=AD$3)=0,"",$L47), "" ) | AE47: =IF(variables!$F$3=$B47, IF(N($I47=AE$3)=0,"",$L47), "" ) | AF47: =IF(variables!$F$3=$B47, IF(N($I47=AF$3)=0,"",$L47), "" ) | ... BX47: =IF(variables!$F$3=$B47, IF(N($I47=BX$3)=0,"",$L47), "" ) | BY47: =IF(N($B47=BY$3)=0,"",$G47) | BZ47: =IF(N($B47=BZ$3)=0,"",$G47) -> 9 | CA47: =IF(N($B47=CA$3)=0,"",$G47) | CB47: =IF(N($B47=CB$3)=0,"",$G47) | CC47: =IF(N($B47=CC$3)=0,"",$G47) | CD47: =IF(N($B47=CD$3)=0,"",$G47) | CE47: =IF(N($B47=CE$3)=0,"",$G47) | CF47: =IF(N($B47=CF$3)=0,"",$G47) | ... CJ47: =IF(N($B47=CJ$3)=0,"",$G47) | CK47: =IF(analyse!$G$18=bdd!$B47,IF(matiere=bdd!$D47,bdd!$G47,""),"") | CL47: =IF(analyse!$G$18=bdd!$B47,IF(matiere=bdd!$D47,bdd!$G47,""),"") | CM47: =IF(analyse!$G$18=bdd!$B47,IF(matiere=bdd!$D47,bdd!$G47,""),"") | CN47: =IF(analyse!$G$18=bdd!$B47,IF(matiere=bdd!$D47,bdd!$G47,""),"") | CO47: =IF(analyse!$G$18=bdd!$B47,IF(matiere=bdd!$D47,bdd!$G47,""),"") | CP47: =IF(analyse!$G$18=bdd!$B47,IF(matiere=bdd!$D47,bdd!$G47,""),"") | CQ47: =IF(analyse!$G$18=bdd!$B47,IF(matiere=bdd!$D47,bdd!$G47,""),"") | CR47: =IF(analyse!$G$18=bdd!$B47,IF(matiere=bdd!$D47,bdd!$G47,""),"") | ... CT47: =IF(analyse!$G$18=bdd!$B47,IF(matiere=bdd!$D47,bdd!$G47,""),"")
B48: 2014/2015 | C48: =C47+10 -> 42080 | D48: Espagnol | E48: =E45+1 -> 15 | F48: 20 | G48: =IF(ISBLANK(IF(F48=10,E48*2,E48)),"",IF(F48=10,E48*2,E48)) -> 15 | H48: oral | I48: =WEEKNUM(C48,1) -> 12 | J48: =CHOOSE(MONTH(C48),variables!$B$2,variables!$B$3,variables!$B$4,variables!$B$5,variables!$B$6,variables!$B$7,variables!$B$8,variables!$B$9,variables!$B$10,variables!$B$11,variables!$B$12,variables!$B$13) -> mars | K48: =YEAR(C48) -> 2015 | L48: =IF(variables!$C$2=1,G48, IF($D48=analyse!$C$3,$G48,"") ) -> 15 | M48: =IF(variables!$F$3=$B48, IF(N($J48=M$3)=0,"",$L48), "" ) | N48: =IF(variables!$F$3=$B48, IF(N($J48=N$3)=0,"",$L48), "" ) | O48: =IF(variables!$F$3=$B48, IF(N($J48=O$3)=0,"",$L48), "" ) | P48: =IF(variables!$F$3=$B48, IF(N($J48=P$3)=0,"",$L48), "" ) | Q48: =IF(variables!$F$3=$B48, IF(N($J48=Q$3)=0,"",$L48), "" ) | R48: =IF(variables!$F$3=$B48, IF(N($J48=R$3)=0,"",$L48), "" ) | S48: =IF(variables!$F$3=$B48, IF(N($J48=S$3)=0,"",$L48), "" ) | T48: =IF(variables!$F$3=$B48, IF(N($J48=T$3)=0,"",$L48), "" ) | ... X48: =IF(variables!$F$3=$B48, IF(N($J48=X$3)=0,"",$L48), "" ) | Y48: =IF(variables!$F$3=$B48, IF(N($I48=Y$3)=0,"",$L48), "" ) | Z48: =IF(variables!$F$3=$B48, IF(N($I48=Z$3)=0,"",$L48), "" ) | AA48: =IF(variables!$F$3=$B48, IF(N($I48=AA$3)=0,"",$L48), "" ) | AB48: =IF(variables!$F$3=$B48, IF(N($I48=AB$3)=0,"",$L48), "" ) | AC48: =IF(variables!$F$3=$B48, IF(N($I48=AC$3)=0,"",$L48), "" ) | AD48: =IF(variables!$F$3=$B48, IF(N($I48=AD$3)=0,"",$L48), "" ) | AE48: =IF(variables!$F$3=$B48, IF(N($I48=AE$3)=0,"",$L48), "" ) | AF48: =IF(variables!$F$3=$B48, IF(N($I48=AF$3)=0,"",$L48), "" ) | ... BX48: =IF(variables!$F$3=$B48, IF(N($I48=BX$3)=0,"",$L48), "" ) | BY48: =IF(N($B48=BY$3)=0,"",$G48) | BZ48: =IF(N($B48=BZ$3)=0,"",$G48) -> 15 | CA48: =IF(N($B48=CA$3)=0,"",$G48) | CB48: =IF(N($B48=CB$3)=0,"",$G48) | CC48: =IF(N($B48=CC$3)=0,"",$G48) | CD48: =IF(N($B48=CD$3)=0,"",$G48) | CE48: =IF(N($B48=CE$3)=0,"",$G48) | CF48: =IF(N($B48=CF$3)=0,"",$G48) | ... CJ48: =IF(N($B48=CJ$3)=0,"",$G48) | CK48: =IF(analyse!$G$18=bdd!$B48,IF(matiere=bdd!$D48,bdd!$G48,""),"") | CL48: =IF(analyse!$G$18=bdd!$B48,IF(matiere=bdd!$D48,bdd!$G48,""),"") | CM48: =IF(analyse!$G$18=bdd!$B48,IF(matiere=bdd!$D48,bdd!$G48,""),"") | CN48: =IF(analyse!$G$18=bdd!$B48,IF(matiere=bdd!$D48,bdd!$G48,""),"") | CO48: =IF(analyse!$G$18=bdd!$B48,IF(matiere=bdd!$D48,bdd!$G48,""),"") | CP48: =IF(analyse!$G$18=bdd!$B48,IF(matiere=bdd!$D48,bdd!$G48,""),"") | CQ48: =IF(analyse!$G$18=bdd!$B48,IF(matiere=bdd!$D48,bdd!$G48,""),"") | CR48: =IF(analyse!$G$18=bdd!$B48,IF(matiere=bdd!$D48,bdd!$G48,""),"") | ... CT48: =IF(analyse!$G$18=bdd!$B48,IF(matiere=bdd!$D48,bdd!$G48,""),"")
B49: 2014/2015 | C49: =C48+10 -> 42090 | D49: sport | E49: 16 | F49: 20 | G49: =IF(ISBLANK(IF(F49=10,E49*2,E49)),"",IF(F49=10,E49*2,E49)) -> 16 | H49: oral | I49: =WEEKNUM(C49,1) -> 13 | J49: =CHOOSE(MONTH(C49),variables!$B$2,variables!$B$3,variables!$B$4,variables!$B$5,variables!$B$6,variables!$B$7,variables!$B$8,variables!$B$9,variables!$B$10,variables!$B$11,variables!$B$12,variables!$B$13) -> mars | K49: =YEAR(C49) -> 2015 | L49: =IF(variables!$C$2=1,G49, IF($D49=analyse!$C$3,$G49,"") ) -> 16 | M49: =IF(variables!$F$3=$B49, IF(N($J49=M$3)=0,"",$L49), "" ) | N49: =IF(variables!$F$3=$B49, IF(N($J49=N$3)=0,"",$L49), "" ) | O49: =IF(variables!$F$3=$B49, IF(N($J49=O$3)=0,"",$L49), "" ) | P49: =IF(variables!$F$3=$B49, IF(N($J49=P$3)=0,"",$L49), "" ) | Q49: =IF(variables!$F$3=$B49, IF(N($J49=Q$3)=0,"",$L49), "" ) | R49: =IF(variables!$F$3=$B49, IF(N($J49=R$3)=0,"",$L49), "" ) | S49: =IF(variables!$F$3=$B49, IF(N($J49=S$3)=0,"",$L49), "" ) | T49: =IF(variables!$F$3=$B49, IF(N($J49=T$3)=0,"",$L49), "" ) | ... X49: =IF(variables!$F$3=$B49, IF(N($J49=X$3)=0,"",$L49), "" ) | Y49: =IF(variables!$F$3=$B49, IF(N($I49=Y$3)=0,"",$L49), "" ) | Z49: =IF(variables!$F$3=$B49, IF(N($I49=Z$3)=0,"",$L49), "" ) | AA49: =IF(variables!$F$3=$B49, IF(N($I49=AA$3)=0,"",$L49), "" ) | AB49: =IF(variables!$F$3=$B49, IF(N($I49=AB$3)=0,"",$L49), "" ) | AC49: =IF(variables!$F$3=$B49, IF(N($I49=AC$3)=0,"",$L49), "" ) | AD49: =IF(variables!$F$3=$B49, IF(N($I49=AD$3)=0,"",$L49), "" ) | AE49: =IF(variables!$F$3=$B49, IF(N($I49=AE$3)=0,"",$L49), "" ) | AF49: =IF(variables!$F$3=$B49, IF(N($I49=AF$3)=0,"",$L49), "" ) | ... BX49: =IF(variables!$F$3=$B49, IF(N($I49=BX$3)=0,"",$L49), "" ) | BY49: =IF(N($B49=BY$3)=0,"",$G49) | BZ49: =IF(N($B49=BZ$3)=0,"",$G49) -> 16 | CA49: =IF(N($B49=CA$3)=0,"",$G49) | CB49: =IF(N($B49=CB$3)=0,"",$G49) | CC49: =IF(N($B49=CC$3)=0,"",$G49) | CD49: =IF(N($B49=CD$3)=0,"",$G49) | CE49: =IF(N($B49=CE$3)=0,"",$G49) | CF49: =IF(N($B49=CF$3)=0,"",$G49) | ... CJ49: =IF(N($B49=CJ$3)=0,"",$G49) | CK49: =IF(analyse!$G$18=bdd!$B49,IF(matiere=bdd!$D49,bdd!$G49,""),"") | CL49: =IF(analyse!$G$18=bdd!$B49,IF(matiere=bdd!$D49,bdd!$G49,""),"") | CM49: =IF(analyse!$G$18=bdd!$B49,IF(matiere=bdd!$D49,bdd!$G49,""),"") | CN49: =IF(analyse!$G$18=bdd!$B49,IF(matiere=bdd!$D49,bdd!$G49,""),"") | CO49: =IF(analyse!$G$18=bdd!$B49,IF(matiere=bdd!$D49,bdd!$G49,""),"") | CP49: =IF(analyse!$G$18=bdd!$B49,IF(matiere=bdd!$D49,bdd!$G49,""),"") | CQ49: =IF(analyse!$G$18=bdd!$B49,IF(matiere=bdd!$D49,bdd!$G49,""),"") | CR49: =IF(analyse!$G$18=bdd!$B49,IF(matiere=bdd!$D49,bdd!$G49,""),"") | ... CT49: =IF(analyse!$G$18=bdd!$B49,IF(matiere=bdd!$D49,bdd!$G49,""),"")
B50: 2014/2015 | C50: =C49+10 -> 42100 | D50: Espagnol | E50: 6 | F50: 20 | G50: =IF(ISBLANK(IF(F50=10,E50*2,E50)),"",IF(F50=10,E50*2,E50)) -> 6 | H50: oral | I50: =WEEKNUM(C50,1) -> 15 | J50: =CHOOSE(MONTH(C50),variables!$B$2,variables!$B$3,variables!$B$4,variables!$B$5,variables!$B$6,variables!$B$7,variables!$B$8,variables!$B$9,variables!$B$10,variables!$B$11,variables!$B$12,variables!$B$13) -> avril | K50: =YEAR(C50) -> 2015 | L50: =IF(variables!$C$2=1,G50, IF($D50=analyse!$C$3,$G50,"") ) -> 6 | M50: =IF(variables!$F$3=$B50, IF(N($J50=M$3)=0,"",$L50), "" ) | N50: =IF(variables!$F$3=$B50, IF(N($J50=N$3)=0,"",$L50), "" ) | O50: =IF(variables!$F$3=$B50, IF(N($J50=O$3)=0,"",$L50), "" ) | P50: =IF(variables!$F$3=$B50, IF(N($J50=P$3)=0,"",$L50), "" ) | Q50: =IF(variables!$F$3=$B50, IF(N($J50=Q$3)=0,"",$L50), "" ) | R50: =IF(variables!$F$3=$B50, IF(N($J50=R$3)=0,"",$L50), "" ) | S50: =IF(variables!$F$3=$B50, IF(N($J50=S$3)=0,"",$L50), "" ) | T50: =IF(variables!$F$3=$B50, IF(N($J50=T$3)=0,"",$L50), "" ) | ... X50: =IF(variables!$F$3=$B50, IF(N($J50=X$3)=0,"",$L50), "" ) | Y50: =IF(variables!$F$3=$B50, IF(N($I50=Y$3)=0,"",$L50), "" ) | Z50: =IF(variables!$F$3=$B50, IF(N($I50=Z$3)=0,"",$L50), "" ) | AA50: =IF(variables!$F$3=$B50, IF(N($I50=AA$3)=0,"",$L50), "" ) | AB50: =IF(variables!$F$3=$B50, IF(N($I50=AB$3)=0,"",$L50), "" ) | AC50: =IF(variables!$F$3=$B50, IF(N($I50=AC$3)=0,"",$L50), "" ) | AD50: =IF(variables!$F$3=$B50, IF(N($I50=AD$3)=0,"",$L50), "" ) | AE50: =IF(variables!$F$3=$B50, IF(N($I50=AE$3)=0,"",$L50), "" ) | AF50: =IF(variables!$F$3=$B50, IF(N($I50=AF$3)=0,"",$L50), "" ) | ... BX50: =IF(variables!$F$3=$B50, IF(N($I50=BX$3)=0,"",$L50), "" ) | BY50: =IF(N($B50=BY$3)=0,"",$G50) | BZ50: =IF(N($B50=BZ$3)=0,"",$G50) -> 6 | CA50: =IF(N($B50=CA$3)=0,"",$G50) | CB50: =IF(N($B50=CB$3)=0,"",$G50) | CC50: =IF(N($B50=CC$3)=0,"",$G50) | CD50: =IF(N($B50=CD$3)=0,"",$G50) | CE50: =IF(N($B50=CE$3)=0,"",$G50) | CF50: =IF(N($B50=CF$3)=0,"",$G50) | ... CJ50: =IF(N($B50=CJ$3)=0,"",$G50) | CK50: =IF(analyse!$G$18=bdd!$B50,IF(matiere=bdd!$D50,bdd!$G50,""),"") | CL50: =IF(analyse!$G$18=bdd!$B50,IF(matiere=bdd!$D50,bdd!$G50,""),"") | CM50: =IF(analyse!$G$18=bdd!$B50,IF(matiere=bdd!$D50,bdd!$G50,""),"") | CN50: =IF(analyse!$G$18=bdd!$B50,IF(matiere=bdd!$D50,bdd!$G50,""),"") | CO50: =IF(analyse!$G$18=bdd!$B50,IF(matiere=bdd!$D50,bdd!$G50,""),"") | CP50: =IF(analyse!$G$18=bdd!$B50,IF(matiere=bdd!$D50,bdd!$G50,""),"") | CQ50: =IF(analyse!$G$18=bdd!$B50,IF(matiere=bdd!$D50,bdd!$G50,""),"") | CR50: =IF(analyse!$G$18=bdd!$B50,IF(matiere=bdd!$D50,bdd!$G50,""),"") | ... CT50: =IF(analyse!$G$18=bdd!$B50,IF(matiere=bdd!$D50,bdd!$G50,""),"")
B51: 2014/2015 | C51: =C50+10 -> 42110 | D51: physique chimie | E51: 7 | F51: 10 | G51: =IF(ISBLANK(IF(F51=10,E51*2,E51)),"",IF(F51=10,E51*2,E51)) -> 14 | H51: oral | I51: =WEEKNUM(C51,1) -> 16 | J51: =CHOOSE(MONTH(C51),variables!$B$2,variables!$B$3,variables!$B$4,variables!$B$5,variables!$B$6,variables!$B$7,variables!$B$8,variables!$B$9,variables!$B$10,variables!$B$11,variables!$B$12,variables!$B$13) -> avril | K51: =YEAR(C51) -> 2015 | L51: =IF(variables!$C$2=1,G51, IF($D51=analyse!$C$3,$G51,"") ) -> 14 | M51: =IF(variables!$F$3=$B51, IF(N($J51=M$3)=0,"",$L51), "" ) | N51: =IF(variables!$F$3=$B51, IF(N($J51=N$3)=0,"",$L51), "" ) | O51: =IF(variables!$F$3=$B51, IF(N($J51=O$3)=0,"",$L51), "" ) | P51: =IF(variables!$F$3=$B51, IF(N($J51=P$3)=0,"",$L51), "" ) | Q51: =IF(variables!$F$3=$B51, IF(N($J51=Q$3)=0,"",$L51), "" ) | R51: =IF(variables!$F$3=$B51, IF(N($J51=R$3)=0,"",$L51), "" ) | S51: =IF(variables!$F$3=$B51, IF(N($J51=S$3)=0,"",$L51), "" ) | T51: =IF(variables!$F$3=$B51, IF(N($J51=T$3)=0,"",$L51), "" ) | ... X51: =IF(variables!$F$3=$B51, IF(N($J51=X$3)=0,"",$L51), "" ) | Y51: =IF(variables!$F$3=$B51, IF(N($I51=Y$3)=0,"",$L51), "" ) | Z51: =IF(variables!$F$3=$B51, IF(N($I51=Z$3)=0,"",$L51), "" ) | AA51: =IF(variables!$F$3=$B51, IF(N($I51=AA$3)=0,"",$L51), "" ) | AB51: =IF(variables!$F$3=$B51, IF(N($I51=AB$3)=0,"",$L51), "" ) | AC51: =IF(variables!$F$3=$B51, IF(N($I51=AC$3)=0,"",$L51), "" ) | AD51: =IF(variables!$F$3=$B51, IF(N($I51=AD$3)=0,"",$L51), "" ) | AE51: =IF(variables!$F$3=$B51, IF(N($I51=AE$3)=0,"",$L51), "" ) | AF51: =IF(variables!$F$3=$B51, IF(N($I51=AF$3)=0,"",$L51), "" ) | ... BX51: =IF(variables!$F$3=$B51, IF(N($I51=BX$3)=0,"",$L51), "" ) | BY51: =IF(N($B51=BY$3)=0,"",$G51) | BZ51: =IF(N($B51=BZ$3)=0,"",$G51) -> 14 | CA51: =IF(N($B51=CA$3)=0,"",$G51) | CB51: =IF(N($B51=CB$3)=0,"",$G51) | CC51: =IF(N($B51=CC$3)=0,"",$G51) | CD51: =IF(N($B51=CD$3)=0,"",$G51) | CE51: =IF(N($B51=CE$3)=0,"",$G51) | CF51: =IF(N($B51=CF$3)=0,"",$G51) | ... CJ51: =IF(N($B51=CJ$3)=0,"",$G51) | CK51: =IF(analyse!$G$18=bdd!$B51,IF(matiere=bdd!$D51,bdd!$G51,""),"") | CL51: =IF(analyse!$G$18=bdd!$B51,IF(matiere=bdd!$D51,bdd!$G51,""),"") | CM51: =IF(analyse!$G$18=bdd!$B51,IF(matiere=bdd!$D51,bdd!$G51,""),"") | CN51: =IF(analyse!$G$18=bdd!$B51,IF(matiere=bdd!$D51,bdd!$G51,""),"") | CO51: =IF(analyse!$G$18=bdd!$B51,IF(matiere=bdd!$D51,bdd!$G51,""),"") | CP51: =IF(analyse!$G$18=bdd!$B51,IF(matiere=bdd!$D51,bdd!$G51,""),"") | CQ51: =IF(analyse!$G$18=bdd!$B51,IF(matiere=bdd!$D51,bdd!$G51,""),"") | CR51: =IF(analyse!$G$18=bdd!$B51,IF(matiere=bdd!$D51,bdd!$G51,""),"") | ... CT51: =IF(analyse!$G$18=bdd!$B51,IF(matiere=bdd!$D51,bdd!$G51,""),"")
B52: 2014/2015 | C52: =C51+10 -> 42120 | D52: Français | E52: 19 | F52: 20 | G52: =IF(ISBLANK(IF(F52=10,E52*2,E52)),"",IF(F52=10,E52*2,E52)) -> 19 | H52: oral | I52: =WEEKNUM(C52,1) -> 18 | J52: =CHOOSE(MONTH(C52),variables!$B$2,variables!$B$3,variables!$B$4,variables!$B$5,variables!$B$6,variables!$B$7,variables!$B$8,variables!$B$9,variables!$B$10,variables!$B$11,variables!$B$12,variables!$B$13) -> avril | K52: =YEAR(C52) -> 2015 | L52: =IF(variables!$C$2=1,G52, IF($D52=analyse!$C$3,$G52,"") ) -> 19 | M52: =IF(variables!$F$3=$B52, IF(N($J52=M$3)=0,"",$L52), "" ) | N52: =IF(variables!$F$3=$B52, IF(N($J52=N$3)=0,"",$L52), "" ) | O52: =IF(variables!$F$3=$B52, IF(N($J52=O$3)=0,"",$L52), "" ) | P52: =IF(variables!$F$3=$B52, IF(N($J52=P$3)=0,"",$L52), "" ) | Q52: =IF(variables!$F$3=$B52, IF(N($J52=Q$3)=0,"",$L52), "" ) | R52: =IF(variables!$F$3=$B52, IF(N($J52=R$3)=0,"",$L52), "" ) | S52: =IF(variables!$F$3=$B52, IF(N($J52=S$3)=0,"",$L52), "" ) | T52: =IF(variables!$F$3=$B52, IF(N($J52=T$3)=0,"",$L52), "" ) | ... X52: =IF(variables!$F$3=$B52, IF(N($J52=X$3)=0,"",$L52), "" ) | Y52: =IF(variables!$F$3=$B52, IF(N($I52=Y$3)=0,"",$L52), "" ) | Z52: =IF(variables!$F$3=$B52, IF(N($I52=Z$3)=0,"",$L52), "" ) | AA52: =IF(variables!$F$3=$B52, IF(N($I52=AA$3)=0,"",$L52), "" ) | AB52: =IF(variables!$F$3=$B52, IF(N($I52=AB$3)=0,"",$L52), "" ) | AC52: =IF(variables!$F$3=$B52, IF(N($I52=AC$3)=0,"",$L52), "" ) | AD52: =IF(variables!$F$3=$B52, IF(N($I52=AD$3)=0,"",$L52), "" ) | AE52: =IF(variables!$F$3=$B52, IF(N($I52=AE$3)=0,"",$L52), "" ) | AF52: =IF(variables!$F$3=$B52, IF(N($I52=AF$3)=0,"",$L52), "" ) | ... BX52: =IF(variables!$F$3=$B52, IF(N($I52=BX$3)=0,"",$L52), "" ) | BY52: =IF(N($B52=BY$3)=0,"",$G52) | BZ52: =IF(N($B52=BZ$3)=0,"",$G52) -> 19 | CA52: =IF(N($B52=CA$3)=0,"",$G52) | CB52: =IF(N($B52=CB$3)=0,"",$G52) | CC52: =IF(N($B52=CC$3)=0,"",$G52) | CD52: =IF(N($B52=CD$3)=0,"",$G52) | CE52: =IF(N($B52=CE$3)=0,"",$G52) | CF52: =IF(N($B52=CF$3)=0,"",$G52) | ... CJ52: =IF(N($B52=CJ$3)=0,"",$G52) | CK52: =IF(analyse!$G$18=bdd!$B52,IF(matiere=bdd!$D52,bdd!$G52,""),"") | CL52: =IF(analyse!$G$18=bdd!$B52,IF(matiere=bdd!$D52,bdd!$G52,""),"") | CM52: =IF(analyse!$G$18=bdd!$B52,IF(matiere=bdd!$D52,bdd!$G52,""),"") | CN52: =IF(analyse!$G$18=bdd!$B52,IF(matiere=bdd!$D52,bdd!$G52,""),"") | CO52: =IF(analyse!$G$18=bdd!$B52,IF(matiere=bdd!$D52,bdd!$G52,""),"") | CP52: =IF(analyse!$G$18=bdd!$B52,IF(matiere=bdd!$D52,bdd!$G52,""),"") | CQ52: =IF(analyse!$G$18=bdd!$B52,IF(matiere=bdd!$D52,bdd!$G52,""),"") | CR52: =IF(analyse!$G$18=bdd!$B52,IF(matiere=bdd!$D52,bdd!$G52,""),"") | ... CT52: =IF(analyse!$G$18=bdd!$B52,IF(matiere=bdd!$D52,bdd!$G52,""),"")
B53: 2014/2015 | C53: =C52+10 -> 42130 | D53: Math | E53: =E50+1 -> 7 | F53: 20 | G53: =IF(ISBLANK(IF(F53=10,E53*2,E53)),"",IF(F53=10,E53*2,E53)) -> 7 | H53: oral | I53: =WEEKNUM(C53,1) -> 19 | J53: =CHOOSE(MONTH(C53),variables!$B$2,variables!$B$3,variables!$B$4,variables!$B$5,variables!$B$6,variables!$B$7,variables!$B$8,variables!$B$9,variables!$B$10,variables!$B$11,variables!$B$12,variables!$B$13) -> mai | K53: =YEAR(C53) -> 2015 | L53: =IF(variables!$C$2=1,G53, IF($D53=analyse!$C$3,$G53,"") ) -> 7 | M53: =IF(variables!$F$3=$B53, IF(N($J53=M$3)=0,"",$L53), "" ) | N53: =IF(variables!$F$3=$B53, IF(N($J53=N$3)=0,"",$L53), "" ) | O53: =IF(variables!$F$3=$B53, IF(N($J53=O$3)=0,"",$L53), "" ) | P53: =IF(variables!$F$3=$B53, IF(N($J53=P$3)=0,"",$L53), "" ) | Q53: =IF(variables!$F$3=$B53, IF(N($J53=Q$3)=0,"",$L53), "" ) | R53: =IF(variables!$F$3=$B53, IF(N($J53=R$3)=0,"",$L53), "" ) | S53: =IF(variables!$F$3=$B53, IF(N($J53=S$3)=0,"",$L53), "" ) | T53: =IF(variables!$F$3=$B53, IF(N($J53=T$3)=0,"",$L53), "" ) | ... X53: =IF(variables!$F$3=$B53, IF(N($J53=X$3)=0,"",$L53), "" ) | Y53: =IF(variables!$F$3=$B53, IF(N($I53=Y$3)=0,"",$L53), "" ) | Z53: =IF(variables!$F$3=$B53, IF(N($I53=Z$3)=0,"",$L53), "" ) | AA53: =IF(variables!$F$3=$B53, IF(N($I53=AA$3)=0,"",$L53), "" ) | AB53: =IF(variables!$F$3=$B53, IF(N($I53=AB$3)=0,"",$L53), "" ) | AC53: =IF(variables!$F$3=$B53, IF(N($I53=AC$3)=0,"",$L53), "" ) | AD53: =IF(variables!$F$3=$B53, IF(N($I53=AD$3)=0,"",$L53), "" ) | AE53: =IF(variables!$F$3=$B53, IF(N($I53=AE$3)=0,"",$L53), "" ) | AF53: =IF(variables!$F$3=$B53, IF(N($I53=AF$3)=0,"",$L53), "" ) | ... BX53: =IF(variables!$F$3=$B53, IF(N($I53=BX$3)=0,"",$L53), "" ) | BY53: =IF(N($B53=BY$3)=0,"",$G53) | BZ53: =IF(N($B53=BZ$3)=0,"",$G53) -> 7 | CA53: =IF(N($B53=CA$3)=0,"",$G53) | CB53: =IF(N($B53=CB$3)=0,"",$G53) | CC53: =IF(N($B53=CC$3)=0,"",$G53) | CD53: =IF(N($B53=CD$3)=0,"",$G53) | CE53: =IF(N($B53=CE$3)=0,"",$G53) | CF53: =IF(N($B53=CF$3)=0,"",$G53) | ... CJ53: =IF(N($B53=CJ$3)=0,"",$G53) | CK53: =IF(analyse!$G$18=bdd!$B53,IF(matiere=bdd!$D53,bdd!$G53,""),"") | CL53: =IF(analyse!$G$18=bdd!$B53,IF(matiere=bdd!$D53,bdd!$G53,""),"") | CM53: =IF(analyse!$G$18=bdd!$B53,IF(matiere=bdd!$D53,bdd!$G53,""),"") | CN53: =IF(analyse!$G$18=bdd!$B53,IF(matiere=bdd!$D53,bdd!$G53,""),"") | CO53: =IF(analyse!$G$18=bdd!$B53,IF(matiere=bdd!$D53,bdd!$G53,""),"") | CP53: =IF(analyse!$G$18=bdd!$B53,IF(matiere=bdd!$D53,bdd!$G53,""),"") | CQ53: =IF(analyse!$G$18=bdd!$B53,IF(matiere=bdd!$D53,bdd!$G53,""),"") | CR53: =IF(analyse!$G$18=bdd!$B53,IF(matiere=bdd!$D53,bdd!$G53,""),"") | ... CT53: =IF(analyse!$G$18=bdd!$B53,IF(matiere=bdd!$D53,bdd!$G53,""),"")

Sheet analyse
C1: Année scolaire | D1: 2013/2014 | G1: =INDEX(variables!G2:G9,variables!F2,1) -> CE1 | P1: =C1 -> Année scolaire | Q1: =D1 -> 2013/2014 | T1: =G1 -> CE1
C3: =INDEX(C8:C17,variables!C2,1) -> général | G3: ="moyenne "&C3 -> moyenne général
C4: =T17 -> moyenne | E4: =IF(ISERROR( ROUND(AVERAGE(bdd!$M$2:$X$2),2) ),"", ROUND(AVERAGE(bdd!$M$2:$X$2),2 ) ) -> 11.65 | G4: septembre | J4: =IF(ISERROR(ROUND(INDEX(bdd!$M$2:$X$2,1,variables!H2),2)),"",ROUND(INDEX(bdd!$M$2:$X$2,1,variables!H2),2)) -> 10
C5: =T18 -> Note Max | E5: =IF(ISERROR( ROUND(MAX(bdd!$M$2:$X$2),2) ),"", ROUND(MAX(bdd!$M$2:$X$2),2) ) -> 16.33 | G5: octobre | J5: =IF(ISERROR(ROUND(INDEX(bdd!$M$2:$X$2,1,variables!H3),2)),"",ROUND(INDEX(bdd!$M$2:$X$2,1,variables!H3),2)) -> 9.5
C6: =T19 -> Note Min | E6: =IF(ISERROR( ROUND(MIN(bdd!$M$2:$X$2),2) ),"", ROUND(MIN(bdd!$M$2:$X$2),2) ) -> 6.33 | G6: novembre | J6: =IF(ISERROR(ROUND(INDEX(bdd!$M$2:$X$2,1,variables!H4),2)),"",ROUND(INDEX(bdd!$M$2:$X$2,1,variables!H4),2)) -> 6.33
G7: décembre | J7: =IF(ISERROR(ROUND(INDEX(bdd!$M$2:$X$2,1,variables!H5),2)),"",ROUND(INDEX(bdd!$M$2:$X$2,1,variables!H5),2)) -> 12.33
C8: général | G8: janvier | J8: =IF(ISERROR(ROUND(INDEX(bdd!$M$2:$X$2,1,variables!H6),2)),"",ROUND(INDEX(bdd!$M$2:$X$2,1,variables!H6),2)) -> 10.67
C9: =variables!A2 -> Français | G9: février | J9: =IF(ISERROR(ROUND(INDEX(bdd!$M$2:$X$2,1,variables!H7),2)),"",ROUND(INDEX(bdd!$M$2:$X$2,1,variables!H7),2)) -> 11.67
C10: =variables!A3 -> Math | G10: mars | J10: =IF(ISERROR(ROUND(INDEX(bdd!$M$2:$X$2,1,variables!H8),2)),"",ROUND(INDEX(bdd!$M$2:$X$2,1,variables!H8),2)) -> 16.33
C11: =variables!A4 -> physique chimie | G11: avril | J11: =IF(ISERROR(ROUND(INDEX(bdd!$M$2:$X$2,1,variables!H9),2)),"",ROUND(INDEX(bdd!$M$2:$X$2,1,variables!H9),2)) -> 15
C12: =variables!A5 -> svt | G12: mai | J12: =IF(ISERROR(ROUND(INDEX(bdd!$M$2:$X$2,1,variables!H10),2)),"",ROUND(INDEX(bdd!$M$2:$X$2,1,variables!H10),2)) -> 13
C13: =variables!A6 -> histoire geo | G13: juin | J13: =IF(ISERROR(ROUND(INDEX(bdd!$M$2:$X$2,1,variables!H11),2)),"",ROUND(INDEX(bdd!$M$2:$X$2,1,variables!H11),2))
C14: =variables!A7 -> EXCEL | G14: juillet | J14: =IF(ISERROR(ROUND(INDEX(bdd!$M$2:$X$2,1,variables!H12),2)),"",ROUND(INDEX(bdd!$M$2:$X$2,1,variables!H12),2))
C15: =variables!A8 -> anglais | G15: août | J15: =IF(ISERROR(ROUND(INDEX(bdd!$M$2:$X$2,1,variables!H13),2)),"",ROUND(INDEX(bdd!$M$2:$X$2,1,variables!H13),2))
C16: =variables!A9 -> Espagnol | T16: Général
C17: =variables!A10 -> sport | T17: moyenne | V17: =ROUND(AVERAGE(bdd!G4:G49074),2) -> 12.02
E18: =C3 -> général | G18: =D1 -> 2013/2014 | T18: Note Max | V18: =MAX(bdd!G4:G4074) -> 21
T19: Note Min | V19: =MIN(bdd!G4:G4074) -> 0
T21: années | U21: moyennes
T22: =INDEX(bdd!$BY$3:$CJ$3,1,variables!H2) -> 2013/2014 | V22: =IF(ISERROR( ROUND(INDEX(bdd!$BY$2:$CJ$2,1,variables!H2),2) ),"", ROUND(INDEX(bdd!$BY$2:$CJ$2,1,variables!H2),2) ) -> 11.8
T23: =INDEX(bdd!$BY$3:$CJ$3,1,variables!H3) -> 2014/2015 | V23: =IF(ISERROR( ROUND(INDEX(bdd!$BY$2:$CJ$2,1,variables!H3),2) ),"", ROUND(INDEX(bdd!$BY$2:$CJ$2,1,variables!H3),2) ) -> 12.67
T24: =INDEX(bdd!$BY$3:$CJ$3,1,variables!H4) -> 2015/2016 | V24: =IF(ISERROR( ROUND(INDEX(bdd!$BY$2:$CJ$2,1,variables!H4),2) ),"", ROUND(INDEX(bdd!$BY$2:$CJ$2,1,variables!H4),2) )
T25: =INDEX(bdd!$BY$3:$CJ$3,1,variables!H5) -> 2016/2017 | V25: =IF(ISERROR( ROUND(INDEX(bdd!$BY$2:$CJ$2,1,variables!H5),2) ),"", ROUND(INDEX(bdd!$BY$2:$CJ$2,1,variables!H5),2) )
T26: =INDEX(bdd!$BY$3:$CJ$3,1,variables!H6) -> 2017/2018 | V26: =IF(ISERROR( ROUND(INDEX(bdd!$BY$2:$CJ$2,1,variables!H6),2) ),"", ROUND(INDEX(bdd!$BY$2:$CJ$2,1,variables!H6),2) )
T27: =INDEX(bdd!$BY$3:$CJ$3,1,variables!H7) -> 2018/2019 | V27: =IF(ISERROR( ROUND(INDEX(bdd!$BY$2:$CJ$2,1,variables!H7),2) ),"", ROUND(INDEX(bdd!$BY$2:$CJ$2,1,variables!H7),2) )
T28: =INDEX(bdd!$BY$3:$CJ$3,1,variables!H8) -> 2019/2020 | V28: =IF(ISERROR( ROUND(INDEX(bdd!$BY$2:$CJ$2,1,variables!H8),2) ),"", ROUND(INDEX(bdd!$BY$2:$CJ$2,1,variables!H8),2) )
T29: =INDEX(bdd!$BY$3:$CJ$3,1,variables!H9) -> 2020/2021 | V29: =IF(ISERROR( ROUND(INDEX(bdd!$BY$2:$CJ$2,1,variables!H9),2) ),"", ROUND(INDEX(bdd!$BY$2:$CJ$2,1,variables!H9),2) )
T32: =variables!A2 -> Français | V32: =bdd!CK2 -> 11.5
T33: =variables!A3 -> Math | V33: =bdd!CL2 -> 8.6666667
T34: =variables!A4 -> physique chimie | V34: =bdd!CM2 -> 11
T35: =variables!A5 -> svt | V35: =bdd!CN2 -> 9.5
T36: =variables!A6 -> histoire geo | V36: =bdd!CO2 -> 11
B37: =C8 -> général | I37: =C13 -> histoire geo | T37: =variables!A7 -> EXCEL | V37: =bdd!CP2 -> 17
B38: =C9 -> Français | I38: =C14 -> EXCEL | T38: =variables!A8 -> anglais | V38: =bdd!CQ2 -> 7.5
B39: =C10 -> Math | I39: =C15 -> anglais | T39: =variables!A9 -> Espagnol | V39: =bdd!CR2 -> 13.333333
B40: =C11 -> physique chimie | I40: =C16 -> Espagnol | T40: =variables!A10 -> sport | V40: =bdd!CS2 -> 17
B41: =C12 -> svt | I41: =C17 -> sport | T41: =variables!A11 -> Musique | V41: =bdd!CT2 -> 14

Sheet print
A4: =IF(ISBLANK(bdd!B3),"",bdd!B3) -> année scolaire | B4: =IF(ISBLANK(bdd!C3),"",bdd!C3) -> date | C4: =IF(ISBLANK(bdd!D3),"",bdd!D3) -> matiere | D4: =IF(ISBLANK(bdd!E3),"",bdd!E3) -> note | E4: =IF(ISBLANK(bdd!F3),"",bdd!F3) -> rapport | F4: note sur 20
A5: =IF(ISBLANK(bdd!B4),"",bdd!B4) -> 2013/2014 | B5: =IF(ISBLANK(bdd!C4),"",bdd!C4) -> 41527 | C5: =IF(ISBLANK(bdd!D4),"",bdd!D4) -> Français | D5: =IF(ISBLANK(bdd!E4),"",bdd!E4) -> 2 | E5: =IF(ISBLANK(bdd!F4),"",bdd!F4) -> 10 | F5: =IF(ISBLANK(bdd!G4),"",bdd!G4) -> 4
A6: =IF(ISBLANK(bdd!B5),"",bdd!B5) -> 2013/2014 | B6: =IF(ISBLANK(bdd!C5),"",bdd!C5) -> 41544 | C6: =IF(ISBLANK(bdd!D5),"",bdd!D5) -> physique chimie | D6: =IF(ISBLANK(bdd!E5),"",bdd!E5) -> 8 | E6: =IF(ISBLANK(bdd!F5),"",bdd!F5) -> 10 | F6: =IF(ISBLANK(bdd!G5),"",bdd!G5) -> 16
A7: =IF(ISBLANK(bdd!B6),"",bdd!B6) -> 2013/2014 | B7: =IF(ISBLANK(bdd!C6),"",bdd!C6) -> 41561 | C7: =IF(ISBLANK(bdd!D6),"",bdd!D6) -> Français | D7: =IF(ISBLANK(bdd!E6),"",bdd!E6) -> 16 | E7: =IF(ISBLANK(bdd!F6),"",bdd!F6) -> 20 | F7: =IF(ISBLANK(bdd!G6),"",bdd!G6) -> 16
A8: =IF(ISBLANK(bdd!B7),"",bdd!B7) -> 2013/2014 | B8: =IF(ISBLANK(bdd!C7),"",bdd!C7) -> 41578 | C8: =IF(ISBLANK(bdd!D7),"",bdd!D7) -> Math | D8: =IF(ISBLANK(bdd!E7),"",bdd!E7) -> 3 | E8: =IF(ISBLANK(bdd!F7),"",bdd!F7) -> 20 | F8: =IF(ISBLANK(bdd!G7),"",bdd!G7) -> 3
A9: =IF(ISBLANK(bdd!B8),"",bdd!B8) -> 2013/2014 | B9: =IF(ISBLANK(bdd!C8),"",bdd!C8) -> 41588 | C9: =IF(ISBLANK(bdd!D8),"",bdd!D8) -> physique chimie | D9: =IF(ISBLANK(bdd!E8),"",bdd!E8) -> 12 | E9: =IF(ISBLANK(bdd!F8),"",bdd!F8) -> 20 | F9: =IF(ISBLANK(bdd!G8),"",bdd!G8) -> 0
A10: =IF(ISBLANK(bdd!B9),"",bdd!B9) -> 2013/2014 | B10: =IF(ISBLANK(bdd!C9),"",bdd!C9) -> 41598 | C10: =IF(ISBLANK(bdd!D9),"",bdd!D9) -> histoire geo | D10: =IF(ISBLANK(bdd!E9),"",bdd!E9) -> 11 | E10: =IF(ISBLANK(bdd!F9),"",bdd!F9) -> 20 | F10: =IF(ISBLANK(bdd!G9),"",bdd!G9) -> 11
A11: =IF(ISBLANK(bdd!B10),"",bdd!B10) -> 2013/2014 | B11: =IF(ISBLANK(bdd!C10),"",bdd!C10) -> 41608 | C11: =IF(ISBLANK(bdd!D10),"",bdd!D10) -> anglais | D11: =IF(ISBLANK(bdd!E10),"",bdd!E10) -> 4 | E11: =IF(ISBLANK(bdd!F10),"",bdd!F10) -> 10 | F11: =IF(ISBLANK(bdd!G10),"",bdd!G10) -> 8
A12: =IF(ISBLANK(bdd!B11),"",bdd!B11) -> 2013/2014 | B12: =IF(ISBLANK(bdd!C11),"",bdd!C11) -> 41618 | C12: =IF(ISBLANK(bdd!D11),"",bdd!D11) -> Math | D12: =IF(ISBLANK(bdd!E11),"",bdd!E11) -> 14 | E12: =IF(ISBLANK(bdd!F11),"",bdd!F11) -> 20 | F12: =IF(ISBLANK(bdd!G11),"",bdd!G11) -> 14
A13: =IF(ISBLANK(bdd!B12),"",bdd!B12) -> 2013/2014 | B13: =IF(ISBLANK(bdd!C12),"",bdd!C12) -> 41628 | C13: =IF(ISBLANK(bdd!D12),"",bdd!D12) -> Espagnol | D13: =IF(ISBLANK(bdd!E12),"",bdd!E12) -> 16 | E13: =IF(ISBLANK(bdd!F12),"",bdd!F12) -> 20 | F13: =IF(ISBLANK(bdd!G12),"",bdd!G12) -> 16
A14: =IF(ISBLANK(bdd!B13),"",bdd!B13) -> 2013/2014 | B14: =IF(ISBLANK(bdd!C13),"",bdd!C13) -> 41638 | C14: =IF(ISBLANK(bdd!D13),"",bdd!D13) -> svt | D14: =IF(ISBLANK(bdd!E13),"",bdd!E13) -> 7 | E14: =IF(ISBLANK(bdd!F13),"",bdd!F13) -> 20 | F14: =IF(ISBLANK(bdd!G13),"",bdd!G13) -> 7
A15: =IF(ISBLANK(bdd!B14),"",bdd!B14) -> 2013/2014 | B15: =IF(ISBLANK(bdd!C14),"",bdd!C14) -> 41648 | C15: =IF(ISBLANK(bdd!D14),"",bdd!D14) -> sport | D15: =IF(ISBLANK(bdd!E14),"",bdd!E14) -> 13 | E15: =IF(ISBLANK(bdd!F14),"",bdd!F14) -> 20 | F15: =IF(ISBLANK(bdd!G14),"",bdd!G14) -> 13
A16: =IF(ISBLANK(bdd!B15),"",bdd!B15) -> 2013/2014 | B16: =IF(ISBLANK(bdd!C15),"",bdd!C15) -> 41658 | C16: =IF(ISBLANK(bdd!D15),"",bdd!D15) -> svt | D16: =IF(ISBLANK(bdd!E15),"",bdd!E15) -> 12 | E16: =IF(ISBLANK(bdd!F15),"",bdd!F15) -> 20 | F16: =IF(ISBLANK(bdd!G15),"",bdd!G15) -> 12
... A99: =IF(ISBLANK(bdd!B98),"",bdd!B98) | B99: =IF(ISBLANK(bdd!C98),"",bdd!C98) | C99: =IF(ISBLANK(bdd!D98),"",bdd!D98) | D99: =IF(ISBLANK(bdd!E98),"",bdd!E98) | E99: =IF(ISBLANK(bdd!F98),"",bdd!F98) | F99: =IF(ISBLANK(bdd!G98),"",bdd!G98)
A100: =IF(ISBLANK(bdd!B234),"",bdd!B234) | B100: =IF(ISBLANK(bdd!C234),"",bdd!C234) | C100: =IF(ISBLANK(bdd!D234),"",bdd!D234) | D100: =IF(ISBLANK(bdd!E234),"",bdd!E234) | E100: =IF(ISBLANK(bdd!F234),"",bdd!F234) | F100: =IF(ISBLANK(bdd!G234),"",bdd!G234)
A101: =IF(ISBLANK(bdd!B235),"",bdd!B235) | B101: =IF(ISBLANK(bdd!C235),"",bdd!C235) | C101: =IF(ISBLANK(bdd!D235),"",bdd!D235) | D101: =IF(ISBLANK(bdd!E235),"",bdd!E235) | E101: =IF(ISBLANK(bdd!F235),"",bdd!F235) | F101: =IF(ISBLANK(bdd!G235),"",bdd!G235)
A102: =IF(ISBLANK(bdd!B236),"",bdd!B236) | B102: =IF(ISBLANK(bdd!C236),"",bdd!C236) | C102: =IF(ISBLANK(bdd!D236),"",bdd!D236) | D102: =IF(ISBLANK(bdd!E236),"",bdd!E236) | E102: =IF(ISBLANK(bdd!F236),"",bdd!F236) | F102: =IF(ISBLANK(bdd!G236),"",bdd!G236)
A103: =IF(ISBLANK(bdd!B237),"",bdd!B237) | B103: =IF(ISBLANK(bdd!C237),"",bdd!C237) | C103: =IF(ISBLANK(bdd!D237),"",bdd!D237) | D103: =IF(ISBLANK(bdd!E237),"",bdd!E237) | E103: =IF(ISBLANK(bdd!F237),"",bdd!F237) | F103: =IF(ISBLANK(bdd!G237),"",bdd!G237)
A104: =IF(ISBLANK(bdd!B238),"",bdd!B238) | B104: =IF(ISBLANK(bdd!C238),"",bdd!C238) | C104: =IF(ISBLANK(bdd!D238),"",bdd!D238) | D104: =IF(ISBLANK(bdd!E238),"",bdd!E238) | E104: =IF(ISBLANK(bdd!F238),"",bdd!F238) | F104: =IF(ISBLANK(bdd!G238),"",bdd!G238)
A105: =IF(ISBLANK(bdd!B239),"",bdd!B239) | B105: =IF(ISBLANK(bdd!C239),"",bdd!C239) | C105: =IF(ISBLANK(bdd!D239),"",bdd!D239) | D105: =IF(ISBLANK(bdd!E239),"",bdd!E239) | E105: =IF(ISBLANK(bdd!F239),"",bdd!F239) | F105: =IF(ISBLANK(bdd!G239),"",bdd!G239)
A106: =IF(ISBLANK(bdd!B240),"",bdd!B240) | B106: =IF(ISBLANK(bdd!C240),"",bdd!C240) | C106: =IF(ISBLANK(bdd!D240),"",bdd!D240) | D106: =IF(ISBLANK(bdd!E240),"",bdd!E240) | E106: =IF(ISBLANK(bdd!F240),"",bdd!F240) | F106: =IF(ISBLANK(bdd!G240),"",bdd!G240)
A107: =IF(ISBLANK(bdd!B241),"",bdd!B241) | B107: =IF(ISBLANK(bdd!C241),"",bdd!C241) | C107: =IF(ISBLANK(bdd!D241),"",bdd!D241) | D107: =IF(ISBLANK(bdd!E241),"",bdd!E241) | E107: =IF(ISBLANK(bdd!F241),"",bdd!F241) | F107: =IF(ISBLANK(bdd!G241),"",bdd!G241)
A108: =IF(ISBLANK(bdd!B242),"",bdd!B242) | B108: =IF(ISBLANK(bdd!C242),"",bdd!C242) | C108: =IF(ISBLANK(bdd!D242),"",bdd!D242) | D108: =IF(ISBLANK(bdd!E242),"",bdd!E242) | E108: =IF(ISBLANK(bdd!F242),"",bdd!F242) | F108: =IF(ISBLANK(bdd!G242),"",bdd!G242)
A109: =IF(ISBLANK(bdd!B243),"",bdd!B243) | B109: =IF(ISBLANK(bdd!C243),"",bdd!C243) | C109: =IF(ISBLANK(bdd!D243),"",bdd!D243) | D109: =IF(ISBLANK(bdd!E243),"",bdd!E243) | E109: =IF(ISBLANK(bdd!F243),"",bdd!F243) | F109: =IF(ISBLANK(bdd!G243),"",bdd!G243)
A110: =IF(ISBLANK(bdd!B244),"",bdd!B244) | B110: =IF(ISBLANK(bdd!C244),"",bdd!C244) | C110: =IF(ISBLANK(bdd!D244),"",bdd!D244) | D110: =IF(ISBLANK(bdd!E244),"",bdd!E244) | E110: =IF(ISBLANK(bdd!F244),"",bdd!F244) | F110: =IF(ISBLANK(bdd!G244),"",bdd!G244)
A111: =IF(ISBLANK(bdd!B245),"",bdd!B245) | B111: =IF(ISBLANK(bdd!C245),"",bdd!C245) | C111: =IF(ISBLANK(bdd!D245),"",bdd!D245) | D111: =IF(ISBLANK(bdd!E245),"",bdd!E245) | E111: =IF(ISBLANK(bdd!F245),"",bdd!F245) | F111: =IF(ISBLANK(bdd!G245),"",bdd!G245)
... A1039: =IF(ISBLANK(bdd!B1173),"",bdd!B1173) | B1039: =IF(ISBLANK(bdd!C1173),"",bdd!C1173) | C1039: =IF(ISBLANK(bdd!D1173),"",bdd!D1173) | D1039: =IF(ISBLANK(bdd!E1173),"",bdd!E1173) | E1039: =IF(ISBLANK(bdd!F1173),"",bdd!F1173) | F1039: =IF(ISBLANK(bdd!G1173),"",bdd!G1173)
