Workbook
Name Congés_scolaires: '[1]Jours Fériers'!$P$1:$P$35
Name férié: '[1]Jours Fériers'!$A$4:$A$17
Name jours_ouvrables: données!$B$2:$B$13
Name Les_mois: données!$A$2:$A$13
Name mois: [1]Données!$B$20:$B$29

Sheet jour ouvrable du mois en cours
A1: mois entier
A2: 2014 | H2: weekend
A3: 2 | D3: =TEXT($D$4,"mmmm") -> février | H3: aujourd'hui
A4: =DATE($A$2,A3,1) -> 41671 | D4: 41673 | F4: =IFERROR(IF(MONTH(D3+1)=MONTH(1&$D$3),D3+1,""),"") | H4: semaine en cours
A5: =A4+1 -> 41672 | D5: =données!G5 -> 41674
A6: =A5+1 -> 41673 | D6: =données!G6 -> 41675
A7: =A6+1 -> 41674 | D7: =données!G7 -> 41676
A8: =A7+1 -> 41675 | D8: =données!G8 -> 41677
A9: =A8+1 -> 41676 | D9: =données!G9 -> 41680
A10: =A9+1 -> 41677 | D10: =données!G10 -> 41681
A11: =A10+1 -> 41678 | D11: =données!G11 -> 41682
A12: =A11+1 -> 41679 | D12: =données!G12 -> 41683
A13: =A12+1 -> 41680 | D13: =données!G13 -> 41684
A14: =A13+1 -> 41681 | D14: =données!G14 -> 41687
A15: =A14+1 -> 41682 | D15: =données!G15 -> 41688
A16: =A15+1 -> 41683 | D16: =données!G16 -> 41689
... A22: =A21+1 -> 41689 | D22: =données!G22 -> 41697
A23: =A22+1 -> 41690 | D23: =IF(MONTH(données!G23)=MONTH(D4),données!G23,"") -> 41698
A24: =A23+1 -> 41691 | D24: =IF(MONTH(données!G24)=MONTH(D5),données!G24,"")
A25: =A24+1 -> 41692 | D25: =IF(MONTH(données!G25)=MONTH(D6),données!G25,"")
A26: =A25+1 -> 41693 | D26: =IF(MONTH(données!G26)=MONTH(D7),données!G26,"")
A27: =A26+1 -> 41694 | D27: =IF(MONTH(données!G27)=MONTH(D8),données!G27,"")
A28: =A27+1 -> 41695 | D28: =IF(MONTH(données!G28)=MONTH(D9),données!G28,"")
A29: =A28+1 -> 41696
A30: =IFERROR(IF(MONTH(A29+1)=MONTH(1&A3),A29+1,""),"")
A31: =IFERROR(IF(MONTH(A30+1)=MONTH(1&A3),A30+1,""),"")
A32: =IFERROR(IF(MONTH(A31+1)=MONTH(1&A3),A31+1,""),"")
A33: =IFERROR(IF(MONTH(A32+1)=MONTH(1&A3),A32+1,""),"")
A34: =IFERROR(IF(MONTH(A33+1)=MONTH(1&A3),A33+1,""),"")

Sheet données
A1: Mois | B1: 1er jour ouvrable | F1: mois | G1: =MONTH('jour ouvrable du mois en cours'!D4) -> 2
A2: 1 | B2: =IF(WEEKDAY(DATE($G$2,A2,1))=7,DATE($G$2,A2,3),IF(WEEKDAY(DATE($G$2,A2,1))=1,DATE($G$2,A2,2),DATE($G$2,A2,1))) -> 41640 | F2: année | G2: 2014
A3: 2 | B3: =IF(WEEKDAY(DATE($G$2,A3,1))=7,DATE($G$2,A3,3),IF(WEEKDAY(DATE($G$2,A3,1))=1,DATE($G$2,A3,2),DATE($G$2,A3,1))) -> 41673
A4: 3 | B4: =IF(WEEKDAY(DATE($G$2,A4,1))=7,DATE($G$2,A4,3),IF(WEEKDAY(DATE($G$2,A4,1))=1,DATE($G$2,A4,2),DATE($G$2,A4,1))) -> 41701 | G4: =IF(WEEKDAY(DATE(G2,G1,1))=7,DATE(G2,G1,3),IF(WEEKDAY(DATE(G2,G1,1))=1,DATE(G2,G1,2),DATE(G2,G1,1))) -> 41673
A5: 4 | B5: =IF(WEEKDAY(DATE($G$2,A5,1))=7,DATE($G$2,A5,3),IF(WEEKDAY(DATE($G$2,A5,1))=1,DATE($G$2,A5,2),DATE($G$2,A5,1))) -> 41730 | G5: =IF(WEEKDAY(G4)=6,G4+3,IF(WEEKDAY(G4)=7,G4+2,G4+1)) -> 41674
A6: 5 | B6: =IF(WEEKDAY(DATE($G$2,A6,1))=7,DATE($G$2,A6,3),IF(WEEKDAY(DATE($G$2,A6,1))=1,DATE($G$2,A6,2),DATE($G$2,A6,1))) -> 41760 | G6: =IF(WEEKDAY(G5)=6,G5+3,IF(WEEKDAY(G5)=7,G5+2,G5+1)) -> 41675
A7: 6 | B7: =IF(WEEKDAY(DATE($G$2,A7,1))=7,DATE($G$2,A7,3),IF(WEEKDAY(DATE($G$2,A7,1))=1,DATE($G$2,A7,2),DATE($G$2,A7,1))) -> 41792 | G7: =IF(WEEKDAY(G6)=6,G6+3,IF(WEEKDAY(G6)=7,G6+2,G6+1)) -> 41676
A8: 7 | B8: =IF(WEEKDAY(DATE($G$2,A8,1))=7,DATE($G$2,A8,3),IF(WEEKDAY(DATE($G$2,A8,1))=1,DATE($G$2,A8,2),DATE($G$2,A8,1))) -> 41821 | G8: =IF(WEEKDAY(G7)=6,G7+3,IF(WEEKDAY(G7)=7,G7+2,G7+1)) -> 41677
A9: 8 | B9: =IF(WEEKDAY(DATE($G$2,A9,1))=7,DATE($G$2,A9,3),IF(WEEKDAY(DATE($G$2,A9,1))=1,DATE($G$2,A9,2),DATE($G$2,A9,1))) -> 41852 | G9: =IF(WEEKDAY(G8)=6,G8+3,IF(WEEKDAY(G8)=7,G8+2,G8+1)) -> 41680
A10: 9 | B10: =IF(WEEKDAY(DATE($G$2,A10,1))=7,DATE($G$2,A10,3),IF(WEEKDAY(DATE($G$2,A10,1))=1,DATE($G$2,A10,2),DATE($G$2,A10,1))) -> 41883 | G10: =IF(WEEKDAY(G9)=6,G9+3,IF(WEEKDAY(G9)=7,G9+2,G9+1)) -> 41681
A11: 10 | B11: =IF(WEEKDAY(DATE($G$2,A11,1))=7,DATE($G$2,A11,3),IF(WEEKDAY(DATE($G$2,A11,1))=1,DATE($G$2,A11,2),DATE($G$2,A11,1))) -> 41913 | G11: =IF(WEEKDAY(G10)=6,G10+3,IF(WEEKDAY(G10)=7,G10+2,G10+1)) -> 41682
A12: 11 | B12: =IF(WEEKDAY(DATE($G$2,A12,1))=7,DATE($G$2,A12,3),IF(WEEKDAY(DATE($G$2,A12,1))=1,DATE($G$2,A12,2),DATE($G$2,A12,1))) -> 41946 | G12: =IF(WEEKDAY(G11)=6,G11+3,IF(WEEKDAY(G11)=7,G11+2,G11+1)) -> 41683
A13: 12 | B13: =IF(WEEKDAY(DATE($G$2,A13,1))=7,DATE($G$2,A13,3),IF(WEEKDAY(DATE($G$2,A13,1))=1,DATE($G$2,A13,2),DATE($G$2,A13,1))) -> 41974 | G13: =IF(WEEKDAY(G12)=6,G12+3,IF(WEEKDAY(G12)=7,G12+2,G12+1)) -> 41684
G14: =IF(WEEKDAY(G13)=6,G13+3,IF(WEEKDAY(G13)=7,G13+2,G13+1)) -> 41687
G15: =IF(WEEKDAY(G14)=6,G14+3,IF(WEEKDAY(G14)=7,G14+2,G14+1)) -> 41688
G16: =IF(WEEKDAY(G15)=6,G15+3,IF(WEEKDAY(G15)=7,G15+2,G15+1)) -> 41689
G17: =IF(WEEKDAY(G16)=6,G16+3,IF(WEEKDAY(G16)=7,G16+2,G16+1)) -> 41690
G18: =IF(WEEKDAY(G17)=6,G17+3,IF(WEEKDAY(G17)=7,G17+2,G17+1)) -> 41691
G19: =IF(WEEKDAY(G18)=6,G18+3,IF(WEEKDAY(G18)=7,G18+2,G18+1)) -> 41694
G20: =IF(WEEKDAY(G19)=6,G19+3,IF(WEEKDAY(G19)=7,G19+2,G19+1)) -> 41695
G21: =IF(WEEKDAY(G20)=6,G20+3,IF(WEEKDAY(G20)=7,G20+2,G20+1)) -> 41696
G22: =IF(WEEKDAY(G21)=6,G21+3,IF(WEEKDAY(G21)=7,G21+2,G21+1)) -> 41697
G23: =IF(WEEKDAY(G22)=6,G22+3,IF(WEEKDAY(G22)=7,G22+2,G22+1)) -> 41698
G24: =IF(WEEKDAY(G23)=6,G23+3,IF(WEEKDAY(G23)=7,G23+2,G23+1)) -> 41701
G25: =IF(WEEKDAY(G24)=6,G24+3,IF(WEEKDAY(G24)=7,G24+2,G24+1)) -> 41702
... G29: =IF(WEEKDAY(G28)=6,G28+3,IF(WEEKDAY(G28)=7,G28+2,G28+1)) -> 41708
