Workbook
Name article: BD[Article]
Name brutjaune: BD[BRUT]
Name description: BD[Description]
Name frmarticles: formules!$C$2:$C$14
Name listarticle: formules!$C$2:$C$26
Name lots: formules!$E$2:$E$4
Name nethtjaune: BD[NET HT]
Name nethtviolet: BD[NET HT.]
Name nlot: #REF!
Name origine: BD[Origine]
Name rabaisjaune: BD[RABAIS]
Name unite: BD[Unité]

Sheet BD
A1: Lot | B1: Article | C1: Description | D1: Origine | E1: Unité | F1: BRUT | G1: RABAIS | H1: NET HT | I1: NET HT.
A2: Lot A | B2: 111001001 | C2: aaaaaaaaaaaaaaaaaaaaaaaa | D2: Soumission | E2: p | F2: 1 | G2: 0.05612565 | H2: =F2-(F2*G2) -> 0.94387435 | I2: 0.8
A3: Lot A | B3: 100.100.100 | C3: bbbbbbbbbbbbbbbbbbbbbbbb | D3: Soumission | E3: p | F3: 2 | G3: 0.05612565 | H3: =F3-(F3*G3) -> 1.8877487 | I3: 1.7
A4: Lot B | B4: 200.200.200 | C4: cccccccccccccccccccccccccccc | D4: Soumission | E4: p | F4: 3 | G4: 0.05612565 | H4: =F4-(F4*G4) -> 2.8316231 | I4: 2.7
A5: Lot B | B5: 300.300.300 | C5: dddddddddddddddddddddddd | D5: Soumission | E5: p | F5: 4 | G5: 0.05612565 | H5: =F5-(F5*G5) -> 3.7754974 | I5: 3.7
A6: Lot C | B6: 400.400.400 | C6: eeeeeeeeeeeeeeeeeeeeeeee | D6: Soumission | E6: p | F6: 5 | G6: 0.05612565 | H6: =F6-(F6*G6) -> 4.7193717 | I6: 4.7
A7: Lot C | B7: 500.500.500 | C7: ffffffffffffffffffffffffffffffffffffffffff | D7: Soumission | E7: p | F7: 6 | G7: 0.05612565 | H7: =F7-(F7*G7) -> 5.6632461 | I7: 6

Sheet n° Lot
B6: Info
B7: =IF(ISERROR(MATCH(B9,listarticle,0)),"Choisir article !","")
A8: Lot | B8: Article
A9: Lot C | B9: 400.400.400 | D9: liste articles (feuille "formule")
A13: liste lot (feuille "formule")

Sheet Devis
A1: Lot C
G2: Prix Unitaire | J2: Prix Total | L2: Prix Réel
A3: Lot | B3: Article | C3: Description | D3: Origine | E3: Unité | F3: Qté | G3: BRUT. | H3: RABAIS | I3: NET HT. | J3: BRUT | K3: NET HT | L3: Unitaire NET HT | M3: Total NET HT
A4: 200.00 Système
A5: Lot A | B5: 100.100.100 | C5: =IF(ISBLANK(B5),"",INDEX(BD[],MATCH(B5,article,0),COLUMN(description))) -> bbbbbbbbbbbbbbbbbbbbbbbb | D5: =IF(ISBLANK(B5),"",INDEX(BD[],MATCH(B5,article,0),COLUMN(origine))) -> Soumission | E5: =IF(ISBLANK(B5),"",INDEX(BD[],MATCH(B5,article,0),COLUMN(unite))) -> p | F5: 100 | G5: =IF(ISBLANK(B5),"",INDEX(BD[],MATCH(B5,article,0),COLUMN(brutjaune))) -> 2 | H5: =IF(ISBLANK(B5),"",INDEX(BD[],MATCH(B5,article,0),COLUMN(rabaisjaune))) -> 0.05612565 | I5: =IF(ISBLANK(B5),"",INDEX(BD[],MATCH(B5,article,0),COLUMN(nethtjaune))) -> 1.8877487 | J5: =IF(OR(ISBLANK(F5),G5=""),"",F5*G5) -> 200 | K5: =IF(OR(ISBLANK(F5),I5=""),"",F5*I5) -> 188.77487 | L5: =IF(ISBLANK(B5),"",INDEX(BD[],MATCH(B5,article,0),COLUMN(nethtviolet))) -> 1.7 | M5: =IF(OR(ISBLANK(F5),L5=""),"",F5*L5) -> 170
A6: Lot A | B6: 200.200.200 | C6: =IF(ISBLANK(B6),"",INDEX(BD[],MATCH(B6,article,0),COLUMN(description))) -> cccccccccccccccccccccccccccc | D6: =IF(ISBLANK(B6),"",INDEX(BD[],MATCH(B6,article,0),COLUMN(origine))) -> Soumission | E6: =IF(ISBLANK(B6),"",INDEX(BD[],MATCH(B6,article,0),COLUMN(unite))) -> p | F6: 100 | G6: =IF(ISBLANK(B6),"",INDEX(BD[],MATCH(B6,article,0),COLUMN(brutjaune))) -> 3 | H6: =IF(ISBLANK(B6),"",INDEX(BD[],MATCH(B6,article,0),COLUMN(rabaisjaune))) -> 0.05612565 | I6: =IF(ISBLANK(B6),"",INDEX(BD[],MATCH(B6,article,0),COLUMN(nethtjaune))) -> 2.8316231 | J6: =IF(OR(ISBLANK(F6),G6=""),"",F6*G6) -> 300 | K6: =IF(OR(ISBLANK(F6),I6=""),"",F6*I6) -> 283.16231 | L6: =IF(ISBLANK(B6),"",INDEX(BD[],MATCH(B6,article,0),COLUMN(nethtviolet))) -> 2.7 | M6: =IF(OR(ISBLANK(F6),L6=""),"",F6*L6) -> 270
A7: Lot B | B7: 300.300.300 | C7: =IF(ISBLANK(B7),"",INDEX(BD[],MATCH(B7,article,0),COLUMN(description))) -> dddddddddddddddddddddddd | D7: =IF(ISBLANK(B7),"",INDEX(BD[],MATCH(B7,article,0),COLUMN(origine))) -> Soumission | E7: =IF(ISBLANK(B7),"",INDEX(BD[],MATCH(B7,article,0),COLUMN(unite))) -> p | F7: 100 | G7: =IF(ISBLANK(B7),"",INDEX(BD[],MATCH(B7,article,0),COLUMN(brutjaune))) -> 4 | H7: =IF(ISBLANK(B7),"",INDEX(BD[],MATCH(B7,article,0),COLUMN(rabaisjaune))) -> 0.05612565 | I7: =IF(ISBLANK(B7),"",INDEX(BD[],MATCH(B7,article,0),COLUMN(nethtjaune))) -> 3.7754974 | J7: =IF(OR(ISBLANK(F7),G7=""),"",F7*G7) -> 400 | K7: =IF(OR(ISBLANK(F7),I7=""),"",F7*I7) -> 377.54974 | L7: =IF(ISBLANK(B7),"",INDEX(BD[],MATCH(B7,article,0),COLUMN(nethtviolet))) -> 3.7 | M7: =IF(OR(ISBLANK(F7),L7=""),"",F7*L7) -> 370
A8: Lot C | B8: 400.400.400 | C8: =IF(ISBLANK(B8),"",INDEX(BD[],MATCH(B8,article,0),COLUMN(description))) -> eeeeeeeeeeeeeeeeeeeeeeee | D8: =IF(ISBLANK(B8),"",INDEX(BD[],MATCH(B8,article,0),COLUMN(origine))) -> Soumission | E8: =IF(ISBLANK(B8),"",INDEX(BD[],MATCH(B8,article,0),COLUMN(unite))) -> p | F8: 100 | G8: =IF(ISBLANK(B8),"",INDEX(BD[],MATCH(B8,article,0),COLUMN(brutjaune))) -> 5 | H8: =IF(ISBLANK(B8),"",INDEX(BD[],MATCH(B8,article,0),COLUMN(rabaisjaune))) -> 0.05612565 | I8: =IF(ISBLANK(B8),"",INDEX(BD[],MATCH(B8,article,0),COLUMN(nethtjaune))) -> 4.7193717 | J8: =IF(OR(ISBLANK(F8),G8=""),"",F8*G8) -> 500 | K8: =IF(OR(ISBLANK(F8),I8=""),"",F8*I8) -> 471.93717 | L8: =IF(ISBLANK(B8),"",INDEX(BD[],MATCH(B8,article,0),COLUMN(nethtviolet))) -> 4.7 | M8: =IF(OR(ISBLANK(F8),L8=""),"",F8*L8) -> 470
A9: Total Système | J9: =SUM(J5:J8) -> 1400 | K9: =SUM(K5:K8) -> 1321.4241 | M9: =SUM(M5:M8) -> 1280
A11: 300.00 Installation
A12: Lot C | B12: 100.100.100 | C12: =IF(ISBLANK(B12),"",INDEX(BD[],MATCH(B12,article,0),COLUMN(description))) -> bbbbbbbbbbbbbbbbbbbbbbbb | D12: =IF(ISBLANK(B12),"",INDEX(BD[],MATCH(B12,article,0),COLUMN(origine))) -> Soumission | E12: =IF(ISBLANK(B12),"",INDEX(BD[],MATCH(B12,article,0),COLUMN(unite))) -> p | F12: 100 | G12: =IF(ISBLANK(B12),"",INDEX(BD[],MATCH(B12,article,0),COLUMN(brutjaune))) -> 2 | H12: =IF(ISBLANK(B12),"",INDEX(BD[],MATCH(B12,article,0),COLUMN(rabaisjaune))) -> 0.05612565 | I12: =IF(ISBLANK(B12),"",INDEX(BD[],MATCH(B12,article,0),COLUMN(nethtjaune))) -> 1.8877487 | J12: =IF(OR(ISBLANK(F12),G12=""),"",F12*G12) -> 200 | K12: =IF(OR(ISBLANK(F12),I12=""),"",F12*I12) -> 188.77487 | L12: =IF(ISBLANK(B12),"",INDEX(BD[],MATCH(B12,article,0),COLUMN(nethtviolet))) -> 1.7 | M12: =IF(OR(ISBLANK(F12),L12=""),"",F12*L12) -> 170
A13: Lot B | B13: 200.200.200 | C13: =IF(ISBLANK(B13),"",INDEX(BD[],MATCH(B13,article,0),COLUMN(description))) -> cccccccccccccccccccccccccccc | D13: =IF(ISBLANK(B13),"",INDEX(BD[],MATCH(B13,article,0),COLUMN(origine))) -> Soumission | E13: =IF(ISBLANK(B13),"",INDEX(BD[],MATCH(B13,article,0),COLUMN(unite))) -> p | F13: 100 | G13: =IF(ISBLANK(B13),"",INDEX(BD[],MATCH(B13,article,0),COLUMN(brutjaune))) -> 3 | H13: =IF(ISBLANK(B13),"",INDEX(BD[],MATCH(B13,article,0),COLUMN(rabaisjaune))) -> 0.05612565 | I13: =IF(ISBLANK(B13),"",INDEX(BD[],MATCH(B13,article,0),COLUMN(nethtjaune))) -> 2.8316231 | J13: =IF(OR(ISBLANK(F13),G13=""),"",F13*G13) -> 300 | K13: =IF(OR(ISBLANK(F13),I13=""),"",F13*I13) -> 283.16231 | L13: =IF(ISBLANK(B13),"",INDEX(BD[],MATCH(B13,article,0),COLUMN(nethtviolet))) -> 2.7 | M13: =IF(OR(ISBLANK(F13),L13=""),"",F13*L13) -> 270
A14: Lot B | B14: 300.300.300 | C14: =IF(ISBLANK(B14),"",INDEX(BD[],MATCH(B14,article,0),COLUMN(description))) -> dddddddddddddddddddddddd | D14: =IF(ISBLANK(B14),"",INDEX(BD[],MATCH(B14,article,0),COLUMN(origine))) -> Soumission | E14: =IF(ISBLANK(B14),"",INDEX(BD[],MATCH(B14,article,0),COLUMN(unite))) -> p | F14: 100 | G14: =IF(ISBLANK(B14),"",INDEX(BD[],MATCH(B14,article,0),COLUMN(brutjaune))) -> 4 | H14: =IF(ISBLANK(B14),"",INDEX(BD[],MATCH(B14,article,0),COLUMN(rabaisjaune))) -> 0.05612565 | I14: =IF(ISBLANK(B14),"",INDEX(BD[],MATCH(B14,article,0),COLUMN(nethtjaune))) -> 3.7754974 | J14: =IF(OR(ISBLANK(F14),G14=""),"",F14*G14) -> 400 | K14: =IF(OR(ISBLANK(F14),I14=""),"",F14*I14) -> 377.54974 | L14: =IF(ISBLANK(B14),"",INDEX(BD[],MATCH(B14,article,0),COLUMN(nethtviolet))) -> 3.7 | M14: =IF(OR(ISBLANK(F14),L14=""),"",F14*L14) -> 370
A15: Lot A | B15: 400.400.400 | C15: =IF(ISBLANK(B15),"",INDEX(BD[],MATCH(B15,article,0),COLUMN(description))) -> eeeeeeeeeeeeeeeeeeeeeeee | D15: =IF(ISBLANK(B15),"",INDEX(BD[],MATCH(B15,article,0),COLUMN(origine))) -> Soumission | E15: =IF(ISBLANK(B15),"",INDEX(BD[],MATCH(B15,article,0),COLUMN(unite))) -> p | F15: 100 | G15: =IF(ISBLANK(B15),"",INDEX(BD[],MATCH(B15,article,0),COLUMN(brutjaune))) -> 5 | H15: =IF(ISBLANK(B15),"",INDEX(BD[],MATCH(B15,article,0),COLUMN(rabaisjaune))) -> 0.05612565 | I15: =IF(ISBLANK(B15),"",INDEX(BD[],MATCH(B15,article,0),COLUMN(nethtjaune))) -> 4.7193717 | J15: =IF(OR(ISBLANK(F15),G15=""),"",F15*G15) -> 500 | K15: =IF(OR(ISBLANK(F15),I15=""),"",F15*I15) -> 471.93717 | L15: =IF(ISBLANK(B15),"",INDEX(BD[],MATCH(B15,article,0),COLUMN(nethtviolet))) -> 4.7 | M15: =IF(OR(ISBLANK(F15),L15=""),"",F15*L15) -> 470
A16: Total Installations | J16: =SUM(J12:J15) -> 1400 | K16: =SUM(K12:K15) -> 1321.4241 | M16: =SUM(M12:M15) -> 1280
A18: Total Lot C | J18: =J16+J9 -> 2800 | K18: =K16+K9 -> 2642.8482 | L18: Sous Total : | M18: =M9+M16 -> 2560
L19: Arrêté : | M19: -100
L20: Total NET HT : | M20: =M18+M19 -> 2460

Sheet formules
A1: ref | B1: index lot | C1: Article = "listarticle" dans le gestionnaire de nom) | E1: Liste Lot ( = "lots" dans le gestionnaire de nom)
A2: 1 | B2: =IF(Devis!A5='n° Lot'!$A$9,A2,"") | C2: =IF(ISERROR(INDEX(Devis!$B$5:$B$22000,SMALL($B$2:$B$26,A2),1)),"",INDEX(Devis!$B$5:$B$22000,SMALL($B$2:$B$26,A2),1)) -> 400.400.400 | E2: Lot A
A3: 2 | B3: =IF(Devis!A6='n° Lot'!$A$9,A3,"") | C3: =IF(ISERROR(INDEX(Devis!$B$5:$B$22000,SMALL($B$2:$B$26,A3),1)),"",INDEX(Devis!$B$5:$B$22000,SMALL($B$2:$B$26,A3),1)) -> 100.100.100 | E3: Lot B
A4: 3 | B4: =IF(Devis!A7='n° Lot'!$A$9,A4,"") | C4: =IF(ISERROR(INDEX(Devis!$B$5:$B$22000,SMALL($B$2:$B$26,A4),1)),"",INDEX(Devis!$B$5:$B$22000,SMALL($B$2:$B$26,A4),1)) | E4: Lot C
A5: 4 | B5: =IF(Devis!A8='n° Lot'!$A$9,A5,"") -> 4 | C5: =IF(ISERROR(INDEX(Devis!$B$5:$B$22000,SMALL($B$2:$B$26,A5),1)),"",INDEX(Devis!$B$5:$B$22000,SMALL($B$2:$B$26,A5),1))
A6: 5 | B6: =IF(Devis!A9='n° Lot'!$A$9,A6,"") | C6: =IF(ISERROR(INDEX(Devis!$B$5:$B$22000,SMALL($B$2:$B$26,A6),1)),"",INDEX(Devis!$B$5:$B$22000,SMALL($B$2:$B$26,A6),1))
A7: 6 | B7: =IF(Devis!A10='n° Lot'!$A$9,A7,"") | C7: =IF(ISERROR(INDEX(Devis!$B$5:$B$22000,SMALL($B$2:$B$26,A7),1)),"",INDEX(Devis!$B$5:$B$22000,SMALL($B$2:$B$26,A7),1)) | G7: Ne pas oublier d'étirer les formules ainsi que les tableaux dans le gestionnaire e nom
A8: 7 | B8: =IF(Devis!A11='n° Lot'!$A$9,A8,"") | C8: =IF(ISERROR(INDEX(Devis!$B$5:$B$22000,SMALL($B$2:$B$26,A8),1)),"",INDEX(Devis!$B$5:$B$22000,SMALL($B$2:$B$26,A8),1))
A9: 8 | B9: =IF(Devis!A12='n° Lot'!$A$9,A9,"") -> 8 | C9: =IF(ISERROR(INDEX(Devis!$B$5:$B$22000,SMALL($B$2:$B$26,A9),1)),"",INDEX(Devis!$B$5:$B$22000,SMALL($B$2:$B$26,A9),1))
A10: 9 | B10: =IF(Devis!A13='n° Lot'!$A$9,A10,"") | C10: =IF(ISERROR(INDEX(Devis!$B$5:$B$22000,SMALL($B$2:$B$26,A10),1)),"",INDEX(Devis!$B$5:$B$22000,SMALL($B$2:$B$26,A10),1))
A11: 10 | B11: =IF(Devis!A14='n° Lot'!$A$9,A11,"") | C11: =IF(ISERROR(INDEX(Devis!$B$5:$B$22000,SMALL($B$2:$B$26,A11),1)),"",INDEX(Devis!$B$5:$B$22000,SMALL($B$2:$B$26,A11),1))
A12: 11 | B12: =IF(Devis!A15='n° Lot'!$A$9,A12,"") | C12: =IF(ISERROR(INDEX(Devis!$B$5:$B$22000,SMALL($B$2:$B$26,A12),1)),"",INDEX(Devis!$B$5:$B$22000,SMALL($B$2:$B$26,A12),1))
A13: 12 | B13: =IF(Devis!A16='n° Lot'!$A$9,A13,"") | C13: =IF(ISERROR(INDEX(Devis!$B$5:$B$22000,SMALL($B$2:$B$26,A13),1)),"",INDEX(Devis!$B$5:$B$22000,SMALL($B$2:$B$26,A13),1))
A14: 13 | B14: =IF(Devis!A17='n° Lot'!$A$9,A14,"") | C14: =IF(ISERROR(INDEX(Devis!$B$5:$B$22000,SMALL($B$2:$B$26,A14),1)),"",INDEX(Devis!$B$5:$B$22000,SMALL($B$2:$B$26,A14),1))
A15: 14 | B15: =IF(Devis!A18='n° Lot'!$A$9,A15,"") | C15: =IF(ISERROR(INDEX(Devis!$B$5:$B$22000,SMALL($B$2:$B$26,A15),1)),"",INDEX(Devis!$B$5:$B$22000,SMALL($B$2:$B$26,A15),1))
A16: 15 | B16: =IF(Devis!A19='n° Lot'!$A$9,A16,"") | C16: =IF(ISERROR(INDEX(Devis!$B$5:$B$22000,SMALL($B$2:$B$26,A16),1)),"",INDEX(Devis!$B$5:$B$22000,SMALL($B$2:$B$26,A16),1))
A17: 16 | B17: =IF(Devis!A20='n° Lot'!$A$9,A17,"") | C17: =IF(ISERROR(INDEX(Devis!$B$5:$B$22000,SMALL($B$2:$B$26,A17),1)),"",INDEX(Devis!$B$5:$B$22000,SMALL($B$2:$B$26,A17),1))
A18: 17 | B18: =IF(Devis!A21='n° Lot'!$A$9,A18,"") | C18: =IF(ISERROR(INDEX(Devis!$B$5:$B$22000,SMALL($B$2:$B$26,A18),1)),"",INDEX(Devis!$B$5:$B$22000,SMALL($B$2:$B$26,A18),1))
A19: 18 | B19: =IF(Devis!A22='n° Lot'!$A$9,A19,"") | C19: =IF(ISERROR(INDEX(Devis!$B$5:$B$22000,SMALL($B$2:$B$26,A19),1)),"",INDEX(Devis!$B$5:$B$22000,SMALL($B$2:$B$26,A19),1))
... A26: 25 | B26: =IF(Devis!A29='n° Lot'!$A$9,A26,"") | C26: =IF(ISERROR(INDEX(Devis!$B$5:$B$22000,SMALL($B$2:$B$26,A26),1)),"",INDEX(Devis!$B$5:$B$22000,SMALL($B$2:$B$26,A26),1))
