Workbook

Sheet Feuil1
A1: MACHINE1 | B1: MACHINE2 | C1: MACHINE3 | D1: MACHINE4 | E1: MACHINE5 | F1: RESULTAT
B2: B1 | E2: E1 | F2: =Feuil2!G3&Feuil2!Y3&Feuil2!Z3&Feuil2!AA3&Feuil2!AB3 -> A6
E3: E2 | F3: =Feuil2!G4&Feuil2!Y4&Feuil2!Z4&Feuil2!AA4&Feuil2!AB4 -> A7
F4: =Feuil2!G5&Feuil2!Y5&Feuil2!Z5&Feuil2!AA5&Feuil2!AB5 -> A9
F5: =Feuil2!G6&Feuil2!Y6&Feuil2!Z6&Feuil2!AA6&Feuil2!AB6 -> A10
F6: =Feuil2!G7&Feuil2!Y7&Feuil2!Z7&Feuil2!AA7&Feuil2!AB7 -> B1
A7: A6 | B7: B6 | F7: =Feuil2!G8&Feuil2!Y8&Feuil2!Z8&Feuil2!AA8&Feuil2!AB8 -> B6
A8: A7 | B8: B7 | F8: =Feuil2!G9&Feuil2!Y9&Feuil2!Z9&Feuil2!AA9&Feuil2!AB9 -> B7
B9: B8 | E9: E8 | F9: =Feuil2!G10&Feuil2!Y10&Feuil2!Z10&Feuil2!AA10&Feuil2!AB10 -> B8
A10: A9 | B10: B9 | F10: =Feuil2!G11&Feuil2!Y11&Feuil2!Z11&Feuil2!AA11&Feuil2!AB11 -> B9
A11: A10 | B11: B10 | F11: =Feuil2!G12&Feuil2!Y12&Feuil2!Z12&Feuil2!AA12&Feuil2!AB12 -> B10
B12: B11 | F12: =Feuil2!G13&Feuil2!Y13&Feuil2!Z13&Feuil2!AA13&Feuil2!AB13 -> B11
B13: B12 | F13: =Feuil2!G14&Feuil2!Y14&Feuil2!Z14&Feuil2!AA14&Feuil2!AB14 -> B12
B14: B13 | D14: D13 | F14: =Feuil2!G15&Feuil2!Y15&Feuil2!Z15&Feuil2!AA15&Feuil2!AB15 -> B13
D15: D14 | F15: =Feuil2!G16&Feuil2!Y16&Feuil2!Z16&Feuil2!AA16&Feuil2!AB16 -> C15
C16: C15 | D16: D15 | E16: E15 | F16: =Feuil2!G17&Feuil2!Y17&Feuil2!Z17&Feuil2!AA17&Feuil2!AB17 -> C16
C17: C16 | D17: D16 | E17: E16 | F17: =Feuil2!G18&Feuil2!Y18&Feuil2!Z18&Feuil2!AA18&Feuil2!AB18 -> D13
F18: =Feuil2!G19&Feuil2!Y19&Feuil2!Z19&Feuil2!AA19&Feuil2!AB19 -> D14
F19: =Feuil2!G20&Feuil2!Y20&Feuil2!Z20&Feuil2!AA20&Feuil2!AB20 -> D15
F20: =Feuil2!G21&Feuil2!Y21&Feuil2!Z21&Feuil2!AA21&Feuil2!AB21 -> D16
F21: =Feuil2!G22&Feuil2!Y22&Feuil2!Z22&Feuil2!AA22&Feuil2!AB22 -> E1
F22: =Feuil2!G23&Feuil2!Y23&Feuil2!Z23&Feuil2!AA23&Feuil2!AB23 -> E2
F23: =Feuil2!G24&Feuil2!Y24&Feuil2!Z24&Feuil2!AA24&Feuil2!AB24 -> E8
F24: =Feuil2!G25&Feuil2!Y25&Feuil2!Z25&Feuil2!AA25&Feuil2!AB25 -> E15
F25: =Feuil2!G26&Feuil2!Y26&Feuil2!Z26&Feuil2!AA26&Feuil2!AB26 -> E16
F26: =Feuil2!G27&Feuil2!Y27&Feuil2!Z27&Feuil2!AA27&Feuil2!AB27
F27: =Feuil2!G28&Feuil2!Y28&Feuil2!Z28&Feuil2!AA28&Feuil2!AB28
F28: =Feuil2!G29&Feuil2!Y29&Feuil2!Z29&Feuil2!AA29&Feuil2!AB29
F29: =Feuil2!G30&Feuil2!Y30&Feuil2!Z30&Feuil2!AA30&Feuil2!AB30
... F142: =Feuil2!G143&Feuil2!Y143&Feuil2!Z143&Feuil2!AA143&Feuil2!AB143

Sheet Feuil2
K1: max> | L1: =MAX(L3:L64000) -> 4 | M1: =COUNT(M3:M64000) -> 9 | N1: =COUNT(N3:N64000) -> 2 | O1: =COUNT(O3:O64000) -> 4 | P1: =COUNT(P3:P64000) -> 5
B2: M1 | C2: M2 | D2: M3 | E2: M4 | F2: M5 | G2: =B2 -> M1 | H2: =C2 -> M2 | I2: =D2 -> M3 | J2: =E2 -> M4 | K2: =F2 -> M5 | L2: 1 | M2: 2 | N2: 3 | O2: 4 | P2: 5 | Q2: M2 | R2: M2 | S2: M3 | T2: M3 | U2: M4 | V2: M4 | W2: M5 | X2: M5 | Y2: =H2 -> M2 | Z2: M3 | AA2: M4 | AB2: M5
A3: 1 | B3: =IF(ISBLANK(Feuil1!A2),"",ROW(Feuil1!A2)) | C3: =IF(ISBLANK(Feuil1!B2),"",ROW(Feuil1!B2)) -> 2 | D3: =IF(ISBLANK(Feuil1!C2),"",ROW(Feuil1!C2)) | E3: =IF(ISBLANK(Feuil1!D2),"",ROW(Feuil1!D2)) | F3: =IF(ISBLANK(Feuil1!E2),"",ROW(Feuil1!E2)) -> 2 | G3: =IF(ISERROR(SMALL($B$3:$B$64000,$A3)),"",INDEX(Feuil1!A:A,SMALL($B$3:$B$64000,$A3))) -> A6 | H3: =IF(ISERROR(SMALL($C$3:$C$64000,$A3)),"",INDEX(Feuil1!B:B,SMALL($C$3:$C$64000,$A3))) -> B1 | I3: =IF(ISERROR(SMALL($D$3:$D$64000,$A3)),"",INDEX(Feuil1!C:C,SMALL($D$3:$D$64000,$A3))) -> C15 | J3: =IF(ISERROR(SMALL($E$3:$E$64000,$A3)),"",INDEX(Feuil1!D:D,SMALL($E$3:$E$64000,$A3))) -> D13 | K3: =IF(ISERROR(SMALL($F$3:$F$64000,$A3)),"",INDEX(Feuil1!E:E,SMALL($F$3:$F$64000,$A3))) -> E1 | L3: =IF(G3="","",ROW()-2) -> 1 | M3: =IF(H3="","",ROW()-2) -> 1 | N3: =IF(I3="","",ROW()-2) -> 1 | O3: =IF(J3="","",ROW()-2) -> 1 | P3: =IF(K3="","",ROW()-2) -> 1 | Q3: =IF(ISERROR(IF(L3>$L$1,Q2+1)),"",IF(L3>$L$1,Q2+1)) -> FALSE | R3: =IF(Q3<=$M$1,Q3,"") | S3: =IF(ISERROR(IF(Q3=FALSE,FALSE,IF(R3>$M$1,S2+1))),"",IF(Q3=FALSE,FALSE,IF(R3>$M$1,S2+1))) -> FALSE | T3: =IF(S3<=$N$1,S3,"") | U3: =IF(ISERROR(IF(NOT(AND(Q3,S3)),FALSE,IF(T3>$N$1,U2+1))),"",IF(NOT(AND(Q3,S3)),FALSE,IF(T3>$N$1,U2+1))) -> FALSE | V3: =IF(U3<=$O$1,U3,"") | W3: =IF(ISERROR(IF(NOT(AND(Q3,S3,U3)),"",IF(V3>$O$1,W2+1))),"",IF(NOT(AND(Q3,S3,U3)),"",IF(V3>$O$1,W2+1))) | X3: =IF(W3<=$P$1,W3,"") | Y3: =IF(R3="","",INDEX(H$3:H$64000,R3)) | Z3: =IF(T3="","",INDEX(I$3:I$64000,T3)) | AA3: =IF(V3="","",INDEX(J$3:J$64000,V3)) | AB3: =IF(X3="","",INDEX(K$3:K$64000,X3))
A4: 2 | B4: =IF(ISBLANK(Feuil1!A3),"",ROW(Feuil1!A3)) | C4: =IF(ISBLANK(Feuil1!B3),"",ROW(Feuil1!B3)) | D4: =IF(ISBLANK(Feuil1!C3),"",ROW(Feuil1!C3)) | E4: =IF(ISBLANK(Feuil1!D3),"",ROW(Feuil1!D3)) | F4: =IF(ISBLANK(Feuil1!E3),"",ROW(Feuil1!E3)) -> 3 | G4: =IF(ISERROR(SMALL($B$3:$B$64000,$A4)),"",INDEX(Feuil1!A:A,SMALL($B$3:$B$64000,$A4))) -> A7 | H4: =IF(ISERROR(SMALL($C$3:$C$64000,$A4)),"",INDEX(Feuil1!B:B,SMALL($C$3:$C$64000,$A4))) -> B6 | I4: =IF(ISERROR(SMALL($D$3:$D$64000,$A4)),"",INDEX(Feuil1!C:C,SMALL($D$3:$D$64000,$A4))) -> C16 | J4: =IF(ISERROR(SMALL($E$3:$E$64000,$A4)),"",INDEX(Feuil1!D:D,SMALL($E$3:$E$64000,$A4))) -> D14 | K4: =IF(ISERROR(SMALL($F$3:$F$64000,$A4)),"",INDEX(Feuil1!E:E,SMALL($F$3:$F$64000,$A4))) -> E2 | L4: =IF(G4="","",ROW()-2) -> 2 | M4: =IF(H4="","",ROW()-2) -> 2 | N4: =IF(I4="","",ROW()-2) -> 2 | O4: =IF(J4="","",ROW()-2) -> 2 | P4: =IF(K4="","",ROW()-2) -> 2 | Q4: =IF(ISERROR(IF(L4>$L$1,Q3+1)),"",IF(L4>$L$1,Q3+1)) -> FALSE | R4: =IF(Q4<=$M$1,Q4,"") | S4: =IF(ISERROR(IF(Q4=FALSE,FALSE,IF(R4>$M$1,S3+1))),"",IF(Q4=FALSE,FALSE,IF(R4>$M$1,S3+1))) -> FALSE | T4: =IF(S4<=$N$1,S4,"") | U4: =IF(ISERROR(IF(NOT(AND(Q4,S4)),FALSE,IF(T4>$N$1,U3+1))),"",IF(NOT(AND(Q4,S4)),FALSE,IF(T4>$N$1,U3+1))) -> FALSE | V4: =IF(U4<=$O$1,U4,"") | W4: =IF(ISERROR(IF(NOT(AND(Q4,S4,U4)),"",IF(V4>$O$1,W3+1))),"",IF(NOT(AND(Q4,S4,U4)),"",IF(V4>$O$1,W3+1))) | X4: =IF(W4<=$P$1,W4,"") | Y4: =IF(R4="","",INDEX(H$3:H$64000,R4)) | Z4: =IF(T4="","",INDEX(I$3:I$64000,T4)) | AA4: =IF(V4="","",INDEX(J$3:J$64000,V4)) | AB4: =IF(X4="","",INDEX(K$3:K$64000,X4))
A5: 3 | B5: =IF(ISBLANK(Feuil1!A4),"",ROW(Feuil1!A4)) | C5: =IF(ISBLANK(Feuil1!B4),"",ROW(Feuil1!B4)) | D5: =IF(ISBLANK(Feuil1!C4),"",ROW(Feuil1!C4)) | E5: =IF(ISBLANK(Feuil1!D4),"",ROW(Feuil1!D4)) | F5: =IF(ISBLANK(Feuil1!E4),"",ROW(Feuil1!E4)) | G5: =IF(ISERROR(SMALL($B$3:$B$64000,$A5)),"",INDEX(Feuil1!A:A,SMALL($B$3:$B$64000,$A5))) -> A9 | H5: =IF(ISERROR(SMALL($C$3:$C$64000,$A5)),"",INDEX(Feuil1!B:B,SMALL($C$3:$C$64000,$A5))) -> B7 | I5: =IF(ISERROR(SMALL($D$3:$D$64000,$A5)),"",INDEX(Feuil1!C:C,SMALL($D$3:$D$64000,$A5))) | J5: =IF(ISERROR(SMALL($E$3:$E$64000,$A5)),"",INDEX(Feuil1!D:D,SMALL($E$3:$E$64000,$A5))) -> D15 | K5: =IF(ISERROR(SMALL($F$3:$F$64000,$A5)),"",INDEX(Feuil1!E:E,SMALL($F$3:$F$64000,$A5))) -> E8 | L5: =IF(G5="","",ROW()-2) -> 3 | M5: =IF(H5="","",ROW()-2) -> 3 | N5: =IF(I5="","",ROW()-2) | O5: =IF(J5="","",ROW()-2) -> 3 | P5: =IF(K5="","",ROW()-2) -> 3 | Q5: =IF(ISERROR(IF(L5>$L$1,Q4+1)),"",IF(L5>$L$1,Q4+1)) -> FALSE | R5: =IF(Q5<=$M$1,Q5,"") | S5: =IF(ISERROR(IF(Q5=FALSE,FALSE,IF(R5>$M$1,S4+1))),"",IF(Q5=FALSE,FALSE,IF(R5>$M$1,S4+1))) -> FALSE | T5: =IF(S5<=$N$1,S5,"") | U5: =IF(ISERROR(IF(NOT(AND(Q5,S5)),FALSE,IF(T5>$N$1,U4+1))),"",IF(NOT(AND(Q5,S5)),FALSE,IF(T5>$N$1,U4+1))) -> FALSE | V5: =IF(U5<=$O$1,U5,"") | W5: =IF(ISERROR(IF(NOT(AND(Q5,S5,U5)),"",IF(V5>$O$1,W4+1))),"",IF(NOT(AND(Q5,S5,U5)),"",IF(V5>$O$1,W4+1))) | X5: =IF(W5<=$P$1,W5,"") | Y5: =IF(R5="","",INDEX(H$3:H$64000,R5)) | Z5: =IF(T5="","",INDEX(I$3:I$64000,T5)) | AA5: =IF(V5="","",INDEX(J$3:J$64000,V5)) | AB5: =IF(X5="","",INDEX(K$3:K$64000,X5))
A6: 4 | B6: =IF(ISBLANK(Feuil1!A5),"",ROW(Feuil1!A5)) | C6: =IF(ISBLANK(Feuil1!B5),"",ROW(Feuil1!B5)) | D6: =IF(ISBLANK(Feuil1!C5),"",ROW(Feuil1!C5)) | E6: =IF(ISBLANK(Feuil1!D5),"",ROW(Feuil1!D5)) | F6: =IF(ISBLANK(Feuil1!E5),"",ROW(Feuil1!E5)) | G6: =IF(ISERROR(SMALL($B$3:$B$64000,$A6)),"",INDEX(Feuil1!A:A,SMALL($B$3:$B$64000,$A6))) -> A10 | H6: =IF(ISERROR(SMALL($C$3:$C$64000,$A6)),"",INDEX(Feuil1!B:B,SMALL($C$3:$C$64000,$A6))) -> B8 | I6: =IF(ISERROR(SMALL($D$3:$D$64000,$A6)),"",INDEX(Feuil1!C:C,SMALL($D$3:$D$64000,$A6))) | J6: =IF(ISERROR(SMALL($E$3:$E$64000,$A6)),"",INDEX(Feuil1!D:D,SMALL($E$3:$E$64000,$A6))) -> D16 | K6: =IF(ISERROR(SMALL($F$3:$F$64000,$A6)),"",INDEX(Feuil1!E:E,SMALL($F$3:$F$64000,$A6))) -> E15 | L6: =IF(G6="","",ROW()-2) -> 4 | M6: =IF(H6="","",ROW()-2) -> 4 | N6: =IF(I6="","",ROW()-2) | O6: =IF(J6="","",ROW()-2) -> 4 | P6: =IF(K6="","",ROW()-2) -> 4 | Q6: =IF(ISERROR(IF(L6>$L$1,Q5+1)),"",IF(L6>$L$1,Q5+1)) -> FALSE | R6: =IF(Q6<=$M$1,Q6,"") | S6: =IF(ISERROR(IF(Q6=FALSE,FALSE,IF(R6>$M$1,S5+1))),"",IF(Q6=FALSE,FALSE,IF(R6>$M$1,S5+1))) -> FALSE | T6: =IF(S6<=$N$1,S6,"") | U6: =IF(ISERROR(IF(NOT(AND(Q6,S6)),FALSE,IF(T6>$N$1,U5+1))),"",IF(NOT(AND(Q6,S6)),FALSE,IF(T6>$N$1,U5+1))) -> FALSE | V6: =IF(U6<=$O$1,U6,"") | W6: =IF(ISERROR(IF(NOT(AND(Q6,S6,U6)),"",IF(V6>$O$1,W5+1))),"",IF(NOT(AND(Q6,S6,U6)),"",IF(V6>$O$1,W5+1))) | X6: =IF(W6<=$P$1,W6,"") | Y6: =IF(R6="","",INDEX(H$3:H$64000,R6)) | Z6: =IF(T6="","",INDEX(I$3:I$64000,T6)) | AA6: =IF(V6="","",INDEX(J$3:J$64000,V6)) | AB6: =IF(X6="","",INDEX(K$3:K$64000,X6))
A7: 5 | B7: =IF(ISBLANK(Feuil1!A6),"",ROW(Feuil1!A6)) | C7: =IF(ISBLANK(Feuil1!B6),"",ROW(Feuil1!B6)) | D7: =IF(ISBLANK(Feuil1!C6),"",ROW(Feuil1!C6)) | E7: =IF(ISBLANK(Feuil1!D6),"",ROW(Feuil1!D6)) | F7: =IF(ISBLANK(Feuil1!E6),"",ROW(Feuil1!E6)) | G7: =IF(ISERROR(SMALL($B$3:$B$64000,$A7)),"",INDEX(Feuil1!A:A,SMALL($B$3:$B$64000,$A7))) | H7: =IF(ISERROR(SMALL($C$3:$C$64000,$A7)),"",INDEX(Feuil1!B:B,SMALL($C$3:$C$64000,$A7))) -> B9 | I7: =IF(ISERROR(SMALL($D$3:$D$64000,$A7)),"",INDEX(Feuil1!C:C,SMALL($D$3:$D$64000,$A7))) | J7: =IF(ISERROR(SMALL($E$3:$E$64000,$A7)),"",INDEX(Feuil1!D:D,SMALL($E$3:$E$64000,$A7))) | K7: =IF(ISERROR(SMALL($F$3:$F$64000,$A7)),"",INDEX(Feuil1!E:E,SMALL($F$3:$F$64000,$A7))) -> E16 | L7: =IF(G7="","",ROW()-2) | M7: =IF(H7="","",ROW()-2) -> 5 | N7: =IF(I7="","",ROW()-2) | O7: =IF(J7="","",ROW()-2) | P7: =IF(K7="","",ROW()-2) -> 5 | Q7: =IF(ISERROR(IF(L7>$L$1,Q6+1)),"",IF(L7>$L$1,Q6+1)) -> 1 | R7: =IF(Q7<=$M$1,Q7,"") -> 1 | S7: =IF(ISERROR(IF(Q7=FALSE,FALSE,IF(R7>$M$1,S6+1))),"",IF(Q7=FALSE,FALSE,IF(R7>$M$1,S6+1))) -> FALSE | T7: =IF(S7<=$N$1,S7,"") | U7: =IF(ISERROR(IF(NOT(AND(Q7,S7)),FALSE,IF(T7>$N$1,U6+1))),"",IF(NOT(AND(Q7,S7)),FALSE,IF(T7>$N$1,U6+1))) -> FALSE | V7: =IF(U7<=$O$1,U7,"") | W7: =IF(ISERROR(IF(NOT(AND(Q7,S7,U7)),"",IF(V7>$O$1,W6+1))),"",IF(NOT(AND(Q7,S7,U7)),"",IF(V7>$O$1,W6+1))) | X7: =IF(W7<=$P$1,W7,"") | Y7: =IF(R7="","",INDEX(H$3:H$64000,R7)) -> B1 | Z7: =IF(T7="","",INDEX(I$3:I$64000,T7)) | AA7: =IF(V7="","",INDEX(J$3:J$64000,V7)) | AB7: =IF(X7="","",INDEX(K$3:K$64000,X7))
A8: 6 | B8: =IF(ISBLANK(Feuil1!A7),"",ROW(Feuil1!A7)) -> 7 | C8: =IF(ISBLANK(Feuil1!B7),"",ROW(Feuil1!B7)) -> 7 | D8: =IF(ISBLANK(Feuil1!C7),"",ROW(Feuil1!C7)) | E8: =IF(ISBLANK(Feuil1!D7),"",ROW(Feuil1!D7)) | F8: =IF(ISBLANK(Feuil1!E7),"",ROW(Feuil1!E7)) | G8: =IF(ISERROR(SMALL($B$3:$B$64000,$A8)),"",INDEX(Feuil1!A:A,SMALL($B$3:$B$64000,$A8))) | H8: =IF(ISERROR(SMALL($C$3:$C$64000,$A8)),"",INDEX(Feuil1!B:B,SMALL($C$3:$C$64000,$A8))) -> B10 | I8: =IF(ISERROR(SMALL($D$3:$D$64000,$A8)),"",INDEX(Feuil1!C:C,SMALL($D$3:$D$64000,$A8))) | J8: =IF(ISERROR(SMALL($E$3:$E$64000,$A8)),"",INDEX(Feuil1!D:D,SMALL($E$3:$E$64000,$A8))) | K8: =IF(ISERROR(SMALL($F$3:$F$64000,$A8)),"",INDEX(Feuil1!E:E,SMALL($F$3:$F$64000,$A8))) | L8: =IF(G8="","",ROW()-2) | M8: =IF(H8="","",ROW()-2) -> 6 | N8: =IF(I8="","",ROW()-2) | O8: =IF(J8="","",ROW()-2) | P8: =IF(K8="","",ROW()-2) | Q8: =IF(ISERROR(IF(L8>$L$1,Q7+1)),"",IF(L8>$L$1,Q7+1)) -> 2 | R8: =IF(Q8<=$M$1,Q8,"") -> 2 | S8: =IF(ISERROR(IF(Q8=FALSE,FALSE,IF(R8>$M$1,S7+1))),"",IF(Q8=FALSE,FALSE,IF(R8>$M$1,S7+1))) -> FALSE | T8: =IF(S8<=$N$1,S8,"") | U8: =IF(ISERROR(IF(NOT(AND(Q8,S8)),FALSE,IF(T8>$N$1,U7+1))),"",IF(NOT(AND(Q8,S8)),FALSE,IF(T8>$N$1,U7+1))) -> FALSE | V8: =IF(U8<=$O$1,U8,"") | W8: =IF(ISERROR(IF(NOT(AND(Q8,S8,U8)),"",IF(V8>$O$1,W7+1))),"",IF(NOT(AND(Q8,S8,U8)),"",IF(V8>$O$1,W7+1))) | X8: =IF(W8<=$P$1,W8,"") | Y8: =IF(R8="","",INDEX(H$3:H$64000,R8)) -> B6 | Z8: =IF(T8="","",INDEX(I$3:I$64000,T8)) | AA8: =IF(V8="","",INDEX(J$3:J$64000,V8)) | AB8: =IF(X8="","",INDEX(K$3:K$64000,X8))
A9: 7 | B9: =IF(ISBLANK(Feuil1!A8),"",ROW(Feuil1!A8)) -> 8 | C9: =IF(ISBLANK(Feuil1!B8),"",ROW(Feuil1!B8)) -> 8 | D9: =IF(ISBLANK(Feuil1!C8),"",ROW(Feuil1!C8)) | E9: =IF(ISBLANK(Feuil1!D8),"",ROW(Feuil1!D8)) | F9: =IF(ISBLANK(Feuil1!E8),"",ROW(Feuil1!E8)) | G9: =IF(ISERROR(SMALL($B$3:$B$64000,$A9)),"",INDEX(Feuil1!A:A,SMALL($B$3:$B$64000,$A9))) | H9: =IF(ISERROR(SMALL($C$3:$C$64000,$A9)),"",INDEX(Feuil1!B:B,SMALL($C$3:$C$64000,$A9))) -> B11 | I9: =IF(ISERROR(SMALL($D$3:$D$64000,$A9)),"",INDEX(Feuil1!C:C,SMALL($D$3:$D$64000,$A9))) | J9: =IF(ISERROR(SMALL($E$3:$E$64000,$A9)),"",INDEX(Feuil1!D:D,SMALL($E$3:$E$64000,$A9))) | K9: =IF(ISERROR(SMALL($F$3:$F$64000,$A9)),"",INDEX(Feuil1!E:E,SMALL($F$3:$F$64000,$A9))) | L9: =IF(G9="","",ROW()-2) | M9: =IF(H9="","",ROW()-2) -> 7 | N9: =IF(I9="","",ROW()-2) | O9: =IF(J9="","",ROW()-2) | P9: =IF(K9="","",ROW()-2) | Q9: =IF(ISERROR(IF(L9>$L$1,Q8+1)),"",IF(L9>$L$1,Q8+1)) -> 3 | R9: =IF(Q9<=$M$1,Q9,"") -> 3 | S9: =IF(ISERROR(IF(Q9=FALSE,FALSE,IF(R9>$M$1,S8+1))),"",IF(Q9=FALSE,FALSE,IF(R9>$M$1,S8+1))) -> FALSE | T9: =IF(S9<=$N$1,S9,"") | U9: =IF(ISERROR(IF(NOT(AND(Q9,S9)),FALSE,IF(T9>$N$1,U8+1))),"",IF(NOT(AND(Q9,S9)),FALSE,IF(T9>$N$1,U8+1))) -> FALSE | V9: =IF(U9<=$O$1,U9,"") | W9: =IF(ISERROR(IF(NOT(AND(Q9,S9,U9)),"",IF(V9>$O$1,W8+1))),"",IF(NOT(AND(Q9,S9,U9)),"",IF(V9>$O$1,W8+1))) | X9: =IF(W9<=$P$1,W9,"") | Y9: =IF(R9="","",INDEX(H$3:H$64000,R9)) -> B7 | Z9: =IF(T9="","",INDEX(I$3:I$64000,T9)) | AA9: =IF(V9="","",INDEX(J$3:J$64000,V9)) | AB9: =IF(X9="","",INDEX(K$3:K$64000,X9))
A10: 8 | B10: =IF(ISBLANK(Feuil1!A9),"",ROW(Feuil1!A9)) | C10: =IF(ISBLANK(Feuil1!B9),"",ROW(Feuil1!B9)) -> 9 | D10: =IF(ISBLANK(Feuil1!C9),"",ROW(Feuil1!C9)) | E10: =IF(ISBLANK(Feuil1!D9),"",ROW(Feuil1!D9)) | F10: =IF(ISBLANK(Feuil1!E9),"",ROW(Feuil1!E9)) -> 9 | G10: =IF(ISERROR(SMALL($B$3:$B$64000,$A10)),"",INDEX(Feuil1!A:A,SMALL($B$3:$B$64000,$A10))) | H10: =IF(ISERROR(SMALL($C$3:$C$64000,$A10)),"",INDEX(Feuil1!B:B,SMALL($C$3:$C$64000,$A10))) -> B12 | I10: =IF(ISERROR(SMALL($D$3:$D$64000,$A10)),"",INDEX(Feuil1!C:C,SMALL($D$3:$D$64000,$A10))) | J10: =IF(ISERROR(SMALL($E$3:$E$64000,$A10)),"",INDEX(Feuil1!D:D,SMALL($E$3:$E$64000,$A10))) | K10: =IF(ISERROR(SMALL($F$3:$F$64000,$A10)),"",INDEX(Feuil1!E:E,SMALL($F$3:$F$64000,$A10))) | L10: =IF(G10="","",ROW()-2) | M10: =IF(H10="","",ROW()-2) -> 8 | N10: =IF(I10="","",ROW()-2) | O10: =IF(J10="","",ROW()-2) | P10: =IF(K10="","",ROW()-2) | Q10: =IF(ISERROR(IF(L10>$L$1,Q9+1)),"",IF(L10>$L$1,Q9+1)) -> 4 | R10: =IF(Q10<=$M$1,Q10,"") -> 4 | S10: =IF(ISERROR(IF(Q10=FALSE,FALSE,IF(R10>$M$1,S9+1))),"",IF(Q10=FALSE,FALSE,IF(R10>$M$1,S9+1))) -> FALSE | T10: =IF(S10<=$N$1,S10,"") | U10: =IF(ISERROR(IF(NOT(AND(Q10,S10)),FALSE,IF(T10>$N$1,U9+1))),"",IF(NOT(AND(Q10,S10)),FALSE,IF(T10>$N$1,U9+1))) -> FALSE | V10: =IF(U10<=$O$1,U10,"") | W10: =IF(ISERROR(IF(NOT(AND(Q10,S10,U10)),"",IF(V10>$O$1,W9+1))),"",IF(NOT(AND(Q10,S10,U10)),"",IF(V10>$O$1,W9+1))) | X10: =IF(W10<=$P$1,W10,"") | Y10: =IF(R10="","",INDEX(H$3:H$64000,R10)) -> B8 | Z10: =IF(T10="","",INDEX(I$3:I$64000,T10)) | AA10: =IF(V10="","",INDEX(J$3:J$64000,V10)) | AB10: =IF(X10="","",INDEX(K$3:K$64000,X10))
A11: 9 | B11: =IF(ISBLANK(Feuil1!A10),"",ROW(Feuil1!A10)) -> 10 | C11: =IF(ISBLANK(Feuil1!B10),"",ROW(Feuil1!B10)) -> 10 | D11: =IF(ISBLANK(Feuil1!C10),"",ROW(Feuil1!C10)) | E11: =IF(ISBLANK(Feuil1!D10),"",ROW(Feuil1!D10)) | F11: =IF(ISBLANK(Feuil1!E10),"",ROW(Feuil1!E10)) | G11: =IF(ISERROR(SMALL($B$3:$B$64000,$A11)),"",INDEX(Feuil1!A:A,SMALL($B$3:$B$64000,$A11))) | H11: =IF(ISERROR(SMALL($C$3:$C$64000,$A11)),"",INDEX(Feuil1!B:B,SMALL($C$3:$C$64000,$A11))) -> B13 | I11: =IF(ISERROR(SMALL($D$3:$D$64000,$A11)),"",INDEX(Feuil1!C:C,SMALL($D$3:$D$64000,$A11))) | J11: =IF(ISERROR(SMALL($E$3:$E$64000,$A11)),"",INDEX(Feuil1!D:D,SMALL($E$3:$E$64000,$A11))) | K11: =IF(ISERROR(SMALL($F$3:$F$64000,$A11)),"",INDEX(Feuil1!E:E,SMALL($F$3:$F$64000,$A11))) | L11: =IF(G11="","",ROW()-2) | M11: =IF(H11="","",ROW()-2) -> 9 | N11: =IF(I11="","",ROW()-2) | O11: =IF(J11="","",ROW()-2) | P11: =IF(K11="","",ROW()-2) | Q11: =IF(ISERROR(IF(L11>$L$1,Q10+1)),"",IF(L11>$L$1,Q10+1)) -> 5 | R11: =IF(Q11<=$M$1,Q11,"") -> 5 | S11: =IF(ISERROR(IF(Q11=FALSE,FALSE,IF(R11>$M$1,S10+1))),"",IF(Q11=FALSE,FALSE,IF(R11>$M$1,S10+1))) -> FALSE | T11: =IF(S11<=$N$1,S11,"") | U11: =IF(ISERROR(IF(NOT(AND(Q11,S11)),FALSE,IF(T11>$N$1,U10+1))),"",IF(NOT(AND(Q11,S11)),FALSE,IF(T11>$N$1,U10+1))) -> FALSE | V11: =IF(U11<=$O$1,U11,"") | W11: =IF(ISERROR(IF(NOT(AND(Q11,S11,U11)),"",IF(V11>$O$1,W10+1))),"",IF(NOT(AND(Q11,S11,U11)),"",IF(V11>$O$1,W10+1))) | X11: =IF(W11<=$P$1,W11,"") | Y11: =IF(R11="","",INDEX(H$3:H$64000,R11)) -> B9 | Z11: =IF(T11="","",INDEX(I$3:I$64000,T11)) | AA11: =IF(V11="","",INDEX(J$3:J$64000,V11)) | AB11: =IF(X11="","",INDEX(K$3:K$64000,X11))
A12: 10 | B12: =IF(ISBLANK(Feuil1!A11),"",ROW(Feuil1!A11)) -> 11 | C12: =IF(ISBLANK(Feuil1!B11),"",ROW(Feuil1!B11)) -> 11 | D12: =IF(ISBLANK(Feuil1!C11),"",ROW(Feuil1!C11)) | E12: =IF(ISBLANK(Feuil1!D11),"",ROW(Feuil1!D11)) | F12: =IF(ISBLANK(Feuil1!E11),"",ROW(Feuil1!E11)) | G12: =IF(ISERROR(SMALL($B$3:$B$64000,$A12)),"",INDEX(Feuil1!A:A,SMALL($B$3:$B$64000,$A12))) | H12: =IF(ISERROR(SMALL($C$3:$C$64000,$A12)),"",INDEX(Feuil1!B:B,SMALL($C$3:$C$64000,$A12))) | I12: =IF(ISERROR(SMALL($D$3:$D$64000,$A12)),"",INDEX(Feuil1!C:C,SMALL($D$3:$D$64000,$A12))) | J12: =IF(ISERROR(SMALL($E$3:$E$64000,$A12)),"",INDEX(Feuil1!D:D,SMALL($E$3:$E$64000,$A12))) | K12: =IF(ISERROR(SMALL($F$3:$F$64000,$A12)),"",INDEX(Feuil1!E:E,SMALL($F$3:$F$64000,$A12))) | L12: =IF(G12="","",ROW()-2) | M12: =IF(H12="","",ROW()-2) | N12: =IF(I12="","",ROW()-2) | O12: =IF(J12="","",ROW()-2) | P12: =IF(K12="","",ROW()-2) | Q12: =IF(ISERROR(IF(L12>$L$1,Q11+1)),"",IF(L12>$L$1,Q11+1)) -> 6 | R12: =IF(Q12<=$M$1,Q12,"") -> 6 | S12: =IF(ISERROR(IF(Q12=FALSE,FALSE,IF(R12>$M$1,S11+1))),"",IF(Q12=FALSE,FALSE,IF(R12>$M$1,S11+1))) -> FALSE | T12: =IF(S12<=$N$1,S12,"") | U12: =IF(ISERROR(IF(NOT(AND(Q12,S12)),FALSE,IF(T12>$N$1,U11+1))),"",IF(NOT(AND(Q12,S12)),FALSE,IF(T12>$N$1,U11+1))) -> FALSE | V12: =IF(U12<=$O$1,U12,"") | W12: =IF(ISERROR(IF(NOT(AND(Q12,S12,U12)),"",IF(V12>$O$1,W11+1))),"",IF(NOT(AND(Q12,S12,U12)),"",IF(V12>$O$1,W11+1))) | X12: =IF(W12<=$P$1,W12,"") | Y12: =IF(R12="","",INDEX(H$3:H$64000,R12)) -> B10 | Z12: =IF(T12="","",INDEX(I$3:I$64000,T12)) | AA12: =IF(V12="","",INDEX(J$3:J$64000,V12)) | AB12: =IF(X12="","",INDEX(K$3:K$64000,X12))
A13: 11 | B13: =IF(ISBLANK(Feuil1!A12),"",ROW(Feuil1!A12)) | C13: =IF(ISBLANK(Feuil1!B12),"",ROW(Feuil1!B12)) -> 12 | D13: =IF(ISBLANK(Feuil1!C12),"",ROW(Feuil1!C12)) | E13: =IF(ISBLANK(Feuil1!D12),"",ROW(Feuil1!D12)) | F13: =IF(ISBLANK(Feuil1!E12),"",ROW(Feuil1!E12)) | G13: =IF(ISERROR(SMALL($B$3:$B$64000,$A13)),"",INDEX(Feuil1!A:A,SMALL($B$3:$B$64000,$A13))) | H13: =IF(ISERROR(SMALL($C$3:$C$64000,$A13)),"",INDEX(Feuil1!B:B,SMALL($C$3:$C$64000,$A13))) | I13: =IF(ISERROR(SMALL($D$3:$D$64000,$A13)),"",INDEX(Feuil1!C:C,SMALL($D$3:$D$64000,$A13))) | J13: =IF(ISERROR(SMALL($E$3:$E$64000,$A13)),"",INDEX(Feuil1!D:D,SMALL($E$3:$E$64000,$A13))) | K13: =IF(ISERROR(SMALL($F$3:$F$64000,$A13)),"",INDEX(Feuil1!E:E,SMALL($F$3:$F$64000,$A13))) | L13: =IF(G13="","",ROW()-2) | M13: =IF(H13="","",ROW()-2) | N13: =IF(I13="","",ROW()-2) | O13: =IF(J13="","",ROW()-2) | P13: =IF(K13="","",ROW()-2) | Q13: =IF(ISERROR(IF(L13>$L$1,Q12+1)),"",IF(L13>$L$1,Q12+1)) -> 7 | R13: =IF(Q13<=$M$1,Q13,"") -> 7 | S13: =IF(ISERROR(IF(Q13=FALSE,FALSE,IF(R13>$M$1,S12+1))),"",IF(Q13=FALSE,FALSE,IF(R13>$M$1,S12+1))) -> FALSE | T13: =IF(S13<=$N$1,S13,"") | U13: =IF(ISERROR(IF(NOT(AND(Q13,S13)),FALSE,IF(T13>$N$1,U12+1))),"",IF(NOT(AND(Q13,S13)),FALSE,IF(T13>$N$1,U12+1))) -> FALSE | V13: =IF(U13<=$O$1,U13,"") | W13: =IF(ISERROR(IF(NOT(AND(Q13,S13,U13)),"",IF(V13>$O$1,W12+1))),"",IF(NOT(AND(Q13,S13,U13)),"",IF(V13>$O$1,W12+1))) | X13: =IF(W13<=$P$1,W13,"") | Y13: =IF(R13="","",INDEX(H$3:H$64000,R13)) -> B11 | Z13: =IF(T13="","",INDEX(I$3:I$64000,T13)) | AA13: =IF(V13="","",INDEX(J$3:J$64000,V13)) | AB13: =IF(X13="","",INDEX(K$3:K$64000,X13))
A14: 12 | B14: =IF(ISBLANK(Feuil1!A13),"",ROW(Feuil1!A13)) | C14: =IF(ISBLANK(Feuil1!B13),"",ROW(Feuil1!B13)) -> 13 | D14: =IF(ISBLANK(Feuil1!C13),"",ROW(Feuil1!C13)) | E14: =IF(ISBLANK(Feuil1!D13),"",ROW(Feuil1!D13)) | F14: =IF(ISBLANK(Feuil1!E13),"",ROW(Feuil1!E13)) | G14: =IF(ISERROR(SMALL($B$3:$B$64000,$A14)),"",INDEX(Feuil1!A:A,SMALL($B$3:$B$64000,$A14))) | H14: =IF(ISERROR(SMALL($C$3:$C$64000,$A14)),"",INDEX(Feuil1!B:B,SMALL($C$3:$C$64000,$A14))) | I14: =IF(ISERROR(SMALL($D$3:$D$64000,$A14)),"",INDEX(Feuil1!C:C,SMALL($D$3:$D$64000,$A14))) | J14: =IF(ISERROR(SMALL($E$3:$E$64000,$A14)),"",INDEX(Feuil1!D:D,SMALL($E$3:$E$64000,$A14))) | K14: =IF(ISERROR(SMALL($F$3:$F$64000,$A14)),"",INDEX(Feuil1!E:E,SMALL($F$3:$F$64000,$A14))) | L14: =IF(G14="","",ROW()-2) | M14: =IF(H14="","",ROW()-2) | N14: =IF(I14="","",ROW()-2) | O14: =IF(J14="","",ROW()-2) | P14: =IF(K14="","",ROW()-2) | Q14: =IF(ISERROR(IF(L14>$L$1,Q13+1)),"",IF(L14>$L$1,Q13+1)) -> 8 | R14: =IF(Q14<=$M$1,Q14,"") -> 8 | S14: =IF(ISERROR(IF(Q14=FALSE,FALSE,IF(R14>$M$1,S13+1))),"",IF(Q14=FALSE,FALSE,IF(R14>$M$1,S13+1))) -> FALSE | T14: =IF(S14<=$N$1,S14,"") | U14: =IF(ISERROR(IF(NOT(AND(Q14,S14)),FALSE,IF(T14>$N$1,U13+1))),"",IF(NOT(AND(Q14,S14)),FALSE,IF(T14>$N$1,U13+1))) -> FALSE | V14: =IF(U14<=$O$1,U14,"") | W14: =IF(ISERROR(IF(NOT(AND(Q14,S14,U14)),"",IF(V14>$O$1,W13+1))),"",IF(NOT(AND(Q14,S14,U14)),"",IF(V14>$O$1,W13+1))) | X14: =IF(W14<=$P$1,W14,"") | Y14: =IF(R14="","",INDEX(H$3:H$64000,R14)) -> B12 | Z14: =IF(T14="","",INDEX(I$3:I$64000,T14)) | AA14: =IF(V14="","",INDEX(J$3:J$64000,V14)) | AB14: =IF(X14="","",INDEX(K$3:K$64000,X14))
... A500: 498 | B500: =IF(ISBLANK(Feuil1!A499),"",ROW(Feuil1!A499)) | C500: =IF(ISBLANK(Feuil1!B499),"",ROW(Feuil1!B499)) | D500: =IF(ISBLANK(Feuil1!C499),"",ROW(Feuil1!C499)) | E500: =IF(ISBLANK(Feuil1!D499),"",ROW(Feuil1!D499)) | F500: =IF(ISBLANK(Feuil1!E499),"",ROW(Feuil1!E499)) | G500: =IF(ISERROR(SMALL($B$3:$B$64000,$A500)),"",INDEX(Feuil1!A:A,SMALL($B$3:$B$64000,$A500))) | H500: =IF(ISERROR(SMALL($C$3:$C$64000,$A500)),"",INDEX(Feuil1!B:B,SMALL($C$3:$C$64000,$A500))) | I500: =IF(ISERROR(SMALL($D$3:$D$64000,$A500)),"",INDEX(Feuil1!C:C,SMALL($D$3:$D$64000,$A500))) | J500: =IF(ISERROR(SMALL($E$3:$E$64000,$A500)),"",INDEX(Feuil1!D:D,SMALL($E$3:$E$64000,$A500))) | K500: =IF(ISERROR(SMALL($F$3:$F$64000,$A500)),"",INDEX(Feuil1!E:E,SMALL($F$3:$F$64000,$A500))) | L500: =IF(G500="","",ROW()-2) | M500: =IF(H500="","",ROW()-2) | N500: =IF(I500="","",ROW()-2) | O500: =IF(J500="","",ROW()-2) | P500: =IF(K500="","",ROW()-2) | Q500: =IF(ISERROR(IF(L500>$L$1,Q499+1)),"",IF(L500>$L$1,Q499+1)) -> 494 | R500: =IF(Q500<=$M$1,Q500,"") | S500: =IF(ISERROR(IF(Q500=FALSE,FALSE,IF(R500>$M$1,S499+1))),"",IF(Q500=FALSE,FALSE,IF(R500>$M$1,S499+1))) -> 485 | T500: =IF(S500<=$N$1,S500,"") | U500: =IF(ISERROR(IF(NOT(AND(Q500,S500)),FALSE,IF(T500>$N$1,U499+1))),"",IF(NOT(AND(Q500,S500)),FALSE,IF(T500>$N$1,U499+1))) -> 483 | V500: =IF(U500<=$O$1,U500,"") | W500: =IF(ISERROR(IF(NOT(AND(Q500,S500,U500)),"",IF(V500>$O$1,W499+1))),"",IF(NOT(AND(Q500,S500,U500)),"",IF(V500>$O$1,W499+1))) -> 479 | X500: =IF(W500<=$P$1,W500,"") | Y500: =IF(R500="","",INDEX(H$3:H$64000,R500)) | Z500: =IF(T500="","",INDEX(I$3:I$64000,T500)) | AA500: =IF(V500="","",INDEX(J$3:J$64000,V500)) | AB500: =IF(X500="","",INDEX(K$3:K$64000,X500))
A501: X | B501: X | C501: X | D501: X | E501: X | F501: X | G501: X | H501: X | I501: X | J501: X | K501: X | L501: X | M501: X | N501: X | O501: X | P501: X | Q501: X | R501: X | S501: X | T501: X | U501: X | V501: X | W501: X | X501: X | Y501: X | Z501: X | AA501: X | AB501: X

Sheet Feuil3
