Workbook

Sheet bdd
C3: BDD
A4: Liste choix >>> | B4: Lot B | C4: B | D4: 333444777 | H4: Formules
C5: =IF(ISERROR(MATCH(C4,J7:J12,0)),"ERR","")&IF(C4="","ERR","") | D5: =IF(ISERROR(MATCH(D4,P7:P12,0)),"ERR","")&IF(D4="","ERR","") | G5: index | H5: liste doublon | I5: index | J5: liste | M5: index | N5: liste doublon | O5: index | P5: liste
B6: Lots | C6: article | D6: Ref | G6: article | H6: article | I6: article | J6: article | M6: ref | N6: ref | O6: ref | P6: ref
A7: 1 | B7: Lot A | C7: AAAA | D7: 111333111 | G7: =IF($B$4=B7,A7,"") | H7: =IF(ISERROR(INDEX($C$7:$C$15,SMALL($G$7:$G$15,A7),1)),"",INDEX($C$7:$C$15,SMALL($G$7:$G$15,A7),1)) -> BB | I7: =IF(ISERROR(MATCH(C20,$H$7:$H$15,0)),"",A20) | J7: =IF(ISERROR(INDEX($C$20:$C$25,SMALL($I$7:$I$12,A20),1)),"",INDEX($C$20:$C$25,SMALL($I$7:$I$12,A20),1)) -> BB | K7: > | M7: =IF($C$4=C7,A7,"") | N7: =IF(ISERROR(INDEX($D$7:$D$15,SMALL($M$7:$M$15,A7),1)),"",INDEX($D$7:$D$15,SMALL($M$7:$M$15,A7),1)) -> 333444777 | O7: =IF(ISERROR(MATCH(D20,$N$7:$N$15,0)),"",A20) | P7: =IF($C$4="","",IF(ISERROR(INDEX($D$20:$D$25,SMALL($O$7:$O$12,A20),1)),"",INDEX($D$20:$D$25,SMALL($O$7:$O$12,A20),1))) -> 333444777
A8: 2 | B8: Lot A | C8: AAAA | D8: 333444777 | G8: =IF($B$4=B8,A8,"") | H8: =IF(ISERROR(INDEX($C$7:$C$15,SMALL($G$7:$G$15,A8),1)),"",INDEX($C$7:$C$15,SMALL($G$7:$G$15,A8),1)) -> B | I8: =IF(ISERROR(MATCH(C21,$H$7:$H$15,0)),"",A21) | J8: =IF(ISERROR(INDEX($C$20:$C$25,SMALL($I$7:$I$12,A21),1)),"",INDEX($C$20:$C$25,SMALL($I$7:$I$12,A21),1)) -> B | M8: =IF($C$4=C8,A8,"") | N8: =IF(ISERROR(INDEX($D$7:$D$15,SMALL($M$7:$M$15,A8),1)),"",INDEX($D$7:$D$15,SMALL($M$7:$M$15,A8),1)) | O8: =IF(ISERROR(MATCH(D21,$N$7:$N$15,0)),"",A21) -> 2 | P8: =IF($C$4="","",IF(ISERROR(INDEX($D$20:$D$25,SMALL($O$7:$O$12,A21),1)),"",INDEX($D$20:$D$25,SMALL($O$7:$O$12,A21),1)))
A9: 3 | B9: Lot A | C9: AAAAAA | D9: 222666111 | G9: =IF($B$4=B9,A9,"") | H9: =IF(ISERROR(INDEX($C$7:$C$15,SMALL($G$7:$G$15,A9),1)),"",INDEX($C$7:$C$15,SMALL($G$7:$G$15,A9),1)) -> BB | I9: =IF(ISERROR(MATCH(C22,$H$7:$H$15,0)),"",A22) -> 3 | J9: =IF(ISERROR(INDEX($C$20:$C$25,SMALL($I$7:$I$12,A22),1)),"",INDEX($C$20:$C$25,SMALL($I$7:$I$12,A22),1)) | M9: =IF($C$4=C9,A9,"") | N9: =IF(ISERROR(INDEX($D$7:$D$15,SMALL($M$7:$M$15,A9),1)),"",INDEX($D$7:$D$15,SMALL($M$7:$M$15,A9),1)) | O9: =IF(ISERROR(MATCH(D22,$N$7:$N$15,0)),"",A22) | P9: =IF($C$4="","",IF(ISERROR(INDEX($D$20:$D$25,SMALL($O$7:$O$12,A22),1)),"",INDEX($D$20:$D$25,SMALL($O$7:$O$12,A22),1)))
A10: 4 | B10: Lot B | C10: BB | D10: 222666111 | G10: =IF($B$4=B10,A10,"") -> 4 | H10: =IF(ISERROR(INDEX($C$7:$C$15,SMALL($G$7:$G$15,A10),1)),"",INDEX($C$7:$C$15,SMALL($G$7:$G$15,A10),1)) | I10: =IF(ISERROR(MATCH(C23,$H$7:$H$15,0)),"",A23) | J10: =IF(ISERROR(INDEX($C$20:$C$25,SMALL($I$7:$I$12,A23),1)),"",INDEX($C$20:$C$25,SMALL($I$7:$I$12,A23),1)) | M10: =IF($C$4=C10,A10,"") | N10: =IF(ISERROR(INDEX($D$7:$D$15,SMALL($M$7:$M$15,A10),1)),"",INDEX($D$7:$D$15,SMALL($M$7:$M$15,A10),1)) | O10: =IF(ISERROR(MATCH(D23,$N$7:$N$15,0)),"",A23) | P10: =IF($C$4="","",IF(ISERROR(INDEX($D$20:$D$25,SMALL($O$7:$O$12,A23),1)),"",INDEX($D$20:$D$25,SMALL($O$7:$O$12,A23),1)))
A11: 5 | B11: Lot A | C11: PPP | D11: 222666111 | G11: =IF($B$4=B11,A11,"") | H11: =IF(ISERROR(INDEX($C$7:$C$15,SMALL($G$7:$G$15,A11),1)),"",INDEX($C$7:$C$15,SMALL($G$7:$G$15,A11),1)) | I11: =IF(ISERROR(MATCH(C24,$H$7:$H$15,0)),"",A24) -> 5 | J11: =IF(ISERROR(INDEX($C$20:$C$25,SMALL($I$7:$I$12,A24),1)),"",INDEX($C$20:$C$25,SMALL($I$7:$I$12,A24),1)) | M11: =IF($C$4=C11,A11,"") | N11: =IF(ISERROR(INDEX($D$7:$D$15,SMALL($M$7:$M$15,A11),1)),"",INDEX($D$7:$D$15,SMALL($M$7:$M$15,A11),1)) | O11: =IF(ISERROR(MATCH(D24,$N$7:$N$15,0)),"",A24) -> 5 | P11: =IF($C$4="","",IF(ISERROR(INDEX($D$20:$D$25,SMALL($O$7:$O$12,A24),1)),"",INDEX($D$20:$D$25,SMALL($O$7:$O$12,A24),1)))
A12: 6 | B12: Lot B | C12: B | D12: 333444777 | G12: =IF($B$4=B12,A12,"") -> 6 | H12: =IF(ISERROR(INDEX($C$7:$C$15,SMALL($G$7:$G$15,A12),1)),"",INDEX($C$7:$C$15,SMALL($G$7:$G$15,A12),1)) | I12: =IF(ISERROR(MATCH(C25,$H$7:$H$15,0)),"",A25) | J12: =IF(ISERROR(INDEX($C$20:$C$25,SMALL($I$7:$I$12,A25),1)),"",INDEX($C$20:$C$25,SMALL($I$7:$I$12,A25),1)) | M12: =IF($C$4=C12,A12,"") -> 6 | N12: =IF(ISERROR(INDEX($D$7:$D$15,SMALL($M$7:$M$15,A12),1)),"",INDEX($D$7:$D$15,SMALL($M$7:$M$15,A12),1)) | O12: =IF(ISERROR(MATCH(D25,$N$7:$N$15,0)),"",A25) -> 6 | P12: =IF($C$4="","",IF(ISERROR(INDEX($D$20:$D$25,SMALL($O$7:$O$12,A25),1)),"",INDEX($D$20:$D$25,SMALL($O$7:$O$12,A25),1)))
A13: 7 | B13: Lot C | C13: CC | D13: 222666111 | G13: =IF($B$4=B13,A13,"") | H13: =IF(ISERROR(INDEX($C$7:$C$15,SMALL($G$7:$G$15,A13),1)),"",INDEX($C$7:$C$15,SMALL($G$7:$G$15,A13),1)) | M13: =IF($C$4=C13,A13,"") | N13: =IF(ISERROR(INDEX($D$7:$D$15,SMALL($M$7:$M$15,A13),1)),"",INDEX($D$7:$D$15,SMALL($M$7:$M$15,A13),1))
A14: 8 | B14: Lot B | C14: BB | D14: 333444777 | G14: =IF($B$4=B14,A14,"") -> 8 | H14: =IF(ISERROR(INDEX($C$7:$C$15,SMALL($G$7:$G$15,A14),1)),"",INDEX($C$7:$C$15,SMALL($G$7:$G$15,A14),1)) | M14: =IF($C$4=C14,A14,"") | N14: =IF(ISERROR(INDEX($D$7:$D$15,SMALL($M$7:$M$15,A14),1)),"",INDEX($D$7:$D$15,SMALL($M$7:$M$15,A14),1))
A15: 9 | B15: Lot C | C15: CCCCCC | D15: 888333777 | G15: =IF($B$4=B15,A15,"") | H15: =IF(ISERROR(INDEX($C$7:$C$15,SMALL($G$7:$G$15,A15),1)),"",INDEX($C$7:$C$15,SMALL($G$7:$G$15,A15),1)) | M15: =IF($C$4=C15,A15,"") | N15: =IF(ISERROR(INDEX($D$7:$D$15,SMALL($M$7:$M$15,A15),1)),"",INDEX($D$7:$D$15,SMALL($M$7:$M$15,A15),1))
C18: LISTE SANS DOUBLONS
B19: Lots | C19: article | D19: Ref
A20: 1 | B20: =doublons!D6 -> Lot A | C20: =doublons!I6 -> AAAA | D20: =doublons!N6 -> 111333111
A21: 2 | B21: =doublons!D7 -> Lot B | C21: =doublons!I7 -> AAAAAA | D21: =doublons!N7 -> 333444777
A22: 3 | B22: =doublons!D8 -> Lot C | C22: =doublons!I8 -> BB | D22: =doublons!N8 -> 222666111
A23: 4 | B23: =doublons!D9 | C23: =doublons!I9 -> PPP | D23: =doublons!N9 -> 888333777
A24: 5 | B24: =doublons!D10 | C24: =doublons!I10 -> B | D24: =doublons!N10
A25: 6 | B25: =doublons!D11 | C25: =doublons!I11 -> CC | D25: =doublons!N11
A26: 7 | B26: =doublons!D12 | C26: =doublons!I12 -> CCCCCC | D26: =doublons!N12
A27: 8 | B27: =doublons!D13 | C27: =doublons!I13 | D27: =doublons!N13
A28: 9 | B28: =doublons!D14 | C28: =doublons!I14 | D28: =doublons!N14

Sheet doublons
B2: Supprime les doublons dans une liste (sans vba)
B5: Colonne 1 | C5: Index | D5: Résultat | G5: Colonne 2 | H5: Index | I5: Résultat | L5: Colonne 3 | M5: Index | N5: Résultat
A6: 1 | B6: =bdd!B7 -> Lot A | C6: =IF(A6=MATCH(B6,$B$6:$B$14,0),MATCH(B6,$B$6:$B$14,0),"") -> 1 | D6: =IF(ISERROR(INDEX($B$6:$B$14,SMALL($C$6:$C$14,A6),1)),"",INDEX($B$6:$B$14,SMALL($C$6:$C$14,A6),1)) -> Lot A | F6: 1 | G6: =bdd!C7 -> AAAA | H6: =IF(F6=MATCH(G6,$G$6:$G$14,0),MATCH(G6,$G$6:$G$14,0),"") -> 1 | I6: =IF(ISERROR(INDEX($G$6:$G$14,SMALL($H$6:$H$14,F6),1)),"",INDEX($G$6:$G$14,SMALL($H$6:$H$14,F6),1)) -> AAAA | K6: 1 | L6: =bdd!D7 -> 111333111 | M6: =IF(K6=MATCH(L6,$L$6:$L$14,0),MATCH(L6,$L$6:$L$14,0),"") -> 1 | N6: =IF(ISERROR(INDEX($L$6:$L$14,SMALL($M$6:$M$14,K6),1)),"",INDEX($L$6:$L$14,SMALL($M$6:$M$14,K6),1)) -> 111333111
A7: 2 | B7: =bdd!B8 -> Lot A | C7: =IF(A7=MATCH(B7,$B$6:$B$14,0),MATCH(B7,$B$6:$B$14,0),"") | D7: =IF(ISERROR(INDEX($B$6:$B$14,SMALL($C$6:$C$14,A7),1)),"",INDEX($B$6:$B$14,SMALL($C$6:$C$14,A7),1)) -> Lot B | F7: 2 | G7: =bdd!C8 -> AAAA | H7: =IF(F7=MATCH(G7,$G$6:$G$14,0),MATCH(G7,$G$6:$G$14,0),"") | I7: =IF(ISERROR(INDEX($G$6:$G$14,SMALL($H$6:$H$14,F7),1)),"",INDEX($G$6:$G$14,SMALL($H$6:$H$14,F7),1)) -> AAAAAA | K7: 2 | L7: =bdd!D8 -> 333444777 | M7: =IF(K7=MATCH(L7,$L$6:$L$14,0),MATCH(L7,$L$6:$L$14,0),"") -> 2 | N7: =IF(ISERROR(INDEX($L$6:$L$14,SMALL($M$6:$M$14,K7),1)),"",INDEX($L$6:$L$14,SMALL($M$6:$M$14,K7),1)) -> 333444777
A8: 3 | B8: =bdd!B9 -> Lot A | C8: =IF(A8=MATCH(B8,$B$6:$B$14,0),MATCH(B8,$B$6:$B$14,0),"") | D8: =IF(ISERROR(INDEX($B$6:$B$14,SMALL($C$6:$C$14,A8),1)),"",INDEX($B$6:$B$14,SMALL($C$6:$C$14,A8),1)) -> Lot C | F8: 3 | G8: =bdd!C9 -> AAAAAA | H8: =IF(F8=MATCH(G8,$G$6:$G$14,0),MATCH(G8,$G$6:$G$14,0),"") -> 3 | I8: =IF(ISERROR(INDEX($G$6:$G$14,SMALL($H$6:$H$14,F8),1)),"",INDEX($G$6:$G$14,SMALL($H$6:$H$14,F8),1)) -> BB | K8: 3 | L8: =bdd!D9 -> 222666111 | M8: =IF(K8=MATCH(L8,$L$6:$L$14,0),MATCH(L8,$L$6:$L$14,0),"") -> 3 | N8: =IF(ISERROR(INDEX($L$6:$L$14,SMALL($M$6:$M$14,K8),1)),"",INDEX($L$6:$L$14,SMALL($M$6:$M$14,K8),1)) -> 222666111
A9: 4 | B9: =bdd!B10 -> Lot B | C9: =IF(A9=MATCH(B9,$B$6:$B$14,0),MATCH(B9,$B$6:$B$14,0),"") -> 4 | D9: =IF(ISERROR(INDEX($B$6:$B$14,SMALL($C$6:$C$14,A9),1)),"",INDEX($B$6:$B$14,SMALL($C$6:$C$14,A9),1)) | F9: 4 | G9: =bdd!C10 -> BB | H9: =IF(F9=MATCH(G9,$G$6:$G$14,0),MATCH(G9,$G$6:$G$14,0),"") -> 4 | I9: =IF(ISERROR(INDEX($G$6:$G$14,SMALL($H$6:$H$14,F9),1)),"",INDEX($G$6:$G$14,SMALL($H$6:$H$14,F9),1)) -> PPP | K9: 4 | L9: =bdd!D10 -> 222666111 | M9: =IF(K9=MATCH(L9,$L$6:$L$14,0),MATCH(L9,$L$6:$L$14,0),"") | N9: =IF(ISERROR(INDEX($L$6:$L$14,SMALL($M$6:$M$14,K9),1)),"",INDEX($L$6:$L$14,SMALL($M$6:$M$14,K9),1)) -> 888333777
A10: 5 | B10: =bdd!B11 -> Lot A | C10: =IF(A10=MATCH(B10,$B$6:$B$14,0),MATCH(B10,$B$6:$B$14,0),"") | D10: =IF(ISERROR(INDEX($B$6:$B$14,SMALL($C$6:$C$14,A10),1)),"",INDEX($B$6:$B$14,SMALL($C$6:$C$14,A10),1)) | F10: 5 | G10: =bdd!C11 -> PPP | H10: =IF(F10=MATCH(G10,$G$6:$G$14,0),MATCH(G10,$G$6:$G$14,0),"") -> 5 | I10: =IF(ISERROR(INDEX($G$6:$G$14,SMALL($H$6:$H$14,F10),1)),"",INDEX($G$6:$G$14,SMALL($H$6:$H$14,F10),1)) -> B | K10: 5 | L10: =bdd!D11 -> 222666111 | M10: =IF(K10=MATCH(L10,$L$6:$L$14,0),MATCH(L10,$L$6:$L$14,0),"") | N10: =IF(ISERROR(INDEX($L$6:$L$14,SMALL($M$6:$M$14,K10),1)),"",INDEX($L$6:$L$14,SMALL($M$6:$M$14,K10),1))
A11: 6 | B11: =bdd!B12 -> Lot B | C11: =IF(A11=MATCH(B11,$B$6:$B$14,0),MATCH(B11,$B$6:$B$14,0),"") | D11: =IF(ISERROR(INDEX($B$6:$B$14,SMALL($C$6:$C$14,A11),1)),"",INDEX($B$6:$B$14,SMALL($C$6:$C$14,A11),1)) | F11: 6 | G11: =bdd!C12 -> B | H11: =IF(F11=MATCH(G11,$G$6:$G$14,0),MATCH(G11,$G$6:$G$14,0),"") -> 6 | I11: =IF(ISERROR(INDEX($G$6:$G$14,SMALL($H$6:$H$14,F11),1)),"",INDEX($G$6:$G$14,SMALL($H$6:$H$14,F11),1)) -> CC | K11: 6 | L11: =bdd!D12 -> 333444777 | M11: =IF(K11=MATCH(L11,$L$6:$L$14,0),MATCH(L11,$L$6:$L$14,0),"") | N11: =IF(ISERROR(INDEX($L$6:$L$14,SMALL($M$6:$M$14,K11),1)),"",INDEX($L$6:$L$14,SMALL($M$6:$M$14,K11),1))
A12: 7 | B12: =bdd!B13 -> Lot C | C12: =IF(A12=MATCH(B12,$B$6:$B$14,0),MATCH(B12,$B$6:$B$14,0),"") -> 7 | D12: =IF(ISERROR(INDEX($B$6:$B$14,SMALL($C$6:$C$14,A12),1)),"",INDEX($B$6:$B$14,SMALL($C$6:$C$14,A12),1)) | F12: 7 | G12: =bdd!C13 -> CC | H12: =IF(F12=MATCH(G12,$G$6:$G$14,0),MATCH(G12,$G$6:$G$14,0),"") -> 7 | I12: =IF(ISERROR(INDEX($G$6:$G$14,SMALL($H$6:$H$14,F12),1)),"",INDEX($G$6:$G$14,SMALL($H$6:$H$14,F12),1)) -> CCCCCC | K12: 7 | L12: =bdd!D13 -> 222666111 | M12: =IF(K12=MATCH(L12,$L$6:$L$14,0),MATCH(L12,$L$6:$L$14,0),"") | N12: =IF(ISERROR(INDEX($L$6:$L$14,SMALL($M$6:$M$14,K12),1)),"",INDEX($L$6:$L$14,SMALL($M$6:$M$14,K12),1))
A13: 8 | B13: =bdd!B14 -> Lot B | D13: =IF(ISERROR(INDEX($B$6:$B$14,SMALL($C$6:$C$14,A13),1)),"",INDEX($B$6:$B$14,SMALL($C$6:$C$14,A13),1)) | F13: 8 | G13: =bdd!C14 -> BB | H13: =IF(F13=MATCH(G13,$G$6:$G$14,0),MATCH(G13,$G$6:$G$14,0),"") | I13: =IF(ISERROR(INDEX($G$6:$G$14,SMALL($H$6:$H$14,F13),1)),"",INDEX($G$6:$G$14,SMALL($H$6:$H$14,F13),1)) | K13: 8 | L13: =bdd!D14 -> 333444777 | M13: =IF(K13=MATCH(L13,$L$6:$L$14,0),MATCH(L13,$L$6:$L$14,0),"") | N13: =IF(ISERROR(INDEX($L$6:$L$14,SMALL($M$6:$M$14,K13),1)),"",INDEX($L$6:$L$14,SMALL($M$6:$M$14,K13),1))
A14: 9 | B14: =bdd!B15 -> Lot C | D14: =IF(ISERROR(INDEX($B$6:$B$14,SMALL($C$6:$C$14,A14),1)),"",INDEX($B$6:$B$14,SMALL($C$6:$C$14,A14),1)) | F14: 9 | G14: =bdd!C15 -> CCCCCC | H14: =IF(F14=MATCH(G14,$G$6:$G$14,0),MATCH(G14,$G$6:$G$14,0),"") -> 9 | I14: =IF(ISERROR(INDEX($G$6:$G$14,SMALL($H$6:$H$14,F14),1)),"",INDEX($G$6:$G$14,SMALL($H$6:$H$14,F14),1)) | K14: 9 | L14: =bdd!D15 -> 888333777 | M14: =IF(K14=MATCH(L14,$L$6:$L$14,0),MATCH(L14,$L$6:$L$14,0),"") -> 9 | N14: =IF(ISERROR(INDEX($L$6:$L$14,SMALL($M$6:$M$14,K14),1)),"",INDEX($L$6:$L$14,SMALL($M$6:$M$14,K14),1))
