Workbook
Name haut: listes!$N$6:$N$512
Name hauteur: tab!$D$3:$D$24
Name larg: listes!$D$6:$D$512
Name largeur: tab!$B$3:$B$24
Name long: listes!$I$6:$I$512
Name longueur: tab!$C$3:$C$24
Name n°boite: tab!$E$3:$E$24

Sheet bdd
A1: larg | B1: long | C1: haut | D1: N° boite
A2: 16 | B2: 16 | C2: 23 | D2: 1
A3: 20 | B3: 20 | C3: 23 | D3: 2
A4: 20 | B4: 30 | C4: 23 | D4: 3
A5: 20 | B5: 40 | C5: 23 | D5: 4
A6: 25 | B6: 25 | C6: 23 | D6: 5
A7: 30 | B7: 30 | C7: 23 | D7: 6
A8: 30 | B8: 100 | C8: 23 | D8: 7
A9: 50 | B9: 50 | C9: 23 | D9: 8
A10: 60 | B10: 20 | C10: 23 | D10: 9
A11: 70 | B11: 60 | C11: 23 | D11: 10
A12: 20 | B12: 20 | C12: 25 | D12: 11
A13: 25 | B13: 25 | C13: 25 | D13: 12
... A23: 37 | B23: 37 | C23: 44 | D23: 22

Sheet formules
A1: 1 | B1: =tab!B2 -> larg | C1: =tab!C2 -> long | D1: =tab!D2 -> haut | E1: =bdd!D1 -> N° boite | M1: choix | O1: choix | S1: choix
A2: 1 | B2: =tab!B3 -> 16 | C2: =IF(B2=$H$6,tab!C3,"") -> 16 | D2: =IF(C2=$I$6,tab!D3,"") -> 23 | E2: =IF(D2=$J$6,tab!E3,"") -> 1 | F2: =IF(ISNUMBER(E2),A2,"") -> 1 | H2: Erreur ? | I2: Erreur ? | J2: Erreur ? | L2: =IF($H$6=B2,A2,"") -> 1 | M2: =IF(ISERROR(INDEX($C$2:$C$23,SMALL($L$2:$L$23,A2),1)),"",INDEX($C$2:$C$23,SMALL($L$2:$L$23,A2),1)) -> 16 | N2: =IF(ISERROR(MATCH(listes!I6,formules!$M$2:$M$23,0)),"",A2) -> 1 | O2: =IF(ISERROR(INDEX(long,SMALL($N$2:$N$23,A2),1)),"",INDEX(long,SMALL($N$2:$N$23,A2),1)) -> 16 | P2: =IF($I$6=C2,A2,"") -> 1 | Q2: =IF(ISERROR(INDEX($D$2:$D$23,SMALL($P$2:$P$23,A2),1)),"",INDEX($D$2:$D$23,SMALL($P$2:$P$23,A2),1)) -> 23 | R2: =IF(ISERROR(MATCH(listes!N6,formules!$D$2:$D$23,0)),"",formules!A2) -> 1 | S2: =IF(ISERROR(INDEX(haut,SMALL($R$2:$R$23,A2),1)),"",INDEX(haut,SMALL($R$2:$R$23,A2),1)) -> 23
A3: 2 | B3: =tab!B4 -> 20 | C3: =IF(B3=$H$6,tab!C4,"") | D3: =IF(C3=$I$6,tab!D4,"") | E3: =IF(D3=$J$6,tab!E4,"") | F3: =IF(ISNUMBER(E3),A3,"") | H3: =MATCH(H6,larg,0) -> 1 | I3: =MATCH(I6,C:C,0) -> 2 | J3: =MATCH(J6,D:D,0) -> 2 | L3: =IF($H$6=B3,A3,"") | M3: =IF(ISERROR(INDEX($C$2:$C$23,SMALL($L$2:$L$23,A3),1)),"",INDEX($C$2:$C$23,SMALL($L$2:$L$23,A3),1)) | N3: =IF(ISERROR(MATCH(listes!I7,formules!$M$2:$M$23,0)),"",A3) | O3: =IF(ISERROR(INDEX(long,SMALL($N$2:$N$23,A3),1)),"",INDEX(long,SMALL($N$2:$N$23,A3),1)) | P3: =IF($I$6=C3,A3,"") | Q3: =IF(ISERROR(INDEX($D$2:$D$23,SMALL($P$2:$P$23,A3),1)),"",INDEX($D$2:$D$23,SMALL($P$2:$P$23,A3),1)) | R3: =IF(ISERROR(MATCH(listes!N7,formules!$D$2:$D$23,0)),"",formules!A3) | S3: =IF(ISERROR(INDEX(haut,SMALL($R$2:$R$23,A3),1)),"",INDEX(haut,SMALL($R$2:$R$23,A3),1))
A4: 3 | B4: =tab!B5 -> 20 | C4: =IF(B4=$H$6,tab!C5,"") | D4: =IF(C4=$I$6,tab!D5,"") | E4: =IF(D4=$J$6,tab!E5,"") | F4: =IF(ISNUMBER(E4),A4,"") | L4: =IF($H$6=B4,A4,"") | M4: =IF(ISERROR(INDEX($C$2:$C$23,SMALL($L$2:$L$23,A4),1)),"",INDEX($C$2:$C$23,SMALL($L$2:$L$23,A4),1)) | N4: =IF(ISERROR(MATCH(listes!I8,formules!$M$2:$M$23,0)),"",A4) | O4: =IF(ISERROR(INDEX(long,SMALL($N$2:$N$23,A4),1)),"",INDEX(long,SMALL($N$2:$N$23,A4),1)) | P4: =IF($I$6=C4,A4,"") | Q4: =IF(ISERROR(INDEX($D$2:$D$23,SMALL($P$2:$P$23,A4),1)),"",INDEX($D$2:$D$23,SMALL($P$2:$P$23,A4),1)) | R4: =IF(ISERROR(MATCH(listes!N8,formules!$D$2:$D$23,0)),"",formules!A4) | S4: =IF(ISERROR(INDEX(haut,SMALL($R$2:$R$23,A4),1)),"",INDEX(haut,SMALL($R$2:$R$23,A4),1))
A5: 4 | B5: =tab!B6 -> 20 | C5: =IF(B5=$H$6,tab!C6,"") | D5: =IF(C5=$I$6,tab!D6,"") | E5: =IF(D5=$J$6,tab!E6,"") | F5: =IF(ISNUMBER(E5),A5,"") | H5: =B1 -> larg | I5: =C1 -> long | J5: =D1 -> haut | L5: =IF($H$6=B5,A5,"") | M5: =IF(ISERROR(INDEX($C$2:$C$23,SMALL($L$2:$L$23,A5),1)),"",INDEX($C$2:$C$23,SMALL($L$2:$L$23,A5),1)) | N5: =IF(ISERROR(MATCH(listes!I9,formules!$M$2:$M$23,0)),"",A5) | O5: =IF(ISERROR(INDEX(long,SMALL($N$2:$N$23,A5),1)),"",INDEX(long,SMALL($N$2:$N$23,A5),1)) | P5: =IF($I$6=C5,A5,"") | Q5: =IF(ISERROR(INDEX($D$2:$D$23,SMALL($P$2:$P$23,A5),1)),"",INDEX($D$2:$D$23,SMALL($P$2:$P$23,A5),1)) | R5: =IF(ISERROR(MATCH(listes!N9,formules!$D$2:$D$23,0)),"",formules!A5) | S5: =IF(ISERROR(INDEX(haut,SMALL($R$2:$R$23,A5),1)),"",INDEX(haut,SMALL($R$2:$R$23,A5),1))
A6: 5 | B6: =tab!B7 -> 25 | C6: =IF(B6=$H$6,tab!C7,"") | D6: =IF(C6=$I$6,tab!D7,"") | E6: =IF(D6=$J$6,tab!E7,"") | F6: =IF(ISNUMBER(E6),A6,"") | H6: 16 | I6: 16 | J6: 23 | L6: =IF($H$6=B6,A6,"") | M6: =IF(ISERROR(INDEX($C$2:$C$23,SMALL($L$2:$L$23,A6),1)),"",INDEX($C$2:$C$23,SMALL($L$2:$L$23,A6),1)) | N6: =IF(ISERROR(MATCH(listes!I10,formules!$M$2:$M$23,0)),"",A6) | O6: =IF(ISERROR(INDEX(long,SMALL($N$2:$N$23,A6),1)),"",INDEX(long,SMALL($N$2:$N$23,A6),1)) | P6: =IF($I$6=C6,A6,"") | Q6: =IF(ISERROR(INDEX($D$2:$D$23,SMALL($P$2:$P$23,A6),1)),"",INDEX($D$2:$D$23,SMALL($P$2:$P$23,A6),1)) | R6: =IF(ISERROR(MATCH(listes!N10,formules!$D$2:$D$23,0)),"",formules!A6) | S6: =IF(ISERROR(INDEX(haut,SMALL($R$2:$R$23,A6),1)),"",INDEX(haut,SMALL($R$2:$R$23,A6),1))
A7: 6 | B7: =tab!B8 -> 30 | C7: =IF(B7=$H$6,tab!C8,"") | D7: =IF(C7=$I$6,tab!D8,"") | E7: =IF(D7=$J$6,tab!E8,"") | F7: =IF(ISNUMBER(E7),A7,"") | L7: =IF($H$6=B7,A7,"") | M7: =IF(ISERROR(INDEX($C$2:$C$23,SMALL($L$2:$L$23,A7),1)),"",INDEX($C$2:$C$23,SMALL($L$2:$L$23,A7),1)) | N7: =IF(ISERROR(MATCH(listes!I11,formules!$M$2:$M$23,0)),"",A7) | O7: =IF(ISERROR(INDEX(long,SMALL($N$2:$N$23,A7),1)),"",INDEX(long,SMALL($N$2:$N$23,A7),1)) | P7: =IF($I$6=C7,A7,"") | Q7: =IF(ISERROR(INDEX($D$2:$D$23,SMALL($P$2:$P$23,A7),1)),"",INDEX($D$2:$D$23,SMALL($P$2:$P$23,A7),1)) | R7: =IF(ISERROR(MATCH(listes!N11,formules!$D$2:$D$23,0)),"",formules!A7) | S7: =IF(ISERROR(INDEX(haut,SMALL($R$2:$R$23,A7),1)),"",INDEX(haut,SMALL($R$2:$R$23,A7),1))
A8: 7 | B8: =tab!B9 -> 30 | C8: =IF(B8=$H$6,tab!C9,"") | D8: =IF(C8=$I$6,tab!D9,"") | E8: =IF(D8=$J$6,tab!E9,"") | F8: =IF(ISNUMBER(E8),A8,"") | L8: =IF($H$6=B8,A8,"") | M8: =IF(ISERROR(INDEX($C$2:$C$23,SMALL($L$2:$L$23,A8),1)),"",INDEX($C$2:$C$23,SMALL($L$2:$L$23,A8),1)) | N8: =IF(ISERROR(MATCH(listes!I12,formules!$M$2:$M$23,0)),"",A8) | O8: =IF(ISERROR(INDEX(long,SMALL($N$2:$N$23,A8),1)),"",INDEX(long,SMALL($N$2:$N$23,A8),1)) | P8: =IF($I$6=C8,A8,"") | Q8: =IF(ISERROR(INDEX($D$2:$D$23,SMALL($P$2:$P$23,A8),1)),"",INDEX($D$2:$D$23,SMALL($P$2:$P$23,A8),1)) | R8: =IF(ISERROR(MATCH(listes!N12,formules!$D$2:$D$23,0)),"",formules!A8) | S8: =IF(ISERROR(INDEX(haut,SMALL($R$2:$R$23,A8),1)),"",INDEX(haut,SMALL($R$2:$R$23,A8),1))
A9: 8 | B9: =tab!B10 -> 50 | C9: =IF(B9=$H$6,tab!C10,"") | D9: =IF(C9=$I$6,tab!D10,"") | E9: =IF(D9=$J$6,tab!E10,"") | F9: =IF(ISNUMBER(E9),A9,"") | L9: =IF($H$6=B9,A9,"") | M9: =IF(ISERROR(INDEX($C$2:$C$23,SMALL($L$2:$L$23,A9),1)),"",INDEX($C$2:$C$23,SMALL($L$2:$L$23,A9),1)) | N9: =IF(ISERROR(MATCH(listes!I13,formules!$M$2:$M$23,0)),"",A9) | O9: =IF(ISERROR(INDEX(long,SMALL($N$2:$N$23,A9),1)),"",INDEX(long,SMALL($N$2:$N$23,A9),1)) | P9: =IF($I$6=C9,A9,"") | Q9: =IF(ISERROR(INDEX($D$2:$D$23,SMALL($P$2:$P$23,A9),1)),"",INDEX($D$2:$D$23,SMALL($P$2:$P$23,A9),1)) | R9: =IF(ISERROR(MATCH(listes!N13,formules!$D$2:$D$23,0)),"",formules!A9) -> 8 | S9: =IF(ISERROR(INDEX(haut,SMALL($R$2:$R$23,A9),1)),"",INDEX(haut,SMALL($R$2:$R$23,A9),1))
A10: 9 | B10: =tab!B11 -> 60 | C10: =IF(B10=$H$6,tab!C11,"") | D10: =IF(C10=$I$6,tab!D11,"") | E10: =IF(D10=$J$6,tab!E11,"") | F10: =IF(ISNUMBER(E10),A10,"") | L10: =IF($H$6=B10,A10,"") | M10: =IF(ISERROR(INDEX($C$2:$C$23,SMALL($L$2:$L$23,A10),1)),"",INDEX($C$2:$C$23,SMALL($L$2:$L$23,A10),1)) | N10: =IF(ISERROR(MATCH(listes!I14,formules!$M$2:$M$23,0)),"",A10) | O10: =IF(ISERROR(INDEX(long,SMALL($N$2:$N$23,A10),1)),"",INDEX(long,SMALL($N$2:$N$23,A10),1)) | P10: =IF($I$6=C10,A10,"") | Q10: =IF(ISERROR(INDEX($D$2:$D$23,SMALL($P$2:$P$23,A10),1)),"",INDEX($D$2:$D$23,SMALL($P$2:$P$23,A10),1)) | R10: =IF(ISERROR(MATCH(listes!N14,formules!$D$2:$D$23,0)),"",formules!A10) -> 9 | S10: =IF(ISERROR(INDEX(haut,SMALL($R$2:$R$23,A10),1)),"",INDEX(haut,SMALL($R$2:$R$23,A10),1))
A11: 10 | B11: =tab!B12 -> 70 | C11: =IF(B11=$H$6,tab!C12,"") | D11: =IF(C11=$I$6,tab!D12,"") | E11: =IF(D11=$J$6,tab!E12,"") | F11: =IF(ISNUMBER(E11),A11,"") | L11: =IF($H$6=B11,A11,"") | M11: =IF(ISERROR(INDEX($C$2:$C$23,SMALL($L$2:$L$23,A11),1)),"",INDEX($C$2:$C$23,SMALL($L$2:$L$23,A11),1)) | N11: =IF(ISERROR(MATCH(listes!I15,formules!$M$2:$M$23,0)),"",A11) | O11: =IF(ISERROR(INDEX(long,SMALL($N$2:$N$23,A11),1)),"",INDEX(long,SMALL($N$2:$N$23,A11),1)) | P11: =IF($I$6=C11,A11,"") | Q11: =IF(ISERROR(INDEX($D$2:$D$23,SMALL($P$2:$P$23,A11),1)),"",INDEX($D$2:$D$23,SMALL($P$2:$P$23,A11),1)) | R11: =IF(ISERROR(MATCH(listes!N15,formules!$D$2:$D$23,0)),"",formules!A11) -> 10 | S11: =IF(ISERROR(INDEX(haut,SMALL($R$2:$R$23,A11),1)),"",INDEX(haut,SMALL($R$2:$R$23,A11),1))
A12: 11 | B12: =tab!B13 -> 20 | C12: =IF(B12=$H$6,tab!C13,"") | D12: =IF(C12=$I$6,tab!D13,"") | E12: =IF(D12=$J$6,tab!E13,"") | F12: =IF(ISNUMBER(E12),A12,"") | L12: =IF($H$6=B12,A12,"") | M12: =IF(ISERROR(INDEX($C$2:$C$23,SMALL($L$2:$L$23,A12),1)),"",INDEX($C$2:$C$23,SMALL($L$2:$L$23,A12),1)) | N12: =IF(ISERROR(MATCH(listes!I16,formules!$M$2:$M$23,0)),"",A12) | O12: =IF(ISERROR(INDEX(long,SMALL($N$2:$N$23,A12),1)),"",INDEX(long,SMALL($N$2:$N$23,A12),1)) | P12: =IF($I$6=C12,A12,"") | Q12: =IF(ISERROR(INDEX($D$2:$D$23,SMALL($P$2:$P$23,A12),1)),"",INDEX($D$2:$D$23,SMALL($P$2:$P$23,A12),1)) | R12: =IF(ISERROR(MATCH(listes!N16,formules!$D$2:$D$23,0)),"",formules!A12) -> 11 | S12: =IF(ISERROR(INDEX(haut,SMALL($R$2:$R$23,A12),1)),"",INDEX(haut,SMALL($R$2:$R$23,A12),1))
A13: 12 | B13: =tab!B14 -> 25 | C13: =IF(B13=$H$6,tab!C14,"") | D13: =IF(C13=$I$6,tab!D14,"") | E13: =IF(D13=$J$6,tab!E14,"") | F13: =IF(ISNUMBER(E13),A13,"") | L13: =IF($H$6=B13,A13,"") | M13: =IF(ISERROR(INDEX($C$2:$C$23,SMALL($L$2:$L$23,A13),1)),"",INDEX($C$2:$C$23,SMALL($L$2:$L$23,A13),1)) | N13: =IF(ISERROR(MATCH(listes!I17,formules!$M$2:$M$23,0)),"",A13) | O13: =IF(ISERROR(INDEX(long,SMALL($N$2:$N$23,A13),1)),"",INDEX(long,SMALL($N$2:$N$23,A13),1)) | P13: =IF($I$6=C13,A13,"") | Q13: =IF(ISERROR(INDEX($D$2:$D$23,SMALL($P$2:$P$23,A13),1)),"",INDEX($D$2:$D$23,SMALL($P$2:$P$23,A13),1)) | R13: =IF(ISERROR(MATCH(listes!N17,formules!$D$2:$D$23,0)),"",formules!A13) -> 12 | S13: =IF(ISERROR(INDEX(haut,SMALL($R$2:$R$23,A13),1)),"",INDEX(haut,SMALL($R$2:$R$23,A13),1))
A14: 13 | B14: =tab!B15 -> 30 | C14: =IF(B14=$H$6,tab!C15,"") | D14: =IF(C14=$I$6,tab!D15,"") | E14: =IF(D14=$J$6,tab!E15,"") | F14: =IF(ISNUMBER(E14),A14,"") | L14: =IF($H$6=B14,A14,"") | M14: =IF(ISERROR(INDEX($C$2:$C$23,SMALL($L$2:$L$23,A14),1)),"",INDEX($C$2:$C$23,SMALL($L$2:$L$23,A14),1)) | N14: =IF(ISERROR(MATCH(listes!I18,formules!$M$2:$M$23,0)),"",A14) | O14: =IF(ISERROR(INDEX(long,SMALL($N$2:$N$23,A14),1)),"",INDEX(long,SMALL($N$2:$N$23,A14),1)) | P14: =IF($I$6=C14,A14,"") | Q14: =IF(ISERROR(INDEX($D$2:$D$23,SMALL($P$2:$P$23,A14),1)),"",INDEX($D$2:$D$23,SMALL($P$2:$P$23,A14),1)) | R14: =IF(ISERROR(MATCH(listes!N18,formules!$D$2:$D$23,0)),"",formules!A14) -> 13 | S14: =IF(ISERROR(INDEX(haut,SMALL($R$2:$R$23,A14),1)),"",INDEX(haut,SMALL($R$2:$R$23,A14),1))
A15: 14 | B15: =tab!B16 -> 60 | C15: =IF(B15=$H$6,tab!C16,"") | D15: =IF(C15=$I$6,tab!D16,"") | E15: =IF(D15=$J$6,tab!E16,"") | F15: =IF(ISNUMBER(E15),A15,"") | L15: =IF($H$6=B15,A15,"") | M15: =IF(ISERROR(INDEX($C$2:$C$23,SMALL($L$2:$L$23,A15),1)),"",INDEX($C$2:$C$23,SMALL($L$2:$L$23,A15),1)) | N15: =IF(ISERROR(MATCH(listes!I19,formules!$M$2:$M$23,0)),"",A15) -> 14 | O15: =IF(ISERROR(INDEX(long,SMALL($N$2:$N$23,A15),1)),"",INDEX(long,SMALL($N$2:$N$23,A15),1)) | P15: =IF($I$6=C15,A15,"") | Q15: =IF(ISERROR(INDEX($D$2:$D$23,SMALL($P$2:$P$23,A15),1)),"",INDEX($D$2:$D$23,SMALL($P$2:$P$23,A15),1)) | R15: =IF(ISERROR(MATCH(listes!N19,formules!$D$2:$D$23,0)),"",formules!A15) -> 14 | S15: =IF(ISERROR(INDEX(haut,SMALL($R$2:$R$23,A15),1)),"",INDEX(haut,SMALL($R$2:$R$23,A15),1))
A16: 15 | B16: =tab!B17 -> 23 | C16: =IF(B16=$H$6,tab!C17,"") | D16: =IF(C16=$I$6,tab!D17,"") | E16: =IF(D16=$J$6,tab!E17,"") | F16: =IF(ISNUMBER(E16),A16,"") | L16: =IF($H$6=B16,A16,"") | M16: =IF(ISERROR(INDEX($C$2:$C$23,SMALL($L$2:$L$23,A16),1)),"",INDEX($C$2:$C$23,SMALL($L$2:$L$23,A16),1)) | N16: =IF(ISERROR(MATCH(listes!I20,formules!$M$2:$M$23,0)),"",A16) -> 15 | O16: =IF(ISERROR(INDEX(long,SMALL($N$2:$N$23,A16),1)),"",INDEX(long,SMALL($N$2:$N$23,A16),1)) | P16: =IF($I$6=C16,A16,"") | Q16: =IF(ISERROR(INDEX($D$2:$D$23,SMALL($P$2:$P$23,A16),1)),"",INDEX($D$2:$D$23,SMALL($P$2:$P$23,A16),1)) | R16: =IF(ISERROR(MATCH(listes!N20,formules!$D$2:$D$23,0)),"",formules!A16) -> 15 | S16: =IF(ISERROR(INDEX(haut,SMALL($R$2:$R$23,A16),1)),"",INDEX(haut,SMALL($R$2:$R$23,A16),1))
A17: 16 | B17: =tab!B18 -> 23 | C17: =IF(B17=$H$6,tab!C18,"") | D17: =IF(C17=$I$6,tab!D18,"") | E17: =IF(D17=$J$6,tab!E18,"") | F17: =IF(ISNUMBER(E17),A17,"") | L17: =IF($H$6=B17,A17,"") | M17: =IF(ISERROR(INDEX($C$2:$C$23,SMALL($L$2:$L$23,A17),1)),"",INDEX($C$2:$C$23,SMALL($L$2:$L$23,A17),1)) | N17: =IF(ISERROR(MATCH(listes!I21,formules!$M$2:$M$23,0)),"",A17) -> 16 | O17: =IF(ISERROR(INDEX(long,SMALL($N$2:$N$23,A17),1)),"",INDEX(long,SMALL($N$2:$N$23,A17),1)) | P17: =IF($I$6=C17,A17,"") | Q17: =IF(ISERROR(INDEX($D$2:$D$23,SMALL($P$2:$P$23,A17),1)),"",INDEX($D$2:$D$23,SMALL($P$2:$P$23,A17),1)) | R17: =IF(ISERROR(MATCH(listes!N21,formules!$D$2:$D$23,0)),"",formules!A17) -> 16 | S17: =IF(ISERROR(INDEX(haut,SMALL($R$2:$R$23,A17),1)),"",INDEX(haut,SMALL($R$2:$R$23,A17),1))
A18: 17 | B18: =tab!B19 -> 23 | C18: =IF(B18=$H$6,tab!C19,"") | D18: =IF(C18=$I$6,tab!D19,"") | E18: =IF(D18=$J$6,tab!E19,"") | F18: =IF(ISNUMBER(E18),A18,"") | L18: =IF($H$6=B18,A18,"") | M18: =IF(ISERROR(INDEX($C$2:$C$23,SMALL($L$2:$L$23,A18),1)),"",INDEX($C$2:$C$23,SMALL($L$2:$L$23,A18),1)) | N18: =IF(ISERROR(MATCH(listes!I22,formules!$M$2:$M$23,0)),"",A18) -> 17 | O18: =IF(ISERROR(INDEX(long,SMALL($N$2:$N$23,A18),1)),"",INDEX(long,SMALL($N$2:$N$23,A18),1)) | P18: =IF($I$6=C18,A18,"") | Q18: =IF(ISERROR(INDEX($D$2:$D$23,SMALL($P$2:$P$23,A18),1)),"",INDEX($D$2:$D$23,SMALL($P$2:$P$23,A18),1)) | R18: =IF(ISERROR(MATCH(listes!N22,formules!$D$2:$D$23,0)),"",formules!A18) -> 17 | S18: =IF(ISERROR(INDEX(haut,SMALL($R$2:$R$23,A18),1)),"",INDEX(haut,SMALL($R$2:$R$23,A18),1))
A19: 18 | B19: =tab!B20 -> 25 | C19: =IF(B19=$H$6,tab!C20,"") | D19: =IF(C19=$I$6,tab!D20,"") | E19: =IF(D19=$J$6,tab!E20,"") | F19: =IF(ISNUMBER(E19),A19,"") | H19: =IF(MAX(F2:F23)>0,"Boite N° "&INDEX(bdd!D2:D23,MAX(F2:F23),1),"") -> Boite N° 1 | L19: =IF($H$6=B19,A19,"") | M19: =IF(ISERROR(INDEX($C$2:$C$23,SMALL($L$2:$L$23,A19),1)),"",INDEX($C$2:$C$23,SMALL($L$2:$L$23,A19),1)) | N19: =IF(ISERROR(MATCH(listes!I23,formules!$M$2:$M$23,0)),"",A19) -> 18 | O19: =IF(ISERROR(INDEX(long,SMALL($N$2:$N$23,A19),1)),"",INDEX(long,SMALL($N$2:$N$23,A19),1)) | P19: =IF($I$6=C19,A19,"") | Q19: =IF(ISERROR(INDEX($D$2:$D$23,SMALL($P$2:$P$23,A19),1)),"",INDEX($D$2:$D$23,SMALL($P$2:$P$23,A19),1)) | R19: =IF(ISERROR(MATCH(listes!N23,formules!$D$2:$D$23,0)),"",formules!A19) -> 18 | S19: =IF(ISERROR(INDEX(haut,SMALL($R$2:$R$23,A19),1)),"",INDEX(haut,SMALL($R$2:$R$23,A19),1))
A20: 19 | B20: =tab!B21 -> 25 | C20: =IF(B20=$H$6,tab!C21,"") | D20: =IF(C20=$I$6,tab!D21,"") | E20: =IF(D20=$J$6,tab!E21,"") | F20: =IF(ISNUMBER(E20),A20,"") | L20: =IF($H$6=B20,A20,"") | M20: =IF(ISERROR(INDEX($C$2:$C$23,SMALL($L$2:$L$23,A20),1)),"",INDEX($C$2:$C$23,SMALL($L$2:$L$23,A20),1)) | N20: =IF(ISERROR(MATCH(listes!I24,formules!$M$2:$M$23,0)),"",A20) -> 19 | O20: =IF(ISERROR(INDEX(long,SMALL($N$2:$N$23,A20),1)),"",INDEX(long,SMALL($N$2:$N$23,A20),1)) | P20: =IF($I$6=C20,A20,"") | Q20: =IF(ISERROR(INDEX($D$2:$D$23,SMALL($P$2:$P$23,A20),1)),"",INDEX($D$2:$D$23,SMALL($P$2:$P$23,A20),1)) | R20: =IF(ISERROR(MATCH(listes!N24,formules!$D$2:$D$23,0)),"",formules!A20) -> 19 | S20: =IF(ISERROR(INDEX(haut,SMALL($R$2:$R$23,A20),1)),"",INDEX(haut,SMALL($R$2:$R$23,A20),1))
A21: 20 | B21: =tab!B22 -> 34 | C21: =IF(B21=$H$6,tab!C22,"") | D21: =IF(C21=$I$6,tab!D22,"") | E21: =IF(D21=$J$6,tab!E22,"") | F21: =IF(ISNUMBER(E21),A21,"") | L21: =IF($H$6=B21,A21,"") | M21: =IF(ISERROR(INDEX($C$2:$C$23,SMALL($L$2:$L$23,A21),1)),"",INDEX($C$2:$C$23,SMALL($L$2:$L$23,A21),1)) | N21: =IF(ISERROR(MATCH(listes!I25,formules!$M$2:$M$23,0)),"",A21) -> 20 | O21: =IF(ISERROR(INDEX(long,SMALL($N$2:$N$23,A21),1)),"",INDEX(long,SMALL($N$2:$N$23,A21),1)) | P21: =IF($I$6=C21,A21,"") | Q21: =IF(ISERROR(INDEX($D$2:$D$23,SMALL($P$2:$P$23,A21),1)),"",INDEX($D$2:$D$23,SMALL($P$2:$P$23,A21),1)) | R21: =IF(ISERROR(MATCH(listes!N25,formules!$D$2:$D$23,0)),"",formules!A21) -> 20 | S21: =IF(ISERROR(INDEX(haut,SMALL($R$2:$R$23,A21),1)),"",INDEX(haut,SMALL($R$2:$R$23,A21),1))
A22: 21 | B22: =tab!B23 -> 37 | C22: =IF(B22=$H$6,tab!C23,"") | D22: =IF(C22=$I$6,tab!D23,"") | E22: =IF(D22=$J$6,tab!E23,"") | F22: =IF(ISNUMBER(E22),A22,"") | L22: =IF($H$6=B22,A22,"") | M22: =IF(ISERROR(INDEX($C$2:$C$23,SMALL($L$2:$L$23,A22),1)),"",INDEX($C$2:$C$23,SMALL($L$2:$L$23,A22),1)) | N22: =IF(ISERROR(MATCH(listes!I26,formules!$M$2:$M$23,0)),"",A22) -> 21 | O22: =IF(ISERROR(INDEX(long,SMALL($N$2:$N$23,A22),1)),"",INDEX(long,SMALL($N$2:$N$23,A22),1)) | P22: =IF($I$6=C22,A22,"") | Q22: =IF(ISERROR(INDEX($D$2:$D$23,SMALL($P$2:$P$23,A22),1)),"",INDEX($D$2:$D$23,SMALL($P$2:$P$23,A22),1)) | R22: =IF(ISERROR(MATCH(listes!N26,formules!$D$2:$D$23,0)),"",formules!A22) -> 21 | S22: =IF(ISERROR(INDEX(haut,SMALL($R$2:$R$23,A22),1)),"",INDEX(haut,SMALL($R$2:$R$23,A22),1))
A23: 22 | B23: =tab!B24 -> 37 | C23: =IF(B23=$H$6,tab!C24,"") | D23: =IF(C23=$I$6,tab!D24,"") | E23: =IF(D23=$J$6,tab!E24,"") | F23: =IF(ISNUMBER(E23),A23,"") | L23: =IF($H$6=B23,A23,"") | M23: =IF(ISERROR(INDEX($C$2:$C$23,SMALL($L$2:$L$23,A23),1)),"",INDEX($C$2:$C$23,SMALL($L$2:$L$23,A23),1)) | N23: =IF(ISERROR(MATCH(listes!I27,formules!$M$2:$M$23,0)),"",A23) -> 22 | O23: =IF(ISERROR(INDEX(long,SMALL($N$2:$N$23,A23),1)),"",INDEX(long,SMALL($N$2:$N$23,A23),1)) | P23: =IF($I$6=C23,A23,"") | Q23: =IF(ISERROR(INDEX($D$2:$D$23,SMALL($P$2:$P$23,A23),1)),"",INDEX($D$2:$D$23,SMALL($P$2:$P$23,A23),1)) | R23: =IF(ISERROR(MATCH(listes!N27,formules!$D$2:$D$23,0)),"",formules!A23) -> 22 | S23: =IF(ISERROR(INDEX(haut,SMALL($R$2:$R$23,A23),1)),"",INDEX(haut,SMALL($R$2:$R$23,A23),1))

Sheet tab
B1: =CHOOSE(H2,1,2,3) -> 1 | C1: =CHOOSE(H2,2,3,1) -> 2 | D1: =CHOOSE(H2,3,1,2) -> 3
A2: 1 | B2: =INDEX(bdd!$A1:$C1,1,tab!B$1) -> larg | C2: =INDEX(bdd!$A1:$C1,1,tab!C$1) -> long | D2: =INDEX(bdd!$A1:$C1,1,tab!D$1) -> haut | E2: Nom à renseigner sur la boîte | G2: ordre | H2: =formules!A1 -> 1
A3: 2 | B3: =INDEX(bdd!$A2:$C2,1,tab!B$1) -> 16 | C3: =INDEX(bdd!$A2:$C2,1,tab!C$1) -> 16 | D3: =INDEX(bdd!$A2:$C2,1,tab!D$1) -> 23 | E3: 1
A4: 3 | B4: =INDEX(bdd!$A3:$C3,1,tab!B$1) -> 20 | C4: =INDEX(bdd!$A3:$C3,1,tab!C$1) -> 20 | D4: =INDEX(bdd!$A3:$C3,1,tab!D$1) -> 23 | E4: 2
A5: 4 | B5: =INDEX(bdd!$A4:$C4,1,tab!B$1) -> 20 | C5: =INDEX(bdd!$A4:$C4,1,tab!C$1) -> 30 | D5: =INDEX(bdd!$A4:$C4,1,tab!D$1) -> 23 | E5: 3
A6: 5 | B6: =INDEX(bdd!$A5:$C5,1,tab!B$1) -> 20 | C6: =INDEX(bdd!$A5:$C5,1,tab!C$1) -> 40 | D6: =INDEX(bdd!$A5:$C5,1,tab!D$1) -> 23 | E6: 4
A7: 6 | B7: =INDEX(bdd!$A6:$C6,1,tab!B$1) -> 25 | C7: =INDEX(bdd!$A6:$C6,1,tab!C$1) -> 25 | D7: =INDEX(bdd!$A6:$C6,1,tab!D$1) -> 23 | E7: 5
A8: 7 | B8: =INDEX(bdd!$A7:$C7,1,tab!B$1) -> 30 | C8: =INDEX(bdd!$A7:$C7,1,tab!C$1) -> 30 | D8: =INDEX(bdd!$A7:$C7,1,tab!D$1) -> 23 | E8: 6
A9: 8 | B9: =INDEX(bdd!$A8:$C8,1,tab!B$1) -> 30 | C9: =INDEX(bdd!$A8:$C8,1,tab!C$1) -> 100 | D9: =INDEX(bdd!$A8:$C8,1,tab!D$1) -> 23 | E9: 7
A10: 9 | B10: =INDEX(bdd!$A9:$C9,1,tab!B$1) -> 50 | C10: =INDEX(bdd!$A9:$C9,1,tab!C$1) -> 50 | D10: =INDEX(bdd!$A9:$C9,1,tab!D$1) -> 23 | E10: 8
A11: 10 | B11: =INDEX(bdd!$A10:$C10,1,tab!B$1) -> 60 | C11: =INDEX(bdd!$A10:$C10,1,tab!C$1) -> 20 | D11: =INDEX(bdd!$A10:$C10,1,tab!D$1) -> 23 | E11: 9
A12: 11 | B12: =INDEX(bdd!$A11:$C11,1,tab!B$1) -> 70 | C12: =INDEX(bdd!$A11:$C11,1,tab!C$1) -> 60 | D12: =INDEX(bdd!$A11:$C11,1,tab!D$1) -> 23 | E12: 10
A13: 12 | B13: =INDEX(bdd!$A12:$C12,1,tab!B$1) -> 20 | C13: =INDEX(bdd!$A12:$C12,1,tab!C$1) -> 20 | D13: =INDEX(bdd!$A12:$C12,1,tab!D$1) -> 25 | E13: 11
A14: 13 | B14: =INDEX(bdd!$A13:$C13,1,tab!B$1) -> 25 | C14: =INDEX(bdd!$A13:$C13,1,tab!C$1) -> 25 | D14: =INDEX(bdd!$A13:$C13,1,tab!D$1) -> 25 | E14: 12
... A24: 23 | B24: =INDEX(bdd!$A23:$C23,1,tab!B$1) -> 37 | C24: =INDEX(bdd!$A23:$C23,1,tab!C$1) -> 37 | D24: =INDEX(bdd!$A23:$C23,1,tab!D$1) -> 44 | E24: 22

Sheet listes
B5: =tab!B2 -> larg | D5: LISTE | G5: =tab!C2 -> long | I5: LISTE | L5: =tab!D2 -> haut | N5: LISTE
A6: 1 | B6: =tab!B3 -> 16 | C6: =IF(A6=MATCH(B6,$B$6:$B$500,0),MATCH(B6,$B$6:$B$500,0),"") -> 1 | D6: =IF(ISERROR(INDEX($B$6:$B$500,SMALL($C$6:$C$500,A6),1)),"",INDEX($B$6:$B$500,SMALL($C$6:$C$500,A6),1)) -> 16 | F6: 1 | G6: =tab!C3 -> 16 | H6: =IF(F6=MATCH(G6,$G$6:$G$499,0),MATCH(G6,$G$6:$G$499,0),"") -> 1 | I6: =IF(ISERROR(INDEX($G$6:$G$499,SMALL($H$6:$H$499,F6),1)),"",INDEX($G$6:$G$499,SMALL($H$6:$H$499,F6),1)) -> 16 | K6: 1 | L6: =tab!D3 -> 23 | M6: =IF(K6=MATCH(L6,$L$6:$L$500,0),MATCH(L6,$L$6:$L$500,0),"") -> 1 | N6: =IF(ISERROR(INDEX($L$6:$L$500,SMALL($M$6:$M$500,K6),1)),"",INDEX($L$6:$L$500,SMALL($M$6:$M$500,K6),1)) -> 23
A7: 2 | B7: =tab!B4 -> 20 | C7: =IF(A7=MATCH(B7,$B$6:$B$500,0),MATCH(B7,$B$6:$B$500,0),"") -> 2 | D7: =IF(ISERROR(INDEX($B$6:$B$500,SMALL($C$6:$C$500,A7),1)),"",INDEX($B$6:$B$500,SMALL($C$6:$C$500,A7),1)) -> 20 | F7: 2 | G7: =tab!C4 -> 20 | H7: =IF(F7=MATCH(G7,$G$6:$G$499,0),MATCH(G7,$G$6:$G$499,0),"") -> 2 | I7: =IF(ISERROR(INDEX($G$6:$G$499,SMALL($H$6:$H$499,F7),1)),"",INDEX($G$6:$G$499,SMALL($H$6:$H$499,F7),1)) -> 20 | K7: 2 | L7: =tab!D4 -> 23 | M7: =IF(K7=MATCH(L7,$L$6:$L$500,0),MATCH(L7,$L$6:$L$500,0),"") | N7: =IF(ISERROR(INDEX($L$6:$L$500,SMALL($M$6:$M$500,K7),1)),"",INDEX($L$6:$L$500,SMALL($M$6:$M$500,K7),1)) -> 25
A8: 3 | B8: =tab!B5 -> 20 | C8: =IF(A8=MATCH(B8,$B$6:$B$500,0),MATCH(B8,$B$6:$B$500,0),"") | D8: =IF(ISERROR(INDEX($B$6:$B$500,SMALL($C$6:$C$500,A8),1)),"",INDEX($B$6:$B$500,SMALL($C$6:$C$500,A8),1)) -> 25 | F8: 3 | G8: =tab!C5 -> 30 | H8: =IF(F8=MATCH(G8,$G$6:$G$499,0),MATCH(G8,$G$6:$G$499,0),"") -> 3 | I8: =IF(ISERROR(INDEX($G$6:$G$499,SMALL($H$6:$H$499,F8),1)),"",INDEX($G$6:$G$499,SMALL($H$6:$H$499,F8),1)) -> 30 | K8: 3 | L8: =tab!D5 -> 23 | M8: =IF(K8=MATCH(L8,$L$6:$L$500,0),MATCH(L8,$L$6:$L$500,0),"") | N8: =IF(ISERROR(INDEX($L$6:$L$500,SMALL($M$6:$M$500,K8),1)),"",INDEX($L$6:$L$500,SMALL($M$6:$M$500,K8),1)) -> 30
A9: 4 | B9: =tab!B6 -> 20 | C9: =IF(A9=MATCH(B9,$B$6:$B$500,0),MATCH(B9,$B$6:$B$500,0),"") | D9: =IF(ISERROR(INDEX($B$6:$B$500,SMALL($C$6:$C$500,A9),1)),"",INDEX($B$6:$B$500,SMALL($C$6:$C$500,A9),1)) -> 30 | F9: 4 | G9: =tab!C6 -> 40 | H9: =IF(F9=MATCH(G9,$G$6:$G$499,0),MATCH(G9,$G$6:$G$499,0),"") -> 4 | I9: =IF(ISERROR(INDEX($G$6:$G$499,SMALL($H$6:$H$499,F9),1)),"",INDEX($G$6:$G$499,SMALL($H$6:$H$499,F9),1)) -> 40 | K9: 4 | L9: =tab!D6 -> 23 | M9: =IF(K9=MATCH(L9,$L$6:$L$500,0),MATCH(L9,$L$6:$L$500,0),"") | N9: =IF(ISERROR(INDEX($L$6:$L$500,SMALL($M$6:$M$500,K9),1)),"",INDEX($L$6:$L$500,SMALL($M$6:$M$500,K9),1)) -> 32
A10: 5 | B10: =tab!B7 -> 25 | C10: =IF(A10=MATCH(B10,$B$6:$B$500,0),MATCH(B10,$B$6:$B$500,0),"") -> 5 | D10: =IF(ISERROR(INDEX($B$6:$B$500,SMALL($C$6:$C$500,A10),1)),"",INDEX($B$6:$B$500,SMALL($C$6:$C$500,A10),1)) -> 50 | F10: 5 | G10: =tab!C7 -> 25 | H10: =IF(F10=MATCH(G10,$G$6:$G$499,0),MATCH(G10,$G$6:$G$499,0),"") -> 5 | I10: =IF(ISERROR(INDEX($G$6:$G$499,SMALL($H$6:$H$499,F10),1)),"",INDEX($G$6:$G$499,SMALL($H$6:$H$499,F10),1)) -> 25 | K10: 5 | L10: =tab!D7 -> 23 | M10: =IF(K10=MATCH(L10,$L$6:$L$500,0),MATCH(L10,$L$6:$L$500,0),"") | N10: =IF(ISERROR(INDEX($L$6:$L$500,SMALL($M$6:$M$500,K10),1)),"",INDEX($L$6:$L$500,SMALL($M$6:$M$500,K10),1)) -> 41
A11: 6 | B11: =tab!B8 -> 30 | C11: =IF(A11=MATCH(B11,$B$6:$B$500,0),MATCH(B11,$B$6:$B$500,0),"") -> 6 | D11: =IF(ISERROR(INDEX($B$6:$B$500,SMALL($C$6:$C$500,A11),1)),"",INDEX($B$6:$B$500,SMALL($C$6:$C$500,A11),1)) -> 60 | F11: 6 | G11: =tab!C8 -> 30 | H11: =IF(F11=MATCH(G11,$G$6:$G$499,0),MATCH(G11,$G$6:$G$499,0),"") | I11: =IF(ISERROR(INDEX($G$6:$G$499,SMALL($H$6:$H$499,F11),1)),"",INDEX($G$6:$G$499,SMALL($H$6:$H$499,F11),1)) -> 100 | K11: 6 | L11: =tab!D8 -> 23 | M11: =IF(K11=MATCH(L11,$L$6:$L$500,0),MATCH(L11,$L$6:$L$500,0),"") | N11: =IF(ISERROR(INDEX($L$6:$L$500,SMALL($M$6:$M$500,K11),1)),"",INDEX($L$6:$L$500,SMALL($M$6:$M$500,K11),1)) -> 44
A12: 7 | B12: =tab!B9 -> 30 | C12: =IF(A12=MATCH(B12,$B$6:$B$500,0),MATCH(B12,$B$6:$B$500,0),"") | D12: =IF(ISERROR(INDEX($B$6:$B$500,SMALL($C$6:$C$500,A12),1)),"",INDEX($B$6:$B$500,SMALL($C$6:$C$500,A12),1)) -> 70 | F12: 7 | G12: =tab!C9 -> 100 | H12: =IF(F12=MATCH(G12,$G$6:$G$499,0),MATCH(G12,$G$6:$G$499,0),"") -> 7 | I12: =IF(ISERROR(INDEX($G$6:$G$499,SMALL($H$6:$H$499,F12),1)),"",INDEX($G$6:$G$499,SMALL($H$6:$H$499,F12),1)) -> 50 | K12: 7 | L12: =tab!D9 -> 23 | M12: =IF(K12=MATCH(L12,$L$6:$L$500,0),MATCH(L12,$L$6:$L$500,0),"") | N12: =IF(ISERROR(INDEX($L$6:$L$500,SMALL($M$6:$M$500,K12),1)),"",INDEX($L$6:$L$500,SMALL($M$6:$M$500,K12),1)) -> 0
A13: 8 | B13: =tab!B10 -> 50 | C13: =IF(A13=MATCH(B13,$B$6:$B$500,0),MATCH(B13,$B$6:$B$500,0),"") -> 8 | D13: =IF(ISERROR(INDEX($B$6:$B$500,SMALL($C$6:$C$500,A13),1)),"",INDEX($B$6:$B$500,SMALL($C$6:$C$500,A13),1)) -> 23 | F13: 8 | G13: =tab!C10 -> 50 | H13: =IF(F13=MATCH(G13,$G$6:$G$499,0),MATCH(G13,$G$6:$G$499,0),"") -> 8 | I13: =IF(ISERROR(INDEX($G$6:$G$499,SMALL($H$6:$H$499,F13),1)),"",INDEX($G$6:$G$499,SMALL($H$6:$H$499,F13),1)) -> 60 | K13: 8 | L13: =tab!D10 -> 23 | M13: =IF(K13=MATCH(L13,$L$6:$L$500,0),MATCH(L13,$L$6:$L$500,0),"") | N13: =IF(ISERROR(INDEX($L$6:$L$500,SMALL($M$6:$M$500,K13),1)),"",INDEX($L$6:$L$500,SMALL($M$6:$M$500,K13),1))
A14: 9 | B14: =tab!B11 -> 60 | C14: =IF(A14=MATCH(B14,$B$6:$B$500,0),MATCH(B14,$B$6:$B$500,0),"") -> 9 | D14: =IF(ISERROR(INDEX($B$6:$B$500,SMALL($C$6:$C$500,A14),1)),"",INDEX($B$6:$B$500,SMALL($C$6:$C$500,A14),1)) -> 34 | F14: 9 | G14: =tab!C11 -> 20 | H14: =IF(F14=MATCH(G14,$G$6:$G$499,0),MATCH(G14,$G$6:$G$499,0),"") | I14: =IF(ISERROR(INDEX($G$6:$G$499,SMALL($H$6:$H$499,F14),1)),"",INDEX($G$6:$G$499,SMALL($H$6:$H$499,F14),1)) -> 75 | K14: 9 | L14: =tab!D11 -> 23 | M14: =IF(K14=MATCH(L14,$L$6:$L$500,0),MATCH(L14,$L$6:$L$500,0),"") | N14: =IF(ISERROR(INDEX($L$6:$L$500,SMALL($M$6:$M$500,K14),1)),"",INDEX($L$6:$L$500,SMALL($M$6:$M$500,K14),1))
A15: 10 | B15: =tab!B12 -> 70 | C15: =IF(A15=MATCH(B15,$B$6:$B$500,0),MATCH(B15,$B$6:$B$500,0),"") -> 10 | D15: =IF(ISERROR(INDEX($B$6:$B$500,SMALL($C$6:$C$500,A15),1)),"",INDEX($B$6:$B$500,SMALL($C$6:$C$500,A15),1)) -> 37 | F15: 10 | G15: =tab!C12 -> 60 | H15: =IF(F15=MATCH(G15,$G$6:$G$499,0),MATCH(G15,$G$6:$G$499,0),"") -> 10 | I15: =IF(ISERROR(INDEX($G$6:$G$499,SMALL($H$6:$H$499,F15),1)),"",INDEX($G$6:$G$499,SMALL($H$6:$H$499,F15),1)) -> 55 | K15: 10 | L15: =tab!D12 -> 23 | M15: =IF(K15=MATCH(L15,$L$6:$L$500,0),MATCH(L15,$L$6:$L$500,0),"") | N15: =IF(ISERROR(INDEX($L$6:$L$500,SMALL($M$6:$M$500,K15),1)),"",INDEX($L$6:$L$500,SMALL($M$6:$M$500,K15),1))
A16: 11 | B16: =tab!B13 -> 20 | C16: =IF(A16=MATCH(B16,$B$6:$B$500,0),MATCH(B16,$B$6:$B$500,0),"") | D16: =IF(ISERROR(INDEX($B$6:$B$500,SMALL($C$6:$C$500,A16),1)),"",INDEX($B$6:$B$500,SMALL($C$6:$C$500,A16),1)) -> 0 | F16: 11 | G16: =tab!C13 -> 20 | H16: =IF(F16=MATCH(G16,$G$6:$G$499,0),MATCH(G16,$G$6:$G$499,0),"") | I16: =IF(ISERROR(INDEX($G$6:$G$499,SMALL($H$6:$H$499,F16),1)),"",INDEX($G$6:$G$499,SMALL($H$6:$H$499,F16),1)) -> 34 | K16: 11 | L16: =tab!D13 -> 25 | M16: =IF(K16=MATCH(L16,$L$6:$L$500,0),MATCH(L16,$L$6:$L$500,0),"") -> 11 | N16: =IF(ISERROR(INDEX($L$6:$L$500,SMALL($M$6:$M$500,K16),1)),"",INDEX($L$6:$L$500,SMALL($M$6:$M$500,K16),1))
A17: 12 | B17: =tab!B14 -> 25 | C17: =IF(A17=MATCH(B17,$B$6:$B$500,0),MATCH(B17,$B$6:$B$500,0),"") | D17: =IF(ISERROR(INDEX($B$6:$B$500,SMALL($C$6:$C$500,A17),1)),"",INDEX($B$6:$B$500,SMALL($C$6:$C$500,A17),1)) | F17: 12 | G17: =tab!C14 -> 25 | H17: =IF(F17=MATCH(G17,$G$6:$G$499,0),MATCH(G17,$G$6:$G$499,0),"") | I17: =IF(ISERROR(INDEX($G$6:$G$499,SMALL($H$6:$H$499,F17),1)),"",INDEX($G$6:$G$499,SMALL($H$6:$H$499,F17),1)) -> 37 | K17: 12 | L17: =tab!D14 -> 25 | M17: =IF(K17=MATCH(L17,$L$6:$L$500,0),MATCH(L17,$L$6:$L$500,0),"") | N17: =IF(ISERROR(INDEX($L$6:$L$500,SMALL($M$6:$M$500,K17),1)),"",INDEX($L$6:$L$500,SMALL($M$6:$M$500,K17),1))
... A512: 507 | B512: =tab!B509 -> 0 | C512: =IF(A512=MATCH(B512,$B$6:$B$500,0),MATCH(B512,$B$6:$B$500,0),"") | D512: =IF(ISERROR(INDEX($B$6:$B$500,SMALL($C$6:$C$500,A512),1)),"",INDEX($B$6:$B$500,SMALL($C$6:$C$500,A512),1)) | F512: 507 | G512: =tab!C509 -> 0 | H512: =IF(F512=MATCH(G512,$G$6:$G$499,0),MATCH(G512,$G$6:$G$499,0),"") | I512: =IF(ISERROR(INDEX($G$6:$G$499,SMALL($H$6:$H$499,F512),1)),"",INDEX($G$6:$G$499,SMALL($H$6:$H$499,F512),1)) | K512: 507 | L512: =tab!D509 -> 0 | M512: =IF(K512=MATCH(L512,$L$6:$L$500,0),MATCH(L512,$L$6:$L$500,0),"") | N512: =IF(ISERROR(INDEX($L$6:$L$500,SMALL($M$6:$M$500,K512),1)),"",INDEX($L$6:$L$500,SMALL($M$6:$M$500,K512),1))
