Workbook
Name aff: bdd!$V$48:$V$50
Name choix: bdd!$W$6:$AH$6
Name notation: bdd!$AB$35:$AB$38
Name tab: bdd!$C$21:$Z$33

Sheet bdd
H1: 1 | I1: 2 | J1: 3 | K1: 4 | L1: 5 | M1: 6 | N1: 7 | O1: 8 | P1: 9 | Q1: 10 | R1: 11 | S1: 12
G2: 7 | H2: =INDEX($G$21:$AX$21,1,$G2-6+H$1) -> Fa | I2: =INDEX($G$21:$AX$21,1,$G2-6+I$1) -> Fa# | J2: =INDEX($G$21:$AX$21,1,$G2-6+J$1) -> Sol | K2: =INDEX($G$21:$AX$21,1,$G2-6+K$1) -> Sol# | L2: =INDEX($G$21:$AX$21,1,$G2-6+L$1) -> La | M2: =INDEX($G$21:$AX$21,1,$G2-6+M$1) -> La# | N2: =INDEX($G$21:$AX$21,1,$G2-6+N$1) -> Si | O2: =INDEX($G$21:$AX$21,1,$G2-6+O$1) -> Do | ... S2: =INDEX($G$21:$AX$21,1,$G2-6+S$1) -> Mi | V2: notation 1 | W2: =options!D10 -> C | X2: =options!E10 -> C# | Y2: =options!F10 -> D | Z2: =options!G10 -> D# | AA2: =options!H10 -> E | AB2: =options!I10 -> F | AC2: =options!J10 -> F# | AD2: =options!K10 -> G | ... AH2: =options!O10 -> B
G3: 7 | H3: =INDEX($N$21:$AP$21,1,$G3-6+H$1) -> Do | I3: =INDEX($N$21:$AP$21,1,$G3-6+I$1) -> Do# | J3: =INDEX($N$21:$AP$21,1,$G3-6+J$1) -> Ré | K3: =INDEX($N$21:$AP$21,1,$G3-6+K$1) -> Ré# | L3: =INDEX($N$21:$AP$21,1,$G3-6+L$1) -> Mi | M3: =INDEX($N$21:$AP$21,1,$G3-6+M$1) -> Fa | N3: =INDEX($N$21:$AP$21,1,$G3-6+N$1) -> Fa# | O3: =INDEX($N$21:$AP$21,1,$G3-6+O$1) -> Sol | ... S3: =INDEX($N$21:$AP$21,1,$G3-6+S$1) -> Si | V3: notation 2 | W3: =options!D11 -> Do | X3: =options!E11 -> Do# | Y3: =options!F11 -> Ré | Z3: =options!G11 -> Ré# | AA3: =options!H11 -> Mi | AB3: =options!I11 -> Fa | AC3: =options!J11 -> Fa# | AD3: =options!K11 -> Sol | ... AH3: =options!O11 -> Si
G4: 7 | H4: =INDEX($J$21:$AP$21,1,$G4-6+H$1) -> Sol# | I4: =INDEX($J$21:$AP$21,1,$G4-6+I$1) -> La | J4: =INDEX($J$21:$AP$21,1,$G4-6+J$1) -> La# | K4: =INDEX($J$21:$AP$21,1,$G4-6+K$1) -> Si | L4: =INDEX($J$21:$AP$21,1,$G4-6+L$1) -> Do | M4: =INDEX($J$21:$AP$21,1,$G4-6+M$1) -> Do# | N4: =INDEX($J$21:$AP$21,1,$G4-6+N$1) -> Ré | O4: =INDEX($J$21:$AP$21,1,$G4-6+O$1) -> Ré# | ... S4: =INDEX($J$21:$AP$21,1,$G4-6+S$1) -> Sol | V4: notation 3 | W4: =options!D12 -> C | X4: =options!E12 -> Db | Y4: =options!F12 -> D | Z4: =options!G12 -> Eb | AA4: =options!H12 -> E | AB4: =options!I12 -> F | AC4: =options!J12 -> Gb | AD4: =options!K12 -> G | ... AH4: =options!O12 -> B
G5: 7 | H5: =INDEX($E$21:$AP$21,1,$G5-6+H$1) -> Ré# | I5: =INDEX($E$21:$AP$21,1,$G5-6+I$1) -> Mi | J5: =INDEX($E$21:$AP$21,1,$G5-6+J$1) -> Fa | K5: =INDEX($E$21:$AP$21,1,$G5-6+K$1) -> Fa# | L5: =INDEX($E$21:$AP$21,1,$G5-6+L$1) -> Sol | M5: =INDEX($E$21:$AP$21,1,$G5-6+M$1) -> Sol# | N5: =INDEX($E$21:$AP$21,1,$G5-6+N$1) -> La | O5: =INDEX($E$21:$AP$21,1,$G5-6+O$1) -> La# | ... S5: =INDEX($E$21:$AP$21,1,$G5-6+S$1) -> Ré | V5: notation 4 | W5: =options!D13 -> Do | X5: =options!E13 -> Réb | Y5: =options!F13 -> Ré | Z5: =options!G13 -> Mib | AA5: =options!H13 -> Mi | AB5: =options!I13 -> Fa | AC5: =options!J13 -> Solb | AD5: =options!K13 -> Sol | ... AH5: =options!O13 -> Si
G6: 7 | H6: =INDEX($L$21:$AP$21,1,$G6-6+H$1) -> La# | I6: =INDEX($L$21:$AP$21,1,$G6-6+I$1) -> Si | J6: =INDEX($L$21:$AP$21,1,$G6-6+J$1) -> Do | K6: =INDEX($L$21:$AP$21,1,$G6-6+K$1) -> Do# | L6: =INDEX($L$21:$AP$21,1,$G6-6+L$1) -> Ré | M6: =INDEX($L$21:$AP$21,1,$G6-6+M$1) -> Ré# | N6: =INDEX($L$21:$AP$21,1,$G6-6+N$1) -> Mi | O6: =INDEX($L$21:$AP$21,1,$G6-6+O$1) -> Fa | ... S6: =INDEX($L$21:$AP$21,1,$G6-6+S$1) -> La | U6: choix | V6: =MATCH(AD71,notation,0) -> 2 | W6: =CHOOSE($V$6,W2,W3,W4,W5) -> Do | X6: =CHOOSE($V$6,X2,X3,X4,X5) -> Do# | Y6: =CHOOSE($V$6,Y2,Y3,Y4,Y5) -> Ré | Z6: =CHOOSE($V$6,Z2,Z3,Z4,Z5) -> Ré# | AA6: =CHOOSE($V$6,AA2,AA3,AA4,AA5) -> Mi | AB6: =CHOOSE($V$6,AB2,AB3,AB4,AB5) -> Fa | AC6: =CHOOSE($V$6,AC2,AC3,AC4,AC5) -> Fa# | AD6: =CHOOSE($V$6,AD2,AD3,AD4,AD5) -> Sol | ... AH6: =CHOOSE($V$6,AH2,AH3,AH4,AH5) -> Si
G7: 7 | H7: =INDEX($G$21:$AX$21,1,$G7-6+H$1) -> Fa | I7: =INDEX($G$21:$AX$21,1,$G7-6+I$1) -> Fa# | J7: =INDEX($G$21:$AX$21,1,$G7-6+J$1) -> Sol | K7: =INDEX($G$21:$AX$21,1,$G7-6+K$1) -> Sol# | L7: =INDEX($G$21:$AX$21,1,$G7-6+L$1) -> La | M7: =INDEX($G$21:$AX$21,1,$G7-6+M$1) -> La# | N7: =INDEX($G$21:$AX$21,1,$G7-6+N$1) -> Si | O7: =INDEX($G$21:$AX$21,1,$G7-6+O$1) -> Do | ... S7: =INDEX($G$21:$AX$21,1,$G7-6+S$1) -> Mi | W7: 1 | X7: 2 | Y7: 3 | Z7: 4 | AA7: 5 | AB7: 6 | AC7: 7 | AD7: 8 | AE7: 9 | AF7: 10 | AG7: 11 | AH7: 12
W8: =N(W2=$K$87) -> 0 | X8: =N(X2=$K$87) -> 0 | Y8: =N(Y2=$K$87) -> 0 | Z8: =N(Z2=$K$87) -> 0 | AA8: =N(AA2=$K$87) -> 0 | AB8: =N(AB2=$K$87) -> 0 | AC8: =N(AC2=$K$87) -> 0 | AD8: =N(AD2=$K$87) -> 0 | ... AH8: =N(AH2=$K$87) -> 0
W9: =N(W3=$K$87) -> 1 | X9: =N(X3=$K$87) -> 0 | Y9: =N(Y3=$K$87) -> 0 | Z9: =N(Z3=$K$87) -> 0 | AA9: =N(AA3=$K$87) -> 0 | AB9: =N(AB3=$K$87) -> 0 | AC9: =N(AC3=$K$87) -> 0 | AD9: =N(AD3=$K$87) -> 0 | ... AH9: =N(AH3=$K$87) -> 0
W10: =N(W4=$K$87) -> 0 | X10: =N(X4=$K$87) -> 0 | Y10: =N(Y4=$K$87) -> 0 | Z10: =N(Z4=$K$87) -> 0 | AA10: =N(AA4=$K$87) -> 0 | AB10: =N(AB4=$K$87) -> 0 | AC10: =N(AC4=$K$87) -> 0 | AD10: =N(AD4=$K$87) -> 0 | ... AH10: =N(AH4=$K$87) -> 0
W11: =N(W5=$K$87) -> 1 | X11: =N(X5=$K$87) -> 0 | Y11: =N(Y5=$K$87) -> 0 | Z11: =N(Z5=$K$87) -> 0 | AA11: =N(AA5=$K$87) -> 0 | AB11: =N(AB5=$K$87) -> 0 | AC11: =N(AC5=$K$87) -> 0 | AD11: =N(AD5=$K$87) -> 0 | ... AH11: =N(AH5=$K$87) -> 0
V12: =MAX(W12:AH12) -> 1 | W12: =N(NOT(SUM(W8:W11)=0))*W7 -> 1 | X12: =N(NOT(SUM(X8:X11)=0))*X7 -> 0 | Y12: =N(NOT(SUM(Y8:Y11)=0))*Y7 -> 0 | Z12: =N(NOT(SUM(Z8:Z11)=0))*Z7 -> 0 | AA12: =N(NOT(SUM(AA8:AA11)=0))*AA7 -> 0 | AB12: =N(NOT(SUM(AB8:AB11)=0))*AB7 -> 0 | AC12: =N(NOT(SUM(AC8:AC11)=0))*AC7 -> 0 | AD12: =N(NOT(SUM(AD8:AD11)=0))*AD7 -> 0 | ... AH12: =N(NOT(SUM(AH8:AH11)=0))*AH7 -> 0
D13: Affichage des accords
C14: =IF(C17="","",IF(options!B5="","",options!B5)) -> X | D14: =IF(D17="","",IF(options!C5="","",options!C5)) | E14: =IF(E17="","",IF(options!D5="","",options!D5)) | F14: =IF(F17="","",IF(options!E5="","",options!E5)) | G14: =IF(G17="","",IF(options!F5="","",options!F5)) | H14: =IF(H17="","",IF(options!G5="","",options!G5)) | I14: =IF(I17="","",IF(options!H5="","",options!H5)) | J14: =IF(J17="","",IF(options!I5="","",options!I5)) | ... X14: =IF(X17="","",IF(options!W5="","",options!W5))
B16: choix | C16: TRUE | D16: FALSE | E16: FALSE | F16: FALSE | G16: TRUE | H16: FALSE | I16: FALSE | J16: TRUE | K16: FALSE | L16: FALSE | M16: FALSE | N16: FALSE | O16: FALSE | P16: FALSE | Q16: FALSE | R16: FALSE | S16: FALSE | T16: FALSE | U16: FALSE | V16: FALSE | W16: FALSE | X16: FALSE | AB16: Nom accord
B17: affichage | C17: =IF(C16,C19,"") -> T | D17: =IF(D16,D19,"") | E17: =IF(E16,E19,"") | F17: =IF(F16,F19,"") | G17: =IF(G16,G19,"") -> maj | H17: =IF(H16,H19,"") | I17: =IF(I16,I19,"") | J17: =IF(J16,J19,"") -> 5 | ... X17: =IF(X16,X19,"") | Z17: =C37&" "&D14&" "&E14&" "&F14&""&G14&" "&H14&" "&I14&" "&J14&" "&K14&" "&L14&" "&M14&" "&N14&" "&O14&" "&P14&" "&Q14&" "&R14&" "&S14&" "&T14&" "&U14&" "&V14&" "&W14&""&X14 -> Do
B18: ref | C18: 1 | D18: 2 | E18: 3 | F18: 4 | G18: 5 | H18: 6 | I18: 7 | J18: 8 | K18: 9 | L18: 10 | M18: 11 | N18: 12 | O18: 13 | P18: 14 | Q18: 15 | R18: 16 | S18: 17 | T18: 18 | U18: 19 | V18: 20 | W18: 21 | X18: 22
B19: nom | C19: =E66 -> T | D19: 2b | E19: 2 | F19: min | G19: maj | H19: 4 | I19: 5b | J19: 5 | K19: 5# | L19: 6 | M19: 7 | N19: 7M | O19: Oct | P19: 9b | Q19: 9 | R19: 9# | S19: 11b | T19: 11 | U19: 11# | V19: 13b | W19: 13 | X19: 13#
C20: 1 | D20: 2 | E20: 3 | F20: 4 | G20: 5 | H20: 6 | I20: 7 | J20: 8 | K20: 9 | L20: 10 | M20: 11 | N20: 12 | O20: 13 | P20: 14 | Q20: 15 | R20: 16 | S20: 17 | T20: 18 | U20: 19 | V20: 20 | W20: 21 | X20: 22 | Y20: 23 | Z20: 24 | AA20: 25 | AB20: 26 | AC20: 27 | AD20: 28 | AE20: 29 | AF20: 30 | AG20: 31 | AH20: 32 | AI20: 33 | AJ20: 34 | AK20: 35 | AL20: 36 | AM20: 37 | AN20: 38 | AO20: 39 | AP20: 40 | AQ20: 41 | AR20: 42 | AS20: 43 | AT20: 44 | AU20: 45 | AV20: 46 | AW20: 47 | AX20: 48
B21: 1 | C21: =W6 -> Do | D21: =X6 -> Do# | E21: =Y6 -> Ré | F21: =Z6 -> Ré# | G21: =AA6 -> Mi | H21: =AB6 -> Fa | I21: =AC6 -> Fa# | J21: =AD6 -> Sol | ... N21: =AH6 -> Si | O21: =C21 -> Do | P21: =D21 -> Do# | Q21: =E21 -> Ré | R21: =F21 -> Ré# | S21: =G21 -> Mi | T21: =H21 -> Fa | U21: =I21 -> Fa# | V21: =J21 -> Sol | ... AX21: =AL21 -> Si
B22: 2 | C22: =D21 -> Do# | D22: =E21 -> Ré | E22: =F21 -> Ré# | F22: =G21 -> Mi | G22: =H21 -> Fa | H22: =I21 -> Fa# | I22: =J21 -> Sol | J22: =K21 -> Sol# | ... AW22: =AX21 -> Si
B23: 3 | C23: =D22 -> Ré | D23: =E22 -> Ré# | E23: =F22 -> Mi | F23: =G22 -> Fa | G23: =H22 -> Fa# | H23: =I22 -> Sol | I23: =J22 -> Sol# | J23: =K22 -> La | ... AV23: =AW22 -> Si
B24: 4 | C24: =D23 -> Ré# | D24: =E23 -> Mi | E24: =F23 -> Fa | F24: =G23 -> Fa# | G24: =H23 -> Sol | H24: =I23 -> Sol# | I24: =J23 -> La | J24: =K23 -> La# | ... AU24: =AV23 -> Si
B25: 5 | C25: =D24 -> Mi | D25: =E24 -> Fa | E25: =F24 -> Fa# | F25: =G24 -> Sol | G25: =H24 -> Sol# | H25: =I24 -> La | I25: =J24 -> La# | J25: =K24 -> Si | ... AT25: =AU24 -> Si
B26: 6 | C26: =D25 -> Fa | D26: =E25 -> Fa# | E26: =F25 -> Sol | F26: =G25 -> Sol# | G26: =H25 -> La | H26: =I25 -> La# | I26: =J25 -> Si | J26: =K25 -> Do | ... AS26: =AT25 -> Si
B27: 7 | C27: =D26 -> Fa# | D27: =E26 -> Sol | E27: =F26 -> Sol# | F27: =G26 -> La | G27: =H26 -> La# | H27: =I26 -> Si | I27: =J26 -> Do | J27: =K26 -> Do# | ... AR27: =AS26 -> Si
B28: 8 | C28: =D27 -> Sol | D28: =E27 -> Sol# | E28: =F27 -> La | F28: =G27 -> La# | G28: =H27 -> Si | H28: =I27 -> Do | I28: =J27 -> Do# | J28: =K27 -> Ré | ... AQ28: =AR27 -> Si
B29: 9 | C29: =D28 -> Sol# | D29: =E28 -> La | E29: =F28 -> La# | F29: =G28 -> Si | G29: =H28 -> Do | H29: =I28 -> Do# | I29: =J28 -> Ré | J29: =K28 -> Ré# | ... AP29: =AQ28 -> Si
B30: 10 | C30: =D29 -> La | D30: =E29 -> La# | E30: =F29 -> Si | F30: =G29 -> Do | G30: =H29 -> Do# | H30: =I29 -> Ré | I30: =J29 -> Ré# | J30: =K29 -> Mi | ... AO30: =AP29 -> Si
B31: 11 | C31: =D30 -> La# | D31: =E30 -> Si | E31: =F30 -> Do | F31: =G30 -> Do# | G31: =H30 -> Ré | H31: =I30 -> Ré# | I31: =J30 -> Mi | J31: =K30 -> Fa | ... AN31: =AO30 -> Si
B32: 12 | C32: =D31 -> Si | D32: =E31 -> Do | E32: =F31 -> Do# | F32: =G31 -> Ré | G32: =H31 -> Ré# | H32: =I31 -> Mi | I32: =J31 -> Fa | J32: =K31 -> Fa# | ... AM32: =AN31 -> Si
B33: 13 | C33: =D32 -> Do | D33: =E32 -> Do# | E33: =F32 -> Ré | F33: =G32 -> Ré# | G33: =H32 -> Mi | H33: =I32 -> Fa | I33: =J32 -> Fa# | J33: =K32 -> Sol | ... AL33: =AM32 -> Si
C34: T
B35: dom | C35: =INDEX(choix,1,V12) -> Do | D35: =INDEX(tab,MATCH($C$35,choix,0),D18) -> Do# | E35: =INDEX(tab,MATCH($C$35,choix,0),E18) -> Ré | F35: =INDEX(tab,MATCH($C$35,choix,0),F18) -> Ré# | G35: =INDEX(tab,MATCH($C$35,choix,0),G18) -> Mi | H35: =INDEX(tab,MATCH($C$35,choix,0),H18) -> Fa | I35: =INDEX(tab,MATCH($C$35,choix,0),I18) -> Fa# | J35: =INDEX(tab,MATCH($C$35,choix,0),J18) -> Sol | K35: =INDEX(tab,MATCH($C$35,choix,0),K18) -> Sol# | ... X35: =INDEX(tab,MATCH($C$35,choix,0),X18) -> La | AB35: =options!P10 -> Anglais #
B36: ref | AB36: =options!P11 -> Français #
C37: =K87 -> Do | D37: =IF(D16=TRUE,D35,"") | E37: =IF(E16=TRUE,E35,"") | F37: =IF(F16=TRUE,F35,"") | G37: =IF(G16=TRUE,G35,"") -> Mi | H37: =IF(H16=TRUE,H35,"") | I37: =IF(I16=TRUE,I35,"") | J37: =IF(J16=TRUE,J35,"") -> Sol | K37: =IF(K16=TRUE,K35,"") | ... X37: =IF(X16=TRUE,X35,"") | AB37: =options!P12 -> Anglais b
C38: =C37 -> Do | D38: =IF(D37="",""," - "&D37) | E38: =IF(E37="",""," - "&E37) | F38: =IF(F37="",""," - "&F37) | G38: =IF(G37="",""," - "&G37) -> - Mi | H38: =IF(H37="",""," - "&H37) | I38: =IF(I37="",""," - "&I37) | J38: =IF(J37="",""," - "&J37) -> - Sol | K38: =IF(K37="",""," - "&K37) | ... X38: =IF(X37="",""," - "&X37) | AB38: Français b
G39: 1 | H39: 2 | I39: 3 | J39: 4 | K39: 5 | L39: 6 | M39: 7 | N39: 8 | O39: 9 | P39: 10 | Q39: 11 | R39: 12 | X39: Notes
E40: =IF(ISERROR(MATCH(E71,$C$37:$Z$37,0)),"",MATCH(E71,$C$37:$Z$37,0)) -> 5 | G40: =IF(ISERROR(MATCH(H2,$C$37:$Z$37,0)),"",MATCH(H2,$C$37:$Z$37,0)) | H40: =IF(ISERROR(MATCH(I2,$C$37:$Z$37,0)),"",MATCH(I2,$C$37:$Z$37,0)) | I40: =IF(ISERROR(MATCH(J2,$C$37:$Z$37,0)),"",MATCH(J2,$C$37:$Z$37,0)) -> 8 | J40: =IF(ISERROR(MATCH(K2,$C$37:$Z$37,0)),"",MATCH(K2,$C$37:$Z$37,0)) | K40: =IF(ISERROR(MATCH(L2,$C$37:$Z$37,0)),"",MATCH(L2,$C$37:$Z$37,0)) | L40: =IF(ISERROR(MATCH(M2,$C$37:$Z$37,0)),"",MATCH(M2,$C$37:$Z$37,0)) | M40: =IF(ISERROR(MATCH(N2,$C$37:$Z$37,0)),"",MATCH(N2,$C$37:$Z$37,0)) | N40: =IF(ISERROR(MATCH(O2,$C$37:$Z$37,0)),"",MATCH(O2,$C$37:$Z$37,0)) -> 1 | ... R40: =IF(ISERROR(MATCH(S2,$C$37:$Z$37,0)),"",MATCH(S2,$C$37:$Z$37,0)) -> 5 | U40: =CONCATENATE(C38,D38,E38,F38,G38,H38,I38,J38,K38,L38,M38,N38,O38,P38,Q38,R38,S38,T38,U38,V38,W38,X38) -> Do - Mi - Sol
E41: =IF(ISERROR(MATCH(E72,$C$37:$Z$37,0)),"",MATCH(E72,$C$37:$Z$37,0)) | G41: =IF(ISERROR(MATCH(H3,$C$37:$Z$37,0)),"",MATCH(H3,$C$37:$Z$37,0)) -> 1 | H41: =IF(ISERROR(MATCH(I3,$C$37:$Z$37,0)),"",MATCH(I3,$C$37:$Z$37,0)) | I41: =IF(ISERROR(MATCH(J3,$C$37:$Z$37,0)),"",MATCH(J3,$C$37:$Z$37,0)) | J41: =IF(ISERROR(MATCH(K3,$C$37:$Z$37,0)),"",MATCH(K3,$C$37:$Z$37,0)) | K41: =IF(ISERROR(MATCH(L3,$C$37:$Z$37,0)),"",MATCH(L3,$C$37:$Z$37,0)) -> 5 | L41: =IF(ISERROR(MATCH(M3,$C$37:$Z$37,0)),"",MATCH(M3,$C$37:$Z$37,0)) | M41: =IF(ISERROR(MATCH(N3,$C$37:$Z$37,0)),"",MATCH(N3,$C$37:$Z$37,0)) | N41: =IF(ISERROR(MATCH(O3,$C$37:$Z$37,0)),"",MATCH(O3,$C$37:$Z$37,0)) -> 8 | ... R41: =IF(ISERROR(MATCH(S3,$C$37:$Z$37,0)),"",MATCH(S3,$C$37:$Z$37,0))
E42: =IF(ISERROR(MATCH(E73,$C$37:$Z$37,0)),"",MATCH(E73,$C$37:$Z$37,0)) -> 8 | G42: =IF(ISERROR(MATCH(H4,$C$37:$Z$37,0)),"",MATCH(H4,$C$37:$Z$37,0)) | H42: =IF(ISERROR(MATCH(I4,$C$37:$Z$37,0)),"",MATCH(I4,$C$37:$Z$37,0)) | I42: =IF(ISERROR(MATCH(J4,$C$37:$Z$37,0)),"",MATCH(J4,$C$37:$Z$37,0)) | J42: =IF(ISERROR(MATCH(K4,$C$37:$Z$37,0)),"",MATCH(K4,$C$37:$Z$37,0)) | K42: =IF(ISERROR(MATCH(L4,$C$37:$Z$37,0)),"",MATCH(L4,$C$37:$Z$37,0)) -> 1 | L42: =IF(ISERROR(MATCH(M4,$C$37:$Z$37,0)),"",MATCH(M4,$C$37:$Z$37,0)) | M42: =IF(ISERROR(MATCH(N4,$C$37:$Z$37,0)),"",MATCH(N4,$C$37:$Z$37,0)) | N42: =IF(ISERROR(MATCH(O4,$C$37:$Z$37,0)),"",MATCH(O4,$C$37:$Z$37,0)) | ... R42: =IF(ISERROR(MATCH(S4,$C$37:$Z$37,0)),"",MATCH(S4,$C$37:$Z$37,0)) -> 8
E43: =IF(ISERROR(MATCH(E74,$C$37:$Z$37,0)),"",MATCH(E74,$C$37:$Z$37,0)) | G43: =IF(ISERROR(MATCH(H5,$C$37:$Z$37,0)),"",MATCH(H5,$C$37:$Z$37,0)) | H43: =IF(ISERROR(MATCH(I5,$C$37:$Z$37,0)),"",MATCH(I5,$C$37:$Z$37,0)) -> 5 | I43: =IF(ISERROR(MATCH(J5,$C$37:$Z$37,0)),"",MATCH(J5,$C$37:$Z$37,0)) | J43: =IF(ISERROR(MATCH(K5,$C$37:$Z$37,0)),"",MATCH(K5,$C$37:$Z$37,0)) | K43: =IF(ISERROR(MATCH(L5,$C$37:$Z$37,0)),"",MATCH(L5,$C$37:$Z$37,0)) -> 8 | L43: =IF(ISERROR(MATCH(M5,$C$37:$Z$37,0)),"",MATCH(M5,$C$37:$Z$37,0)) | M43: =IF(ISERROR(MATCH(N5,$C$37:$Z$37,0)),"",MATCH(N5,$C$37:$Z$37,0)) | N43: =IF(ISERROR(MATCH(O5,$C$37:$Z$37,0)),"",MATCH(O5,$C$37:$Z$37,0)) | ... R43: =IF(ISERROR(MATCH(S5,$C$37:$Z$37,0)),"",MATCH(S5,$C$37:$Z$37,0))
E44: =IF(ISERROR(MATCH(E75,$C$37:$Z$37,0)),"",MATCH(E75,$C$37:$Z$37,0)) | G44: =IF(ISERROR(MATCH(H6,$C$37:$Z$37,0)),"",MATCH(H6,$C$37:$Z$37,0)) | H44: =IF(ISERROR(MATCH(I6,$C$37:$Z$37,0)),"",MATCH(I6,$C$37:$Z$37,0)) | I44: =IF(ISERROR(MATCH(J6,$C$37:$Z$37,0)),"",MATCH(J6,$C$37:$Z$37,0)) -> 1 | J44: =IF(ISERROR(MATCH(K6,$C$37:$Z$37,0)),"",MATCH(K6,$C$37:$Z$37,0)) | K44: =IF(ISERROR(MATCH(L6,$C$37:$Z$37,0)),"",MATCH(L6,$C$37:$Z$37,0)) | L44: =IF(ISERROR(MATCH(M6,$C$37:$Z$37,0)),"",MATCH(M6,$C$37:$Z$37,0)) | M44: =IF(ISERROR(MATCH(N6,$C$37:$Z$37,0)),"",MATCH(N6,$C$37:$Z$37,0)) -> 5 | N44: =IF(ISERROR(MATCH(O6,$C$37:$Z$37,0)),"",MATCH(O6,$C$37:$Z$37,0)) | ... R44: =IF(ISERROR(MATCH(S6,$C$37:$Z$37,0)),"",MATCH(S6,$C$37:$Z$37,0))
E45: =IF(ISERROR(MATCH(E76,$C$37:$Z$37,0)),"",MATCH(E76,$C$37:$Z$37,0)) -> 5 | G45: =IF(ISERROR(MATCH(H7,$C$37:$Z$37,0)),"",MATCH(H7,$C$37:$Z$37,0)) | H45: =IF(ISERROR(MATCH(I7,$C$37:$Z$37,0)),"",MATCH(I7,$C$37:$Z$37,0)) | I45: =IF(ISERROR(MATCH(J7,$C$37:$Z$37,0)),"",MATCH(J7,$C$37:$Z$37,0)) -> 8 | J45: =IF(ISERROR(MATCH(K7,$C$37:$Z$37,0)),"",MATCH(K7,$C$37:$Z$37,0)) | K45: =IF(ISERROR(MATCH(L7,$C$37:$Z$37,0)),"",MATCH(L7,$C$37:$Z$37,0)) | L45: =IF(ISERROR(MATCH(M7,$C$37:$Z$37,0)),"",MATCH(M7,$C$37:$Z$37,0)) | M45: =IF(ISERROR(MATCH(N7,$C$37:$Z$37,0)),"",MATCH(N7,$C$37:$Z$37,0)) | N45: =IF(ISERROR(MATCH(O7,$C$37:$Z$37,0)),"",MATCH(O7,$C$37:$Z$37,0)) -> 1 | ... R45: =IF(ISERROR(MATCH(S7,$C$37:$Z$37,0)),"",MATCH(S7,$C$37:$Z$37,0)) -> 5
G46: 1 | H46: 2 | I46: 3 | J46: 4 | K46: 5 | L46: 6 | M46: 7 | N46: 8 | O46: 9 | P46: 10 | Q46: 11 | R46: 12
E47: =IF(ISERROR(MATCH(E71,$C$37:$Z$37,0)),"",INDEX($C$19:$Z$19,MATCH(E71,$C$37:$Z$37,0))) -> maj | G47: =IF(ISERROR(MATCH(H2,$C$37:$Z$37,0)),"",INDEX($C$19:$Z$19,MATCH(H2,$C$37:$Z$37,0))) | H47: =IF(ISERROR(MATCH(I2,$C$37:$Z$37,0)),"",INDEX($C$19:$Z$19,MATCH(I2,$C$37:$Z$37,0))) | I47: =IF(ISERROR(MATCH(J2,$C$37:$Z$37,0)),"",INDEX($C$19:$Z$19,MATCH(J2,$C$37:$Z$37,0))) -> 5 | J47: =IF(ISERROR(MATCH(K2,$C$37:$Z$37,0)),"",INDEX($C$19:$Z$19,MATCH(K2,$C$37:$Z$37,0))) | K47: =IF(ISERROR(MATCH(L2,$C$37:$Z$37,0)),"",INDEX($C$19:$Z$19,MATCH(L2,$C$37:$Z$37,0))) | L47: =IF(ISERROR(MATCH(M2,$C$37:$Z$37,0)),"",INDEX($C$19:$Z$19,MATCH(M2,$C$37:$Z$37,0))) | M47: =IF(ISERROR(MATCH(N2,$C$37:$Z$37,0)),"",INDEX($C$19:$Z$19,MATCH(N2,$C$37:$Z$37,0))) | N47: =IF(ISERROR(MATCH(O2,$C$37:$Z$37,0)),"",INDEX($C$19:$Z$19,MATCH(O2,$C$37:$Z$37,0))) -> T | ... R47: =IF(ISERROR(MATCH(S2,$C$37:$Z$37,0)),"",INDEX($C$19:$Z$19,MATCH(S2,$C$37:$Z$37,0))) -> maj | U47: Affichage | X47: choix
E48: =IF(ISERROR(MATCH(E72,$C$37:$Z$37,0)),"",INDEX($C$19:$Z$19,MATCH(E72,$C$37:$Z$37,0))) | G48: =IF(ISERROR(MATCH(H3,$C$37:$Z$37,0)),"",INDEX($C$19:$Z$19,MATCH(H3,$C$37:$Z$37,0))) -> T | H48: =IF(ISERROR(MATCH(I3,$C$37:$Z$37,0)),"",INDEX($C$19:$Z$19,MATCH(I3,$C$37:$Z$37,0))) | I48: =IF(ISERROR(MATCH(J3,$C$37:$Z$37,0)),"",INDEX($C$19:$Z$19,MATCH(J3,$C$37:$Z$37,0))) | J48: =IF(ISERROR(MATCH(K3,$C$37:$Z$37,0)),"",INDEX($C$19:$Z$19,MATCH(K3,$C$37:$Z$37,0))) | K48: =IF(ISERROR(MATCH(L3,$C$37:$Z$37,0)),"",INDEX($C$19:$Z$19,MATCH(L3,$C$37:$Z$37,0))) -> maj | L48: =IF(ISERROR(MATCH(M3,$C$37:$Z$37,0)),"",INDEX($C$19:$Z$19,MATCH(M3,$C$37:$Z$37,0))) | M48: =IF(ISERROR(MATCH(N3,$C$37:$Z$37,0)),"",INDEX($C$19:$Z$19,MATCH(N3,$C$37:$Z$37,0))) | N48: =IF(ISERROR(MATCH(O3,$C$37:$Z$37,0)),"",INDEX($C$19:$Z$19,MATCH(O3,$C$37:$Z$37,0))) -> 5 | ... R48: =IF(ISERROR(MATCH(S3,$C$37:$Z$37,0)),"",INDEX($C$19:$Z$19,MATCH(S3,$C$37:$Z$37,0))) | V48: =options!Z4 -> Référence interval | X48: =MATCH(AD73,aff,0) -> 3
E49: =IF(ISERROR(MATCH(E73,$C$37:$Z$37,0)),"",INDEX($C$19:$Z$19,MATCH(E73,$C$37:$Z$37,0))) -> 5 | G49: =IF(ISERROR(MATCH(H4,$C$37:$Z$37,0)),"",INDEX($C$19:$Z$19,MATCH(H4,$C$37:$Z$37,0))) | H49: =IF(ISERROR(MATCH(I4,$C$37:$Z$37,0)),"",INDEX($C$19:$Z$19,MATCH(I4,$C$37:$Z$37,0))) | I49: =IF(ISERROR(MATCH(J4,$C$37:$Z$37,0)),"",INDEX($C$19:$Z$19,MATCH(J4,$C$37:$Z$37,0))) | J49: =IF(ISERROR(MATCH(K4,$C$37:$Z$37,0)),"",INDEX($C$19:$Z$19,MATCH(K4,$C$37:$Z$37,0))) | K49: =IF(ISERROR(MATCH(L4,$C$37:$Z$37,0)),"",INDEX($C$19:$Z$19,MATCH(L4,$C$37:$Z$37,0))) -> T | L49: =IF(ISERROR(MATCH(M4,$C$37:$Z$37,0)),"",INDEX($C$19:$Z$19,MATCH(M4,$C$37:$Z$37,0))) | M49: =IF(ISERROR(MATCH(N4,$C$37:$Z$37,0)),"",INDEX($C$19:$Z$19,MATCH(N4,$C$37:$Z$37,0))) | N49: =IF(ISERROR(MATCH(O4,$C$37:$Z$37,0)),"",INDEX($C$19:$Z$19,MATCH(O4,$C$37:$Z$37,0))) | ... R49: =IF(ISERROR(MATCH(S4,$C$37:$Z$37,0)),"",INDEX($C$19:$Z$19,MATCH(S4,$C$37:$Z$37,0))) -> 5 | V49: =options!Z5 -> Notation
E50: =IF(ISERROR(MATCH(E74,$C$37:$Z$37,0)),"",INDEX($C$19:$Z$19,MATCH(E74,$C$37:$Z$37,0))) | G50: =IF(ISERROR(MATCH(H5,$C$37:$Z$37,0)),"",INDEX($C$19:$Z$19,MATCH(H5,$C$37:$Z$37,0))) | H50: =IF(ISERROR(MATCH(I5,$C$37:$Z$37,0)),"",INDEX($C$19:$Z$19,MATCH(I5,$C$37:$Z$37,0))) -> maj | I50: =IF(ISERROR(MATCH(J5,$C$37:$Z$37,0)),"",INDEX($C$19:$Z$19,MATCH(J5,$C$37:$Z$37,0))) | J50: =IF(ISERROR(MATCH(K5,$C$37:$Z$37,0)),"",INDEX($C$19:$Z$19,MATCH(K5,$C$37:$Z$37,0))) | K50: =IF(ISERROR(MATCH(L5,$C$37:$Z$37,0)),"",INDEX($C$19:$Z$19,MATCH(L5,$C$37:$Z$37,0))) -> 5 | L50: =IF(ISERROR(MATCH(M5,$C$37:$Z$37,0)),"",INDEX($C$19:$Z$19,MATCH(M5,$C$37:$Z$37,0))) | M50: =IF(ISERROR(MATCH(N5,$C$37:$Z$37,0)),"",INDEX($C$19:$Z$19,MATCH(N5,$C$37:$Z$37,0))) | N50: =IF(ISERROR(MATCH(O5,$C$37:$Z$37,0)),"",INDEX($C$19:$Z$19,MATCH(O5,$C$37:$Z$37,0))) | ... R50: =IF(ISERROR(MATCH(S5,$C$37:$Z$37,0)),"",INDEX($C$19:$Z$19,MATCH(S5,$C$37:$Z$37,0))) | V50: =options!Z6 -> Notes
E51: =IF(ISERROR(MATCH(E75,$C$37:$Z$37,0)),"",INDEX($C$19:$Z$19,MATCH(E75,$C$37:$Z$37,0))) | G51: =IF(ISERROR(MATCH(H6,$C$37:$Z$37,0)),"",INDEX($C$19:$Z$19,MATCH(H6,$C$37:$Z$37,0))) | H51: =IF(ISERROR(MATCH(I6,$C$37:$Z$37,0)),"",INDEX($C$19:$Z$19,MATCH(I6,$C$37:$Z$37,0))) | I51: =IF(ISERROR(MATCH(J6,$C$37:$Z$37,0)),"",INDEX($C$19:$Z$19,MATCH(J6,$C$37:$Z$37,0))) -> T | J51: =IF(ISERROR(MATCH(K6,$C$37:$Z$37,0)),"",INDEX($C$19:$Z$19,MATCH(K6,$C$37:$Z$37,0))) | K51: =IF(ISERROR(MATCH(L6,$C$37:$Z$37,0)),"",INDEX($C$19:$Z$19,MATCH(L6,$C$37:$Z$37,0))) | L51: =IF(ISERROR(MATCH(M6,$C$37:$Z$37,0)),"",INDEX($C$19:$Z$19,MATCH(M6,$C$37:$Z$37,0))) | M51: =IF(ISERROR(MATCH(N6,$C$37:$Z$37,0)),"",INDEX($C$19:$Z$19,MATCH(N6,$C$37:$Z$37,0))) -> maj | N51: =IF(ISERROR(MATCH(O6,$C$37:$Z$37,0)),"",INDEX($C$19:$Z$19,MATCH(O6,$C$37:$Z$37,0))) | ... R51: =IF(ISERROR(MATCH(S6,$C$37:$Z$37,0)),"",INDEX($C$19:$Z$19,MATCH(S6,$C$37:$Z$37,0)))
E52: =IF(ISERROR(MATCH(E76,$C$37:$Z$37,0)),"",INDEX($C$19:$Z$19,MATCH(E76,$C$37:$Z$37,0))) -> maj | G52: =IF(ISERROR(MATCH(H7,$C$37:$Z$37,0)),"",INDEX($C$19:$Z$19,MATCH(H7,$C$37:$Z$37,0))) | H52: =IF(ISERROR(MATCH(I7,$C$37:$Z$37,0)),"",INDEX($C$19:$Z$19,MATCH(I7,$C$37:$Z$37,0))) | I52: =IF(ISERROR(MATCH(J7,$C$37:$Z$37,0)),"",INDEX($C$19:$Z$19,MATCH(J7,$C$37:$Z$37,0))) -> 5 | J52: =IF(ISERROR(MATCH(K7,$C$37:$Z$37,0)),"",INDEX($C$19:$Z$19,MATCH(K7,$C$37:$Z$37,0))) | K52: =IF(ISERROR(MATCH(L7,$C$37:$Z$37,0)),"",INDEX($C$19:$Z$19,MATCH(L7,$C$37:$Z$37,0))) | L52: =IF(ISERROR(MATCH(M7,$C$37:$Z$37,0)),"",INDEX($C$19:$Z$19,MATCH(M7,$C$37:$Z$37,0))) | M52: =IF(ISERROR(MATCH(N7,$C$37:$Z$37,0)),"",INDEX($C$19:$Z$19,MATCH(N7,$C$37:$Z$37,0))) | N52: =IF(ISERROR(MATCH(O7,$C$37:$Z$37,0)),"",INDEX($C$19:$Z$19,MATCH(O7,$C$37:$Z$37,0))) -> T | ... R52: =IF(ISERROR(MATCH(S7,$C$37:$Z$37,0)),"",INDEX($C$19:$Z$19,MATCH(S7,$C$37:$Z$37,0))) -> maj
G53: 1 | H53: 2 | I53: 3 | J53: 4 | K53: 5 | L53: 6 | M53: 7 | N53: 8 | O53: 9 | P53: 10 | Q53: 11 | R53: 12
A54: =C101 -> 0 | B54: 2b | D54: 1 | E54: 2b | F54: 2 | G54: min | H54: maj | I54: 4 | J54: 5b | K54: 5 | L54: 5# | M54: 6 | N54: 7 | O54: 7M | P54: Oct | Q54: 9b | R54: 9 | S54: 9# | T54: 11b | U54: 11 | V54: 11# | W54: 13b | X54: 13 | Y54: 13#
D55: =IF(D56,C35,"X") -> Do | E55: =IF(E56,D35,"X") -> X | F55: =IF(F56,E35,"X") -> X | G55: =IF(G56,F35,"X") -> X | H55: =IF(H56,G35,"X") -> X | I55: =IF(I56,H35,"X") -> X | J55: =IF(J56,I35,"X") -> X | K55: =IF(K56,J35,"X") -> X | ... Y55: =IF(Y56,X35,"X") -> X | Z55: AFFICHE LES COULEURS
D56: TRUE | E56: FALSE | F56: FALSE | G56: FALSE | H56: FALSE | I56: FALSE | J56: FALSE | K56: FALSE | L56: FALSE | M56: FALSE | N56: FALSE | O56: FALSE | P56: FALSE | Q56: FALSE | R56: FALSE | S56: FALSE | T56: FALSE | U56: FALSE | V56: FALSE | W56: FALSE | X56: FALSE
E58: =IF(ISERROR(MATCH(E71,$C$37:$Z$37,0)),"",INDEX($C$35:$Z$35,MATCH(E71,$C$37:$Z$37,0))) -> Mi | G58: =IF(ISERROR(MATCH(H2,$C$37:$Z$37,0)),"",INDEX($C$35:$Z$35,MATCH(H2,$C$37:$Z$37,0))) | H58: =IF(ISERROR(MATCH(I2,$C$37:$Z$37,0)),"",INDEX($C$35:$Z$35,MATCH(I2,$C$37:$Z$37,0))) | I58: =IF(ISERROR(MATCH(J2,$C$37:$Z$37,0)),"",INDEX($C$35:$Z$35,MATCH(J2,$C$37:$Z$37,0))) -> Sol | J58: =IF(ISERROR(MATCH(K2,$C$37:$Z$37,0)),"",INDEX($C$35:$Z$35,MATCH(K2,$C$37:$Z$37,0))) | K58: =IF(ISERROR(MATCH(L2,$C$37:$Z$37,0)),"",INDEX($C$35:$Z$35,MATCH(L2,$C$37:$Z$37,0))) | L58: =IF(ISERROR(MATCH(M2,$C$37:$Z$37,0)),"",INDEX($C$35:$Z$35,MATCH(M2,$C$37:$Z$37,0))) | M58: =IF(ISERROR(MATCH(N2,$C$37:$Z$37,0)),"",INDEX($C$35:$Z$35,MATCH(N2,$C$37:$Z$37,0))) | N58: =IF(ISERROR(MATCH(O2,$C$37:$Z$37,0)),"",INDEX($C$35:$Z$35,MATCH(O2,$C$37:$Z$37,0))) -> Do | ... R58: =IF(ISERROR(MATCH(S2,$C$37:$Z$37,0)),"",INDEX($C$35:$Z$35,MATCH(S2,$C$37:$Z$37,0))) -> Mi
E59: =IF(ISERROR(MATCH(E72,$C$37:$Z$37,0)),"",INDEX($C$35:$Z$35,MATCH(E72,$C$37:$Z$37,0))) | G59: =IF(ISERROR(MATCH(H3,$C$37:$Z$37,0)),"",INDEX($C$35:$Z$35,MATCH(H3,$C$37:$Z$37,0))) -> Do | H59: =IF(ISERROR(MATCH(I3,$C$37:$Z$37,0)),"",INDEX($C$35:$Z$35,MATCH(I3,$C$37:$Z$37,0))) | I59: =IF(ISERROR(MATCH(J3,$C$37:$Z$37,0)),"",INDEX($C$35:$Z$35,MATCH(J3,$C$37:$Z$37,0))) | J59: =IF(ISERROR(MATCH(K3,$C$37:$Z$37,0)),"",INDEX($C$35:$Z$35,MATCH(K3,$C$37:$Z$37,0))) | K59: =IF(ISERROR(MATCH(L3,$C$37:$Z$37,0)),"",INDEX($C$35:$Z$35,MATCH(L3,$C$37:$Z$37,0))) -> Mi | L59: =IF(ISERROR(MATCH(M3,$C$37:$Z$37,0)),"",INDEX($C$35:$Z$35,MATCH(M3,$C$37:$Z$37,0))) | M59: =IF(ISERROR(MATCH(N3,$C$37:$Z$37,0)),"",INDEX($C$35:$Z$35,MATCH(N3,$C$37:$Z$37,0))) | N59: =IF(ISERROR(MATCH(O3,$C$37:$Z$37,0)),"",INDEX($C$35:$Z$35,MATCH(O3,$C$37:$Z$37,0))) -> Sol | ... R59: =IF(ISERROR(MATCH(S3,$C$37:$Z$37,0)),"",INDEX($C$35:$Z$35,MATCH(S3,$C$37:$Z$37,0)))
E60: =IF(ISERROR(MATCH(E73,$C$37:$Z$37,0)),"",INDEX($C$35:$Z$35,MATCH(E73,$C$37:$Z$37,0))) -> Sol | G60: =IF(ISERROR(MATCH(H4,$C$37:$Z$37,0)),"",INDEX($C$35:$Z$35,MATCH(H4,$C$37:$Z$37,0))) | H60: =IF(ISERROR(MATCH(I4,$C$37:$Z$37,0)),"",INDEX($C$35:$Z$35,MATCH(I4,$C$37:$Z$37,0))) | I60: =IF(ISERROR(MATCH(J4,$C$37:$Z$37,0)),"",INDEX($C$35:$Z$35,MATCH(J4,$C$37:$Z$37,0))) | J60: =IF(ISERROR(MATCH(K4,$C$37:$Z$37,0)),"",INDEX($C$35:$Z$35,MATCH(K4,$C$37:$Z$37,0))) | K60: =IF(ISERROR(MATCH(L4,$C$37:$Z$37,0)),"",INDEX($C$35:$Z$35,MATCH(L4,$C$37:$Z$37,0))) -> Do | L60: =IF(ISERROR(MATCH(M4,$C$37:$Z$37,0)),"",INDEX($C$35:$Z$35,MATCH(M4,$C$37:$Z$37,0))) | M60: =IF(ISERROR(MATCH(N4,$C$37:$Z$37,0)),"",INDEX($C$35:$Z$35,MATCH(N4,$C$37:$Z$37,0))) | N60: =IF(ISERROR(MATCH(O4,$C$37:$Z$37,0)),"",INDEX($C$35:$Z$35,MATCH(O4,$C$37:$Z$37,0))) | ... R60: =IF(ISERROR(MATCH(S4,$C$37:$Z$37,0)),"",INDEX($C$35:$Z$35,MATCH(S4,$C$37:$Z$37,0))) -> Sol
E61: =IF(ISERROR(MATCH(E74,$C$37:$Z$37,0)),"",INDEX($C$35:$Z$35,MATCH(E74,$C$37:$Z$37,0))) | G61: =IF(ISERROR(MATCH(H5,$C$37:$Z$37,0)),"",INDEX($C$35:$Z$35,MATCH(H5,$C$37:$Z$37,0))) | H61: =IF(ISERROR(MATCH(I5,$C$37:$Z$37,0)),"",INDEX($C$35:$Z$35,MATCH(I5,$C$37:$Z$37,0))) -> Mi | I61: =IF(ISERROR(MATCH(J5,$C$37:$Z$37,0)),"",INDEX($C$35:$Z$35,MATCH(J5,$C$37:$Z$37,0))) | J61: =IF(ISERROR(MATCH(K5,$C$37:$Z$37,0)),"",INDEX($C$35:$Z$35,MATCH(K5,$C$37:$Z$37,0))) | K61: =IF(ISERROR(MATCH(L5,$C$37:$Z$37,0)),"",INDEX($C$35:$Z$35,MATCH(L5,$C$37:$Z$37,0))) -> Sol | L61: =IF(ISERROR(MATCH(M5,$C$37:$Z$37,0)),"",INDEX($C$35:$Z$35,MATCH(M5,$C$37:$Z$37,0))) | M61: =IF(ISERROR(MATCH(N5,$C$37:$Z$37,0)),"",INDEX($C$35:$Z$35,MATCH(N5,$C$37:$Z$37,0))) | N61: =IF(ISERROR(MATCH(O5,$C$37:$Z$37,0)),"",INDEX($C$35:$Z$35,MATCH(O5,$C$37:$Z$37,0))) | ... R61: =IF(ISERROR(MATCH(S5,$C$37:$Z$37,0)),"",INDEX($C$35:$Z$35,MATCH(S5,$C$37:$Z$37,0)))
E62: =IF(ISERROR(MATCH(E75,$C$37:$Z$37,0)),"",INDEX($C$35:$Z$35,MATCH(E75,$C$37:$Z$37,0))) | G62: =IF(ISERROR(MATCH(H6,$C$37:$Z$37,0)),"",INDEX($C$35:$Z$35,MATCH(H6,$C$37:$Z$37,0))) | H62: =IF(ISERROR(MATCH(I6,$C$37:$Z$37,0)),"",INDEX($C$35:$Z$35,MATCH(I6,$C$37:$Z$37,0))) | I62: =IF(ISERROR(MATCH(J6,$C$37:$Z$37,0)),"",INDEX($C$35:$Z$35,MATCH(J6,$C$37:$Z$37,0))) -> Do | J62: =IF(ISERROR(MATCH(K6,$C$37:$Z$37,0)),"",INDEX($C$35:$Z$35,MATCH(K6,$C$37:$Z$37,0))) | K62: =IF(ISERROR(MATCH(L6,$C$37:$Z$37,0)),"",INDEX($C$35:$Z$35,MATCH(L6,$C$37:$Z$37,0))) | L62: =IF(ISERROR(MATCH(M6,$C$37:$Z$37,0)),"",INDEX($C$35:$Z$35,MATCH(M6,$C$37:$Z$37,0))) | M62: =IF(ISERROR(MATCH(N6,$C$37:$Z$37,0)),"",INDEX($C$35:$Z$35,MATCH(N6,$C$37:$Z$37,0))) -> Mi | N62: =IF(ISERROR(MATCH(O6,$C$37:$Z$37,0)),"",INDEX($C$35:$Z$35,MATCH(O6,$C$37:$Z$37,0))) | ... R62: =IF(ISERROR(MATCH(S6,$C$37:$Z$37,0)),"",INDEX($C$35:$Z$35,MATCH(S6,$C$37:$Z$37,0)))
E63: =IF(ISERROR(MATCH(E76,$C$37:$Z$37,0)),"",INDEX($C$35:$Z$35,MATCH(E76,$C$37:$Z$37,0))) -> Mi | G63: =IF(ISERROR(MATCH(H7,$C$37:$Z$37,0)),"",INDEX($C$35:$Z$35,MATCH(H7,$C$37:$Z$37,0))) | H63: =IF(ISERROR(MATCH(I7,$C$37:$Z$37,0)),"",INDEX($C$35:$Z$35,MATCH(I7,$C$37:$Z$37,0))) | I63: =IF(ISERROR(MATCH(J7,$C$37:$Z$37,0)),"",INDEX($C$35:$Z$35,MATCH(J7,$C$37:$Z$37,0))) -> Sol | J63: =IF(ISERROR(MATCH(K7,$C$37:$Z$37,0)),"",INDEX($C$35:$Z$35,MATCH(K7,$C$37:$Z$37,0))) | K63: =IF(ISERROR(MATCH(L7,$C$37:$Z$37,0)),"",INDEX($C$35:$Z$35,MATCH(L7,$C$37:$Z$37,0))) | L63: =IF(ISERROR(MATCH(M7,$C$37:$Z$37,0)),"",INDEX($C$35:$Z$35,MATCH(M7,$C$37:$Z$37,0))) | M63: =IF(ISERROR(MATCH(N7,$C$37:$Z$37,0)),"",INDEX($C$35:$Z$35,MATCH(N7,$C$37:$Z$37,0))) | N63: =IF(ISERROR(MATCH(O7,$C$37:$Z$37,0)),"",INDEX($C$35:$Z$35,MATCH(O7,$C$37:$Z$37,0))) -> Do | ... R63: =IF(ISERROR(MATCH(S7,$C$37:$Z$37,0)),"",INDEX($C$35:$Z$35,MATCH(S7,$C$37:$Z$37,0))) -> Mi
E65: 1 | F65: 2 | G65: 3 | H65: 4 | I65: 5 | J65: 6 | K65: 7 | L65: 8 | M65: 9 | N65: 10 | O65: 11 | P65: 12 | Q65: 13 | R65: 14 | S65: 15 | T65: 16 | U65: 17 | V65: 18 | W65: 19 | X65: 20 | Y65: 21 | Z65: 22
E66: T | F66: 2b | G66: 2 | H66: min | I66: maj | J66: 4 | K66: 5b | L66: 5 | M66: 5# | N66: 6 | O66: 7 | P66: 7M | Q66: Oct | R66: 9b | S66: 9 | T66: 9# | U66: 11b | V66: 11 | W66: 11# | X66: 13b | Y66: 13 | Z66: 13#
E68: =INDEX($C$21:$AA$33,$D$91,E65) -> Do | F68: =INDEX($C$21:$AA$33,$D$91,F65) -> Do# | G68: =INDEX($C$21:$AA$33,$D$91,G65) -> Ré | H68: =INDEX($C$21:$AA$33,$D$91,H65) -> Ré# | I68: =INDEX($C$21:$AA$33,$D$91,I65) -> Mi | J68: =INDEX($C$21:$AA$33,$D$91,J65) -> Fa | K68: =INDEX($C$21:$AA$33,$D$91,K65) -> Fa# | L68: =INDEX($C$21:$AA$33,$D$91,L65) -> Sol | ... Z68: =INDEX($C$21:$AA$33,$D$91,Z65) -> La
F70: Accordage | N70: 1 | O70: 2 | P70: 3 | Q70: 4 | R70: 5 | S70: 6 | T70: 7 | U70: 8 | V70: 9 | W70: 10 | X70: 11 | Y70: 12
E71: =INDEX(M21:X21,1,G2) -> Mi | I71: ="+"&G2-7 -> +0 | L71: =IF(CHOOSE($X$48,E40,E47,E58)="","x",CHOOSE($X$48,E40,E47,E58)) -> Mi | N71: =CHOOSE($X$48,G40,G47,G58) | O71: =CHOOSE($X$48,H40,H47,H58) | P71: =CHOOSE($X$48,I40,I47,I58) -> Sol | Q71: =CHOOSE($X$48,J40,J47,J58) | R71: =CHOOSE($X$48,K40,K47,K58) | S71: =CHOOSE($X$48,L40,L47,L58) | T71: =CHOOSE($X$48,M40,M47,M58) | U71: =CHOOSE($X$48,N40,N47,N58) -> Do | ... Y71: =CHOOSE($X$48,R40,R47,R58) -> Mi | AC71: choix notation | AD71: Français #
E72: =INDEX(H21:S21,1,G3) -> Si | I72: ="+"&G3-7 -> +0 | L72: =IF(CHOOSE($X$48,E41,E48,E59)="","x",CHOOSE($X$48,E41,E48,E59)) -> x | N72: =CHOOSE($X$48,G41,G48,G59) -> Do | O72: =CHOOSE($X$48,H41,H48,H59) | P72: =CHOOSE($X$48,I41,I48,I59) | Q72: =CHOOSE($X$48,J41,J48,J59) | R72: =CHOOSE($X$48,K41,K48,K59) -> Mi | S72: =CHOOSE($X$48,L41,L48,L59) | T72: =CHOOSE($X$48,M41,M48,M59) | U72: =CHOOSE($X$48,N41,N48,N59) -> Sol | ... Y72: =CHOOSE($X$48,R41,R48,R59)
E73: =INDEX(D21:O21,1,G4) -> Sol | I73: ="+"&G4-7 -> +0 | L73: =IF(CHOOSE($X$48,E42,E49,E60)="","x",CHOOSE($X$48,E42,E49,E60)) -> Sol | N73: =CHOOSE($X$48,G42,G49,G60) | O73: =CHOOSE($X$48,H42,H49,H60) | P73: =CHOOSE($X$48,I42,I49,I60) | Q73: =CHOOSE($X$48,J42,J49,J60) | R73: =CHOOSE($X$48,K42,K49,K60) -> Do | S73: =CHOOSE($X$48,L42,L49,L60) | T73: =CHOOSE($X$48,M42,M49,M60) | U73: =CHOOSE($X$48,N42,N49,N60) | ... Y73: =CHOOSE($X$48,R42,R49,R60) -> Sol | AC73: Affichage | AD73: Notes
E74: =INDEX(K21:V21,1,G5) -> Ré | I74: ="+"&G5-7 -> +0 | L74: =IF(CHOOSE($X$48,E43,E50,E61)="","x",CHOOSE($X$48,E43,E50,E61)) -> x | N74: =CHOOSE($X$48,G43,G50,G61) | O74: =CHOOSE($X$48,H43,H50,H61) -> Mi | P74: =CHOOSE($X$48,I43,I50,I61) | Q74: =CHOOSE($X$48,J43,J50,J61) | R74: =CHOOSE($X$48,K43,K50,K61) -> Sol | S74: =CHOOSE($X$48,L43,L50,L61) | T74: =CHOOSE($X$48,M43,M50,M61) | U74: =CHOOSE($X$48,N43,N50,N61) | ... Y74: =CHOOSE($X$48,R43,R50,R61)
E75: =INDEX(F21:Q21,1,G6) -> La | I75: ="+"&G6-7 -> +0 | L75: =IF(CHOOSE($X$48,E44,E51,E62)="","x",CHOOSE($X$48,E44,E51,E62)) -> x | N75: =CHOOSE($X$48,G44,G51,G62) | O75: =CHOOSE($X$48,H44,H51,H62) | P75: =CHOOSE($X$48,I44,I51,I62) -> Do | Q75: =CHOOSE($X$48,J44,J51,J62) | R75: =CHOOSE($X$48,K44,K51,K62) | S75: =CHOOSE($X$48,L44,L51,L62) | T75: =CHOOSE($X$48,M44,M51,M62) -> Mi | U75: =CHOOSE($X$48,N44,N51,N62) | ... Y75: =CHOOSE($X$48,R44,R51,R62)
E76: =INDEX(M21:X21,1,G7) -> Mi | I76: ="+"&G7-7 -> +0 | L76: =IF(CHOOSE($X$48,E45,E52,E63)="","x",CHOOSE($X$48,E45,E52,E63)) -> Mi | N76: =CHOOSE($X$48,G45,G52,G63) | O76: =CHOOSE($X$48,H45,H52,H63) | P76: =CHOOSE($X$48,I45,I52,I63) -> Sol | Q76: =CHOOSE($X$48,J45,J52,J63) | R76: =CHOOSE($X$48,K45,K52,K63) | S76: =CHOOSE($X$48,L45,L52,L63) | T76: =CHOOSE($X$48,M45,M52,M63) | U76: =CHOOSE($X$48,N45,N52,N63) -> Do | ... Y76: =CHOOSE($X$48,R45,R52,R63) -> Mi
E78: Notes de l'accord | Q78: Nom accord
E84: =W6 -> Do | G84: =X6 -> Do# | I84: =Y6 -> Ré | K84: =Z6 -> Ré# | M84: =AA6 -> Mi | O84: =AB6 -> Fa | Q84: =AC6 -> Fa# | S84: =AD6 -> Sol | U84: =AE6 -> Sol# | W84: =AF6 -> La | Y84: =AG6 -> La# | AA84: =AH6 -> Si
K87: =INDEX(W6:AH6,1,D91) -> Do
J88: Dominante
D91: 1

Sheet grat
D1: Nom image
A2: MI GRAVE | B2: 0 | C2: 1 | D2: Image 1
B3: 1 | C3: 2 | D3: Image 2
B4: 2 | C4: 3 | D4: Image 3
B5: 3 | C5: 4 | D5: Image 4
B6: 4 | C6: 5 | D6: Image 5
B7: 5 | C7: 6 | D7: Image 6
B8: 6 | C8: 7 | D8: Image 7
B9: 7 | C9: 8 | D9: Image 8
B10: 8 | C10: 9 | D10: Image 9
B11: 9 | C11: 10 | D11: Image 10
B12: 10 | C12: 11 | D12: Image 11
B13: 11 | C13: 12 | D13: Image 12
B14: 12 | C14: 13 | D14: Image 13
A15: LA | B15: =B2 -> 0 | C15: =C14+1 -> 14 | D15: Image 14
B16: =B3 -> 1 | C16: =C15+1 -> 15 | D16: Image 15
B17: =B4 -> 2 | C17: =C16+1 -> 16 | D17: Image 16
B18: =B5 -> 3 | C18: =C17+1 -> 17 | D18: Image 17
B19: =B6 -> 4 | C19: =C18+1 -> 18 | D19: Image 18
B20: =B7 -> 5 | C20: =C19+1 -> 19 | D20: Image 19
B21: =B8 -> 6 | C21: =C20+1 -> 20 | D21: Image 20
B22: =B9 -> 7 | C22: =C21+1 -> 21 | D22: Image 21
B23: =B10 -> 8 | C23: =C22+1 -> 22 | D23: Image 22
B24: =B11 -> 9 | C24: =C23+1 -> 23 | D24: Image 23
B25: =B12 -> 10 | C25: =C24+1 -> 24 | D25: Image 24
B26: =B13 -> 11 | C26: =C25+1 -> 25 | D26: Image 25
B27: =B14 -> 12 | C27: =C26+1 -> 26 | D27: Image 26
A28: RE | B28: =B15 -> 0 | C28: =C27+1 -> 27 | D28: Image 27
B29: =B16 -> 1 | C29: =C28+1 -> 28 | D29: Image 28
B30: =B17 -> 2 | C30: =C29+1 -> 29 | D30: Image 29
B31: =B18 -> 3 | C31: =C30+1 -> 30 | D31: Image 30
B32: =B19 -> 4 | C32: =C31+1 -> 31 | D32: Image 31
B33: =B20 -> 5 | C33: =C32+1 -> 32 | D33: Image 32
B34: =B21 -> 6 | C34: =C33+1 -> 33 | D34: Image 33
B35: =B22 -> 7 | C35: =C34+1 -> 34 | D35: Image 34
B36: =B23 -> 8 | C36: =C35+1 -> 35 | D36: Image 35
B37: =B24 -> 9 | C37: =C36+1 -> 36 | D37: Image 36
B38: =B25 -> 10 | C38: =C37+1 -> 37 | D38: Image 37
B39: =B26 -> 11 | C39: =C38+1 -> 38 | D39: Image 38
B40: =B27 -> 12 | C40: =C39+1 -> 39 | D40: Image 39
A41: SOL | B41: =B28 -> 0 | C41: =C40+1 -> 40 | D41: Image 40
B42: =B29 -> 1 | C42: =C41+1 -> 41 | D42: Image 41
B43: =B30 -> 2 | C43: =C42+1 -> 42 | D43: Image 42
B44: =B31 -> 3 | C44: =C43+1 -> 43 | D44: Image 43
B45: =B32 -> 4 | C45: =C44+1 -> 44 | D45: Image 44
B46: =B33 -> 5 | C46: =C45+1 -> 45 | D46: Image 45
B47: =B34 -> 6 | C47: =C46+1 -> 46 | D47: Image 46
B48: =B35 -> 7 | C48: =C47+1 -> 47 | D48: Image 47
B49: =B36 -> 8 | C49: =C48+1 -> 48 | D49: Image 48
B50: =B37 -> 9 | C50: =C49+1 -> 49 | D50: Image 49
B51: =B38 -> 10 | C51: =C50+1 -> 50 | D51: Image 50
B52: =B39 -> 11 | C52: =C51+1 -> 51 | D52: Image 51
B53: =B40 -> 12 | C53: =C52+1 -> 52 | D53: Image 52
A54: SI | B54: =B41 -> 0 | C54: =C53+1 -> 53 | D54: Image 53
B55: =B42 -> 1 | C55: =C54+1 -> 54 | D55: Image 54
B56: =B43 -> 2 | C56: =C55+1 -> 55 | D56: Image 55
B57: =B44 -> 3 | C57: =C56+1 -> 56 | D57: Image 56
B58: =B45 -> 4 | C58: =C57+1 -> 57 | D58: Image 57
B59: =B46 -> 5 | C59: =C58+1 -> 58 | D59: Image 58
B60: =B47 -> 6 | C60: =C59+1 -> 59 | D60: Image 59
B61: =B48 -> 7 | C61: =C60+1 -> 60 | D61: Image 60
B62: =B49 -> 8 | C62: =C61+1 -> 61 | D62: Image 61
B63: =B50 -> 9 | C63: =C62+1 -> 62 | D63: Image 62
B64: =B51 -> 10 | C64: =C63+1 -> 63 | D64: Image 63
B65: =B52 -> 11 | C65: =C64+1 -> 64 | D65: Image 64
B66: =B53 -> 12 | C66: =C65+1 -> 65 | D66: Image 65
A67: MI AIGUE | B67: =B54 -> 0 | C67: =C66+1 -> 66 | D67: Image 66
B68: =B55 -> 1 | C68: =C67+1 -> 67 | D68: Image 67
B69: =B56 -> 2 | C69: =C68+1 -> 68 | D69: Image 68
B70: =B57 -> 3 | C70: =C69+1 -> 69 | D70: Image 69
B71: =B58 -> 4 | C71: =C70+1 -> 70 | D71: Image 70
B72: =B59 -> 5 | C72: =C71+1 -> 71 | D72: Image 71
B73: =B60 -> 6 | C73: =C72+1 -> 72 | D73: Image 72
B74: =B61 -> 7 | C74: =C73+1 -> 73 | D74: Image 73
B75: =B62 -> 8 | C75: =C74+1 -> 74 | D75: Image 74
B76: =B63 -> 9 | C76: =C75+1 -> 75 | D76: Image 75
B77: =B64 -> 10 | C77: =C76+1 -> 76 | D77: Image 76
B78: =B65 -> 11 | C78: =C77+1 -> 77 | D78: Image 77
B79: =B66 -> 12 | C79: =C78+1 -> 78 | D79: Image 78

Sheet options
B2: Affichage des accords
B3: I | D3: II | F3: III | G3: IV | I3: V | K3: VI | M3: VII | N3: VIII | P3: IX | S3: X | V3: XI | Z3: Nommé affichage
B4: 1 | C4: 2 | D4: 3 | E4: 4 | F4: 5 | G4: 6 | H4: 7 | I4: 8 | J4: 9 | K4: 10 | L4: 11 | M4: 12 | N4: 13 | O4: 14 | P4: 15 | Q4: 16 | R4: 17 | S4: 18 | T4: 19 | U4: 20 | V4: 21 | W4: 22 | Z4: Référence interval
B5: X | C5: 2b | D5: 2 | E5: min | G5: 4 | H5: 5b | J5: 5# | K5: 6 | L5: 7 | M5: 7M | O5: 9b | P5: 9 | Q5: 9# | R5: 11b | S5: 11 | T5: 11# | U5: 13b | V5: 13 | W5: 13# | Z5: Notation
Z6: Notes
B8: Notation des notes (limité à 4)
D9: Do | E9: Do# | F9: Ré | G9: Ré# | H9: Mi | I9: Fa | J9: Fa# | K9: Sol | L9: Sol# | M9: La | N9: La# | O9: Si | P9: Description
C10: notation 1 | D10: C | E10: C# | F10: D | G10: D# | H10: E | I10: F | J10: F# | K10: G | L10: G# | M10: A | N10: A# | O10: B | P10: Anglais #
C11: notation 2 | D11: Do | E11: Do# | F11: Ré | G11: Ré# | H11: Mi | I11: Fa | J11: Fa# | K11: Sol | L11: Sol# | M11: La | N11: La# | O11: Si | P11: Français #
C12: notation 3 | D12: C | E12: Db | F12: D | G12: Eb | H12: E | I12: F | J12: Gb | K12: G | L12: Ab | M12: A | N12: Bb | O12: B | P12: Anglais b
C13: notation 4 | D13: Do | E13: Réb | F13: Ré | G13: Mib | H13: Mi | I13: Fa | J13: Solb | K13: Sol | L13: Lab | M13: La | N13: Sib | O13: Si | P13: Français b
C14: notation 5 | D14: x | E14: x | F14: x | G14: x | H14: x | I14: x | J14: x | K14: x | L14: x | M14: x | N14: x | O14: x | P14: x
C15: notation 6 | D15: x | E15: x | F15: x | G15: x | H15: x | I15: x | J15: x | K15: x | L15: x | M15: x | N15: x | O15: x | P15: x
C16: notation 7 | D16: x | E16: x | F16: x | G16: x | H16: x | I16: x | J16: x | K16: x | L16: x | M16: x | N16: x | O16: x | P16: x
C17: notation 8 | D17: x | E17: x | F17: x | G17: x | H17: x | I17: x | J17: x | K17: x | L17: x | M17: x | N17: x | O17: x | P17: x
C18: notation 9 | D18: x | E18: x | F18: x | G18: x | H18: x | I18: x | J18: x | K18: x | L18: x | M18: x | N18: x | O18: x | P18: x
C19: notation 10 | D19: x | E19: x | F19: x | G19: x | H19: x | I19: x | J19: x | K19: x | L19: x | M19: x | N19: x | O19: x | P19: x
C20: notation 11 | D20: x | E20: x | F20: x | G20: x | H20: x | I20: x | J20: x | K20: x | L20: x | M20: x | N20: x | O20: x | P20: x
B22: Afficher les couleurs
B24: 1 | C24: 2b | D24: 2 | E24: min | F24: maj | G24: 4 | H24: 5b | I24: 5 | J24: 5# | K24: 6 | L24: 7 | M24: 7M | N24: Oct | O24: 9b | P24: 9 | Q24: 9# | R24: 11b | S24: 11 | T24: 11# | U24: 13b | V24: 13 | W24: 13#
