Workbook
Name ansclaire: variables!$D$2:$D$13
Name mat: variables!$A$2:$A$11

Sheet variables
A1: matière [mat] | B1: mois | C1: choix matière | D1: année scolaire [ansclaire] | E1: Choix année | F1: Classes | G1: Index
A2: Français | B2: janvier | C2: 1 | D2: 2013/2014 | E2: 1 | F2: CE1 | G2: 1 | H2: vert | I2: modifiable
A3: Math | B3: février | D3: 2014/2015 | E3: =CHOOSE(E2,D2,D3,D4,D5,D6,D7,D8,D9,D10,D11,D12,D13) -> 2013/2014 | F3: CE2 | G3: 2 | H3: rouge | I3: ne pas modifier
A4: physique chimie | B4: mars | D4: 2015/2016 | F4: CM1 | G4: 3 | H4: [nomdéfini]
A5: svt | B5: avril | D5: 2016/2017 | F5: CM2 | G5: 4
A6: histoire geo | B6: mai | D6: 2017/2018 | F6: 6EME | G6: 5
A7: svt | B7: juin | D7: 2018/2019 | F7: 5EME | G7: 6
A8: anglais | B8: juillet | D8: 2019/2020 | F8: 4EME | G8: 7
A9: Espagnol | B9: août | D9: 2020/2021 | F9: 3EME | G9: 8
A10: sport | B10: septembre | D10: 2021/2022 | G10: 9
A11: Musique | B11: octobre | D11: 2022/2023 | G11: 10
B12: novembre | D12: 2023/2024 | G12: 11
B13: décembre | D13: 2024/2025 | G13: 12

Sheet bdd
B1: DONNEES | G1: FORMULES | M1: moyenne /mois | Y1: moyenne / semaine | BY1: année scolaire
M2: =IF(ISERROR(AVERAGE(M4:M49959)),"",AVERAGE(M4:M49959)) -> 10 | N2: =IF(ISERROR(AVERAGE(N4:N49959)),"",AVERAGE(N4:N49959)) -> 9.5 | O2: =IF(ISERROR(AVERAGE(O4:O49959)),"",AVERAGE(O4:O49959)) -> 6.3333333 | P2: =IF(ISERROR(AVERAGE(P4:P49959)),"",AVERAGE(P4:P49959)) -> 12.333333 | Q2: =IF(ISERROR(AVERAGE(Q4:Q49959)),"",AVERAGE(Q4:Q49959)) -> 10.666667 | R2: =IF(ISERROR(AVERAGE(R4:R49959)),"",AVERAGE(R4:R49959)) -> 11.666667 | S2: =IF(ISERROR(AVERAGE(S4:S49959)),"",AVERAGE(S4:S49959)) -> 14.333333 | T2: =IF(ISERROR(AVERAGE(T4:T49959)),"",AVERAGE(T4:T49959)) -> 13 | ... CJ2: =IF(ISERROR(AVERAGE(CJ4:CJ49959)),"",AVERAGE(CJ4:CJ49959))
B3: année scolaire | C3: date | D3: matiere | E3: note | F3: sur 20 ou 10 | G3: sur 20 | H3: oral /ecrit | I3: semaine | J3: mois | K3: année | L3: note/matière | M3: =variables!B10 -> septembre | N3: =variables!B11 -> octobre | O3: =variables!B12 -> novembre | P3: =variables!B13 -> décembre | Q3: =variables!B2 -> janvier | R3: =variables!B3 -> février | S3: =variables!B4 -> mars | T3: =variables!B5 -> avril | U3: =variables!B6 -> mai | V3: =variables!B7 -> juin | W3: =variables!B8 -> juillet | X3: =variables!B9 -> août | Y3: 34 | Z3: =Y3+1 -> 35 | AA3: =Z3+1 -> 36 | AB3: =AA3+1 -> 37 | AC3: =AB3+1 -> 38 | AD3: =AC3+1 -> 39 | AE3: =AD3+1 -> 40 | AF3: =AE3+1 -> 41 | AG3: =AF3+1 -> 42 | ... AQ3: =AP3+1 -> 52 | AR3: 1 | AS3: =AR3+1 -> 2 | AT3: =AS3+1 -> 3 | AU3: =AT3+1 -> 4 | AV3: =AU3+1 -> 5 | AW3: =AV3+1 -> 6 | AX3: =AW3+1 -> 7 | AY3: =AX3+1 -> 8 | AZ3: =AY3+1 -> 9 | ... BX3: =BW3+1 -> 33 | BY3: 2013/2014 | BZ3: 2014/2015 | CA3: 2015/2016 | CB3: 2016/2017 | CC3: 2017/2018 | CD3: 2018/2019 | CE3: 2019/2020 | CF3: 2020/2021 | CG3: 2021/2022 | CH3: 2022/2023 | CI3: 2023/2024 | CJ3: 2024/2025
B4: 2013/2014 | C4: 41527 | D4: Français | E4: 2 | F4: 10 | G4: =IF(F4=10,E4*2,E4) -> 4 | H4: écrit | I4: =WEEKNUM(C4,1) -> 37 | J4: =CHOOSE(MONTH(C4),variables!$B$2,variables!$B$3,variables!$B$4,variables!$B$5,variables!$B$6,variables!$B$7,variables!$B$8,variables!$B$9,variables!$B$10,variables!$B$11,variables!$B$12,variables!$B$13) -> septembre | K4: =YEAR(C4) -> 2013 | L4: =IF(variables!$C$2=1,G4, IF($D4=analyse!$H$3,$G4,"") ) -> 4 | M4: =IF(variables!$E$3=$B4, IF(N($J4=M$3)=0,"",$L4), "" ) -> 4 | N4: =IF(variables!$E$3=$B4, IF(N($J4=N$3)=0,"",$L4), "" ) | O4: =IF(variables!$E$3=$B4, IF(N($J4=O$3)=0,"",$L4), "" ) | P4: =IF(variables!$E$3=$B4, IF(N($J4=P$3)=0,"",$L4), "" ) | Q4: =IF(variables!$E$3=$B4, IF(N($J4=Q$3)=0,"",$L4), "" ) | R4: =IF(variables!$E$3=$B4, IF(N($J4=R$3)=0,"",$L4), "" ) | S4: =IF(variables!$E$3=$B4, IF(N($J4=S$3)=0,"",$L4), "" ) | T4: =IF(variables!$E$3=$B4, IF(N($J4=T$3)=0,"",$L4), "" ) | ... BX4: =IF(variables!$E$3=$B4, IF(N($J4=BX$3)=0,"",$L4), "" ) | BY4: =IF(N($B4=BY$3)=0,"",$G4) -> 4 | BZ4: =IF(N($B4=BZ$3)=0,"",$G4) | CA4: =IF(N($B4=CA$3)=0,"",$G4) | CB4: =IF(N($B4=CB$3)=0,"",$G4) | CC4: =IF(N($B4=CC$3)=0,"",$G4) | CD4: =IF(N($B4=CD$3)=0,"",$G4) | CE4: =IF(N($B4=CE$3)=0,"",$G4) | CF4: =IF(N($B4=CF$3)=0,"",$G4) | ... CJ4: =IF(N($B4=CJ$3)=0,"",$G4)
B5: 2013/2014 | C5: =C4+17 -> 41544 | D5: physique chimie | E5: 8 | F5: 10 | G5: =IF(F5=10,E5*2,E5) -> 16 | H5: écrit | I5: =WEEKNUM(C5,1) -> 39 | J5: =CHOOSE(MONTH(C5),variables!$B$2,variables!$B$3,variables!$B$4,variables!$B$5,variables!$B$6,variables!$B$7,variables!$B$8,variables!$B$9,variables!$B$10,variables!$B$11,variables!$B$12,variables!$B$13) -> septembre | K5: =YEAR(C5) -> 2013 | L5: =IF(variables!$C$2=1,G5, IF($D5=analyse!$H$3,$G5,"") ) -> 16 | M5: =IF(variables!$E$3=$B5, IF(N($J5=M$3)=0,"",$L5), "" ) -> 16 | N5: =IF(variables!$E$3=$B5, IF(N($J5=N$3)=0,"",$L5), "" ) | O5: =IF(variables!$E$3=$B5, IF(N($J5=O$3)=0,"",$L5), "" ) | P5: =IF(variables!$E$3=$B5, IF(N($J5=P$3)=0,"",$L5), "" ) | Q5: =IF(variables!$E$3=$B5, IF(N($J5=Q$3)=0,"",$L5), "" ) | R5: =IF(variables!$E$3=$B5, IF(N($J5=R$3)=0,"",$L5), "" ) | S5: =IF(variables!$E$3=$B5, IF(N($J5=S$3)=0,"",$L5), "" ) | T5: =IF(variables!$E$3=$B5, IF(N($J5=T$3)=0,"",$L5), "" ) | ... BX5: =IF(variables!$E$3=$B5, IF(N($J5=BX$3)=0,"",$L5), "" ) | BY5: =IF(N($B5=BY$3)=0,"",$G5) -> 16 | BZ5: =IF(N($B5=BZ$3)=0,"",$G5) | CA5: =IF(N($B5=CA$3)=0,"",$G5) | CB5: =IF(N($B5=CB$3)=0,"",$G5) | CC5: =IF(N($B5=CC$3)=0,"",$G5) | CD5: =IF(N($B5=CD$3)=0,"",$G5) | CE5: =IF(N($B5=CE$3)=0,"",$G5) | CF5: =IF(N($B5=CF$3)=0,"",$G5) | ... CJ5: =IF(N($B5=CJ$3)=0,"",$G5)
B6: 2013/2014 | C6: =C5+17 -> 41561 | D6: Musique | E6: 16 | F6: 20 | G6: =IF(F6=10,E6*2,E6) -> 16 | H6: oral | I6: =WEEKNUM(C6,1) -> 42 | J6: =CHOOSE(MONTH(C6),variables!$B$2,variables!$B$3,variables!$B$4,variables!$B$5,variables!$B$6,variables!$B$7,variables!$B$8,variables!$B$9,variables!$B$10,variables!$B$11,variables!$B$12,variables!$B$13) -> octobre | K6: =YEAR(C6) -> 2013 | L6: =IF(variables!$C$2=1,G6, IF($D6=analyse!$H$3,$G6,"") ) -> 16 | M6: =IF(variables!$E$3=$B6, IF(N($J6=M$3)=0,"",$L6), "" ) | N6: =IF(variables!$E$3=$B6, IF(N($J6=N$3)=0,"",$L6), "" ) -> 16 | O6: =IF(variables!$E$3=$B6, IF(N($J6=O$3)=0,"",$L6), "" ) | P6: =IF(variables!$E$3=$B6, IF(N($J6=P$3)=0,"",$L6), "" ) | Q6: =IF(variables!$E$3=$B6, IF(N($J6=Q$3)=0,"",$L6), "" ) | R6: =IF(variables!$E$3=$B6, IF(N($J6=R$3)=0,"",$L6), "" ) | S6: =IF(variables!$E$3=$B6, IF(N($J6=S$3)=0,"",$L6), "" ) | T6: =IF(variables!$E$3=$B6, IF(N($J6=T$3)=0,"",$L6), "" ) | ... BX6: =IF(variables!$E$3=$B6, IF(N($J6=BX$3)=0,"",$L6), "" ) | BY6: =IF(N($B6=BY$3)=0,"",$G6) -> 16 | BZ6: =IF(N($B6=BZ$3)=0,"",$G6) | CA6: =IF(N($B6=CA$3)=0,"",$G6) | CB6: =IF(N($B6=CB$3)=0,"",$G6) | CC6: =IF(N($B6=CC$3)=0,"",$G6) | CD6: =IF(N($B6=CD$3)=0,"",$G6) | CE6: =IF(N($B6=CE$3)=0,"",$G6) | CF6: =IF(N($B6=CF$3)=0,"",$G6) | ... CJ6: =IF(N($B6=CJ$3)=0,"",$G6)
B7: 2013/2014 | C7: =C6+17 -> 41578 | D7: Math | E7: 3 | F7: 20 | G7: =IF(F7=10,E7*2,E7) -> 3 | H7: écrit | I7: =WEEKNUM(C7,1) -> 44 | J7: =CHOOSE(MONTH(C7),variables!$B$2,variables!$B$3,variables!$B$4,variables!$B$5,variables!$B$6,variables!$B$7,variables!$B$8,variables!$B$9,variables!$B$10,variables!$B$11,variables!$B$12,variables!$B$13) -> octobre | K7: =YEAR(C7) -> 2013 | L7: =IF(variables!$C$2=1,G7, IF($D7=analyse!$H$3,$G7,"") ) -> 3 | M7: =IF(variables!$E$3=$B7, IF(N($J7=M$3)=0,"",$L7), "" ) | N7: =IF(variables!$E$3=$B7, IF(N($J7=N$3)=0,"",$L7), "" ) -> 3 | O7: =IF(variables!$E$3=$B7, IF(N($J7=O$3)=0,"",$L7), "" ) | P7: =IF(variables!$E$3=$B7, IF(N($J7=P$3)=0,"",$L7), "" ) | Q7: =IF(variables!$E$3=$B7, IF(N($J7=Q$3)=0,"",$L7), "" ) | R7: =IF(variables!$E$3=$B7, IF(N($J7=R$3)=0,"",$L7), "" ) | S7: =IF(variables!$E$3=$B7, IF(N($J7=S$3)=0,"",$L7), "" ) | T7: =IF(variables!$E$3=$B7, IF(N($J7=T$3)=0,"",$L7), "" ) | ... BX7: =IF(variables!$E$3=$B7, IF(N($J7=BX$3)=0,"",$L7), "" ) | BY7: =IF(N($B7=BY$3)=0,"",$G7) -> 3 | BZ7: =IF(N($B7=BZ$3)=0,"",$G7) | CA7: =IF(N($B7=CA$3)=0,"",$G7) | CB7: =IF(N($B7=CB$3)=0,"",$G7) | CC7: =IF(N($B7=CC$3)=0,"",$G7) | CD7: =IF(N($B7=CD$3)=0,"",$G7) | CE7: =IF(N($B7=CE$3)=0,"",$G7) | CF7: =IF(N($B7=CF$3)=0,"",$G7) | ... CJ7: =IF(N($B7=CJ$3)=0,"",$G7)
B8: 2013/2014 | C8: =C7+10 -> 41588 | D8: physique chimie | E8: 12 | F8: 20 | G8: 0 | H8: écrit | I8: =WEEKNUM(C8,1) -> 46 | J8: =CHOOSE(MONTH(C8),variables!$B$2,variables!$B$3,variables!$B$4,variables!$B$5,variables!$B$6,variables!$B$7,variables!$B$8,variables!$B$9,variables!$B$10,variables!$B$11,variables!$B$12,variables!$B$13) -> novembre | K8: =YEAR(C8) -> 2013 | L8: =IF(variables!$C$2=1,G8, IF($D8=analyse!$H$3,$G8,"") ) -> 0 | M8: =IF(variables!$E$3=$B8, IF(N($J8=M$3)=0,"",$L8), "" ) | N8: =IF(variables!$E$3=$B8, IF(N($J8=N$3)=0,"",$L8), "" ) | O8: =IF(variables!$E$3=$B8, IF(N($J8=O$3)=0,"",$L8), "" ) -> 0 | P8: =IF(variables!$E$3=$B8, IF(N($J8=P$3)=0,"",$L8), "" ) | Q8: =IF(variables!$E$3=$B8, IF(N($J8=Q$3)=0,"",$L8), "" ) | R8: =IF(variables!$E$3=$B8, IF(N($J8=R$3)=0,"",$L8), "" ) | S8: =IF(variables!$E$3=$B8, IF(N($J8=S$3)=0,"",$L8), "" ) | T8: =IF(variables!$E$3=$B8, IF(N($J8=T$3)=0,"",$L8), "" ) | ... BX8: =IF(variables!$E$3=$B8, IF(N($J8=BX$3)=0,"",$L8), "" ) | BY8: =IF(N($B8=BY$3)=0,"",$G8) -> 0 | BZ8: =IF(N($B8=BZ$3)=0,"",$G8) | CA8: =IF(N($B8=CA$3)=0,"",$G8) | CB8: =IF(N($B8=CB$3)=0,"",$G8) | CC8: =IF(N($B8=CC$3)=0,"",$G8) | CD8: =IF(N($B8=CD$3)=0,"",$G8) | CE8: =IF(N($B8=CE$3)=0,"",$G8) | CF8: =IF(N($B8=CF$3)=0,"",$G8) | ... CJ8: =IF(N($B8=CJ$3)=0,"",$G8)
B9: 2013/2014 | C9: =C8+10 -> 41598 | D9: histoire geo | E9: 11 | F9: 20 | G9: =IF(F9=10,E9*2,E9) -> 11 | H9: oral | I9: =WEEKNUM(C9,1) -> 47 | J9: =CHOOSE(MONTH(C9),variables!$B$2,variables!$B$3,variables!$B$4,variables!$B$5,variables!$B$6,variables!$B$7,variables!$B$8,variables!$B$9,variables!$B$10,variables!$B$11,variables!$B$12,variables!$B$13) -> novembre | K9: =YEAR(C9) -> 2013 | L9: =IF(variables!$C$2=1,G9, IF($D9=analyse!$H$3,$G9,"") ) -> 11 | M9: =IF(variables!$E$3=$B9, IF(N($J9=M$3)=0,"",$L9), "" ) | N9: =IF(variables!$E$3=$B9, IF(N($J9=N$3)=0,"",$L9), "" ) | O9: =IF(variables!$E$3=$B9, IF(N($J9=O$3)=0,"",$L9), "" ) -> 11 | P9: =IF(variables!$E$3=$B9, IF(N($J9=P$3)=0,"",$L9), "" ) | Q9: =IF(variables!$E$3=$B9, IF(N($J9=Q$3)=0,"",$L9), "" ) | R9: =IF(variables!$E$3=$B9, IF(N($J9=R$3)=0,"",$L9), "" ) | S9: =IF(variables!$E$3=$B9, IF(N($J9=S$3)=0,"",$L9), "" ) | T9: =IF(variables!$E$3=$B9, IF(N($J9=T$3)=0,"",$L9), "" ) | ... BX9: =IF(variables!$E$3=$B9, IF(N($J9=BX$3)=0,"",$L9), "" ) | BY9: =IF(N($B9=BY$3)=0,"",$G9) -> 11 | BZ9: =IF(N($B9=BZ$3)=0,"",$G9) | CA9: =IF(N($B9=CA$3)=0,"",$G9) | CB9: =IF(N($B9=CB$3)=0,"",$G9) | CC9: =IF(N($B9=CC$3)=0,"",$G9) | CD9: =IF(N($B9=CD$3)=0,"",$G9) | CE9: =IF(N($B9=CE$3)=0,"",$G9) | CF9: =IF(N($B9=CF$3)=0,"",$G9) | ... CJ9: =IF(N($B9=CJ$3)=0,"",$G9)
B10: 2013/2014 | C10: =C9+10 -> 41608 | D10: anglais | E10: 4 | F10: 10 | G10: =IF(F10=10,E10*2,E10) -> 8 | H10: écrit | I10: =WEEKNUM(C10,1) -> 48 | J10: =CHOOSE(MONTH(C10),variables!$B$2,variables!$B$3,variables!$B$4,variables!$B$5,variables!$B$6,variables!$B$7,variables!$B$8,variables!$B$9,variables!$B$10,variables!$B$11,variables!$B$12,variables!$B$13) -> novembre | K10: =YEAR(C10) -> 2013 | L10: =IF(variables!$C$2=1,G10, IF($D10=analyse!$H$3,$G10,"") ) -> 8 | M10: =IF(variables!$E$3=$B10, IF(N($J10=M$3)=0,"",$L10), "" ) | N10: =IF(variables!$E$3=$B10, IF(N($J10=N$3)=0,"",$L10), "" ) | O10: =IF(variables!$E$3=$B10, IF(N($J10=O$3)=0,"",$L10), "" ) -> 8 | P10: =IF(variables!$E$3=$B10, IF(N($J10=P$3)=0,"",$L10), "" ) | Q10: =IF(variables!$E$3=$B10, IF(N($J10=Q$3)=0,"",$L10), "" ) | R10: =IF(variables!$E$3=$B10, IF(N($J10=R$3)=0,"",$L10), "" ) | S10: =IF(variables!$E$3=$B10, IF(N($J10=S$3)=0,"",$L10), "" ) | T10: =IF(variables!$E$3=$B10, IF(N($J10=T$3)=0,"",$L10), "" ) | ... X10: =IF(variables!$E$3=$B10, IF(N($J10=X$3)=0,"",$L10), "" ) | Y10: =IF(variables!$E$3=$B10, IF(N($I10=Y$3)=0,"",$L10), "" ) | Z10: =IF(variables!$E$3=$B10, IF(N($I10=Z$3)=0,"",$L10), "" ) | AA10: =IF(variables!$E$3=$B10, IF(N($I10=AA$3)=0,"",$L10), "" ) | AB10: =IF(variables!$E$3=$B10, IF(N($I10=AB$3)=0,"",$L10), "" ) | AC10: =IF(variables!$E$3=$B10, IF(N($I10=AC$3)=0,"",$L10), "" ) | AD10: =IF(variables!$E$3=$B10, IF(N($I10=AD$3)=0,"",$L10), "" ) | AE10: =IF(variables!$E$3=$B10, IF(N($I10=AE$3)=0,"",$L10), "" ) | AF10: =IF(variables!$E$3=$B10, IF(N($I10=AF$3)=0,"",$L10), "" ) | ... BX10: =IF(variables!$E$3=$B10, IF(N($I10=BX$3)=0,"",$L10), "" ) | BY10: =IF(N($B10=BY$3)=0,"",$G10) -> 8 | BZ10: =IF(N($B10=BZ$3)=0,"",$G10) | CA10: =IF(N($B10=CA$3)=0,"",$G10) | CB10: =IF(N($B10=CB$3)=0,"",$G10) | CC10: =IF(N($B10=CC$3)=0,"",$G10) | CD10: =IF(N($B10=CD$3)=0,"",$G10) | CE10: =IF(N($B10=CE$3)=0,"",$G10) | CF10: =IF(N($B10=CF$3)=0,"",$G10) | ... CJ10: =IF(N($B10=CJ$3)=0,"",$G10)
B11: 2013/2014 | C11: =C10+10 -> 41618 | D11: Math | E11: 14 | F11: 20 | G11: =IF(F11=10,E11*2,E11) -> 14 | H11: écrit | I11: =WEEKNUM(C11,1) -> 50 | J11: =CHOOSE(MONTH(C11),variables!$B$2,variables!$B$3,variables!$B$4,variables!$B$5,variables!$B$6,variables!$B$7,variables!$B$8,variables!$B$9,variables!$B$10,variables!$B$11,variables!$B$12,variables!$B$13) -> décembre | K11: =YEAR(C11) -> 2013 | L11: =IF(variables!$C$2=1,G11, IF($D11=analyse!$H$3,$G11,"") ) -> 14 | M11: =IF(variables!$E$3=$B11, IF(N($J11=M$3)=0,"",$L11), "" ) | N11: =IF(variables!$E$3=$B11, IF(N($J11=N$3)=0,"",$L11), "" ) | O11: =IF(variables!$E$3=$B11, IF(N($J11=O$3)=0,"",$L11), "" ) | P11: =IF(variables!$E$3=$B11, IF(N($J11=P$3)=0,"",$L11), "" ) -> 14 | Q11: =IF(variables!$E$3=$B11, IF(N($J11=Q$3)=0,"",$L11), "" ) | R11: =IF(variables!$E$3=$B11, IF(N($J11=R$3)=0,"",$L11), "" ) | S11: =IF(variables!$E$3=$B11, IF(N($J11=S$3)=0,"",$L11), "" ) | T11: =IF(variables!$E$3=$B11, IF(N($J11=T$3)=0,"",$L11), "" ) | ... X11: =IF(variables!$E$3=$B11, IF(N($J11=X$3)=0,"",$L11), "" ) | Y11: =IF(variables!$E$3=$B11, IF(N($I11=Y$3)=0,"",$L11), "" ) | Z11: =IF(variables!$E$3=$B11, IF(N($I11=Z$3)=0,"",$L11), "" ) | AA11: =IF(variables!$E$3=$B11, IF(N($I11=AA$3)=0,"",$L11), "" ) | AB11: =IF(variables!$E$3=$B11, IF(N($I11=AB$3)=0,"",$L11), "" ) | AC11: =IF(variables!$E$3=$B11, IF(N($I11=AC$3)=0,"",$L11), "" ) | AD11: =IF(variables!$E$3=$B11, IF(N($I11=AD$3)=0,"",$L11), "" ) | AE11: =IF(variables!$E$3=$B11, IF(N($I11=AE$3)=0,"",$L11), "" ) | AF11: =IF(variables!$E$3=$B11, IF(N($I11=AF$3)=0,"",$L11), "" ) | ... BX11: =IF(variables!$E$3=$B11, IF(N($I11=BX$3)=0,"",$L11), "" ) | BY11: =IF(N($B11=BY$3)=0,"",$G11) -> 14 | BZ11: =IF(N($B11=BZ$3)=0,"",$G11) | CA11: =IF(N($B11=CA$3)=0,"",$G11) | CB11: =IF(N($B11=CB$3)=0,"",$G11) | CC11: =IF(N($B11=CC$3)=0,"",$G11) | CD11: =IF(N($B11=CD$3)=0,"",$G11) | CE11: =IF(N($B11=CE$3)=0,"",$G11) | CF11: =IF(N($B11=CF$3)=0,"",$G11) | ... CJ11: =IF(N($B11=CJ$3)=0,"",$G11)
B12: 2013/2014 | C12: =C11+10 -> 41628 | D12: Espagnol | E12: 16 | F12: 20 | G12: =IF(F12=10,E12*2,E12) -> 16 | H12: écrit | I12: =WEEKNUM(C12,1) -> 51 | J12: =CHOOSE(MONTH(C12),variables!$B$2,variables!$B$3,variables!$B$4,variables!$B$5,variables!$B$6,variables!$B$7,variables!$B$8,variables!$B$9,variables!$B$10,variables!$B$11,variables!$B$12,variables!$B$13) -> décembre | K12: =YEAR(C12) -> 2013 | L12: =IF(variables!$C$2=1,G12, IF($D12=analyse!$H$3,$G12,"") ) -> 16 | M12: =IF(variables!$E$3=$B12, IF(N($J12=M$3)=0,"",$L12), "" ) | N12: =IF(variables!$E$3=$B12, IF(N($J12=N$3)=0,"",$L12), "" ) | O12: =IF(variables!$E$3=$B12, IF(N($J12=O$3)=0,"",$L12), "" ) | P12: =IF(variables!$E$3=$B12, IF(N($J12=P$3)=0,"",$L12), "" ) -> 16 | Q12: =IF(variables!$E$3=$B12, IF(N($J12=Q$3)=0,"",$L12), "" ) | R12: =IF(variables!$E$3=$B12, IF(N($J12=R$3)=0,"",$L12), "" ) | S12: =IF(variables!$E$3=$B12, IF(N($J12=S$3)=0,"",$L12), "" ) | T12: =IF(variables!$E$3=$B12, IF(N($J12=T$3)=0,"",$L12), "" ) | ... X12: =IF(variables!$E$3=$B12, IF(N($J12=X$3)=0,"",$L12), "" ) | Y12: =IF(variables!$E$3=$B12, IF(N($I12=Y$3)=0,"",$L12), "" ) | Z12: =IF(variables!$E$3=$B12, IF(N($I12=Z$3)=0,"",$L12), "" ) | AA12: =IF(variables!$E$3=$B12, IF(N($I12=AA$3)=0,"",$L12), "" ) | AB12: =IF(variables!$E$3=$B12, IF(N($I12=AB$3)=0,"",$L12), "" ) | AC12: =IF(variables!$E$3=$B12, IF(N($I12=AC$3)=0,"",$L12), "" ) | AD12: =IF(variables!$E$3=$B12, IF(N($I12=AD$3)=0,"",$L12), "" ) | AE12: =IF(variables!$E$3=$B12, IF(N($I12=AE$3)=0,"",$L12), "" ) | AF12: =IF(variables!$E$3=$B12, IF(N($I12=AF$3)=0,"",$L12), "" ) | ... BX12: =IF(variables!$E$3=$B12, IF(N($I12=BX$3)=0,"",$L12), "" ) | BY12: =IF(N($B12=BY$3)=0,"",$G12) -> 16 | BZ12: =IF(N($B12=BZ$3)=0,"",$G12) | CA12: =IF(N($B12=CA$3)=0,"",$G12) | CB12: =IF(N($B12=CB$3)=0,"",$G12) | CC12: =IF(N($B12=CC$3)=0,"",$G12) | CD12: =IF(N($B12=CD$3)=0,"",$G12) | CE12: =IF(N($B12=CE$3)=0,"",$G12) | CF12: =IF(N($B12=CF$3)=0,"",$G12) | ... CJ12: =IF(N($B12=CJ$3)=0,"",$G12)
B13: 2013/2014 | C13: =C12+10 -> 41638 | D13: svt | E13: 7 | F13: 20 | G13: =IF(F13=10,E13*2,E13) -> 7 | H13: écrit | I13: =WEEKNUM(C13,1) -> 53 | J13: =CHOOSE(MONTH(C13),variables!$B$2,variables!$B$3,variables!$B$4,variables!$B$5,variables!$B$6,variables!$B$7,variables!$B$8,variables!$B$9,variables!$B$10,variables!$B$11,variables!$B$12,variables!$B$13) -> décembre | K13: =YEAR(C13) -> 2013 | L13: =IF(variables!$C$2=1,G13, IF($D13=analyse!$H$3,$G13,"") ) -> 7 | M13: =IF(variables!$E$3=$B13, IF(N($J13=M$3)=0,"",$L13), "" ) | N13: =IF(variables!$E$3=$B13, IF(N($J13=N$3)=0,"",$L13), "" ) | O13: =IF(variables!$E$3=$B13, IF(N($J13=O$3)=0,"",$L13), "" ) | P13: =IF(variables!$E$3=$B13, IF(N($J13=P$3)=0,"",$L13), "" ) -> 7 | Q13: =IF(variables!$E$3=$B13, IF(N($J13=Q$3)=0,"",$L13), "" ) | R13: =IF(variables!$E$3=$B13, IF(N($J13=R$3)=0,"",$L13), "" ) | S13: =IF(variables!$E$3=$B13, IF(N($J13=S$3)=0,"",$L13), "" ) | T13: =IF(variables!$E$3=$B13, IF(N($J13=T$3)=0,"",$L13), "" ) | ... X13: =IF(variables!$E$3=$B13, IF(N($J13=X$3)=0,"",$L13), "" ) | Y13: =IF(variables!$E$3=$B13, IF(N($I13=Y$3)=0,"",$L13), "" ) | Z13: =IF(variables!$E$3=$B13, IF(N($I13=Z$3)=0,"",$L13), "" ) | AA13: =IF(variables!$E$3=$B13, IF(N($I13=AA$3)=0,"",$L13), "" ) | AB13: =IF(variables!$E$3=$B13, IF(N($I13=AB$3)=0,"",$L13), "" ) | AC13: =IF(variables!$E$3=$B13, IF(N($I13=AC$3)=0,"",$L13), "" ) | AD13: =IF(variables!$E$3=$B13, IF(N($I13=AD$3)=0,"",$L13), "" ) | AE13: =IF(variables!$E$3=$B13, IF(N($I13=AE$3)=0,"",$L13), "" ) | AF13: =IF(variables!$E$3=$B13, IF(N($I13=AF$3)=0,"",$L13), "" ) | ... BX13: =IF(variables!$E$3=$B13, IF(N($I13=BX$3)=0,"",$L13), "" ) | BY13: =IF(N($B13=BY$3)=0,"",$G13) -> 7 | BZ13: =IF(N($B13=BZ$3)=0,"",$G13) | CA13: =IF(N($B13=CA$3)=0,"",$G13) | CB13: =IF(N($B13=CB$3)=0,"",$G13) | CC13: =IF(N($B13=CC$3)=0,"",$G13) | CD13: =IF(N($B13=CD$3)=0,"",$G13) | CE13: =IF(N($B13=CE$3)=0,"",$G13) | CF13: =IF(N($B13=CF$3)=0,"",$G13) | ... CJ13: =IF(N($B13=CJ$3)=0,"",$G13)
B14: 2013/2014 | C14: =C13+10 -> 41648 | D14: sport | E14: 13 | F14: 20 | G14: =IF(F14=10,E14*2,E14) -> 13 | H14: écrit | I14: =WEEKNUM(C14,1) -> 2 | J14: =CHOOSE(MONTH(C14),variables!$B$2,variables!$B$3,variables!$B$4,variables!$B$5,variables!$B$6,variables!$B$7,variables!$B$8,variables!$B$9,variables!$B$10,variables!$B$11,variables!$B$12,variables!$B$13) -> janvier | K14: =YEAR(C14) -> 2014 | L14: =IF(variables!$C$2=1,G14, IF($D14=analyse!$H$3,$G14,"") ) -> 13 | M14: =IF(variables!$E$3=$B14, IF(N($J14=M$3)=0,"",$L14), "" ) | N14: =IF(variables!$E$3=$B14, IF(N($J14=N$3)=0,"",$L14), "" ) | O14: =IF(variables!$E$3=$B14, IF(N($J14=O$3)=0,"",$L14), "" ) | P14: =IF(variables!$E$3=$B14, IF(N($J14=P$3)=0,"",$L14), "" ) | Q14: =IF(variables!$E$3=$B14, IF(N($J14=Q$3)=0,"",$L14), "" ) -> 13 | R14: =IF(variables!$E$3=$B14, IF(N($J14=R$3)=0,"",$L14), "" ) | S14: =IF(variables!$E$3=$B14, IF(N($J14=S$3)=0,"",$L14), "" ) | T14: =IF(variables!$E$3=$B14, IF(N($J14=T$3)=0,"",$L14), "" ) | ... X14: =IF(variables!$E$3=$B14, IF(N($J14=X$3)=0,"",$L14), "" ) | Y14: =IF(variables!$E$3=$B14, IF(N($I14=Y$3)=0,"",$L14), "" ) | Z14: =IF(variables!$E$3=$B14, IF(N($I14=Z$3)=0,"",$L14), "" ) | AA14: =IF(variables!$E$3=$B14, IF(N($I14=AA$3)=0,"",$L14), "" ) | AB14: =IF(variables!$E$3=$B14, IF(N($I14=AB$3)=0,"",$L14), "" ) | AC14: =IF(variables!$E$3=$B14, IF(N($I14=AC$3)=0,"",$L14), "" ) | AD14: =IF(variables!$E$3=$B14, IF(N($I14=AD$3)=0,"",$L14), "" ) | AE14: =IF(variables!$E$3=$B14, IF(N($I14=AE$3)=0,"",$L14), "" ) | AF14: =IF(variables!$E$3=$B14, IF(N($I14=AF$3)=0,"",$L14), "" ) | ... BX14: =IF(variables!$E$3=$B14, IF(N($I14=BX$3)=0,"",$L14), "" ) | BY14: =IF(N($B14=BY$3)=0,"",$G14) -> 13 | BZ14: =IF(N($B14=BZ$3)=0,"",$G14) | CA14: =IF(N($B14=CA$3)=0,"",$G14) | CB14: =IF(N($B14=CB$3)=0,"",$G14) | CC14: =IF(N($B14=CC$3)=0,"",$G14) | CD14: =IF(N($B14=CD$3)=0,"",$G14) | CE14: =IF(N($B14=CE$3)=0,"",$G14) | CF14: =IF(N($B14=CF$3)=0,"",$G14) | ... CJ14: =IF(N($B14=CJ$3)=0,"",$G14)
B15: 2013/2014 | C15: =C14+10 -> 41658 | D15: svt | E15: 12 | F15: 20 | G15: =IF(F15=10,E15*2,E15) -> 12 | H15: écrit | I15: =WEEKNUM(C15,1) -> 4 | J15: =CHOOSE(MONTH(C15),variables!$B$2,variables!$B$3,variables!$B$4,variables!$B$5,variables!$B$6,variables!$B$7,variables!$B$8,variables!$B$9,variables!$B$10,variables!$B$11,variables!$B$12,variables!$B$13) -> janvier | K15: =YEAR(C15) -> 2014 | L15: =IF(variables!$C$2=1,G15, IF($D15=analyse!$H$3,$G15,"") ) -> 12 | M15: =IF(variables!$E$3=$B15, IF(N($J15=M$3)=0,"",$L15), "" ) | N15: =IF(variables!$E$3=$B15, IF(N($J15=N$3)=0,"",$L15), "" ) | O15: =IF(variables!$E$3=$B15, IF(N($J15=O$3)=0,"",$L15), "" ) | P15: =IF(variables!$E$3=$B15, IF(N($J15=P$3)=0,"",$L15), "" ) | Q15: =IF(variables!$E$3=$B15, IF(N($J15=Q$3)=0,"",$L15), "" ) -> 12 | R15: =IF(variables!$E$3=$B15, IF(N($J15=R$3)=0,"",$L15), "" ) | S15: =IF(variables!$E$3=$B15, IF(N($J15=S$3)=0,"",$L15), "" ) | T15: =IF(variables!$E$3=$B15, IF(N($J15=T$3)=0,"",$L15), "" ) | ... X15: =IF(variables!$E$3=$B15, IF(N($J15=X$3)=0,"",$L15), "" ) | Y15: =IF(variables!$E$3=$B15, IF(N($I15=Y$3)=0,"",$L15), "" ) | Z15: =IF(variables!$E$3=$B15, IF(N($I15=Z$3)=0,"",$L15), "" ) | AA15: =IF(variables!$E$3=$B15, IF(N($I15=AA$3)=0,"",$L15), "" ) | AB15: =IF(variables!$E$3=$B15, IF(N($I15=AB$3)=0,"",$L15), "" ) | AC15: =IF(variables!$E$3=$B15, IF(N($I15=AC$3)=0,"",$L15), "" ) | AD15: =IF(variables!$E$3=$B15, IF(N($I15=AD$3)=0,"",$L15), "" ) | AE15: =IF(variables!$E$3=$B15, IF(N($I15=AE$3)=0,"",$L15), "" ) | AF15: =IF(variables!$E$3=$B15, IF(N($I15=AF$3)=0,"",$L15), "" ) | ... BX15: =IF(variables!$E$3=$B15, IF(N($I15=BX$3)=0,"",$L15), "" ) | BY15: =IF(N($B15=BY$3)=0,"",$G15) -> 12 | BZ15: =IF(N($B15=BZ$3)=0,"",$G15) | CA15: =IF(N($B15=CA$3)=0,"",$G15) | CB15: =IF(N($B15=CB$3)=0,"",$G15) | CC15: =IF(N($B15=CC$3)=0,"",$G15) | CD15: =IF(N($B15=CD$3)=0,"",$G15) | CE15: =IF(N($B15=CE$3)=0,"",$G15) | CF15: =IF(N($B15=CF$3)=0,"",$G15) | ... CJ15: =IF(N($B15=CJ$3)=0,"",$G15)
B16: 2013/2014 | C16: =C15+10 -> 41668 | D16: anglais | E16: 7 | F16: 20 | G16: =IF(F16=10,E16*2,E16) -> 7 | H16: écrit | I16: =WEEKNUM(C16,1) -> 5 | J16: =CHOOSE(MONTH(C16),variables!$B$2,variables!$B$3,variables!$B$4,variables!$B$5,variables!$B$6,variables!$B$7,variables!$B$8,variables!$B$9,variables!$B$10,variables!$B$11,variables!$B$12,variables!$B$13) -> janvier | K16: =YEAR(C16) -> 2014 | L16: =IF(variables!$C$2=1,G16, IF($D16=analyse!$H$3,$G16,"") ) -> 7 | M16: =IF(variables!$E$3=$B16, IF(N($J16=M$3)=0,"",$L16), "" ) | N16: =IF(variables!$E$3=$B16, IF(N($J16=N$3)=0,"",$L16), "" ) | O16: =IF(variables!$E$3=$B16, IF(N($J16=O$3)=0,"",$L16), "" ) | P16: =IF(variables!$E$3=$B16, IF(N($J16=P$3)=0,"",$L16), "" ) | Q16: =IF(variables!$E$3=$B16, IF(N($J16=Q$3)=0,"",$L16), "" ) -> 7 | R16: =IF(variables!$E$3=$B16, IF(N($J16=R$3)=0,"",$L16), "" ) | S16: =IF(variables!$E$3=$B16, IF(N($J16=S$3)=0,"",$L16), "" ) | T16: =IF(variables!$E$3=$B16, IF(N($J16=T$3)=0,"",$L16), "" ) | ... X16: =IF(variables!$E$3=$B16, IF(N($J16=X$3)=0,"",$L16), "" ) | Y16: =IF(variables!$E$3=$B16, IF(N($I16=Y$3)=0,"",$L16), "" ) | Z16: =IF(variables!$E$3=$B16, IF(N($I16=Z$3)=0,"",$L16), "" ) | AA16: =IF(variables!$E$3=$B16, IF(N($I16=AA$3)=0,"",$L16), "" ) | AB16: =IF(variables!$E$3=$B16, IF(N($I16=AB$3)=0,"",$L16), "" ) | AC16: =IF(variables!$E$3=$B16, IF(N($I16=AC$3)=0,"",$L16), "" ) | AD16: =IF(variables!$E$3=$B16, IF(N($I16=AD$3)=0,"",$L16), "" ) | AE16: =IF(variables!$E$3=$B16, IF(N($I16=AE$3)=0,"",$L16), "" ) | AF16: =IF(variables!$E$3=$B16, IF(N($I16=AF$3)=0,"",$L16), "" ) | ... BX16: =IF(variables!$E$3=$B16, IF(N($I16=BX$3)=0,"",$L16), "" ) | BY16: =IF(N($B16=BY$3)=0,"",$G16) -> 7 | BZ16: =IF(N($B16=BZ$3)=0,"",$G16) | CA16: =IF(N($B16=CA$3)=0,"",$G16) | CB16: =IF(N($B16=CB$3)=0,"",$G16) | CC16: =IF(N($B16=CC$3)=0,"",$G16) | CD16: =IF(N($B16=CD$3)=0,"",$G16) | CE16: =IF(N($B16=CE$3)=0,"",$G16) | CF16: =IF(N($B16=CF$3)=0,"",$G16) | ... CJ16: =IF(N($B16=CJ$3)=0,"",$G16)
B17: 2013/2014 | C17: =C16+10 -> 41678 | D17: svt | E17: =E14+1 -> 14 | F17: 20 | G17: =IF(F17=10,E17*2,E17) -> 14 | H17: écrit | I17: =WEEKNUM(C17,1) -> 6 | J17: =CHOOSE(MONTH(C17),variables!$B$2,variables!$B$3,variables!$B$4,variables!$B$5,variables!$B$6,variables!$B$7,variables!$B$8,variables!$B$9,variables!$B$10,variables!$B$11,variables!$B$12,variables!$B$13) -> février | K17: =YEAR(C17) -> 2014 | L17: =IF(variables!$C$2=1,G17, IF($D17=analyse!$H$3,$G17,"") ) -> 14 | M17: =IF(variables!$E$3=$B17, IF(N($J17=M$3)=0,"",$L17), "" ) | N17: =IF(variables!$E$3=$B17, IF(N($J17=N$3)=0,"",$L17), "" ) | O17: =IF(variables!$E$3=$B17, IF(N($J17=O$3)=0,"",$L17), "" ) | P17: =IF(variables!$E$3=$B17, IF(N($J17=P$3)=0,"",$L17), "" ) | Q17: =IF(variables!$E$3=$B17, IF(N($J17=Q$3)=0,"",$L17), "" ) | R17: =IF(variables!$E$3=$B17, IF(N($J17=R$3)=0,"",$L17), "" ) -> 14 | S17: =IF(variables!$E$3=$B17, IF(N($J17=S$3)=0,"",$L17), "" ) | T17: =IF(variables!$E$3=$B17, IF(N($J17=T$3)=0,"",$L17), "" ) | ... X17: =IF(variables!$E$3=$B17, IF(N($J17=X$3)=0,"",$L17), "" ) | Y17: =IF(variables!$E$3=$B17, IF(N($I17=Y$3)=0,"",$L17), "" ) | Z17: =IF(variables!$E$3=$B17, IF(N($I17=Z$3)=0,"",$L17), "" ) | AA17: =IF(variables!$E$3=$B17, IF(N($I17=AA$3)=0,"",$L17), "" ) | AB17: =IF(variables!$E$3=$B17, IF(N($I17=AB$3)=0,"",$L17), "" ) | AC17: =IF(variables!$E$3=$B17, IF(N($I17=AC$3)=0,"",$L17), "" ) | AD17: =IF(variables!$E$3=$B17, IF(N($I17=AD$3)=0,"",$L17), "" ) | AE17: =IF(variables!$E$3=$B17, IF(N($I17=AE$3)=0,"",$L17), "" ) | AF17: =IF(variables!$E$3=$B17, IF(N($I17=AF$3)=0,"",$L17), "" ) | ... BX17: =IF(variables!$E$3=$B17, IF(N($I17=BX$3)=0,"",$L17), "" ) | BY17: =IF(N($B17=BY$3)=0,"",$G17) -> 14 | BZ17: =IF(N($B17=BZ$3)=0,"",$G17) | CA17: =IF(N($B17=CA$3)=0,"",$G17) | CB17: =IF(N($B17=CB$3)=0,"",$G17) | CC17: =IF(N($B17=CC$3)=0,"",$G17) | CD17: =IF(N($B17=CD$3)=0,"",$G17) | CE17: =IF(N($B17=CE$3)=0,"",$G17) | CF17: =IF(N($B17=CF$3)=0,"",$G17) | ... CJ17: =IF(N($B17=CJ$3)=0,"",$G17)
B18: 2013/2014 | C18: =C17+10 -> 41688 | D18: Français | E18: =E15+1 -> 13 | F18: 20 | G18: =IF(F18=10,E18*2,E18) -> 13 | H18: écrit | I18: =WEEKNUM(C18,1) -> 8 | J18: =CHOOSE(MONTH(C18),variables!$B$2,variables!$B$3,variables!$B$4,variables!$B$5,variables!$B$6,variables!$B$7,variables!$B$8,variables!$B$9,variables!$B$10,variables!$B$11,variables!$B$12,variables!$B$13) -> février | K18: =YEAR(C18) -> 2014 | L18: =IF(variables!$C$2=1,G18, IF($D18=analyse!$H$3,$G18,"") ) -> 13 | M18: =IF(variables!$E$3=$B18, IF(N($J18=M$3)=0,"",$L18), "" ) | N18: =IF(variables!$E$3=$B18, IF(N($J18=N$3)=0,"",$L18), "" ) | O18: =IF(variables!$E$3=$B18, IF(N($J18=O$3)=0,"",$L18), "" ) | P18: =IF(variables!$E$3=$B18, IF(N($J18=P$3)=0,"",$L18), "" ) | Q18: =IF(variables!$E$3=$B18, IF(N($J18=Q$3)=0,"",$L18), "" ) | R18: =IF(variables!$E$3=$B18, IF(N($J18=R$3)=0,"",$L18), "" ) -> 13 | S18: =IF(variables!$E$3=$B18, IF(N($J18=S$3)=0,"",$L18), "" ) | T18: =IF(variables!$E$3=$B18, IF(N($J18=T$3)=0,"",$L18), "" ) | ... X18: =IF(variables!$E$3=$B18, IF(N($J18=X$3)=0,"",$L18), "" ) | Y18: =IF(variables!$E$3=$B18, IF(N($I18=Y$3)=0,"",$L18), "" ) | Z18: =IF(variables!$E$3=$B18, IF(N($I18=Z$3)=0,"",$L18), "" ) | AA18: =IF(variables!$E$3=$B18, IF(N($I18=AA$3)=0,"",$L18), "" ) | AB18: =IF(variables!$E$3=$B18, IF(N($I18=AB$3)=0,"",$L18), "" ) | AC18: =IF(variables!$E$3=$B18, IF(N($I18=AC$3)=0,"",$L18), "" ) | AD18: =IF(variables!$E$3=$B18, IF(N($I18=AD$3)=0,"",$L18), "" ) | AE18: =IF(variables!$E$3=$B18, IF(N($I18=AE$3)=0,"",$L18), "" ) | AF18: =IF(variables!$E$3=$B18, IF(N($I18=AF$3)=0,"",$L18), "" ) | ... BX18: =IF(variables!$E$3=$B18, IF(N($I18=BX$3)=0,"",$L18), "" ) | BY18: =IF(N($B18=BY$3)=0,"",$G18) -> 13 | BZ18: =IF(N($B18=BZ$3)=0,"",$G18) | CA18: =IF(N($B18=CA$3)=0,"",$G18) | CB18: =IF(N($B18=CB$3)=0,"",$G18) | CC18: =IF(N($B18=CC$3)=0,"",$G18) | CD18: =IF(N($B18=CD$3)=0,"",$G18) | CE18: =IF(N($B18=CE$3)=0,"",$G18) | CF18: =IF(N($B18=CF$3)=0,"",$G18) | ... CJ18: =IF(N($B18=CJ$3)=0,"",$G18)
B19: 2013/2014 | C19: =C18+10 -> 41698 | D19: Français | E19: =E16+1 -> 8 | F19: 20 | G19: =IF(F19=10,E19*2,E19) -> 8 | H19: oral | I19: =WEEKNUM(C19,1) -> 9 | J19: =CHOOSE(MONTH(C19),variables!$B$2,variables!$B$3,variables!$B$4,variables!$B$5,variables!$B$6,variables!$B$7,variables!$B$8,variables!$B$9,variables!$B$10,variables!$B$11,variables!$B$12,variables!$B$13) -> février | K19: =YEAR(C19) -> 2014 | L19: =IF(variables!$C$2=1,G19, IF($D19=analyse!$H$3,$G19,"") ) -> 8 | M19: =IF(variables!$E$3=$B19, IF(N($J19=M$3)=0,"",$L19), "" ) | N19: =IF(variables!$E$3=$B19, IF(N($J19=N$3)=0,"",$L19), "" ) | O19: =IF(variables!$E$3=$B19, IF(N($J19=O$3)=0,"",$L19), "" ) | P19: =IF(variables!$E$3=$B19, IF(N($J19=P$3)=0,"",$L19), "" ) | Q19: =IF(variables!$E$3=$B19, IF(N($J19=Q$3)=0,"",$L19), "" ) | R19: =IF(variables!$E$3=$B19, IF(N($J19=R$3)=0,"",$L19), "" ) -> 8 | S19: =IF(variables!$E$3=$B19, IF(N($J19=S$3)=0,"",$L19), "" ) | T19: =IF(variables!$E$3=$B19, IF(N($J19=T$3)=0,"",$L19), "" ) | ... X19: =IF(variables!$E$3=$B19, IF(N($J19=X$3)=0,"",$L19), "" ) | Y19: =IF(variables!$E$3=$B19, IF(N($I19=Y$3)=0,"",$L19), "" ) | Z19: =IF(variables!$E$3=$B19, IF(N($I19=Z$3)=0,"",$L19), "" ) | AA19: =IF(variables!$E$3=$B19, IF(N($I19=AA$3)=0,"",$L19), "" ) | AB19: =IF(variables!$E$3=$B19, IF(N($I19=AB$3)=0,"",$L19), "" ) | AC19: =IF(variables!$E$3=$B19, IF(N($I19=AC$3)=0,"",$L19), "" ) | AD19: =IF(variables!$E$3=$B19, IF(N($I19=AD$3)=0,"",$L19), "" ) | AE19: =IF(variables!$E$3=$B19, IF(N($I19=AE$3)=0,"",$L19), "" ) | AF19: =IF(variables!$E$3=$B19, IF(N($I19=AF$3)=0,"",$L19), "" ) | ... BX19: =IF(variables!$E$3=$B19, IF(N($I19=BX$3)=0,"",$L19), "" ) | BY19: =IF(N($B19=BY$3)=0,"",$G19) -> 8 | BZ19: =IF(N($B19=BZ$3)=0,"",$G19) | CA19: =IF(N($B19=CA$3)=0,"",$G19) | CB19: =IF(N($B19=CB$3)=0,"",$G19) | CC19: =IF(N($B19=CC$3)=0,"",$G19) | CD19: =IF(N($B19=CD$3)=0,"",$G19) | CE19: =IF(N($B19=CE$3)=0,"",$G19) | CF19: =IF(N($B19=CF$3)=0,"",$G19) | ... CJ19: =IF(N($B19=CJ$3)=0,"",$G19)
B20: 2013/2014 | C20: =C19+10 -> 41708 | D20: Français | E20: =E17+1 -> 15 | F20: 20 | G20: =IF(F20=10,E20*2,E20) -> 15 | H20: écrit | I20: =WEEKNUM(C20,1) -> 11 | J20: =CHOOSE(MONTH(C20),variables!$B$2,variables!$B$3,variables!$B$4,variables!$B$5,variables!$B$6,variables!$B$7,variables!$B$8,variables!$B$9,variables!$B$10,variables!$B$11,variables!$B$12,variables!$B$13) -> mars | K20: =YEAR(C20) -> 2014 | L20: =IF(variables!$C$2=1,G20, IF($D20=analyse!$H$3,$G20,"") ) -> 15 | M20: =IF(variables!$E$3=$B20, IF(N($J20=M$3)=0,"",$L20), "" ) | N20: =IF(variables!$E$3=$B20, IF(N($J20=N$3)=0,"",$L20), "" ) | O20: =IF(variables!$E$3=$B20, IF(N($J20=O$3)=0,"",$L20), "" ) | P20: =IF(variables!$E$3=$B20, IF(N($J20=P$3)=0,"",$L20), "" ) | Q20: =IF(variables!$E$3=$B20, IF(N($J20=Q$3)=0,"",$L20), "" ) | R20: =IF(variables!$E$3=$B20, IF(N($J20=R$3)=0,"",$L20), "" ) | S20: =IF(variables!$E$3=$B20, IF(N($J20=S$3)=0,"",$L20), "" ) -> 15 | T20: =IF(variables!$E$3=$B20, IF(N($J20=T$3)=0,"",$L20), "" ) | ... X20: =IF(variables!$E$3=$B20, IF(N($J20=X$3)=0,"",$L20), "" ) | Y20: =IF(variables!$E$3=$B20, IF(N($I20=Y$3)=0,"",$L20), "" ) | Z20: =IF(variables!$E$3=$B20, IF(N($I20=Z$3)=0,"",$L20), "" ) | AA20: =IF(variables!$E$3=$B20, IF(N($I20=AA$3)=0,"",$L20), "" ) | AB20: =IF(variables!$E$3=$B20, IF(N($I20=AB$3)=0,"",$L20), "" ) | AC20: =IF(variables!$E$3=$B20, IF(N($I20=AC$3)=0,"",$L20), "" ) | AD20: =IF(variables!$E$3=$B20, IF(N($I20=AD$3)=0,"",$L20), "" ) | AE20: =IF(variables!$E$3=$B20, IF(N($I20=AE$3)=0,"",$L20), "" ) | AF20: =IF(variables!$E$3=$B20, IF(N($I20=AF$3)=0,"",$L20), "" ) | ... BX20: =IF(variables!$E$3=$B20, IF(N($I20=BX$3)=0,"",$L20), "" ) | BY20: =IF(N($B20=BY$3)=0,"",$G20) -> 15 | BZ20: =IF(N($B20=BZ$3)=0,"",$G20) | CA20: =IF(N($B20=CA$3)=0,"",$G20) | CB20: =IF(N($B20=CB$3)=0,"",$G20) | CC20: =IF(N($B20=CC$3)=0,"",$G20) | CD20: =IF(N($B20=CD$3)=0,"",$G20) | CE20: =IF(N($B20=CE$3)=0,"",$G20) | CF20: =IF(N($B20=CF$3)=0,"",$G20) | ... CJ20: =IF(N($B20=CJ$3)=0,"",$G20)
B21: 2013/2014 | C21: =C20+10 -> 41718 | D21: svt | E21: =E18+1 -> 14 | F21: 20 | G21: =IF(F21=10,E21*2,E21) -> 14 | H21: oral | I21: =WEEKNUM(C21,1) -> 12 | J21: =CHOOSE(MONTH(C21),variables!$B$2,variables!$B$3,variables!$B$4,variables!$B$5,variables!$B$6,variables!$B$7,variables!$B$8,variables!$B$9,variables!$B$10,variables!$B$11,variables!$B$12,variables!$B$13) -> mars | K21: =YEAR(C21) -> 2014 | L21: =IF(variables!$C$2=1,G21, IF($D21=analyse!$H$3,$G21,"") ) -> 14 | M21: =IF(variables!$E$3=$B21, IF(N($J21=M$3)=0,"",$L21), "" ) | N21: =IF(variables!$E$3=$B21, IF(N($J21=N$3)=0,"",$L21), "" ) | O21: =IF(variables!$E$3=$B21, IF(N($J21=O$3)=0,"",$L21), "" ) | P21: =IF(variables!$E$3=$B21, IF(N($J21=P$3)=0,"",$L21), "" ) | Q21: =IF(variables!$E$3=$B21, IF(N($J21=Q$3)=0,"",$L21), "" ) | R21: =IF(variables!$E$3=$B21, IF(N($J21=R$3)=0,"",$L21), "" ) | S21: =IF(variables!$E$3=$B21, IF(N($J21=S$3)=0,"",$L21), "" ) -> 14 | T21: =IF(variables!$E$3=$B21, IF(N($J21=T$3)=0,"",$L21), "" ) | ... X21: =IF(variables!$E$3=$B21, IF(N($J21=X$3)=0,"",$L21), "" ) | Y21: =IF(variables!$E$3=$B21, IF(N($I21=Y$3)=0,"",$L21), "" ) | Z21: =IF(variables!$E$3=$B21, IF(N($I21=Z$3)=0,"",$L21), "" ) | AA21: =IF(variables!$E$3=$B21, IF(N($I21=AA$3)=0,"",$L21), "" ) | AB21: =IF(variables!$E$3=$B21, IF(N($I21=AB$3)=0,"",$L21), "" ) | AC21: =IF(variables!$E$3=$B21, IF(N($I21=AC$3)=0,"",$L21), "" ) | AD21: =IF(variables!$E$3=$B21, IF(N($I21=AD$3)=0,"",$L21), "" ) | AE21: =IF(variables!$E$3=$B21, IF(N($I21=AE$3)=0,"",$L21), "" ) | AF21: =IF(variables!$E$3=$B21, IF(N($I21=AF$3)=0,"",$L21), "" ) | ... BX21: =IF(variables!$E$3=$B21, IF(N($I21=BX$3)=0,"",$L21), "" ) | BY21: =IF(N($B21=BY$3)=0,"",$G21) -> 14 | BZ21: =IF(N($B21=BZ$3)=0,"",$G21) | CA21: =IF(N($B21=CA$3)=0,"",$G21) | CB21: =IF(N($B21=CB$3)=0,"",$G21) | CC21: =IF(N($B21=CC$3)=0,"",$G21) | CD21: =IF(N($B21=CD$3)=0,"",$G21) | CE21: =IF(N($B21=CE$3)=0,"",$G21) | CF21: =IF(N($B21=CF$3)=0,"",$G21) | ... CJ21: =IF(N($B21=CJ$3)=0,"",$G21)
B22: 2013/2014 | C22: =C21+10 -> 41728 | D22: Musique | E22: 7 | F22: 10 | G22: =IF(F22=10,E22*2,E22) -> 14 | H22: écrit | I22: =WEEKNUM(C22,1) -> 14 | J22: =CHOOSE(MONTH(C22),variables!$B$2,variables!$B$3,variables!$B$4,variables!$B$5,variables!$B$6,variables!$B$7,variables!$B$8,variables!$B$9,variables!$B$10,variables!$B$11,variables!$B$12,variables!$B$13) -> mars | K22: =YEAR(C22) -> 2014 | L22: =IF(variables!$C$2=1,G22, IF($D22=analyse!$H$3,$G22,"") ) -> 14 | M22: =IF(variables!$E$3=$B22, IF(N($J22=M$3)=0,"",$L22), "" ) | N22: =IF(variables!$E$3=$B22, IF(N($J22=N$3)=0,"",$L22), "" ) | O22: =IF(variables!$E$3=$B22, IF(N($J22=O$3)=0,"",$L22), "" ) | P22: =IF(variables!$E$3=$B22, IF(N($J22=P$3)=0,"",$L22), "" ) | Q22: =IF(variables!$E$3=$B22, IF(N($J22=Q$3)=0,"",$L22), "" ) | R22: =IF(variables!$E$3=$B22, IF(N($J22=R$3)=0,"",$L22), "" ) | S22: =IF(variables!$E$3=$B22, IF(N($J22=S$3)=0,"",$L22), "" ) -> 14 | T22: =IF(variables!$E$3=$B22, IF(N($J22=T$3)=0,"",$L22), "" ) | ... X22: =IF(variables!$E$3=$B22, IF(N($J22=X$3)=0,"",$L22), "" ) | Y22: =IF(variables!$E$3=$B22, IF(N($I22=Y$3)=0,"",$L22), "" ) | Z22: =IF(variables!$E$3=$B22, IF(N($I22=Z$3)=0,"",$L22), "" ) | AA22: =IF(variables!$E$3=$B22, IF(N($I22=AA$3)=0,"",$L22), "" ) | AB22: =IF(variables!$E$3=$B22, IF(N($I22=AB$3)=0,"",$L22), "" ) | AC22: =IF(variables!$E$3=$B22, IF(N($I22=AC$3)=0,"",$L22), "" ) | AD22: =IF(variables!$E$3=$B22, IF(N($I22=AD$3)=0,"",$L22), "" ) | AE22: =IF(variables!$E$3=$B22, IF(N($I22=AE$3)=0,"",$L22), "" ) | AF22: =IF(variables!$E$3=$B22, IF(N($I22=AF$3)=0,"",$L22), "" ) | ... BX22: =IF(variables!$E$3=$B22, IF(N($I22=BX$3)=0,"",$L22), "" ) | BY22: =IF(N($B22=BY$3)=0,"",$G22) -> 14 | BZ22: =IF(N($B22=BZ$3)=0,"",$G22) | CA22: =IF(N($B22=CA$3)=0,"",$G22) | CB22: =IF(N($B22=CB$3)=0,"",$G22) | CC22: =IF(N($B22=CC$3)=0,"",$G22) | CD22: =IF(N($B22=CD$3)=0,"",$G22) | CE22: =IF(N($B22=CE$3)=0,"",$G22) | CF22: =IF(N($B22=CF$3)=0,"",$G22) | ... CJ22: =IF(N($B22=CJ$3)=0,"",$G22)
B23: 2013/2014 | C23: =C22+10 -> 41738 | D23: Espagnol | E23: =E20+1 -> 16 | F23: 20 | G23: =IF(F23=10,E23*2,E23) -> 16 | H23: écrit | I23: =WEEKNUM(C23,1) -> 15 | J23: =CHOOSE(MONTH(C23),variables!$B$2,variables!$B$3,variables!$B$4,variables!$B$5,variables!$B$6,variables!$B$7,variables!$B$8,variables!$B$9,variables!$B$10,variables!$B$11,variables!$B$12,variables!$B$13) -> avril | K23: =YEAR(C23) -> 2014 | L23: =IF(variables!$C$2=1,G23, IF($D23=analyse!$H$3,$G23,"") ) -> 16 | M23: =IF(variables!$E$3=$B23, IF(N($J23=M$3)=0,"",$L23), "" ) | N23: =IF(variables!$E$3=$B23, IF(N($J23=N$3)=0,"",$L23), "" ) | O23: =IF(variables!$E$3=$B23, IF(N($J23=O$3)=0,"",$L23), "" ) | P23: =IF(variables!$E$3=$B23, IF(N($J23=P$3)=0,"",$L23), "" ) | Q23: =IF(variables!$E$3=$B23, IF(N($J23=Q$3)=0,"",$L23), "" ) | R23: =IF(variables!$E$3=$B23, IF(N($J23=R$3)=0,"",$L23), "" ) | S23: =IF(variables!$E$3=$B23, IF(N($J23=S$3)=0,"",$L23), "" ) | T23: =IF(variables!$E$3=$B23, IF(N($J23=T$3)=0,"",$L23), "" ) -> 16 | ... X23: =IF(variables!$E$3=$B23, IF(N($J23=X$3)=0,"",$L23), "" ) | Y23: =IF(variables!$E$3=$B23, IF(N($I23=Y$3)=0,"",$L23), "" ) | Z23: =IF(variables!$E$3=$B23, IF(N($I23=Z$3)=0,"",$L23), "" ) | AA23: =IF(variables!$E$3=$B23, IF(N($I23=AA$3)=0,"",$L23), "" ) | AB23: =IF(variables!$E$3=$B23, IF(N($I23=AB$3)=0,"",$L23), "" ) | AC23: =IF(variables!$E$3=$B23, IF(N($I23=AC$3)=0,"",$L23), "" ) | AD23: =IF(variables!$E$3=$B23, IF(N($I23=AD$3)=0,"",$L23), "" ) | AE23: =IF(variables!$E$3=$B23, IF(N($I23=AE$3)=0,"",$L23), "" ) | AF23: =IF(variables!$E$3=$B23, IF(N($I23=AF$3)=0,"",$L23), "" ) | ... BX23: =IF(variables!$E$3=$B23, IF(N($I23=BX$3)=0,"",$L23), "" ) | BY23: =IF(N($B23=BY$3)=0,"",$G23) -> 16 | BZ23: =IF(N($B23=BZ$3)=0,"",$G23) | CA23: =IF(N($B23=CA$3)=0,"",$G23) | CB23: =IF(N($B23=CB$3)=0,"",$G23) | CC23: =IF(N($B23=CC$3)=0,"",$G23) | CD23: =IF(N($B23=CD$3)=0,"",$G23) | CE23: =IF(N($B23=CE$3)=0,"",$G23) | CF23: =IF(N($B23=CF$3)=0,"",$G23) | ... CJ23: =IF(N($B23=CJ$3)=0,"",$G23)
B24: 2013/2014 | C24: =C23+10 -> 41748 | D24: sport | E24: =E21+1 -> 15 | F24: 20 | G24: =IF(F24=10,E24*2,E24) -> 15 | H24: écrit | I24: =WEEKNUM(C24,1) -> 16 | J24: =CHOOSE(MONTH(C24),variables!$B$2,variables!$B$3,variables!$B$4,variables!$B$5,variables!$B$6,variables!$B$7,variables!$B$8,variables!$B$9,variables!$B$10,variables!$B$11,variables!$B$12,variables!$B$13) -> avril | K24: =YEAR(C24) -> 2014 | L24: =IF(variables!$C$2=1,G24, IF($D24=analyse!$H$3,$G24,"") ) -> 15 | M24: =IF(variables!$E$3=$B24, IF(N($J24=M$3)=0,"",$L24), "" ) | N24: =IF(variables!$E$3=$B24, IF(N($J24=N$3)=0,"",$L24), "" ) | O24: =IF(variables!$E$3=$B24, IF(N($J24=O$3)=0,"",$L24), "" ) | P24: =IF(variables!$E$3=$B24, IF(N($J24=P$3)=0,"",$L24), "" ) | Q24: =IF(variables!$E$3=$B24, IF(N($J24=Q$3)=0,"",$L24), "" ) | R24: =IF(variables!$E$3=$B24, IF(N($J24=R$3)=0,"",$L24), "" ) | S24: =IF(variables!$E$3=$B24, IF(N($J24=S$3)=0,"",$L24), "" ) | T24: =IF(variables!$E$3=$B24, IF(N($J24=T$3)=0,"",$L24), "" ) -> 15 | ... X24: =IF(variables!$E$3=$B24, IF(N($J24=X$3)=0,"",$L24), "" ) | Y24: =IF(variables!$E$3=$B24, IF(N($I24=Y$3)=0,"",$L24), "" ) | Z24: =IF(variables!$E$3=$B24, IF(N($I24=Z$3)=0,"",$L24), "" ) | AA24: =IF(variables!$E$3=$B24, IF(N($I24=AA$3)=0,"",$L24), "" ) | AB24: =IF(variables!$E$3=$B24, IF(N($I24=AB$3)=0,"",$L24), "" ) | AC24: =IF(variables!$E$3=$B24, IF(N($I24=AC$3)=0,"",$L24), "" ) | AD24: =IF(variables!$E$3=$B24, IF(N($I24=AD$3)=0,"",$L24), "" ) | AE24: =IF(variables!$E$3=$B24, IF(N($I24=AE$3)=0,"",$L24), "" ) | AF24: =IF(variables!$E$3=$B24, IF(N($I24=AF$3)=0,"",$L24), "" ) | ... BX24: =IF(variables!$E$3=$B24, IF(N($I24=BX$3)=0,"",$L24), "" ) | BY24: =IF(N($B24=BY$3)=0,"",$G24) -> 15 | BZ24: =IF(N($B24=BZ$3)=0,"",$G24) | CA24: =IF(N($B24=CA$3)=0,"",$G24) | CB24: =IF(N($B24=CB$3)=0,"",$G24) | CC24: =IF(N($B24=CC$3)=0,"",$G24) | CD24: =IF(N($B24=CD$3)=0,"",$G24) | CE24: =IF(N($B24=CE$3)=0,"",$G24) | CF24: =IF(N($B24=CF$3)=0,"",$G24) | ... CJ24: =IF(N($B24=CJ$3)=0,"",$G24)
B25: 2013/2014 | C25: =C24+10 -> 41758 | D25: Espagnol | E25: =E22+1 -> 8 | F25: 20 | G25: =IF(F25=10,E25*2,E25) -> 8 | H25: écrit | I25: =WEEKNUM(C25,1) -> 18 | J25: =CHOOSE(MONTH(C25),variables!$B$2,variables!$B$3,variables!$B$4,variables!$B$5,variables!$B$6,variables!$B$7,variables!$B$8,variables!$B$9,variables!$B$10,variables!$B$11,variables!$B$12,variables!$B$13) -> avril | K25: =YEAR(C25) -> 2014 | L25: =IF(variables!$C$2=1,G25, IF($D25=analyse!$H$3,$G25,"") ) -> 8 | M25: =IF(variables!$E$3=$B25, IF(N($J25=M$3)=0,"",$L25), "" ) | N25: =IF(variables!$E$3=$B25, IF(N($J25=N$3)=0,"",$L25), "" ) | O25: =IF(variables!$E$3=$B25, IF(N($J25=O$3)=0,"",$L25), "" ) | P25: =IF(variables!$E$3=$B25, IF(N($J25=P$3)=0,"",$L25), "" ) | Q25: =IF(variables!$E$3=$B25, IF(N($J25=Q$3)=0,"",$L25), "" ) | R25: =IF(variables!$E$3=$B25, IF(N($J25=R$3)=0,"",$L25), "" ) | S25: =IF(variables!$E$3=$B25, IF(N($J25=S$3)=0,"",$L25), "" ) | T25: =IF(variables!$E$3=$B25, IF(N($J25=T$3)=0,"",$L25), "" ) -> 8 | ... X25: =IF(variables!$E$3=$B25, IF(N($J25=X$3)=0,"",$L25), "" ) | Y25: =IF(variables!$E$3=$B25, IF(N($I25=Y$3)=0,"",$L25), "" ) | Z25: =IF(variables!$E$3=$B25, IF(N($I25=Z$3)=0,"",$L25), "" ) | AA25: =IF(variables!$E$3=$B25, IF(N($I25=AA$3)=0,"",$L25), "" ) | AB25: =IF(variables!$E$3=$B25, IF(N($I25=AB$3)=0,"",$L25), "" ) | AC25: =IF(variables!$E$3=$B25, IF(N($I25=AC$3)=0,"",$L25), "" ) | AD25: =IF(variables!$E$3=$B25, IF(N($I25=AD$3)=0,"",$L25), "" ) | AE25: =IF(variables!$E$3=$B25, IF(N($I25=AE$3)=0,"",$L25), "" ) | AF25: =IF(variables!$E$3=$B25, IF(N($I25=AF$3)=0,"",$L25), "" ) | ... BX25: =IF(variables!$E$3=$B25, IF(N($I25=BX$3)=0,"",$L25), "" ) | BY25: =IF(N($B25=BY$3)=0,"",$G25) -> 8 | BZ25: =IF(N($B25=BZ$3)=0,"",$G25) | CA25: =IF(N($B25=CA$3)=0,"",$G25) | CB25: =IF(N($B25=CB$3)=0,"",$G25) | CC25: =IF(N($B25=CC$3)=0,"",$G25) | CD25: =IF(N($B25=CD$3)=0,"",$G25) | CE25: =IF(N($B25=CE$3)=0,"",$G25) | CF25: =IF(N($B25=CF$3)=0,"",$G25) | ... CJ25: =IF(N($B25=CJ$3)=0,"",$G25)
B26: 2013/2014 | C26: =C25+10 -> 41768 | D26: physique chimie | E26: =E23+1 -> 17 | F26: 20 | G26: =IF(F26=10,E26*2,E26) -> 17 | H26: oral | I26: =WEEKNUM(C26,1) -> 19 | J26: =CHOOSE(MONTH(C26),variables!$B$2,variables!$B$3,variables!$B$4,variables!$B$5,variables!$B$6,variables!$B$7,variables!$B$8,variables!$B$9,variables!$B$10,variables!$B$11,variables!$B$12,variables!$B$13) -> mai | K26: =YEAR(C26) -> 2014 | L26: =IF(variables!$C$2=1,G26, IF($D26=analyse!$H$3,$G26,"") ) -> 17 | M26: =IF(variables!$E$3=$B26, IF(N($J26=M$3)=0,"",$L26), "" ) | N26: =IF(variables!$E$3=$B26, IF(N($J26=N$3)=0,"",$L26), "" ) | O26: =IF(variables!$E$3=$B26, IF(N($J26=O$3)=0,"",$L26), "" ) | P26: =IF(variables!$E$3=$B26, IF(N($J26=P$3)=0,"",$L26), "" ) | Q26: =IF(variables!$E$3=$B26, IF(N($J26=Q$3)=0,"",$L26), "" ) | R26: =IF(variables!$E$3=$B26, IF(N($J26=R$3)=0,"",$L26), "" ) | S26: =IF(variables!$E$3=$B26, IF(N($J26=S$3)=0,"",$L26), "" ) | T26: =IF(variables!$E$3=$B26, IF(N($J26=T$3)=0,"",$L26), "" ) | ... X26: =IF(variables!$E$3=$B26, IF(N($J26=X$3)=0,"",$L26), "" ) | Y26: =IF(variables!$E$3=$B26, IF(N($I26=Y$3)=0,"",$L26), "" ) | Z26: =IF(variables!$E$3=$B26, IF(N($I26=Z$3)=0,"",$L26), "" ) | AA26: =IF(variables!$E$3=$B26, IF(N($I26=AA$3)=0,"",$L26), "" ) | AB26: =IF(variables!$E$3=$B26, IF(N($I26=AB$3)=0,"",$L26), "" ) | AC26: =IF(variables!$E$3=$B26, IF(N($I26=AC$3)=0,"",$L26), "" ) | AD26: =IF(variables!$E$3=$B26, IF(N($I26=AD$3)=0,"",$L26), "" ) | AE26: =IF(variables!$E$3=$B26, IF(N($I26=AE$3)=0,"",$L26), "" ) | AF26: =IF(variables!$E$3=$B26, IF(N($I26=AF$3)=0,"",$L26), "" ) | ... BX26: =IF(variables!$E$3=$B26, IF(N($I26=BX$3)=0,"",$L26), "" ) | BY26: =IF(N($B26=BY$3)=0,"",$G26) -> 17 | BZ26: =IF(N($B26=BZ$3)=0,"",$G26) | CA26: =IF(N($B26=CA$3)=0,"",$G26) | CB26: =IF(N($B26=CB$3)=0,"",$G26) | CC26: =IF(N($B26=CC$3)=0,"",$G26) | CD26: =IF(N($B26=CD$3)=0,"",$G26) | CE26: =IF(N($B26=CE$3)=0,"",$G26) | CF26: =IF(N($B26=CF$3)=0,"",$G26) | ... CJ26: =IF(N($B26=CJ$3)=0,"",$G26)
B27: 2013/2014 | C27: =C26+10 -> 41778 | D27: Français | E27: 13 | F27: 20 | G27: =IF(F27=10,E27*2,E27) -> 13 | H27: écrit | I27: =WEEKNUM(C27,1) -> 21 | J27: =CHOOSE(MONTH(C27),variables!$B$2,variables!$B$3,variables!$B$4,variables!$B$5,variables!$B$6,variables!$B$7,variables!$B$8,variables!$B$9,variables!$B$10,variables!$B$11,variables!$B$12,variables!$B$13) -> mai | K27: =YEAR(C27) -> 2014 | L27: =IF(variables!$C$2=1,G27, IF($D27=analyse!$H$3,$G27,"") ) -> 13 | M27: =IF(variables!$E$3=$B27, IF(N($J27=M$3)=0,"",$L27), "" ) | N27: =IF(variables!$E$3=$B27, IF(N($J27=N$3)=0,"",$L27), "" ) | O27: =IF(variables!$E$3=$B27, IF(N($J27=O$3)=0,"",$L27), "" ) | P27: =IF(variables!$E$3=$B27, IF(N($J27=P$3)=0,"",$L27), "" ) | Q27: =IF(variables!$E$3=$B27, IF(N($J27=Q$3)=0,"",$L27), "" ) | R27: =IF(variables!$E$3=$B27, IF(N($J27=R$3)=0,"",$L27), "" ) | S27: =IF(variables!$E$3=$B27, IF(N($J27=S$3)=0,"",$L27), "" ) | T27: =IF(variables!$E$3=$B27, IF(N($J27=T$3)=0,"",$L27), "" ) | ... X27: =IF(variables!$E$3=$B27, IF(N($J27=X$3)=0,"",$L27), "" ) | Y27: =IF(variables!$E$3=$B27, IF(N($I27=Y$3)=0,"",$L27), "" ) | Z27: =IF(variables!$E$3=$B27, IF(N($I27=Z$3)=0,"",$L27), "" ) | AA27: =IF(variables!$E$3=$B27, IF(N($I27=AA$3)=0,"",$L27), "" ) | AB27: =IF(variables!$E$3=$B27, IF(N($I27=AB$3)=0,"",$L27), "" ) | AC27: =IF(variables!$E$3=$B27, IF(N($I27=AC$3)=0,"",$L27), "" ) | AD27: =IF(variables!$E$3=$B27, IF(N($I27=AD$3)=0,"",$L27), "" ) | AE27: =IF(variables!$E$3=$B27, IF(N($I27=AE$3)=0,"",$L27), "" ) | AF27: =IF(variables!$E$3=$B27, IF(N($I27=AF$3)=0,"",$L27), "" ) | ... BX27: =IF(variables!$E$3=$B27, IF(N($I27=BX$3)=0,"",$L27), "" ) | BY27: =IF(N($B27=BY$3)=0,"",$G27) -> 13 | BZ27: =IF(N($B27=BZ$3)=0,"",$G27) | CA27: =IF(N($B27=CA$3)=0,"",$G27) | CB27: =IF(N($B27=CB$3)=0,"",$G27) | CC27: =IF(N($B27=CC$3)=0,"",$G27) | CD27: =IF(N($B27=CD$3)=0,"",$G27) | CE27: =IF(N($B27=CE$3)=0,"",$G27) | CF27: =IF(N($B27=CF$3)=0,"",$G27) | ... CJ27: =IF(N($B27=CJ$3)=0,"",$G27)
B28: 2013/2014 | C28: =C27+10 -> 41788 | D28: Math | E28: =E25+1 -> 9 | F28: 20 | G28: =IF(F28=10,E28*2,E28) -> 9 | H28: oral | I28: =WEEKNUM(C28,1) -> 22 | J28: =CHOOSE(MONTH(C28),variables!$B$2,variables!$B$3,variables!$B$4,variables!$B$5,variables!$B$6,variables!$B$7,variables!$B$8,variables!$B$9,variables!$B$10,variables!$B$11,variables!$B$12,variables!$B$13) -> mai | K28: =YEAR(C28) -> 2014 | L28: =IF(variables!$C$2=1,G28, IF($D28=analyse!$H$3,$G28,"") ) -> 9 | M28: =IF(variables!$E$3=$B28, IF(N($J28=M$3)=0,"",$L28), "" ) | N28: =IF(variables!$E$3=$B28, IF(N($J28=N$3)=0,"",$L28), "" ) | O28: =IF(variables!$E$3=$B28, IF(N($J28=O$3)=0,"",$L28), "" ) | P28: =IF(variables!$E$3=$B28, IF(N($J28=P$3)=0,"",$L28), "" ) | Q28: =IF(variables!$E$3=$B28, IF(N($J28=Q$3)=0,"",$L28), "" ) | R28: =IF(variables!$E$3=$B28, IF(N($J28=R$3)=0,"",$L28), "" ) | S28: =IF(variables!$E$3=$B28, IF(N($J28=S$3)=0,"",$L28), "" ) | T28: =IF(variables!$E$3=$B28, IF(N($J28=T$3)=0,"",$L28), "" ) | ... X28: =IF(variables!$E$3=$B28, IF(N($J28=X$3)=0,"",$L28), "" ) | Y28: =IF(variables!$E$3=$B28, IF(N($I28=Y$3)=0,"",$L28), "" ) | Z28: =IF(variables!$E$3=$B28, IF(N($I28=Z$3)=0,"",$L28), "" ) | AA28: =IF(variables!$E$3=$B28, IF(N($I28=AA$3)=0,"",$L28), "" ) | AB28: =IF(variables!$E$3=$B28, IF(N($I28=AB$3)=0,"",$L28), "" ) | AC28: =IF(variables!$E$3=$B28, IF(N($I28=AC$3)=0,"",$L28), "" ) | AD28: =IF(variables!$E$3=$B28, IF(N($I28=AD$3)=0,"",$L28), "" ) | AE28: =IF(variables!$E$3=$B28, IF(N($I28=AE$3)=0,"",$L28), "" ) | AF28: =IF(variables!$E$3=$B28, IF(N($I28=AF$3)=0,"",$L28), "" ) | ... BX28: =IF(variables!$E$3=$B28, IF(N($I28=BX$3)=0,"",$L28), "" ) | BY28: =IF(N($B28=BY$3)=0,"",$G28) -> 9 | BZ28: =IF(N($B28=BZ$3)=0,"",$G28) | CA28: =IF(N($B28=CA$3)=0,"",$G28) | CB28: =IF(N($B28=CB$3)=0,"",$G28) | CC28: =IF(N($B28=CC$3)=0,"",$G28) | CD28: =IF(N($B28=CD$3)=0,"",$G28) | CE28: =IF(N($B28=CE$3)=0,"",$G28) | CF28: =IF(N($B28=CF$3)=0,"",$G28) | ... CJ28: =IF(N($B28=CJ$3)=0,"",$G28)
B29: 2013/2015 | C29: 41890 | D29: Français | E29: 2 | F29: 20 | G29: =IF(F29=10,E29*2,E29) -> 2 | H29: oral | I29: =WEEKNUM(C29,1) -> 37 | J29: =CHOOSE(MONTH(C29),variables!$B$2,variables!$B$3,variables!$B$4,variables!$B$5,variables!$B$6,variables!$B$7,variables!$B$8,variables!$B$9,variables!$B$10,variables!$B$11,variables!$B$12,variables!$B$13) -> septembre | K29: =YEAR(C29) -> 2014 | L29: =IF(variables!$C$2=1,G29, IF($D29=analyse!$H$3,$G29,"") ) -> 2 | M29: =IF(variables!$E$3=$B29, IF(N($J29=M$3)=0,"",$L29), "" ) | N29: =IF(variables!$E$3=$B29, IF(N($J29=N$3)=0,"",$L29), "" ) | O29: =IF(variables!$E$3=$B29, IF(N($J29=O$3)=0,"",$L29), "" ) | P29: =IF(variables!$E$3=$B29, IF(N($J29=P$3)=0,"",$L29), "" ) | Q29: =IF(variables!$E$3=$B29, IF(N($J29=Q$3)=0,"",$L29), "" ) | R29: =IF(variables!$E$3=$B29, IF(N($J29=R$3)=0,"",$L29), "" ) | S29: =IF(variables!$E$3=$B29, IF(N($J29=S$3)=0,"",$L29), "" ) | T29: =IF(variables!$E$3=$B29, IF(N($J29=T$3)=0,"",$L29), "" ) | ... X29: =IF(variables!$E$3=$B29, IF(N($J29=X$3)=0,"",$L29), "" ) | Y29: =IF(variables!$E$3=$B29, IF(N($I29=Y$3)=0,"",$L29), "" ) | Z29: =IF(variables!$E$3=$B29, IF(N($I29=Z$3)=0,"",$L29), "" ) | AA29: =IF(variables!$E$3=$B29, IF(N($I29=AA$3)=0,"",$L29), "" ) | AB29: =IF(variables!$E$3=$B29, IF(N($I29=AB$3)=0,"",$L29), "" ) | AC29: =IF(variables!$E$3=$B29, IF(N($I29=AC$3)=0,"",$L29), "" ) | AD29: =IF(variables!$E$3=$B29, IF(N($I29=AD$3)=0,"",$L29), "" ) | AE29: =IF(variables!$E$3=$B29, IF(N($I29=AE$3)=0,"",$L29), "" ) | AF29: =IF(variables!$E$3=$B29, IF(N($I29=AF$3)=0,"",$L29), "" ) | ... BX29: =IF(variables!$E$3=$B29, IF(N($I29=BX$3)=0,"",$L29), "" ) | BY29: =IF(N($B29=BY$3)=0,"",$G29) | BZ29: =IF(N($B29=BZ$3)=0,"",$G29) | CA29: =IF(N($B29=CA$3)=0,"",$G29) | CB29: =IF(N($B29=CB$3)=0,"",$G29) | CC29: =IF(N($B29=CC$3)=0,"",$G29) | CD29: =IF(N($B29=CD$3)=0,"",$G29) | CE29: =IF(N($B29=CE$3)=0,"",$G29) | CF29: =IF(N($B29=CF$3)=0,"",$G29) | ... CJ29: =IF(N($B29=CJ$3)=0,"",$G29)
B30: 2014/2015 | C30: =C29+10 -> 41900 | D30: physique chimie | E30: 8 | F30: 20 | G30: =IF(F30=10,E30*2,E30) -> 8 | H30: oral | I30: =WEEKNUM(C30,1) -> 38 | J30: =CHOOSE(MONTH(C30),variables!$B$2,variables!$B$3,variables!$B$4,variables!$B$5,variables!$B$6,variables!$B$7,variables!$B$8,variables!$B$9,variables!$B$10,variables!$B$11,variables!$B$12,variables!$B$13) -> septembre | K30: =YEAR(C30) -> 2014 | L30: =IF(variables!$C$2=1,G30, IF($D30=analyse!$H$3,$G30,"") ) -> 8 | M30: =IF(variables!$E$3=$B30, IF(N($J30=M$3)=0,"",$L30), "" ) | N30: =IF(variables!$E$3=$B30, IF(N($J30=N$3)=0,"",$L30), "" ) | O30: =IF(variables!$E$3=$B30, IF(N($J30=O$3)=0,"",$L30), "" ) | P30: =IF(variables!$E$3=$B30, IF(N($J30=P$3)=0,"",$L30), "" ) | Q30: =IF(variables!$E$3=$B30, IF(N($J30=Q$3)=0,"",$L30), "" ) | R30: =IF(variables!$E$3=$B30, IF(N($J30=R$3)=0,"",$L30), "" ) | S30: =IF(variables!$E$3=$B30, IF(N($J30=S$3)=0,"",$L30), "" ) | T30: =IF(variables!$E$3=$B30, IF(N($J30=T$3)=0,"",$L30), "" ) | ... X30: =IF(variables!$E$3=$B30, IF(N($J30=X$3)=0,"",$L30), "" ) | Y30: =IF(variables!$E$3=$B30, IF(N($I30=Y$3)=0,"",$L30), "" ) | Z30: =IF(variables!$E$3=$B30, IF(N($I30=Z$3)=0,"",$L30), "" ) | AA30: =IF(variables!$E$3=$B30, IF(N($I30=AA$3)=0,"",$L30), "" ) | AB30: =IF(variables!$E$3=$B30, IF(N($I30=AB$3)=0,"",$L30), "" ) | AC30: =IF(variables!$E$3=$B30, IF(N($I30=AC$3)=0,"",$L30), "" ) | AD30: =IF(variables!$E$3=$B30, IF(N($I30=AD$3)=0,"",$L30), "" ) | AE30: =IF(variables!$E$3=$B30, IF(N($I30=AE$3)=0,"",$L30), "" ) | AF30: =IF(variables!$E$3=$B30, IF(N($I30=AF$3)=0,"",$L30), "" ) | ... BX30: =IF(variables!$E$3=$B30, IF(N($I30=BX$3)=0,"",$L30), "" ) | BY30: =IF(N($B30=BY$3)=0,"",$G30) | BZ30: =IF(N($B30=BZ$3)=0,"",$G30) -> 8 | CA30: =IF(N($B30=CA$3)=0,"",$G30) | CB30: =IF(N($B30=CB$3)=0,"",$G30) | CC30: =IF(N($B30=CC$3)=0,"",$G30) | CD30: =IF(N($B30=CD$3)=0,"",$G30) | CE30: =IF(N($B30=CE$3)=0,"",$G30) | CF30: =IF(N($B30=CF$3)=0,"",$G30) | ... CJ30: =IF(N($B30=CJ$3)=0,"",$G30)
B31: 2014/2015 | C31: =C30+10 -> 41910 | D31: Musique | E31: 16 | F31: 20 | G31: =IF(F31=10,E31*2,E31) -> 16 | H31: oral | I31: =WEEKNUM(C31,1) -> 40 | J31: =CHOOSE(MONTH(C31),variables!$B$2,variables!$B$3,variables!$B$4,variables!$B$5,variables!$B$6,variables!$B$7,variables!$B$8,variables!$B$9,variables!$B$10,variables!$B$11,variables!$B$12,variables!$B$13) -> septembre | K31: =YEAR(C31) -> 2014 | L31: =IF(variables!$C$2=1,G31, IF($D31=analyse!$H$3,$G31,"") ) -> 16 | M31: =IF(variables!$E$3=$B31, IF(N($J31=M$3)=0,"",$L31), "" ) | N31: =IF(variables!$E$3=$B31, IF(N($J31=N$3)=0,"",$L31), "" ) | O31: =IF(variables!$E$3=$B31, IF(N($J31=O$3)=0,"",$L31), "" ) | P31: =IF(variables!$E$3=$B31, IF(N($J31=P$3)=0,"",$L31), "" ) | Q31: =IF(variables!$E$3=$B31, IF(N($J31=Q$3)=0,"",$L31), "" ) | R31: =IF(variables!$E$3=$B31, IF(N($J31=R$3)=0,"",$L31), "" ) | S31: =IF(variables!$E$3=$B31, IF(N($J31=S$3)=0,"",$L31), "" ) | T31: =IF(variables!$E$3=$B31, IF(N($J31=T$3)=0,"",$L31), "" ) | ... X31: =IF(variables!$E$3=$B31, IF(N($J31=X$3)=0,"",$L31), "" ) | Y31: =IF(variables!$E$3=$B31, IF(N($I31=Y$3)=0,"",$L31), "" ) | Z31: =IF(variables!$E$3=$B31, IF(N($I31=Z$3)=0,"",$L31), "" ) | AA31: =IF(variables!$E$3=$B31, IF(N($I31=AA$3)=0,"",$L31), "" ) | AB31: =IF(variables!$E$3=$B31, IF(N($I31=AB$3)=0,"",$L31), "" ) | AC31: =IF(variables!$E$3=$B31, IF(N($I31=AC$3)=0,"",$L31), "" ) | AD31: =IF(variables!$E$3=$B31, IF(N($I31=AD$3)=0,"",$L31), "" ) | AE31: =IF(variables!$E$3=$B31, IF(N($I31=AE$3)=0,"",$L31), "" ) | AF31: =IF(variables!$E$3=$B31, IF(N($I31=AF$3)=0,"",$L31), "" ) | ... BX31: =IF(variables!$E$3=$B31, IF(N($I31=BX$3)=0,"",$L31), "" ) | BY31: =IF(N($B31=BY$3)=0,"",$G31) | BZ31: =IF(N($B31=BZ$3)=0,"",$G31) -> 16 | CA31: =IF(N($B31=CA$3)=0,"",$G31) | CB31: =IF(N($B31=CB$3)=0,"",$G31) | CC31: =IF(N($B31=CC$3)=0,"",$G31) | CD31: =IF(N($B31=CD$3)=0,"",$G31) | CE31: =IF(N($B31=CE$3)=0,"",$G31) | CF31: =IF(N($B31=CF$3)=0,"",$G31) | ... CJ31: =IF(N($B31=CJ$3)=0,"",$G31)
B32: 2014/2015 | C32: =C31+10 -> 41920 | D32: Math | E32: 13 | F32: 20 | G32: =IF(F32=10,E32*2,E32) -> 13 | H32: oral | I32: =WEEKNUM(C32,1) -> 41 | J32: =CHOOSE(MONTH(C32),variables!$B$2,variables!$B$3,variables!$B$4,variables!$B$5,variables!$B$6,variables!$B$7,variables!$B$8,variables!$B$9,variables!$B$10,variables!$B$11,variables!$B$12,variables!$B$13) -> octobre | K32: =YEAR(C32) -> 2014 | L32: =IF(variables!$C$2=1,G32, IF($D32=analyse!$H$3,$G32,"") ) -> 13 | M32: =IF(variables!$E$3=$B32, IF(N($J32=M$3)=0,"",$L32), "" ) | N32: =IF(variables!$E$3=$B32, IF(N($J32=N$3)=0,"",$L32), "" ) | O32: =IF(variables!$E$3=$B32, IF(N($J32=O$3)=0,"",$L32), "" ) | P32: =IF(variables!$E$3=$B32, IF(N($J32=P$3)=0,"",$L32), "" ) | Q32: =IF(variables!$E$3=$B32, IF(N($J32=Q$3)=0,"",$L32), "" ) | R32: =IF(variables!$E$3=$B32, IF(N($J32=R$3)=0,"",$L32), "" ) | S32: =IF(variables!$E$3=$B32, IF(N($J32=S$3)=0,"",$L32), "" ) | T32: =IF(variables!$E$3=$B32, IF(N($J32=T$3)=0,"",$L32), "" ) | ... X32: =IF(variables!$E$3=$B32, IF(N($J32=X$3)=0,"",$L32), "" ) | Y32: =IF(variables!$E$3=$B32, IF(N($I32=Y$3)=0,"",$L32), "" ) | Z32: =IF(variables!$E$3=$B32, IF(N($I32=Z$3)=0,"",$L32), "" ) | AA32: =IF(variables!$E$3=$B32, IF(N($I32=AA$3)=0,"",$L32), "" ) | AB32: =IF(variables!$E$3=$B32, IF(N($I32=AB$3)=0,"",$L32), "" ) | AC32: =IF(variables!$E$3=$B32, IF(N($I32=AC$3)=0,"",$L32), "" ) | AD32: =IF(variables!$E$3=$B32, IF(N($I32=AD$3)=0,"",$L32), "" ) | AE32: =IF(variables!$E$3=$B32, IF(N($I32=AE$3)=0,"",$L32), "" ) | AF32: =IF(variables!$E$3=$B32, IF(N($I32=AF$3)=0,"",$L32), "" ) | ... BX32: =IF(variables!$E$3=$B32, IF(N($I32=BX$3)=0,"",$L32), "" ) | BY32: =IF(N($B32=BY$3)=0,"",$G32) | BZ32: =IF(N($B32=BZ$3)=0,"",$G32) -> 13 | CA32: =IF(N($B32=CA$3)=0,"",$G32) | CB32: =IF(N($B32=CB$3)=0,"",$G32) | CC32: =IF(N($B32=CC$3)=0,"",$G32) | CD32: =IF(N($B32=CD$3)=0,"",$G32) | CE32: =IF(N($B32=CE$3)=0,"",$G32) | CF32: =IF(N($B32=CF$3)=0,"",$G32) | ... CJ32: =IF(N($B32=CJ$3)=0,"",$G32)
B33: 2014/2015 | C33: =C32+10 -> 41930 | D33: physique chimie | E33: 12 | F33: 20 | G33: =IF(F33=10,E33*2,E33) -> 12 | H33: oral | I33: =WEEKNUM(C33,1) -> 42 | J33: =CHOOSE(MONTH(C33),variables!$B$2,variables!$B$3,variables!$B$4,variables!$B$5,variables!$B$6,variables!$B$7,variables!$B$8,variables!$B$9,variables!$B$10,variables!$B$11,variables!$B$12,variables!$B$13) -> octobre | K33: =YEAR(C33) -> 2014 | L33: =IF(variables!$C$2=1,G33, IF($D33=analyse!$H$3,$G33,"") ) -> 12 | M33: =IF(variables!$E$3=$B33, IF(N($J33=M$3)=0,"",$L33), "" ) | N33: =IF(variables!$E$3=$B33, IF(N($J33=N$3)=0,"",$L33), "" ) | O33: =IF(variables!$E$3=$B33, IF(N($J33=O$3)=0,"",$L33), "" ) | P33: =IF(variables!$E$3=$B33, IF(N($J33=P$3)=0,"",$L33), "" ) | Q33: =IF(variables!$E$3=$B33, IF(N($J33=Q$3)=0,"",$L33), "" ) | R33: =IF(variables!$E$3=$B33, IF(N($J33=R$3)=0,"",$L33), "" ) | S33: =IF(variables!$E$3=$B33, IF(N($J33=S$3)=0,"",$L33), "" ) | T33: =IF(variables!$E$3=$B33, IF(N($J33=T$3)=0,"",$L33), "" ) | ... X33: =IF(variables!$E$3=$B33, IF(N($J33=X$3)=0,"",$L33), "" ) | Y33: =IF(variables!$E$3=$B33, IF(N($I33=Y$3)=0,"",$L33), "" ) | Z33: =IF(variables!$E$3=$B33, IF(N($I33=Z$3)=0,"",$L33), "" ) | AA33: =IF(variables!$E$3=$B33, IF(N($I33=AA$3)=0,"",$L33), "" ) | AB33: =IF(variables!$E$3=$B33, IF(N($I33=AB$3)=0,"",$L33), "" ) | AC33: =IF(variables!$E$3=$B33, IF(N($I33=AC$3)=0,"",$L33), "" ) | AD33: =IF(variables!$E$3=$B33, IF(N($I33=AD$3)=0,"",$L33), "" ) | AE33: =IF(variables!$E$3=$B33, IF(N($I33=AE$3)=0,"",$L33), "" ) | AF33: =IF(variables!$E$3=$B33, IF(N($I33=AF$3)=0,"",$L33), "" ) | ... BX33: =IF(variables!$E$3=$B33, IF(N($I33=BX$3)=0,"",$L33), "" ) | BY33: =IF(N($B33=BY$3)=0,"",$G33) | BZ33: =IF(N($B33=BZ$3)=0,"",$G33) -> 12 | CA33: =IF(N($B33=CA$3)=0,"",$G33) | CB33: =IF(N($B33=CB$3)=0,"",$G33) | CC33: =IF(N($B33=CC$3)=0,"",$G33) | CD33: =IF(N($B33=CD$3)=0,"",$G33) | CE33: =IF(N($B33=CE$3)=0,"",$G33) | CF33: =IF(N($B33=CF$3)=0,"",$G33) | ... CJ33: =IF(N($B33=CJ$3)=0,"",$G33)
