Workbook
Name inter: Feuil3!$AF$51:$BM$120
Name Interval: #REF!
Name Notation: #REF!
Name notes: #REF!
Name open: OFFSET(#REF!,,,COUNTA(#REF!)-1,1)

Sheet Feuil3
B1: C | C1: C | D1: D | E1: D | F1: E | G1: F | H1: F | I1: G | J1: G | K1: A | L1: A | M1: B
C2: =C1&"#" -> C# | E2: =E1&"#" -> D# | H2: =H1&"#" -> F# | J2: =J1&"#" -> G# | L2: =L1&"#" -> A#
B3: =IF(B2="",B1,B2) -> C | C3: =IF(C2="",C1,C2) -> C# | D3: =IF(D2="",D1,D2) -> D | E3: =IF(E2="",E1,E2) -> D# | F3: =IF(F2="",F1,F2) -> E | G3: =IF(G2="",G1,G2) -> F | H3: =IF(H2="",H1,H2) -> F# | I3: =IF(I2="",I1,I2) -> G | ... M3: =IF(M2="",M1,M2) -> B
B9: 0 | C9: 0 | D9: 0 | E9: 0 | F9: 0 | G9: 0 | H9: 0 | I9: 0 | J9: 0 | K9: 0 | L9: 0 | M9: 0 | N9: =B9+1 -> 1 | O9: =C9+1 -> 1 | P9: =D9+1 -> 1 | Q9: =E9+1 -> 1 | R9: =F9+1 -> 1 | S9: =G9+1 -> 1 | T9: =H9+1 -> 1 | U9: =I9+1 -> 1 | ... DH9: =CV9+1 -> 9
B10: =B3 -> C | C10: =C3 -> C# | D10: =D3 -> D | E10: =E3 -> D# | F10: =F3 -> E | G10: =G3 -> F | H10: =H3 -> F# | I10: =I3 -> G | ... M10: =M3 -> B | N10: =B10 -> C | O10: =C10 -> C# | P10: =D10 -> D | Q10: =E10 -> D# | R10: =F10 -> E | S10: =G10 -> F | T10: =H10 -> F# | U10: =I10 -> G | ... DH10: =CV10 -> D
B11: =B10&B9 -> C0 | C11: =C10&C9 -> C#0 | D11: =D10&D9 -> D0 | E11: =E10&E9 -> D#0 | F11: =F10&F9 -> E0 | G11: =G10&G9 -> F0 | H11: =H10&H9 -> F#0 | I11: =I10&I9 -> G0 | ... DH11: =DH10&DH9 -> D9
W14: notes jouées
W15: =U57 -> A1 | X15: =U56 -> F2 | Y15: =U55 -> A#2 | Z15: =U54 -> D3 | AA15: =U53 -> E3 | AB15: =U52 -> C4
W16: =AB57 -> M | X16: =AB56 -> T | Y16: =AB55 -> 4 | Z16: =AB54 -> 6 | AA16: =AB53 -> 7M | AB16: =AB52 -> 5
I17: basse tonique | J17: F2
W18: ="["&AF49&"]"&" "&N61&" "&N62&" "&N63&" "&N64&" "&N65&" "&N66 -> [F2] 5 6 7M
I19: mode BASSE ACTIVE | J19: FALSE | L19: Note la plus grave | P19: =INDEX(U52:U57,MAX(V52:V57)) -> A1
D21: bloquage | E21: off | G21: 0 | H21: 1 | I21: 2 | J21: 3 | K21: 4 | L21: 5 | M21: 6 | N21: 7 | O21: 8 | P21: 9 | Q21: 10 | R21: 11 | S21: 12
E22: FALSE | G22: FALSE | H22: FALSE | I22: FALSE | J22: FALSE | K22: FALSE | L22: TRUE | M22: FALSE | N22: FALSE | O22: TRUE | P22: FALSE | Q22: FALSE | R22: FALSE | S22: FALSE
E23: FALSE | G23: FALSE | H23: FALSE | I23: FALSE | J23: FALSE | K23: FALSE | L23: TRUE | M23: FALSE | N23: FALSE | O23: FALSE | P23: FALSE | Q23: FALSE | R23: FALSE | S23: FALSE
E24: FALSE | G24: FALSE | H24: FALSE | I24: FALSE | J24: FALSE | K24: FALSE | L24: TRUE | M24: FALSE | N24: TRUE | O24: FALSE | P24: FALSE | Q24: FALSE | R24: FALSE | S24: FALSE
E25: FALSE | G25: FALSE | H25: FALSE | I25: FALSE | J25: FALSE | K25: FALSE | L25: TRUE | M25: FALSE | N25: FALSE | O25: TRUE | P25: FALSE | Q25: FALSE | R25: FALSE | S25: FALSE
E26: FALSE | G26: FALSE | H26: FALSE | I26: FALSE | J26: FALSE | K26: FALSE | L26: TRUE | M26: FALSE | N26: FALSE | O26: TRUE | P26: FALSE | Q26: FALSE | R26: FALSE | S26: FALSE
E27: FALSE | G27: FALSE | H27: FALSE | I27: FALSE | J27: FALSE | K27: FALSE | L27: TRUE | M27: FALSE | N27: FALSE | O27: FALSE | P27: FALSE | Q27: FALSE | R27: FALSE | S27: FALSE
G28: 1 | H28: 2 | I28: 3 | J28: 4 | K28: 5 | L28: 6 | M28: 7 | N28: 8 | O28: 9 | P28: 10 | Q28: 11 | R28: 12 | S28: 13
F29: 1 | G29: =NOT(G22) -> TRUE | H29: =NOT(H22) -> TRUE | I29: =NOT(I22) -> TRUE | J29: =NOT(J22) -> TRUE | K29: =NOT(K22) -> TRUE | L29: =NOT(L22) -> FALSE | M29: =NOT(M22) -> TRUE | N29: =NOT(N22) -> TRUE | ... S29: =NOT(S22) -> TRUE
F30: 2 | G30: =NOT(G23) -> TRUE | H30: =NOT(H23) -> TRUE | I30: =NOT(I23) -> TRUE | J30: =NOT(J23) -> TRUE | K30: =NOT(K23) -> TRUE | L30: =NOT(L23) -> FALSE | M30: =NOT(M23) -> TRUE | N30: =NOT(N23) -> TRUE | ... S30: =NOT(S23) -> TRUE
F31: 3 | G31: =NOT(G24) -> TRUE | H31: =NOT(H24) -> TRUE | I31: =NOT(I24) -> TRUE | J31: =NOT(J24) -> TRUE | K31: =NOT(K24) -> TRUE | L31: =NOT(L24) -> FALSE | M31: =NOT(M24) -> TRUE | N31: =NOT(N24) -> FALSE | ... S31: =NOT(S24) -> TRUE
F32: 4 | G32: =NOT(G25) -> TRUE | H32: =NOT(H25) -> TRUE | I32: =NOT(I25) -> TRUE | J32: =NOT(J25) -> TRUE | K32: =NOT(K25) -> TRUE | L32: =NOT(L25) -> FALSE | M32: =NOT(M25) -> TRUE | N32: =NOT(N25) -> TRUE | ... S32: =NOT(S25) -> TRUE
F33: 5 | G33: =NOT(G26) -> TRUE | H33: =NOT(H26) -> TRUE | I33: =NOT(I26) -> TRUE | J33: =NOT(J26) -> TRUE | K33: =NOT(K26) -> TRUE | L33: =NOT(L26) -> FALSE | M33: =NOT(M26) -> TRUE | N33: =NOT(N26) -> TRUE | ... S33: =NOT(S26) -> TRUE
F34: 6 | G34: =NOT(G27) -> TRUE | H34: =NOT(H27) -> TRUE | I34: =NOT(I27) -> TRUE | J34: =NOT(J27) -> TRUE | K34: =NOT(K27) -> TRUE | L34: =NOT(L27) -> FALSE | M34: =NOT(M27) -> TRUE | N34: =NOT(N27) -> TRUE | ... S34: =NOT(S27) -> TRUE | DO34: 113 | DP34: 114 | DQ34: 115 | DR34: 116 | DS34: 117 | DT34: 118 | DU34: 119 | DV34: 120 | DW34: 121 | DX34: 122 | DY34: 123 | DZ34: 124 | EA34: 125 | EB34: 126 | EC34: 127 | ED34: 128 | EE34: 129 | EF34: 130 | EG34: 131 | EH34: 132 | EI34: 133 | EJ34: 134 | EK34: 135 | EL34: 136 | EM34: 137 | EN34: 138 | EO34: 139 | EP34: 140
G35: 1 | H35: 2 | I35: 3 | J35: 4 | K35: 5 | L35: 6 | M35: 7 | N35: 8 | O35: 9 | P35: 10 | Q35: 11 | R35: 12 | S35: 13 | DO35: =DJ11 -> 0 | DP35: =DK11 -> 0 | DQ35: =DL11 -> 0 | DR35: =DM11 -> 0 | DS35: =DN11 -> 0 | DT35: =DO11 -> 0 | DU35: =DP11 -> 0 | DV35: =DQ11 -> 0 | ... ET35: =EO11 -> 0
F36: barré | G36: FALSE | H36: FALSE | I36: FALSE | J36: FALSE | K36: FALSE | L36: FALSE | M36: FALSE | N36: FALSE | O36: FALSE | P36: FALSE | Q36: FALSE | R36: FALSE | S36: FALSE
G37: 1 | H37: 2 | I37: 3 | J37: 4 | K37: 5 | L37: 6 | M37: 7 | N37: 8 | O37: 9 | P37: 10 | Q37: 11 | R37: 12 | S37: 13
F38: 1 | G38: =IF($E22,FALSE,IF(G$34,TRUE,G22))=TRUE -> TRUE | H38: =IF($E22,FALSE,IF(H$36,TRUE,H22))=TRUE -> FALSE | I38: =IF($E22,FALSE,IF(I$36,TRUE,I22))=TRUE -> FALSE | J38: =IF($E22,FALSE,IF(J$36,TRUE,J22))=TRUE -> FALSE | K38: =IF($E22,FALSE,IF(K$36,TRUE,K22))=TRUE -> FALSE | L38: =IF($E22,FALSE,IF(L$36,TRUE,L22))=TRUE -> TRUE | M38: =IF($E22,FALSE,IF(M$36,TRUE,M22))=TRUE -> FALSE | N38: =IF($E22,FALSE,IF(N$36,TRUE,N22))=TRUE -> FALSE | O38: =IF($E22,FALSE,IF(O$36,TRUE,O22))=TRUE -> TRUE | ... S38: =IF($E22,FALSE,IF(S$36,TRUE,S22))=TRUE -> FALSE
F39: 2 | G39: =IF($E23,FALSE,IF(G$34,TRUE,G23))=TRUE -> TRUE | H39: =IF($E23,FALSE,IF(H$36,TRUE,H23))=TRUE -> FALSE | I39: =IF($E23,FALSE,IF(I$36,TRUE,I23))=TRUE -> FALSE | J39: =IF($E23,FALSE,IF(J$36,TRUE,J23))=TRUE -> FALSE | K39: =IF($E23,FALSE,IF(K$36,TRUE,K23))=TRUE -> FALSE | L39: =IF($E23,FALSE,IF(L$36,TRUE,L23))=TRUE -> TRUE | M39: =IF($E23,FALSE,IF(M$36,TRUE,M23))=TRUE -> FALSE | N39: =IF($E23,FALSE,IF(N$36,TRUE,N23))=TRUE -> FALSE | O39: =IF($E23,FALSE,IF(O$36,TRUE,O23))=TRUE -> FALSE | ... S39: =IF($E23,FALSE,IF(S$36,TRUE,S23))=TRUE -> FALSE
F40: 3 | G40: =IF($E24,FALSE,IF(G$34,TRUE,G24))=TRUE -> TRUE | H40: =IF($E24,FALSE,IF(H$36,TRUE,H24))=TRUE -> FALSE | I40: =IF($E24,FALSE,IF(I$36,TRUE,I24))=TRUE -> FALSE | J40: =IF($E24,FALSE,IF(J$36,TRUE,J24))=TRUE -> FALSE | K40: =IF($E24,FALSE,IF(K$36,TRUE,K24))=TRUE -> FALSE | L40: =IF($E24,FALSE,IF(L$36,TRUE,L24))=TRUE -> TRUE | M40: =IF($E24,FALSE,IF(M$36,TRUE,M24))=TRUE -> FALSE | N40: =IF($E24,FALSE,IF(N$36,TRUE,N24))=TRUE -> TRUE | O40: =IF($E24,FALSE,IF(O$36,TRUE,O24))=TRUE -> FALSE | ... S40: =IF($E24,FALSE,IF(S$36,TRUE,S24))=TRUE -> FALSE
F41: 4 | G41: =IF($E25,FALSE,IF(G$34,TRUE,G25))=TRUE -> TRUE | H41: =IF($E25,FALSE,IF(H$36,TRUE,H25))=TRUE -> FALSE | I41: =IF($E25,FALSE,IF(I$36,TRUE,I25))=TRUE -> FALSE | J41: =IF($E25,FALSE,IF(J$36,TRUE,J25))=TRUE -> FALSE | K41: =IF($E25,FALSE,IF(K$36,TRUE,K25))=TRUE -> FALSE | L41: =IF($E25,FALSE,IF(L$36,TRUE,L25))=TRUE -> TRUE | M41: =IF($E25,FALSE,IF(M$36,TRUE,M25))=TRUE -> FALSE | N41: =IF($E25,FALSE,IF(N$36,TRUE,N25))=TRUE -> FALSE | O41: =IF($E25,FALSE,IF(O$36,TRUE,O25))=TRUE -> TRUE | ... S41: =IF($E25,FALSE,IF(S$36,TRUE,S25))=TRUE -> FALSE
F42: 5 | G42: =IF($E26,FALSE,IF(G$34,TRUE,G26))=TRUE -> TRUE | H42: =IF($E26,FALSE,IF(H$36,TRUE,H26))=TRUE -> FALSE | I42: =IF($E26,FALSE,IF(I$36,TRUE,I26))=TRUE -> FALSE | J42: =IF($E26,FALSE,IF(J$36,TRUE,J26))=TRUE -> FALSE | K42: =IF($E26,FALSE,IF(K$36,TRUE,K26))=TRUE -> FALSE | L42: =IF($E26,FALSE,IF(L$36,TRUE,L26))=TRUE -> TRUE | M42: =IF($E26,FALSE,IF(M$36,TRUE,M26))=TRUE -> FALSE | N42: =IF($E26,FALSE,IF(N$36,TRUE,N26))=TRUE -> FALSE | O42: =IF($E26,FALSE,IF(O$36,TRUE,O26))=TRUE -> TRUE | ... S42: =IF($E26,FALSE,IF(S$36,TRUE,S26))=TRUE -> FALSE
F43: 6 | G43: =IF($E27,FALSE,IF(G$34,TRUE,G27))=TRUE -> TRUE | H43: =IF($E27,FALSE,IF(H$36,TRUE,H27))=TRUE -> FALSE | I43: =IF($E27,FALSE,IF(I$36,TRUE,I27))=TRUE -> FALSE | J43: =IF($E27,FALSE,IF(J$36,TRUE,J27))=TRUE -> FALSE | K43: =IF($E27,FALSE,IF(K$36,TRUE,K27))=TRUE -> FALSE | L43: =IF($E27,FALSE,IF(L$36,TRUE,L27))=TRUE -> TRUE | M43: =IF($E27,FALSE,IF(M$36,TRUE,M27))=TRUE -> FALSE | N43: =IF($E27,FALSE,IF(N$36,TRUE,N27))=TRUE -> FALSE | O43: =IF($E27,FALSE,IF(O$36,TRUE,O27))=TRUE -> FALSE | ... S43: =IF($E27,FALSE,IF(S$36,TRUE,S27))=TRUE -> FALSE
G44: 1 | H44: 2 | I44: 3 | J44: 4 | K44: 5 | L44: 6 | M44: 7 | N44: 8 | O44: 9 | P44: 10 | Q44: 11 | R44: 12 | S44: 13
F45: 1 | G45: =IF(G38,G$44,"") -> 1 | H45: =IF(H38,H$44,"") | I45: =IF(I38,I$44,"") | J45: =IF(J38,J$44,"") | K45: =IF(K38,K$44,"") | L45: =IF(L38,L$44,"") -> 6 | M45: =IF(M38,M$44,"") | N45: =IF(N38,N$44,"") | ... S45: =IF(S38,S$44,"") | T45: =MAX(G45:S45) -> 9
F46: 2 | G46: =IF(G39,G$44,"") -> 1 | H46: =IF(H39,H$44,"") | I46: =IF(I39,I$44,"") | J46: =IF(J39,J$44,"") | K46: =IF(K39,K$44,"") | L46: =IF(L39,L$44,"") -> 6 | M46: =IF(M39,M$44,"") | N46: =IF(N39,N$44,"") | ... S46: =IF(S39,S$44,"") | T46: =MAX(G46:S46) -> 6
F47: 3 | G47: =IF(G40,G$44,"") -> 1 | H47: =IF(H40,H$44,"") | I47: =IF(I40,I$44,"") | J47: =IF(J40,J$44,"") | K47: =IF(K40,K$44,"") | L47: =IF(L40,L$44,"") -> 6 | M47: =IF(M40,M$44,"") | N47: =IF(N40,N$44,"") -> 8 | ... S47: =IF(S40,S$44,"") | T47: =MAX(G47:S47) -> 8 | AF47: 1 | AG47: 2 | AH47: 3 | AI47: 4 | AJ47: 5 | AK47: 6 | AL47: 7 | AM47: 8 | AN47: 9 | AO47: 10 | AP47: 11 | AQ47: 12 | AR47: 13 | AS47: 14 | AT47: 15 | AU47: 16 | AV47: 17 | AW47: 18 | AX47: 19 | AY47: 20 | AZ47: 21 | BA47: 22 | BB47: 23 | BC47: 24 | BD47: 25 | BE47: 26 | BF47: 27 | BG47: 28 | BH47: 29 | BI47: 30 | BJ47: 31 | BK47: 32 | BL47: 33 | BM47: 34
F48: 4 | G48: =IF(G41,G$44,"") -> 1 | H48: =IF(H41,H$44,"") | I48: =IF(I41,I$44,"") | J48: =IF(J41,J$44,"") | K48: =IF(K41,K$44,"") | L48: =IF(L41,L$44,"") -> 6 | M48: =IF(M41,M$44,"") | N48: =IF(N41,N$44,"") | ... S48: =IF(S41,S$44,"") | T48: =MAX(G48:S48) -> 9 | AC48: =U57 -> A1 | AE48: ref | AF48: T | AG48: 2b | AH48: 2 | AI48: min | AJ48: M | AK48: 4 | AL48: 5b | AM48: 5 | AN48: 5# | AO48: 6 | AP48: 7 | AQ48: 7M | AR48: T | AS48: 2b | AT48: 2 | AU48: min | AV48: M | AW48: 4 | AX48: 5b | AY48: 5 | AZ48: 5# | BA48: 6 | BB48: 7 | BC48: 7M | BD48: T | BE48: 9b | BF48: 9 | BG48: 9# | BH48: 11b | BI48: 11 | BJ48: 11# | BK48: 13b | BL48: 13 | BM48: 13#
...
