Workbook
Name inter: Feuil3!$AF$51:$BM$120
Name Interval: #REF!
Name Notation: #REF!
Name notes: #REF!
Name open: OFFSET(#REF!,,,COUNTA(#REF!)-1,1)

Sheet Feuil3
B1: C | C1: C | D1: D | E1: D | F1: E | G1: F | H1: F | I1: G | J1: G | K1: A | L1: A | M1: B
C2: =C1&"#" -> C# | E2: =E1&"#" -> D# | H2: =H1&"#" -> F# | J2: =J1&"#" -> G# | L2: =L1&"#" -> A#
B3: =IF(B2="",B1,B2) -> C | C3: =IF(C2="",C1,C2) -> C# | D3: =IF(D2="",D1,D2) -> D | E3: =IF(E2="",E1,E2) -> D# | F3: =IF(F2="",F1,F2) -> E | G3: =IF(G2="",G1,G2) -> F | H3: =IF(H2="",H1,H2) -> F# | I3: =IF(I2="",I1,I2) -> G | ... M3: =IF(M2="",M1,M2) -> B
B9: 0 | C9: 0 | D9: 0 | E9: 0 | F9: 0 | G9: 0 | H9: 0 | I9: 0 | J9: 0 | K9: 0 | L9: 0 | M9: 0 | N9: =B9+1 -> 1 | O9: =C9+1 -> 1 | P9: =D9+1 -> 1 | Q9: =E9+1 -> 1 | R9: =F9+1 -> 1 | S9: =G9+1 -> 1 | T9: =H9+1 -> 1 | U9: =I9+1 -> 1 | ... DH9: =CV9+1 -> 9
B10: =B3 -> C | C10: =C3 -> C# | D10: =D3 -> D | E10: =E3 -> D# | F10: =F3 -> E | G10: =G3 -> F | H10: =H3 -> F# | I10: =I3 -> G | ... M10: =M3 -> B | N10: =B10 -> C | O10: =C10 -> C# | P10: =D10 -> D | Q10: =E10 -> D# | R10: =F10 -> E | S10: =G10 -> F | T10: =H10 -> F# | U10: =I10 -> G | ... DH10: =CV10 -> D
B11: =B10&B9 -> C0 | C11: =C10&C9 -> C#0 | D11: =D10&D9 -> D0 | E11: =E10&E9 -> D#0 | F11: =F10&F9 -> E0 | G11: =G10&G9 -> F0 | H11: =H10&H9 -> F#0 | I11: =I10&I9 -> G0 | ... DH11: =DH10&DH9 -> D9
W14: notes jouées
W15: =U57 -> A1 | X15: =U56 -> F2 | Y15: =U55 -> A#2 | Z15: =U54 -> D3 | AA15: =U53 -> E3 | AB15: =U52 -> C4
W16: =AB57 -> M | X16: =AB56 -> T | Y16: =AB55 -> 4 | Z16: =AB54 -> 6 | AA16: =AB53 -> 7M | AB16: =AB52 -> 5
I17: basse tonique | J17: F2
W18: ="["&AF49&"]"&" "&N61&" "&N62&" "&N63&" "&N64&" "&N65&" "&N66 -> [F2] 5 6 7M
I19: mode BASSE ACTIVE | J19: FALSE | L19: Note la plus grave | P19: =INDEX(U52:U57,MAX(V52:V57)) -> A1
D21: bloquage | E21: off | G21: 0 | H21: 1 | I21: 2 | J21: 3 | K21: 4 | L21: 5 | M21: 6 | N21: 7 | O21: 8 | P21: 9 | Q21: 10 | R21: 11 | S21: 12
E22: FALSE | G22: FALSE | H22: FALSE | I22: FALSE | J22: FALSE | K22: FALSE | L22: TRUE | M22: FALSE | N22: FALSE | O22: TRUE | P22: FALSE | Q22: FALSE | R22: FALSE | S22: FALSE
E23: FALSE | G23: FALSE | H23: FALSE | I23: FALSE | J23: FALSE | K23: FALSE | L23: TRUE | M23: FALSE | N23: FALSE | O23: FALSE | P23: FALSE | Q23: FALSE | R23: FALSE | S23: FALSE
E24: FALSE | G24: FALSE | H24: FALSE | I24: FALSE | J24: FALSE | K24: FALSE | L24: TRUE | M24: FALSE | N24: TRUE | O24: FALSE | P24: FALSE | Q24: FALSE | R24: FALSE | S24: FALSE
E25: FALSE | G25: FALSE | H25: FALSE | I25: FALSE | J25: FALSE | K25: FALSE | L25: TRUE | M25: FALSE | N25: FALSE | O25: TRUE | P25: FALSE | Q25: FALSE | R25: FALSE | S25: FALSE
E26: FALSE | G26: FALSE | H26: FALSE | I26: FALSE | J26: FALSE | K26: FALSE | L26: TRUE | M26: FALSE | N26: FALSE | O26: TRUE | P26: FALSE | Q26: FALSE | R26: FALSE | S26: FALSE
E27: FALSE | G27: FALSE | H27: FALSE | I27: FALSE | J27: FALSE | K27: FALSE | L27: TRUE | M27: FALSE | N27: FALSE | O27: FALSE | P27: FALSE | Q27: FALSE | R27: FALSE | S27: FALSE
G28: 1 | H28: 2 | I28: 3 | J28: 4 | K28: 5 | L28: 6 | M28: 7 | N28: 8 | O28: 9 | P28: 10 | Q28: 11 | R28: 12 | S28: 13
F29: 1 | G29: =NOT(G22) -> TRUE | H29: =NOT(H22) -> TRUE | I29: =NOT(I22) -> TRUE | J29: =NOT(J22) -> TRUE | K29: =NOT(K22) -> TRUE | L29: =NOT(L22) -> FALSE | M29: =NOT(M22) -> TRUE | N29: =NOT(N22) -> TRUE | ... S29: =NOT(S22) -> TRUE
F30: 2 | G30: =NOT(G23) -> TRUE | H30: =NOT(H23) -> TRUE | I30: =NOT(I23) -> TRUE | J30: =NOT(J23) -> TRUE | K30: =NOT(K23) -> TRUE | L30: =NOT(L23) -> FALSE | M30: =NOT(M23) -> TRUE | N30: =NOT(N23) -> TRUE | ... S30: =NOT(S23) -> TRUE
F31: 3 | G31: =NOT(G24) -> TRUE | H31: =NOT(H24) -> TRUE | I31: =NOT(I24) -> TRUE | J31: =NOT(J24) -> TRUE | K31: =NOT(K24) -> TRUE | L31: =NOT(L24) -> FALSE | M31: =NOT(M24) -> TRUE | N31: =NOT(N24) -> FALSE | ... S31: =NOT(S24) -> TRUE
F32: 4 | G32: =NOT(G25) -> TRUE | H32: =NOT(H25) -> TRUE | I32: =NOT(I25) -> TRUE | J32: =NOT(J25) -> TRUE | K32: =NOT(K25) -> TRUE | L32: =NOT(L25) -> FALSE | M32: =NOT(M25) -> TRUE | N32: =NOT(N25) -> TRUE | ... S32: =NOT(S25) -> TRUE
F33: 5 | G33: =NOT(G26) -> TRUE | H33: =NOT(H26) -> TRUE | I33: =NOT(I26) -> TRUE | J33: =NOT(J26) -> TRUE | K33: =NOT(K26) -> TRUE | L33: =NOT(L26) -> FALSE | M33: =NOT(M26) -> TRUE | N33: =NOT(N26) -> TRUE | ... S33: =NOT(S26) -> TRUE
F34: 6 | G34: =NOT(G27) -> TRUE | H34: =NOT(H27) -> TRUE | I34: =NOT(I27) -> TRUE | J34: =NOT(J27) -> TRUE | K34: =NOT(K27) -> TRUE | L34: =NOT(L27) -> FALSE | M34: =NOT(M27) -> TRUE | N34: =NOT(N27) -> TRUE | ... S34: =NOT(S27) -> TRUE | DO34: 113 | DP34: 114 | DQ34: 115 | DR34: 116 | DS34: 117 | DT34: 118 | DU34: 119 | DV34: 120 | DW34: 121 | DX34: 122 | DY34: 123 | DZ34: 124 | EA34: 125 | EB34: 126 | EC34: 127 | ED34: 128 | EE34: 129 | EF34: 130 | EG34: 131 | EH34: 132 | EI34: 133 | EJ34: 134 | EK34: 135 | EL34: 136 | EM34: 137 | EN34: 138 | EO34: 139 | EP34: 140
G35: 1 | H35: 2 | I35: 3 | J35: 4 | K35: 5 | L35: 6 | M35: 7 | N35: 8 | O35: 9 | P35: 10 | Q35: 11 | R35: 12 | S35: 13 | DO35: =DJ11 -> 0 | DP35: =DK11 -> 0 | DQ35: =DL11 -> 0 | DR35: =DM11 -> 0 | DS35: =DN11 -> 0 | DT35: =DO11 -> 0 | DU35: =DP11 -> 0 | DV35: =DQ11 -> 0 | ... ET35: =EO11 -> 0
F36: barré | G36: FALSE | H36: FALSE | I36: FALSE | J36: FALSE | K36: FALSE | L36: FALSE | M36: FALSE | N36: FALSE | O36: FALSE | P36: FALSE | Q36: FALSE | R36: FALSE | S36: FALSE
G37: 1 | H37: 2 | I37: 3 | J37: 4 | K37: 5 | L37: 6 | M37: 7 | N37: 8 | O37: 9 | P37: 10 | Q37: 11 | R37: 12 | S37: 13
F38: 1 | G38: =IF($E22,FALSE,IF(G$34,TRUE,G22))=TRUE -> TRUE | H38: =IF($E22,FALSE,IF(H$36,TRUE,H22))=TRUE -> FALSE | I38: =IF($E22,FALSE,IF(I$36,TRUE,I22))=TRUE -> FALSE | J38: =IF($E22,FALSE,IF(J$36,TRUE,J22))=TRUE -> FALSE | K38: =IF($E22,FALSE,IF(K$36,TRUE,K22))=TRUE -> FALSE | L38: =IF($E22,FALSE,IF(L$36,TRUE,L22))=TRUE -> TRUE | M38: =IF($E22,FALSE,IF(M$36,TRUE,M22))=TRUE -> FALSE | N38: =IF($E22,FALSE,IF(N$36,TRUE,N22))=TRUE -> FALSE | O38: =IF($E22,FALSE,IF(O$36,TRUE,O22))=TRUE -> TRUE | ... S38: =IF($E22,FALSE,IF(S$36,TRUE,S22))=TRUE -> FALSE
F39: 2 | G39: =IF($E23,FALSE,IF(G$34,TRUE,G23))=TRUE -> TRUE | H39: =IF($E23,FALSE,IF(H$36,TRUE,H23))=TRUE -> FALSE | I39: =IF($E23,FALSE,IF(I$36,TRUE,I23))=TRUE -> FALSE | J39: =IF($E23,FALSE,IF(J$36,TRUE,J23))=TRUE -> FALSE | K39: =IF($E23,FALSE,IF(K$36,TRUE,K23))=TRUE -> FALSE | L39: =IF($E23,FALSE,IF(L$36,TRUE,L23))=TRUE -> TRUE | M39: =IF($E23,FALSE,IF(M$36,TRUE,M23))=TRUE -> FALSE | N39: =IF($E23,FALSE,IF(N$36,TRUE,N23))=TRUE -> FALSE | O39: =IF($E23,FALSE,IF(O$36,TRUE,O23))=TRUE -> FALSE | ... S39: =IF($E23,FALSE,IF(S$36,TRUE,S23))=TRUE -> FALSE
F40: 3 | G40: =IF($E24,FALSE,IF(G$34,TRUE,G24))=TRUE -> TRUE | H40: =IF($E24,FALSE,IF(H$36,TRUE,H24))=TRUE -> FALSE | I40: =IF($E24,FALSE,IF(I$36,TRUE,I24))=TRUE -> FALSE | J40: =IF($E24,FALSE,IF(J$36,TRUE,J24))=TRUE -> FALSE | K40: =IF($E24,FALSE,IF(K$36,TRUE,K24))=TRUE -> FALSE | L40: =IF($E24,FALSE,IF(L$36,TRUE,L24))=TRUE -> TRUE | M40: =IF($E24,FALSE,IF(M$36,TRUE,M24))=TRUE -> FALSE | N40: =IF($E24,FALSE,IF(N$36,TRUE,N24))=TRUE -> TRUE | O40: =IF($E24,FALSE,IF(O$36,TRUE,O24))=TRUE -> FALSE | ... S40: =IF($E24,FALSE,IF(S$36,TRUE,S24))=TRUE -> FALSE
F41: 4 | G41: =IF($E25,FALSE,IF(G$34,TRUE,G25))=TRUE -> TRUE | H41: =IF($E25,FALSE,IF(H$36,TRUE,H25))=TRUE -> FALSE | I41: =IF($E25,FALSE,IF(I$36,TRUE,I25))=TRUE -> FALSE | J41: =IF($E25,FALSE,IF(J$36,TRUE,J25))=TRUE -> FALSE | K41: =IF($E25,FALSE,IF(K$36,TRUE,K25))=TRUE -> FALSE | L41: =IF($E25,FALSE,IF(L$36,TRUE,L25))=TRUE -> TRUE | M41: =IF($E25,FALSE,IF(M$36,TRUE,M25))=TRUE -> FALSE | N41: =IF($E25,FALSE,IF(N$36,TRUE,N25))=TRUE -> FALSE | O41: =IF($E25,FALSE,IF(O$36,TRUE,O25))=TRUE -> TRUE | ... S41: =IF($E25,FALSE,IF(S$36,TRUE,S25))=TRUE -> FALSE
F42: 5 | G42: =IF($E26,FALSE,IF(G$34,TRUE,G26))=TRUE -> TRUE | H42: =IF($E26,FALSE,IF(H$36,TRUE,H26))=TRUE -> FALSE | I42: =IF($E26,FALSE,IF(I$36,TRUE,I26))=TRUE -> FALSE | J42: =IF($E26,FALSE,IF(J$36,TRUE,J26))=TRUE -> FALSE | K42: =IF($E26,FALSE,IF(K$36,TRUE,K26))=TRUE -> FALSE | L42: =IF($E26,FALSE,IF(L$36,TRUE,L26))=TRUE -> TRUE | M42: =IF($E26,FALSE,IF(M$36,TRUE,M26))=TRUE -> FALSE | N42: =IF($E26,FALSE,IF(N$36,TRUE,N26))=TRUE -> FALSE | O42: =IF($E26,FALSE,IF(O$36,TRUE,O26))=TRUE -> TRUE | ... S42: =IF($E26,FALSE,IF(S$36,TRUE,S26))=TRUE -> FALSE
F43: 6 | G43: =IF($E27,FALSE,IF(G$34,TRUE,G27))=TRUE -> TRUE | H43: =IF($E27,FALSE,IF(H$36,TRUE,H27))=TRUE -> FALSE | I43: =IF($E27,FALSE,IF(I$36,TRUE,I27))=TRUE -> FALSE | J43: =IF($E27,FALSE,IF(J$36,TRUE,J27))=TRUE -> FALSE | K43: =IF($E27,FALSE,IF(K$36,TRUE,K27))=TRUE -> FALSE | L43: =IF($E27,FALSE,IF(L$36,TRUE,L27))=TRUE -> TRUE | M43: =IF($E27,FALSE,IF(M$36,TRUE,M27))=TRUE -> FALSE | N43: =IF($E27,FALSE,IF(N$36,TRUE,N27))=TRUE -> FALSE | O43: =IF($E27,FALSE,IF(O$36,TRUE,O27))=TRUE -> FALSE | ... S43: =IF($E27,FALSE,IF(S$36,TRUE,S27))=TRUE -> FALSE
G44: 1 | H44: 2 | I44: 3 | J44: 4 | K44: 5 | L44: 6 | M44: 7 | N44: 8 | O44: 9 | P44: 10 | Q44: 11 | R44: 12 | S44: 13
F45: 1 | G45: =IF(G38,G$44,"") -> 1 | H45: =IF(H38,H$44,"") | I45: =IF(I38,I$44,"") | J45: =IF(J38,J$44,"") | K45: =IF(K38,K$44,"") | L45: =IF(L38,L$44,"") -> 6 | M45: =IF(M38,M$44,"") | N45: =IF(N38,N$44,"") | ... S45: =IF(S38,S$44,"") | T45: =MAX(G45:S45) -> 9
F46: 2 | G46: =IF(G39,G$44,"") -> 1 | H46: =IF(H39,H$44,"") | I46: =IF(I39,I$44,"") | J46: =IF(J39,J$44,"") | K46: =IF(K39,K$44,"") | L46: =IF(L39,L$44,"") -> 6 | M46: =IF(M39,M$44,"") | N46: =IF(N39,N$44,"") | ... S46: =IF(S39,S$44,"") | T46: =MAX(G46:S46) -> 6
F47: 3 | G47: =IF(G40,G$44,"") -> 1 | H47: =IF(H40,H$44,"") | I47: =IF(I40,I$44,"") | J47: =IF(J40,J$44,"") | K47: =IF(K40,K$44,"") | L47: =IF(L40,L$44,"") -> 6 | M47: =IF(M40,M$44,"") | N47: =IF(N40,N$44,"") -> 8 | ... S47: =IF(S40,S$44,"") | T47: =MAX(G47:S47) -> 8 | AF47: 1 | AG47: 2 | AH47: 3 | AI47: 4 | AJ47: 5 | AK47: 6 | AL47: 7 | AM47: 8 | AN47: 9 | AO47: 10 | AP47: 11 | AQ47: 12 | AR47: 13 | AS47: 14 | AT47: 15 | AU47: 16 | AV47: 17 | AW47: 18 | AX47: 19 | AY47: 20 | AZ47: 21 | BA47: 22 | BB47: 23 | BC47: 24 | BD47: 25 | BE47: 26 | BF47: 27 | BG47: 28 | BH47: 29 | BI47: 30 | BJ47: 31 | BK47: 32 | BL47: 33 | BM47: 34
F48: 4 | G48: =IF(G41,G$44,"") -> 1 | H48: =IF(H41,H$44,"") | I48: =IF(I41,I$44,"") | J48: =IF(J41,J$44,"") | K48: =IF(K41,K$44,"") | L48: =IF(L41,L$44,"") -> 6 | M48: =IF(M41,M$44,"") | N48: =IF(N41,N$44,"") | ... S48: =IF(S41,S$44,"") | T48: =MAX(G48:S48) -> 9 | AC48: =U57 -> A1 | AE48: ref | AF48: T | AG48: 2b | AH48: 2 | AI48: min | AJ48: M | AK48: 4 | AL48: 5b | AM48: 5 | AN48: 5# | AO48: 6 | AP48: 7 | AQ48: 7M | AR48: T | AS48: 2b | AT48: 2 | AU48: min | AV48: M | AW48: 4 | AX48: 5b | AY48: 5 | AZ48: 5# | BA48: 6 | BB48: 7 | BC48: 7M | BD48: T | BE48: 9b | BF48: 9 | BG48: 9# | BH48: 11b | BI48: 11 | BJ48: 11# | BK48: 13b | BL48: 13 | BM48: 13#
F49: 5 | G49: =IF(G42,G$44,"") -> 1 | H49: =IF(H42,H$44,"") | I49: =IF(I42,I$44,"") | J49: =IF(J42,J$44,"") | K49: =IF(K42,K$44,"") | L49: =IF(L42,L$44,"") -> 6 | M49: =IF(M42,M$44,"") | N49: =IF(N42,N$44,"") | ... S49: =IF(S42,S$44,"") | T49: =MAX(G49:S49) -> 9 | AE49: =MATCH(G132,AF51:AF120,0) -> 30 | AF49: =INDEX(inter,$AE$49,AF47) -> F2 | AG49: =INDEX(inter,$AE$49,AG47) -> F#2 | AH49: =INDEX(inter,$AE$49,AH47) -> G2 | AI49: =INDEX(inter,$AE$49,AI47) -> G#2 | AJ49: =INDEX(inter,$AE$49,AJ47) -> A2 | AK49: =INDEX(inter,$AE$49,AK47) -> A#2 | AL49: =INDEX(inter,$AE$49,AL47) -> B2 | AM49: =INDEX(inter,$AE$49,AM47) -> C3 | ... BM49: =INDEX(inter,$AE$49,BM47) -> D5
F50: 6 | G50: =IF(G43,G$44,"") -> 1 | H50: =IF(H43,H$44,"") | I50: =IF(I43,I$44,"") | J50: =IF(J43,J$44,"") | K50: =IF(K43,K$44,"") | L50: =IF(L43,L$44,"") -> 6 | M50: =IF(M43,M$44,"") | N50: =IF(N43,N$44,"") | ... S50: =IF(S43,S$44,"") | T50: =MAX(G50:S50) -> 6 | Y50: note fantômes | AF50: 1 | AG50: 2 | AH50: 3 | AI50: 4 | AJ50: 5 | AK50: 6 | AL50: 7 | AM50: 8 | AN50: 9 | AO50: 10 | AP50: 11 | AQ50: 12 | AR50: 13 | AS50: 14 | AT50: 15 | AU50: 16 | AV50: 17 | AW50: 18 | AX50: 19 | AY50: 20 | AZ50: 21 | BA50: 22 | BB50: 23 | BC50: 24 | BD50: 25 | BE50: 26 | BF50: 27 | BG50: 28 | BH50: 29 | BI50: 30 | BJ50: 31 | BK50: 32 | BL50: 33 | BM50: 34
G51: 1 | H51: 2 | I51: 3 | J51: 4 | K51: 5 | L51: 6 | M51: 7 | N51: 8 | O51: 9 | P51: 10 | Q51: 11 | R51: 12 | S51: 13 | U51: Notes jouées | Y51: index | AE51: 1 | AF51: =B11 -> C0 | AG51: =C11 -> C#0 | AH51: =D11 -> D0 | AI51: =E11 -> D#0 | AJ51: =F11 -> E0 | AK51: =G11 -> F0 | AL51: =H11 -> F#0 | AM51: =I11 -> G0 | ... BM51: =AI11 -> A2
E52: Aff1 | F52: 1 | G52: =IF(E22,"X",IF($T45=0,Feuil3!G123,IF(G$123=$T45,Feuil3!G125,""))) | H52: =IF(H$51=$T45,Feuil3!H123,"") | I52: =IF(I$51=$T45,Feuil3!I123,"") | J52: =IF(J$51=$T45,Feuil3!J123,"") | K52: =IF(K$51=$T45,Feuil3!K123,"") | L52: =IF(L$51=$T45,Feuil3!L123,"") | M52: =IF(M$51=$T45,Feuil3!M123,"") | N52: =IF(N$51=$T45,Feuil3!N123,"") | O52: =IF(O$51=$T45,Feuil3!O123,"") -> C4 | ... S52: =IF(S$51=$T45,Feuil3!S123,"") | U52: =IF(COUNT(G45:S45)=0,"",INDEX(G123:S123,1,T45)) -> C4 | V52: =IF(COUNT(G45:S45)=0,"",F52) -> 1 | W52: =IF(ISERROR(IF(U52="","",INDEX($AF$48:$BM$48,1,MATCH(U52,$AF$49:$BM$49,0)))),"",IF(U52="","",INDEX($AF$48:$BM$48,1,MATCH(U52,$AF$49:$BM$49,0)))) -> 5 | Y52: =IF(G52="x","",MATCH(U52,$B$11:$DH$11,0)) -> 49 | Z52: =IF(G52="x","",IF(W52="",Y52+24,Y52)) -> 49 | AA52: =IF(G52="x","",INDEX($B$11:$DH$11,1,Z52)) -> C4 | AB52: =IF(G52="x","",INDEX($AF$48:$BM$48,1,MATCH(AA52,$AF$49:$BM$49,0))) -> 5 | AE52: 1 | AF52: =INDEX($B$11:$DG$11,1,AF$50+$AE52) -> C#0 | AG52: =INDEX($B$11:$DG$11,1,AG$50+$AE52) -> D0 | AH52: =INDEX($B$11:$DG$11,1,AH$50+$AE52) -> D#0 | AI52: =INDEX($B$11:$DG$11,1,AI$50+$AE52) -> E0 | AJ52: =INDEX($B$11:$DG$11,1,AJ$50+$AE52) -> F0 | AK52: =INDEX($B$11:$DG$11,1,AK$50+$AE52) -> F#0 | AL52: =INDEX($B$11:$DG$11,1,AL$50+$AE52) -> G0 | AM52: =INDEX($B$11:$DG$11,1,AM$50+$AE52) -> G#0 | ... BM52: =INDEX($B$11:$DG$11,1,BM$50+$AE52) -> A#2
E53: notes | F53: 2 | G53: =IF(E23,"X",IF($T46=0,Feuil3!G124,IF(G$123=$T46,Feuil3!G126,""))) | H53: =IF(H$51=$T46,Feuil3!H124,"") | I53: =IF(I$51=$T46,Feuil3!I124,"") | J53: =IF(J$51=$T46,Feuil3!J124,"") | K53: =IF(K$51=$T46,Feuil3!K124,"") | L53: =IF(L$51=$T46,Feuil3!L124,"") -> E3 | M53: =IF(M$51=$T46,Feuil3!M124,"") | N53: =IF(N$51=$T46,Feuil3!N124,"") | O53: =IF(O$51=$T46,Feuil3!O124,"") | ... S53: =IF(S$51=$T46,Feuil3!S124,"") | U53: =IF(COUNT(G46:S46)=0,"",INDEX(G124:S124,1,T46)) -> E3 | V53: =IF(COUNT(G46:S46)=0,"",F53) -> 2 | W53: =IF(ISERROR(IF(U53="","",INDEX($AF$48:$BM$48,1,MATCH(U53,$AF$49:$BM$49,0)))),"",IF(U53="","",INDEX($AF$48:$BM$48,1,MATCH(U53,$AF$49:$BM$49,0)))) -> 7M | Y53: =IF(G53="x","",MATCH(U53,$B$11:$DH$11,0)) -> 41 | Z53: =IF(G53="x","",IF(W53="",Y53+24,Y53)) -> 41 | AA53: =IF(G53="x","",INDEX($B$11:$DH$11,1,Z53)) -> E3 | AB53: =IF(G53="x","",INDEX($AF$48:$BM$48,1,MATCH(AA53,$AF$49:$BM$49,0))) -> 7M | AE53: 2 | AF53: =INDEX($B$11:$DG$11,1,AF$50+$AE53) -> D0 | AG53: =INDEX($B$11:$DG$11,1,AG$50+$AE53) -> D#0 | AH53: =INDEX($B$11:$DG$11,1,AH$50+$AE53) -> E0 | AI53: =INDEX($B$11:$DG$11,1,AI$50+$AE53) -> F0 | AJ53: =INDEX($B$11:$DG$11,1,AJ$50+$AE53) -> F#0 | AK53: =INDEX($B$11:$DG$11,1,AK$50+$AE53) -> G0 | AL53: =INDEX($B$11:$DG$11,1,AL$50+$AE53) -> G#0 | AM53: =INDEX($B$11:$DG$11,1,AM$50+$AE53) -> A0 | ... BM53: =INDEX($B$11:$DG$11,1,BM$50+$AE53) -> B2
F54: 3 | G54: =IF(E24,"X",IF($T47=0,Feuil3!G125,IF(G$123=$T47,Feuil3!G127,""))) | H54: =IF(H$51=$T47,Feuil3!H125,"") | I54: =IF(I$51=$T47,Feuil3!I125,"") | J54: =IF(J$51=$T47,Feuil3!J125,"") | K54: =IF(K$51=$T47,Feuil3!K125,"") | L54: =IF(L$51=$T47,Feuil3!L125,"") | M54: =IF(M$51=$T47,Feuil3!M125,"") | N54: =IF(N$51=$T47,Feuil3!N125,"") -> D3 | O54: =IF(O$51=$T47,Feuil3!O125,"") | ... S54: =IF(S$51=$T47,Feuil3!S125,"") | U54: =IF(COUNT(G47:S47)=0,"",INDEX(G125:S125,1,T47)) -> D3 | V54: =IF(COUNT(G47:S47)=0,"",F54) -> 3 | W54: =IF(ISERROR(IF(U54="","",INDEX($AF$48:$BM$48,1,MATCH(U54,$AF$49:$BM$49,0)))),"",IF(U54="","",INDEX($AF$48:$BM$48,1,MATCH(U54,$AF$49:$BM$49,0)))) -> 6 | Y54: =IF(G54="x","",MATCH(U54,$B$11:$DH$11,0)) -> 39 | Z54: =IF(G54="x","",IF(W54="",Y54+24,Y54)) -> 39 | AA54: =IF(G54="x","",INDEX($B$11:$DH$11,1,Z54)) -> D3 | AB54: =IF(G54="x","",INDEX($AF$48:$BM$48,1,MATCH(AA54,$AF$49:$BM$49,0))) -> 6 | AE54: 3 | AF54: =INDEX($B$11:$DG$11,1,AF$50+$AE54) -> D#0 | AG54: =INDEX($B$11:$DG$11,1,AG$50+$AE54) -> E0 | AH54: =INDEX($B$11:$DG$11,1,AH$50+$AE54) -> F0 | AI54: =INDEX($B$11:$DG$11,1,AI$50+$AE54) -> F#0 | AJ54: =INDEX($B$11:$DG$11,1,AJ$50+$AE54) -> G0 | AK54: =INDEX($B$11:$DG$11,1,AK$50+$AE54) -> G#0 | AL54: =INDEX($B$11:$DG$11,1,AL$50+$AE54) -> A0 | AM54: =INDEX($B$11:$DG$11,1,AM$50+$AE54) -> A#0 | ... BM54: =INDEX($B$11:$DG$11,1,BM$50+$AE54) -> C3
F55: 4 | G55: =IF(E25,"X",IF($T48=0,Feuil3!G126,IF(G$123=$T48,Feuil3!G128,""))) | H55: =IF(H$51=$T48,Feuil3!H126,"") | I55: =IF(I$51=$T48,Feuil3!I126,"") | J55: =IF(J$51=$T48,Feuil3!J126,"") | K55: =IF(K$51=$T48,Feuil3!K126,"") | L55: =IF(L$51=$T48,Feuil3!L126,"") | M55: =IF(M$51=$T48,Feuil3!M126,"") | N55: =IF(N$51=$T48,Feuil3!N126,"") | O55: =IF(O$51=$T48,Feuil3!O126,"") -> A#2 | ... S55: =IF(S$51=$T48,Feuil3!S126,"") | U55: =IF(COUNT(G48:S48)=0,"",INDEX(G126:S126,1,T48)) -> A#2 | V55: =IF(COUNT(G48:S48)=0,"",F55) -> 4 | W55: =IF(ISERROR(IF(U55="","",INDEX($AF$48:$BM$48,1,MATCH(U55,$AF$49:$BM$49,0)))),"",IF(U55="","",INDEX($AF$48:$BM$48,1,MATCH(U55,$AF$49:$BM$49,0)))) -> 4 | Y55: =IF(G55="x","",MATCH(U55,$B$11:$DH$11,0)) -> 35 | Z55: =IF(G55="x","",IF(W55="",Y55+24,Y55)) -> 35 | AA55: =IF(G55="x","",INDEX($B$11:$DH$11,1,Z55)) -> A#2 | AB55: =IF(G55="x","",INDEX($AF$48:$BM$48,1,MATCH(AA55,$AF$49:$BM$49,0))) -> 4 | AE55: 4 | AF55: =INDEX($B$11:$DG$11,1,AF$50+$AE55) -> E0 | AG55: =INDEX($B$11:$DG$11,1,AG$50+$AE55) -> F0 | AH55: =INDEX($B$11:$DG$11,1,AH$50+$AE55) -> F#0 | AI55: =INDEX($B$11:$DG$11,1,AI$50+$AE55) -> G0 | AJ55: =INDEX($B$11:$DG$11,1,AJ$50+$AE55) -> G#0 | AK55: =INDEX($B$11:$DG$11,1,AK$50+$AE55) -> A0 | AL55: =INDEX($B$11:$DG$11,1,AL$50+$AE55) -> A#0 | AM55: =INDEX($B$11:$DG$11,1,AM$50+$AE55) -> B0 | ... BM55: =INDEX($B$11:$DG$11,1,BM$50+$AE55) -> C#3
F56: 5 | G56: =IF(E26,"X",IF($T49=0,Feuil3!G127,IF(G$123=$T49,Feuil3!G21,""))) | H56: =IF(H$51=$T49,Feuil3!H127,"") | I56: =IF(I$51=$T49,Feuil3!I127,"") | J56: =IF(J$51=$T49,Feuil3!J127,"") | K56: =IF(K$51=$T49,Feuil3!K127,"") | L56: =IF(L$51=$T49,Feuil3!L127,"") | M56: =IF(M$51=$T49,Feuil3!M127,"") | N56: =IF(N$51=$T49,Feuil3!N127,"") | O56: =IF(O$51=$T49,Feuil3!O127,"") -> F2 | ... S56: =IF(S$51=$T49,Feuil3!S127,"") | U56: =IF(COUNT(G49:S49)=0,"",INDEX(G127:S127,1,T49)) -> F2 | V56: =IF(COUNT(G49:S49)=0,"",F56) -> 5 | W56: =IF(ISERROR(IF(U56="","",INDEX($AF$48:$BM$48,1,MATCH(U56,$AF$49:$BM$49,0)))),"",IF(U56="","",INDEX($AF$48:$BM$48,1,MATCH(U56,$AF$49:$BM$49,0)))) -> T | Y56: =IF(G56="x","",MATCH(U56,$B$11:$DH$11,0)) -> 30 | Z56: =IF(G56="x","",IF(W56="",Y56+24,Y56)) -> 30 | AA56: =IF(G56="x","",INDEX($B$11:$DH$11,1,Z56)) -> F2 | AB56: =IF(G56="x","",INDEX($AF$48:$BM$48,1,MATCH(AA56,$AF$49:$BM$49,0))) -> T | AE56: 5 | AF56: =INDEX($B$11:$DG$11,1,AF$50+$AE56) -> F0 | AG56: =INDEX($B$11:$DG$11,1,AG$50+$AE56) -> F#0 | AH56: =INDEX($B$11:$DG$11,1,AH$50+$AE56) -> G0 | AI56: =INDEX($B$11:$DG$11,1,AI$50+$AE56) -> G#0 | AJ56: =INDEX($B$11:$DG$11,1,AJ$50+$AE56) -> A0 | AK56: =INDEX($B$11:$DG$11,1,AK$50+$AE56) -> A#0 | AL56: =INDEX($B$11:$DG$11,1,AL$50+$AE56) -> B0 | AM56: =INDEX($B$11:$DG$11,1,AM$50+$AE56) -> C1 | ... BM56: =INDEX($B$11:$DG$11,1,BM$50+$AE56) -> D3
F57: 6 | G57: =IF(E27,"X",IF($T50=0,Feuil3!G128,IF(G$123=$T50,Feuil3!G22,""))) | H57: =IF(H$51=$T50,Feuil3!H128,"") | I57: =IF(I$51=$T50,Feuil3!I128,"") | J57: =IF(J$51=$T50,Feuil3!J128,"") | K57: =IF(K$51=$T50,Feuil3!K128,"") | L57: =IF(L$51=$T50,Feuil3!L128,"") -> A1 | M57: =IF(M$51=$T50,Feuil3!M128,"") | N57: =IF(N$51=$T50,Feuil3!N128,"") | O57: =IF(O$51=$T50,Feuil3!O128,"") | ... S57: =IF(S$51=$T50,Feuil3!S128,"") | U57: =IF(COUNT(G50:S50)=0,"",INDEX(G128:S128,1,T50)) -> A1 | V57: =IF(COUNT(G50:S50)=0,"",F57) -> 6 | W57: =IF(ISERROR(IF(U57="","",INDEX($AF$48:$BM$48,1,MATCH(U57,$AF$49:$BM$49,0)))),"",IF(U57="","",INDEX($AF$48:$BM$48,1,MATCH(U57,$AF$49:$BM$49,0)))) | Y57: =IF(G57="x","",MATCH(U57,$B$11:$DH$11,0)) -> 22 | Z57: =IF(G57="x","",IF(W57="",Y57+24,Y57)) -> 46 | AA57: =IF(G57="x","",INDEX($B$11:$DH$11,1,Z57)) -> A3 | AB57: =IF(G57="x","",INDEX($AF$48:$BM$48,1,MATCH(AA57,$AF$49:$BM$49,0))) -> M | AE57: 6 | AF57: =INDEX($B$11:$DG$11,1,AF$50+$AE57) -> F#0 | AG57: =INDEX($B$11:$DG$11,1,AG$50+$AE57) -> G0 | AH57: =INDEX($B$11:$DG$11,1,AH$50+$AE57) -> G#0 | AI57: =INDEX($B$11:$DG$11,1,AI$50+$AE57) -> A0 | AJ57: =INDEX($B$11:$DG$11,1,AJ$50+$AE57) -> A#0 | AK57: =INDEX($B$11:$DG$11,1,AK$50+$AE57) -> B0 | AL57: =INDEX($B$11:$DG$11,1,AL$50+$AE57) -> C1 | AM57: =INDEX($B$11:$DG$11,1,AM$50+$AE57) -> C#1 | ... BM57: =INDEX($B$11:$DG$11,1,BM$50+$AE57) -> D#3
AE58: 7 | AF58: =INDEX($B$11:$DG$11,1,AF$50+$AE58) -> G0 | AG58: =INDEX($B$11:$DG$11,1,AG$50+$AE58) -> G#0 | AH58: =INDEX($B$11:$DG$11,1,AH$50+$AE58) -> A0 | AI58: =INDEX($B$11:$DG$11,1,AI$50+$AE58) -> A#0 | AJ58: =INDEX($B$11:$DG$11,1,AJ$50+$AE58) -> B0 | AK58: =INDEX($B$11:$DG$11,1,AK$50+$AE58) -> C1 | AL58: =INDEX($B$11:$DG$11,1,AL$50+$AE58) -> C#1 | AM58: =INDEX($B$11:$DG$11,1,AM$50+$AE58) -> D1 | ... BM58: =INDEX($B$11:$DG$11,1,BM$50+$AE58) -> E3
AE59: 8 | AF59: =INDEX($B$11:$DG$11,1,AF$50+$AE59) -> G#0 | AG59: =INDEX($B$11:$DG$11,1,AG$50+$AE59) -> A0 | AH59: =INDEX($B$11:$DG$11,1,AH$50+$AE59) -> A#0 | AI59: =INDEX($B$11:$DG$11,1,AI$50+$AE59) -> B0 | AJ59: =INDEX($B$11:$DG$11,1,AJ$50+$AE59) -> C1 | AK59: =INDEX($B$11:$DG$11,1,AK$50+$AE59) -> C#1 | AL59: =INDEX($B$11:$DG$11,1,AL$50+$AE59) -> D1 | AM59: =INDEX($B$11:$DG$11,1,AM$50+$AE59) -> D#1 | ... BM59: =INDEX($B$11:$DG$11,1,BM$50+$AE59) -> F3
F60: Supprime les doublons | AE60: 9 | AF60: =INDEX($B$11:$DG$11,1,AF$50+$AE60) -> A0 | AG60: =INDEX($B$11:$DG$11,1,AG$50+$AE60) -> A#0 | AH60: =INDEX($B$11:$DG$11,1,AH$50+$AE60) -> B0 | AI60: =INDEX($B$11:$DG$11,1,AI$50+$AE60) -> C1 | AJ60: =INDEX($B$11:$DG$11,1,AJ$50+$AE60) -> C#1 | AK60: =INDEX($B$11:$DG$11,1,AK$50+$AE60) -> D1 | AL60: =INDEX($B$11:$DG$11,1,AL$50+$AE60) -> D#1 | AM60: =INDEX($B$11:$DG$11,1,AM$50+$AE60) -> E1 | ... BM60: =INDEX($B$11:$DG$11,1,BM$50+$AE60) -> F#3
F61: 1 | G61: =W52 -> 5 | H61: =IF(MATCH(G61,$G$61:$G$66,0)=F61,F61,"") -> 1 | I61: =IF(G61="","",IF(H61="","",SMALL($H$61:$H$66,F61))) -> 1 | J61: =INDEX($G$61:$G$66,I61) -> 5 | K61: =IF(J61="","",MATCH(J61,$AF$48:$BM$48,0)) -> 8 | L61: =IF(K61="","",SMALL($K$61:$K$66,F61)) -> 8 | M61: =IF(L61="","",INDEX($AF$48:$BM$48,1,L61)) -> 5 | N61: =M61 -> 5 | AE61: 10 | AF61: =INDEX($B$11:$DG$11,1,AF$50+$AE61) -> A#0 | AG61: =INDEX($B$11:$DG$11,1,AG$50+$AE61) -> B0 | AH61: =INDEX($B$11:$DG$11,1,AH$50+$AE61) -> C1 | AI61: =INDEX($B$11:$DG$11,1,AI$50+$AE61) -> C#1 | AJ61: =INDEX($B$11:$DG$11,1,AJ$50+$AE61) -> D1 | AK61: =INDEX($B$11:$DG$11,1,AK$50+$AE61) -> D#1 | AL61: =INDEX($B$11:$DG$11,1,AL$50+$AE61) -> E1 | AM61: =INDEX($B$11:$DG$11,1,AM$50+$AE61) -> F1 | ... BM61: =INDEX($B$11:$DG$11,1,BM$50+$AE61) -> G3
F62: 2 | G62: =W53 -> 7M | H62: =IF(MATCH(G62,$G$61:$G$66,0)=F62,F62,"") -> 2 | I62: =IF(G62="","",IF(H62="","",SMALL($H$61:$H$66,F62))) -> 2 | J62: =INDEX($G$61:$G$66,I62) -> 7M | K62: =IF(J62="","",MATCH(J62,$AF$48:$BM$48,0)) -> 12 | L62: =IF(K62="","",SMALL($K$61:$K$66,F62)) -> 10 | M62: =IF(L62="","",INDEX($AF$48:$BM$48,1,L62)) -> 6 | N62: =M62 -> 6 | AE62: 11 | AF62: =INDEX($B$11:$DG$11,1,AF$50+$AE62) -> B0 | AG62: =INDEX($B$11:$DG$11,1,AG$50+$AE62) -> C1 | AH62: =INDEX($B$11:$DG$11,1,AH$50+$AE62) -> C#1 | AI62: =INDEX($B$11:$DG$11,1,AI$50+$AE62) -> D1 | AJ62: =INDEX($B$11:$DG$11,1,AJ$50+$AE62) -> D#1 | AK62: =INDEX($B$11:$DG$11,1,AK$50+$AE62) -> E1 | AL62: =INDEX($B$11:$DG$11,1,AL$50+$AE62) -> F1 | AM62: =INDEX($B$11:$DG$11,1,AM$50+$AE62) -> F#1 | ... BM62: =INDEX($B$11:$DG$11,1,BM$50+$AE62) -> G#3
F63: 3 | G63: =W54 -> 6 | H63: =IF(MATCH(G63,$G$61:$G$66,0)=F63,F63,"") -> 3 | I63: =IF(G63="","",IF(H63="","",SMALL($H$61:$H$66,F63))) -> 3 | J63: =INDEX($G$61:$G$66,I63) -> 6 | K63: =IF(J63="","",MATCH(J63,$AF$48:$BM$48,0)) -> 10 | L63: =IF(K63="","",SMALL($K$61:$K$66,F63)) -> 12 | M63: =IF(L63="","",INDEX($AF$48:$BM$48,1,L63)) -> 7M | N63: =M63 -> 7M | AE63: 12 | AF63: =INDEX($B$11:$DG$11,1,AF$50+$AE63) -> C1 | AG63: =INDEX($B$11:$DG$11,1,AG$50+$AE63) -> C#1 | AH63: =INDEX($B$11:$DG$11,1,AH$50+$AE63) -> D1 | AI63: =INDEX($B$11:$DG$11,1,AI$50+$AE63) -> D#1 | AJ63: =INDEX($B$11:$DG$11,1,AJ$50+$AE63) -> E1 | AK63: =INDEX($B$11:$DG$11,1,AK$50+$AE63) -> F1 | AL63: =INDEX($B$11:$DG$11,1,AL$50+$AE63) -> F#1 | AM63: =INDEX($B$11:$DG$11,1,AM$50+$AE63) -> G1 | ... BM63: =INDEX($B$11:$DG$11,1,BM$50+$AE63) -> A3
F64: 4 | G64: =W55 -> 4 | H64: =IF(MATCH(G64,$G$61:$G$66,0)=F64,F64,"") -> 4 | I64: =IF(G64="","",IF(H64="","",SMALL($H$61:$H$66,F64))) -> 4 | K64: =IF(J64="","",MATCH(J64,$AF$48:$BM$48,0)) | L64: =IF(K64="","",SMALL($K$61:$K$66,F64)) | M64: =IF(L64="","",INDEX($AF$48:$BM$48,1,L64)) | N64: =M64 | AE64: 13 | AF64: =INDEX($B$11:$DG$11,1,AF$50+$AE64) -> C#1 | AG64: =INDEX($B$11:$DG$11,1,AG$50+$AE64) -> D1 | AH64: =INDEX($B$11:$DG$11,1,AH$50+$AE64) -> D#1 | AI64: =INDEX($B$11:$DG$11,1,AI$50+$AE64) -> E1 | AJ64: =INDEX($B$11:$DG$11,1,AJ$50+$AE64) -> F1 | AK64: =INDEX($B$11:$DG$11,1,AK$50+$AE64) -> F#1 | AL64: =INDEX($B$11:$DG$11,1,AL$50+$AE64) -> G1 | AM64: =INDEX($B$11:$DG$11,1,AM$50+$AE64) -> G#1 | ... BM64: =INDEX($B$11:$DG$11,1,BM$50+$AE64) -> A#3
F65: 5 | G65: =W56 -> T | H65: =IF(MATCH(G65,$G$61:$G$66,0)=F65,F65,"") -> 5 | I65: =IF(G65="","",IF(H65="","",SMALL($H$61:$H$66,F65))) -> 5 | K65: =IF(J65="","",MATCH(J65,$AF$48:$BM$48,0)) | L65: =IF(K65="","",SMALL($K$61:$K$66,F65)) | M65: =IF(L65="","",INDEX($AF$48:$BM$48,1,L65)) | N65: =M65 | AE65: 14 | AF65: =INDEX($B$11:$DG$11,1,AF$50+$AE65) -> D1 | AG65: =INDEX($B$11:$DG$11,1,AG$50+$AE65) -> D#1 | AH65: =INDEX($B$11:$DG$11,1,AH$50+$AE65) -> E1 | AI65: =INDEX($B$11:$DG$11,1,AI$50+$AE65) -> F1 | AJ65: =INDEX($B$11:$DG$11,1,AJ$50+$AE65) -> F#1 | AK65: =INDEX($B$11:$DG$11,1,AK$50+$AE65) -> G1 | AL65: =INDEX($B$11:$DG$11,1,AL$50+$AE65) -> G#1 | AM65: =INDEX($B$11:$DG$11,1,AM$50+$AE65) -> A1 | ... BM65: =INDEX($B$11:$DG$11,1,BM$50+$AE65) -> B3
F66: 6 | G66: =W57 | H66: =IF(MATCH(G66,$G$61:$G$66,0)=F66,F66,"") -> 6 | I66: =IF(G66="","",IF(H66="","",SMALL($H$61:$H$66,F66))) | K66: =IF(J66="","",MATCH(J66,$AF$48:$BM$48,0)) | L66: =IF(K66="","",SMALL($K$61:$K$66,F66)) | M66: =IF(L66="","",INDEX($AF$48:$BM$48,1,L66)) | N66: =M66 | AE66: 15 | AF66: =INDEX($B$11:$DG$11,1,AF$50+$AE66) -> D#1 | AG66: =INDEX($B$11:$DG$11,1,AG$50+$AE66) -> E1 | AH66: =INDEX($B$11:$DG$11,1,AH$50+$AE66) -> F1 | AI66: =INDEX($B$11:$DG$11,1,AI$50+$AE66) -> F#1 | AJ66: =INDEX($B$11:$DG$11,1,AJ$50+$AE66) -> G1 | AK66: =INDEX($B$11:$DG$11,1,AK$50+$AE66) -> G#1 | AL66: =INDEX($B$11:$DG$11,1,AL$50+$AE66) -> A1 | AM66: =INDEX($B$11:$DG$11,1,AM$50+$AE66) -> A#1 | ... BM66: =INDEX($B$11:$DG$11,1,BM$50+$AE66) -> C4
AE67: 16 | AF67: =INDEX($B$11:$DG$11,1,AF$50+$AE67) -> E1 | AG67: =INDEX($B$11:$DG$11,1,AG$50+$AE67) -> F1 | AH67: =INDEX($B$11:$DG$11,1,AH$50+$AE67) -> F#1 | AI67: =INDEX($B$11:$DG$11,1,AI$50+$AE67) -> G1 | AJ67: =INDEX($B$11:$DG$11,1,AJ$50+$AE67) -> G#1 | AK67: =INDEX($B$11:$DG$11,1,AK$50+$AE67) -> A1 | AL67: =INDEX($B$11:$DG$11,1,AL$50+$AE67) -> A#1 | AM67: =INDEX($B$11:$DG$11,1,AM$50+$AE67) -> B1 | ... BM67: =INDEX($B$11:$DG$11,1,BM$50+$AE67) -> C#4
AE68: 17 | AF68: =INDEX($B$11:$DG$11,1,AF$50+$AE68) -> F1 | AG68: =INDEX($B$11:$DG$11,1,AG$50+$AE68) -> F#1 | AH68: =INDEX($B$11:$DG$11,1,AH$50+$AE68) -> G1 | AI68: =INDEX($B$11:$DG$11,1,AI$50+$AE68) -> G#1 | AJ68: =INDEX($B$11:$DG$11,1,AJ$50+$AE68) -> A1 | AK68: =INDEX($B$11:$DG$11,1,AK$50+$AE68) -> A#1 | AL68: =INDEX($B$11:$DG$11,1,AL$50+$AE68) -> B1 | AM68: =INDEX($B$11:$DG$11,1,AM$50+$AE68) -> C2 | ... BM68: =INDEX($B$11:$DG$11,1,BM$50+$AE68) -> D4
AE69: 18 | AF69: =INDEX($B$11:$DG$11,1,AF$50+$AE69) -> F#1 | AG69: =INDEX($B$11:$DG$11,1,AG$50+$AE69) -> G1 | AH69: =INDEX($B$11:$DG$11,1,AH$50+$AE69) -> G#1 | AI69: =INDEX($B$11:$DG$11,1,AI$50+$AE69) -> A1 | AJ69: =INDEX($B$11:$DG$11,1,AJ$50+$AE69) -> A#1 | AK69: =INDEX($B$11:$DG$11,1,AK$50+$AE69) -> B1 | AL69: =INDEX($B$11:$DG$11,1,AL$50+$AE69) -> C2 | AM69: =INDEX($B$11:$DG$11,1,AM$50+$AE69) -> C#2 | ... BM69: =INDEX($B$11:$DG$11,1,BM$50+$AE69) -> D#4
AE70: 19 | AF70: =INDEX($B$11:$DG$11,1,AF$50+$AE70) -> G1 | AG70: =INDEX($B$11:$DG$11,1,AG$50+$AE70) -> G#1 | AH70: =INDEX($B$11:$DG$11,1,AH$50+$AE70) -> A1 | AI70: =INDEX($B$11:$DG$11,1,AI$50+$AE70) -> A#1 | AJ70: =INDEX($B$11:$DG$11,1,AJ$50+$AE70) -> B1 | AK70: =INDEX($B$11:$DG$11,1,AK$50+$AE70) -> C2 | AL70: =INDEX($B$11:$DG$11,1,AL$50+$AE70) -> C#2 | AM70: =INDEX($B$11:$DG$11,1,AM$50+$AE70) -> D2 | ... BM70: =INDEX($B$11:$DG$11,1,BM$50+$AE70) -> E4
AE71: 20 | AF71: =INDEX($B$11:$DG$11,1,AF$50+$AE71) -> G#1 | AG71: =INDEX($B$11:$DG$11,1,AG$50+$AE71) -> A1 | AH71: =INDEX($B$11:$DG$11,1,AH$50+$AE71) -> A#1 | AI71: =INDEX($B$11:$DG$11,1,AI$50+$AE71) -> B1 | AJ71: =INDEX($B$11:$DG$11,1,AJ$50+$AE71) -> C2 | AK71: =INDEX($B$11:$DG$11,1,AK$50+$AE71) -> C#2 | AL71: =INDEX($B$11:$DG$11,1,AL$50+$AE71) -> D2 | AM71: =INDEX($B$11:$DG$11,1,AM$50+$AE71) -> D#2 | ... BM71: =INDEX($B$11:$DG$11,1,BM$50+$AE71) -> F4
AE72: 21 | AF72: =INDEX($B$11:$DG$11,1,AF$50+$AE72) -> A1 | AG72: =INDEX($B$11:$DG$11,1,AG$50+$AE72) -> A#1 | AH72: =INDEX($B$11:$DG$11,1,AH$50+$AE72) -> B1 | AI72: =INDEX($B$11:$DG$11,1,AI$50+$AE72) -> C2 | AJ72: =INDEX($B$11:$DG$11,1,AJ$50+$AE72) -> C#2 | AK72: =INDEX($B$11:$DG$11,1,AK$50+$AE72) -> D2 | AL72: =INDEX($B$11:$DG$11,1,AL$50+$AE72) -> D#2 | AM72: =INDEX($B$11:$DG$11,1,AM$50+$AE72) -> E2 | ... BM72: =INDEX($B$11:$DG$11,1,BM$50+$AE72) -> F#4
AE73: 22 | AF73: =INDEX($B$11:$DG$11,1,AF$50+$AE73) -> A#1 | AG73: =INDEX($B$11:$DG$11,1,AG$50+$AE73) -> B1 | AH73: =INDEX($B$11:$DG$11,1,AH$50+$AE73) -> C2 | AI73: =INDEX($B$11:$DG$11,1,AI$50+$AE73) -> C#2 | AJ73: =INDEX($B$11:$DG$11,1,AJ$50+$AE73) -> D2 | AK73: =INDEX($B$11:$DG$11,1,AK$50+$AE73) -> D#2 | AL73: =INDEX($B$11:$DG$11,1,AL$50+$AE73) -> E2 | AM73: =INDEX($B$11:$DG$11,1,AM$50+$AE73) -> F2 | ... BM73: =INDEX($B$11:$DG$11,1,BM$50+$AE73) -> G4
AE74: 23 | AF74: =INDEX($B$11:$DG$11,1,AF$50+$AE74) -> B1 | AG74: =INDEX($B$11:$DG$11,1,AG$50+$AE74) -> C2 | AH74: =INDEX($B$11:$DG$11,1,AH$50+$AE74) -> C#2 | AI74: =INDEX($B$11:$DG$11,1,AI$50+$AE74) -> D2 | AJ74: =INDEX($B$11:$DG$11,1,AJ$50+$AE74) -> D#2 | AK74: =INDEX($B$11:$DG$11,1,AK$50+$AE74) -> E2 | AL74: =INDEX($B$11:$DG$11,1,AL$50+$AE74) -> F2 | AM74: =INDEX($B$11:$DG$11,1,AM$50+$AE74) -> F#2 | ... BM74: =INDEX($B$11:$DG$11,1,BM$50+$AE74) -> G#4
AE75: 24 | AF75: =INDEX($B$11:$DG$11,1,AF$50+$AE75) -> C2 | AG75: =INDEX($B$11:$DG$11,1,AG$50+$AE75) -> C#2 | AH75: =INDEX($B$11:$DG$11,1,AH$50+$AE75) -> D2 | AI75: =INDEX($B$11:$DG$11,1,AI$50+$AE75) -> D#2 | AJ75: =INDEX($B$11:$DG$11,1,AJ$50+$AE75) -> E2 | AK75: =INDEX($B$11:$DG$11,1,AK$50+$AE75) -> F2 | AL75: =INDEX($B$11:$DG$11,1,AL$50+$AE75) -> F#2 | AM75: =INDEX($B$11:$DG$11,1,AM$50+$AE75) -> G2 | ... BM75: =INDEX($B$11:$DG$11,1,BM$50+$AE75) -> A4
AE76: 25 | AF76: =INDEX($B$11:$DG$11,1,AF$50+$AE76) -> C#2 | AG76: =INDEX($B$11:$DG$11,1,AG$50+$AE76) -> D2 | AH76: =INDEX($B$11:$DG$11,1,AH$50+$AE76) -> D#2 | AI76: =INDEX($B$11:$DG$11,1,AI$50+$AE76) -> E2 | AJ76: =INDEX($B$11:$DG$11,1,AJ$50+$AE76) -> F2 | AK76: =INDEX($B$11:$DG$11,1,AK$50+$AE76) -> F#2 | AL76: =INDEX($B$11:$DG$11,1,AL$50+$AE76) -> G2 | AM76: =INDEX($B$11:$DG$11,1,AM$50+$AE76) -> G#2 | ... BM76: =INDEX($B$11:$DG$11,1,BM$50+$AE76) -> A#4
AE77: 26 | AF77: =INDEX($B$11:$DG$11,1,AF$50+$AE77) -> D2 | AG77: =INDEX($B$11:$DG$11,1,AG$50+$AE77) -> D#2 | AH77: =INDEX($B$11:$DG$11,1,AH$50+$AE77) -> E2 | AI77: =INDEX($B$11:$DG$11,1,AI$50+$AE77) -> F2 | AJ77: =INDEX($B$11:$DG$11,1,AJ$50+$AE77) -> F#2 | AK77: =INDEX($B$11:$DG$11,1,AK$50+$AE77) -> G2 | AL77: =INDEX($B$11:$DG$11,1,AL$50+$AE77) -> G#2 | AM77: =INDEX($B$11:$DG$11,1,AM$50+$AE77) -> A2 | ... BM77: =INDEX($B$11:$DG$11,1,BM$50+$AE77) -> B4
AE78: 27 | AF78: =INDEX($B$11:$DG$11,1,AF$50+$AE78) -> D#2 | AG78: =INDEX($B$11:$DG$11,1,AG$50+$AE78) -> E2 | AH78: =INDEX($B$11:$DG$11,1,AH$50+$AE78) -> F2 | AI78: =INDEX($B$11:$DG$11,1,AI$50+$AE78) -> F#2 | AJ78: =INDEX($B$11:$DG$11,1,AJ$50+$AE78) -> G2 | AK78: =INDEX($B$11:$DG$11,1,AK$50+$AE78) -> G#2 | AL78: =INDEX($B$11:$DG$11,1,AL$50+$AE78) -> A2 | AM78: =INDEX($B$11:$DG$11,1,AM$50+$AE78) -> A#2 | ... BM78: =INDEX($B$11:$DG$11,1,BM$50+$AE78) -> C5
... AE120: 69 | AF120: =INDEX($B$11:$DG$11,1,AF$50+$AE120) -> A5 | AG120: =INDEX($B$11:$DG$11,1,AG$50+$AE120) -> A#5 | AH120: =INDEX($B$11:$DG$11,1,AH$50+$AE120) -> B5 | AI120: =INDEX($B$11:$DG$11,1,AI$50+$AE120) -> C6 | AJ120: =INDEX($B$11:$DG$11,1,AJ$50+$AE120) -> C#6 | AK120: =INDEX($B$11:$DG$11,1,AK$50+$AE120) -> D6 | AL120: =INDEX($B$11:$DG$11,1,AL$50+$AE120) -> D#6 | AM120: =INDEX($B$11:$DG$11,1,AM$50+$AE120) -> E6 | ... BM120: =INDEX($B$11:$DG$11,1,BM$50+$AE120) -> F#8
G122: 0 | H122: 1 | I122: 2 | J122: 3 | K122: 4 | L122: 5 | M122: 6 | N122: 7 | O122: 8 | P122: 9 | Q122: 10 | R122: 11 | S122: 12
F123: 1 | G123: =AP11 -> E3 | H123: =AQ11 -> F3 | I123: =AR11 -> F#3 | J123: =AS11 -> G3 | K123: =AT11 -> G#3 | L123: =AU11 -> A3 | M123: =AV11 -> A#3 | N123: =AW11 -> B3 | ... S123: =BB11 -> E4
F124: 2 | G124: =AK11 -> B2 | H124: =AL11 -> C3 | I124: =AM11 -> C#3 | J124: =AN11 -> D3 | K124: =AO11 -> D#3 | L124: =AP11 -> E3 | M124: =AQ11 -> F3 | N124: =AR11 -> F#3 | ... S124: =AW11 -> B3
F125: 3 | G125: =AG11 -> G2 | H125: =AH11 -> G#2 | I125: =AI11 -> A2 | J125: =AJ11 -> A#2 | K125: =AK11 -> B2 | L125: =AL11 -> C3 | M125: =AM11 -> C#3 | N125: =AN11 -> D3 | ... S125: =AS11 -> G3
F126: 4 | G126: =AB11 -> D2 | H126: =AC11 -> D#2 | I126: =AD11 -> E2 | J126: =AE11 -> F2 | K126: =AF11 -> F#2 | L126: =AG11 -> G2 | M126: =AH11 -> G#2 | N126: =AI11 -> A2 | ... S126: =AN11 -> D3
F127: 5 | G127: =W11 -> A1 | H127: =X11 -> A#1 | I127: =Y11 -> B1 | J127: =Z11 -> C2 | K127: =AA11 -> C#2 | L127: =AB11 -> D2 | M127: =AC11 -> D#2 | N127: =AD11 -> E2 | ... S127: =AI11 -> A2
F128: 6 | G128: =R11 -> E1 | H128: =S11 -> F1 | I128: =T11 -> F#1 | J128: =U11 -> G1 | K128: =V11 -> G#1 | L128: =W11 -> A1 | M128: =X11 -> A#1 | N128: =Y11 -> B1 | ... S128: =AD11 -> E2
I130: activé basse auto
G131: basse tonique | J131: =AND(Z135,J19) -> FALSE
G132: =IF(J131,P19,J17) -> F2
Y135: mode MANUEL ACTIVE | Z135: TRUE
