Workbook

Sheet JAN14
A1: LE PINCE-OREILLE
D5: SALARIE
A9: Code APE : 9499 Z
A12: BULLETIN DE PAYE DU MOIS DE JANVIER 2014
A13: du 01/01/2014 au 31/01/2014 en euros
B15: BASE | C15: CHARGES SALARIALES | E15: CHARGES PATRONALES
C16: TAUX | D16: MONTANTS | E16: TAUX | F16: MONTANTS
A18: Rémunération brute | B18: =PRODUCT(B20,B19) -> 826.251
A19: Taux | B19: 9.53
A20: Nombre d'heures | B20: 86.7
A21: Base rémunération total | B21: =B20*B19 -> 826.251
A23: SS Maladie,maternité,invalidité,décés | B23: =B20*$B$19 -> 826.251 | C23: 0.75 | D23: =B23*C23/100 -> 6.1968825 | E23: 12.8 | F23: =B23*E23/100 -> 105.76013
A24: SS Vieillesse | B24: =B19*B20 -> 826.251 | C24: 0.1 | D24: =B24*C24/100 -> 0.826251 | E24: 1.6 | F24: =B24*E24/100 -> 13.220016
A25: Allocations familiales | B25: =B19*B20 -> 826.251 | E25: 5.4 | F25: =B25*E25/100 -> 44.617554
A26: SS Vieil. Plaf. | B26: =B19*B20 -> 826.251 | C26: 6.75 | D26: =B26*C26/100 -> 55.771942 | E26: 8.4 | F26: =B26*E26/100 -> 69.405084
A27: Cotisation Logement (FNAL) (- de 20 salariés) | B27: =B19*B20 -> 826.251 | E27: 0.1 | F27: =B27*E27/100 -> 0.826251
A28: Accidents du travail+Maladies proféssionnelles | B28: =B19*B20 -> 826.251 | E28: 1.5 | F28: =B28*E28/100 -> 12.393765
A29: SS Solidarité Autonomie | B29: =B19*B20 -> 826.251 | E29: 0.3 | F29: =B29*E29/100 -> 2.478753
A30: Assedic Chômage tranche A | B30: =B19*B20 -> 826.251 | C30: 2.4 | D30: =B30*C30/100 -> 19.830024 | E30: 4 | F30: =B30*E30/100 -> 33.05004
A31: AGS | B31: =B19*B20 -> 826.251 | E31: 0.3 | F31: =B31*E31/100 -> 2.478753
A32: Retraite Complémentaire Non Cadres (ARRCO) | B32: =B19*B20 -> 826.251 | C32: 3 | D32: =B32*C32/100 -> 24.78753 | E32: 4.5 | F32: =B32*E32/100 -> 37.181295
A33: Cotisation AGFF Non Cadres | B33: =B19*B20 -> 826.251 | C33: 0.8 | D33: =B33*C33/100 -> 6.610008 | E33: 1.2 | F33: =B33*E33/100 -> 9.915012
A34: Taxe d'Apprentissage | B34: =B19*B20 -> 826.251 | E34: 0 | F34: =B34*E34/100 -> 0
A35: Participation Formation | B35: =B19*B20 -> 826.251 | E35: 1.9 | F35: =B35*E35/100 -> 15.698769
A36: Taxe sur les salaires (-10 salariés) | B36: =B19*B20 -> 826.251 | E36: 0 | F36: =B36*E36/100 -> 0
A37: Réductin de cotisation Loi Fillon | E37: -100 | F37: -229.29
A38: CSG Déductible | B38: =98.25*B21/100 -> 811.79161 | C38: 5.1 | D38: =B38*C38/100 -> 41.401372
A39: CSG Non Déductible + CRDS | B39: =98.25*B21/100 -> 811.79161 | C39: 2.9 | D39: =B39*C39/100 -> 23.541957
A40: TOTAL RETENUES | D40: =SUM(D23:D39) -> 178.96597 | F40: =SUM(F23:F39) -> 117.73542
A42: Brut | B42: Cotisations salariales | D42: Cotisations patronales | F42: Imposable
A43: =B21 -> 826.251 | B43: =D40 -> 178.96597 | D43: =F40 -> 117.73542 | F43: =B21-B43+D39 -> 670.82699
F45: Net à Payer
D46: PAYE PAR CHEQUE | F46: =B21-B43 -> 647.28503
A48: Cumuls annuels : | B48: Brut : | C48: =B18 -> 826.251
B49: Heures : | C49: =B20 -> 86.7
B50: Cotis. Sal. : | C50: =B43 -> 178.96597
B51: Imposable : | C51: =F43 -> 670.82699
B52: Cotis. Patr. | C52: =D43 -> 117.73542
B53: Congés payés : | C53: 2.5

Sheet FEV14
A1: LE PINCE-OREILLE
D5: SALARIE
A9: Code APE : 9499 Z
A12: BULLETIN DE PAYE DU MOIS DE FEVRIER 2014
A13: du 01/02/2014 au 28/02/2014 en euros
B15: BASE | C15: CHARGES SALARIALES | E15: CHARGES PATRONALES
C16: TAUX | D16: MONTANTS | E16: TAUX | F16: MONTANTS
A18: Rémunération brute | B18: =PRODUCT(B20,B19) -> 826.251
A19: Taux | B19: 9.53
A20: Nombre d'heures | B20: 86.7
A21: Base rémunération total | B21: =B20*B19 -> 826.251
A23: SS Maladie,maternité,invalidité,décés | B23: =B20*$B$19 -> 826.251 | C23: 0.75 | D23: =B23*C23/100 -> 6.1968825 | E23: 12.8 | F23: =B23*E23/100 -> 105.76013
A24: SS Vieillesse | B24: =B19*B20 -> 826.251 | C24: 0.1 | D24: =B24*C24/100 -> 0.826251 | E24: 1.6 | F24: =B24*E24/100 -> 13.220016
A25: Allocations familiales | B25: =B19*B20 -> 826.251 | E25: 5.4 | F25: =B25*E25/100 -> 44.617554
A26: SS Vieil. Plaf. | B26: =B19*B20 -> 826.251 | C26: 6.75 | D26: =B26*C26/100 -> 55.771942 | E26: 8.4 | F26: =B26*E26/100 -> 69.405084
A27: Cotisation Logement (FNAL) (- de 20 salariés) | B27: =B19*B20 -> 826.251 | E27: 0.1 | F27: =B27*E27/100 -> 0.826251
A28: Accidents du travail+Maladies proféssionnelles | B28: =B19*B20 -> 826.251 | E28: 1.5 | F28: =B28*E28/100 -> 12.393765
A29: SS Solidarité Autonomie | B29: =B19*B20 -> 826.251 | E29: 0.3 | F29: =B29*E29/100 -> 2.478753
A30: Assedic Chômage tranche A | B30: =B19*B20 -> 826.251 | C30: 2.4 | D30: =B30*C30/100 -> 19.830024 | E30: 4 | F30: =B30*E30/100 -> 33.05004
A31: AGS | B31: =B19*B20 -> 826.251 | E31: 0.3 | F31: =B31*E31/100 -> 2.478753
A32: Retraite Complémentaire Non Cadres (ARRCO) | B32: =B19*B20 -> 826.251 | C32: 3 | D32: =B32*C32/100 -> 24.78753 | E32: 4.5 | F32: =B32*E32/100 -> 37.181295
A33: Cotisation AGFF Non Cadres | B33: =B19*B20 -> 826.251 | C33: 0.8 | D33: =B33*C33/100 -> 6.610008 | E33: 1.2 | F33: =B33*E33/100 -> 9.915012
A34: Taxe d'Apprentissage | B34: =B19*B20 -> 826.251 | E34: 0 | F34: =B34*E34/100 -> 0
A35: Participation Formation | B35: =B19*B20 -> 826.251 | E35: 1.9 | F35: =B35*E35/100 -> 15.698769
A36: Taxe sur les salaires (-10 salariés) | B36: =B19*B20 -> 826.251 | E36: 0 | F36: =B36*E36/100 -> 0
A37: Réductin de cotisation Loi Fillon | E37: -100 | F37: -229.29
A38: CSG Déductible | B38: =98.25*B21/100 -> 811.79161 | C38: 5.1 | D38: =B38*C38/100 -> 41.401372
A39: CSG Non Déductible + CRDS | B39: =98.25*B21/100 -> 811.79161 | C39: 2.9 | D39: =B39*C39/100 -> 23.541957
A40: TOTAL RETENUES | D40: =SUM(D23:D39) -> 178.96597 | F40: =SUM(F23:F39) -> 117.73542
A42: Brut | B42: Cotisations salariales | D42: Cotisations patronales | F42: Imposable
A43: =B21 -> 826.251 | B43: =D40 -> 178.96597 | D43: =F40 -> 117.73542 | F43: =B21-B43+D39 -> 670.82699
F45: Net à Payer
D46: PAYE PAR CHEQUE | F46: =B21-B43 -> 647.28503
A48: Cumuls annuels : | B48: Brut : | C48: =B18+'JAN14'!C48 -> 1652.502
B49: Heures : | C49: =B20+'JAN14'!C49 -> 173.4
B50: Cotis. Sal. : | C50: =B43+'JAN14'!C50 -> 357.93193
B51: Imposable : | C51: =F43+'JAN14'!C51 -> 1341.654
B52: Cotis. Patr. | C52: =D43+'JAN14'!C52 -> 235.47084
B53: Congés payés : | C53: =2.5+'JAN14'!C53 -> 5

Sheet MARS14
A1: LE PINCE-OREILLE
D5: SALARIE
A9: Code APE : 9499 Z
A12: BULLETIN DE PAYE DU MOIS DE MARS 2014
A13: du 01/03/2014 au 31/03/2014 en euros
B15: BASE | C15: CHARGES SALARIALES | E15: CHARGES PATRONALES
C16: TAUX | D16: MONTANTS | E16: TAUX | F16: MONTANTS
A18: Rémunération brute | B18: =PRODUCT(B20,B19) -> 86.7
A19: Taux
A20: Nombre d'heures | B20: 86.7
A21: Base rémunération total | B21: =B20*B19 -> 0
A23: SS Maladie,maternité,invalidité,décés | B23: =B20*$B$19 -> 0 | C23: 0.75 | D23: =B23*C23/100 -> 0 | E23: 12.8 | F23: =B23*E23/100 -> 0
A24: SS Vieillesse | B24: =B19*B20 -> 0 | C24: 0.1 | D24: =B24*C24/100 -> 0 | E24: 1.6 | F24: =B24*E24/100 -> 0
A25: Allocations familiales | B25: =B19*B20 -> 0 | E25: 5.4 | F25: =B25*E25/100 -> 0
A26: SS Vieil. Plaf. | B26: =B19*B20 -> 0 | C26: 6.75 | D26: =B26*C26/100 -> 0 | E26: 8.4 | F26: =B26*E26/100 -> 0
A27: Cotisation Logement (FNAL) (- de 20 salariés) | B27: =B19*B20 -> 0 | E27: 0.1 | F27: =B27*E27/100 -> 0
A28: Accidents du travail+Maladies proféssionnelles | B28: =B19*B20 -> 0 | E28: 1.5 | F28: =B28*E28/100 -> 0
A29: SS Solidarité Autonomie | B29: =B19*B20 -> 0 | E29: 0.3 | F29: =B29*E29/100 -> 0
A30: Assedic Chômage tranche A | B30: =B19*B20 -> 0 | C30: 2.4 | D30: =B30*C30/100 -> 0 | E30: 4 | F30: =B30*E30/100 -> 0
A31: AGS | B31: =B19*B20 -> 0 | E31: 0.3 | F31: =B31*E31/100 -> 0
A32: Retraite Complémentaire Non Cadres (ARRCO) | B32: =B19*B20 -> 0 | C32: 3 | D32: =B32*C32/100 -> 0 | E32: 4.5 | F32: =B32*E32/100 -> 0
A33: Cotisation AGFF Non Cadres | B33: =B19*B20 -> 0 | C33: 0.8 | D33: =B33*C33/100 -> 0 | E33: 1.2 | F33: =B33*E33/100 -> 0
A34: Taxe d'Apprentissage | B34: =B19*B20 -> 0 | E34: 0 | F34: =B34*E34/100 -> 0
A35: Participation Formation | B35: =B19*B20 -> 0 | E35: 1.9 | F35: =B35*E35/100 -> 0
A36: Taxe sur les salaires (-10 salariés) | B36: =B19*B20 -> 0 | E36: 0 | F36: =B36*E36/100 -> 0
A37: Réductin de cotisation Loi Fillon | E37: -100 | F37: -229.29
A38: CSG Déductible | B38: =98.25*B21/100 -> 0 | C38: 5.1 | D38: =B38*C38/100 -> 0
A39: CSG Non Déductible + CRDS | B39: =98.25*B21/100 -> 0 | C39: 2.9 | D39: =B39*C39/100 -> 0
A40: TOTAL RETENUES | D40: =SUM(D23:D39) -> 0 | F40: =SUM(F23:F39) -> -229.29
A42: Brut | B42: Cotisations salariales | D42: Cotisations patronales | F42: Imposable
A43: =B21 -> 0 | B43: =D40 -> 0 | D43: =F40 -> -229.29 | F43: =B21-B43+D39 -> 0
F45: Net à Payer
D46: PAYE PAR CHEQUE | F46: =B21-B43 -> 0
A48: Cumuls annuels : | B48: Brut : | C48: =B18 -> 86.7
B49: Heures : | C49: =B20 -> 86.7
B50: Cotis. Sal. : | C50: =B43 -> 0
B51: Imposable : | C51: =F43 -> 0
B52: Cotis. Patr. | C52: =D43 -> -229.29
B53: Congés payés :

Sheet AVR14
A1: LE PINCE-OREILLE
D5: SALARIE
A9: Code APE : 9499 Z
A12: BULLETIN DE PAYE DU MOIS DE AVRIL 2014
A13: du 01/04/2014 au 30/04/2014 en euros
B15: BASE | C15: CHARGES SALARIALES | E15: CHARGES PATRONALES
C16: TAUX | D16: MONTANTS | E16: TAUX | F16: MONTANTS
A18: Rémunération brute | B18: =PRODUCT(B20,B19) -> 86.7
A19: Taux
A20: Nombre d'heures | B20: 86.7
A21: Base rémunération total | B21: =B20*B19 -> 0
A23: SS Maladie,maternité,invalidité,décés | B23: =B20*$B$19 -> 0 | C23: 0.75 | D23: =B23*C23/100 -> 0 | E23: 12.8 | F23: =B23*E23/100 -> 0
A24: SS Vieillesse | B24: =B19*B20 -> 0 | C24: 0.1 | D24: =B24*C24/100 -> 0 | E24: 1.6 | F24: =B24*E24/100 -> 0
A25: Allocations familiales | B25: =B19*B20 -> 0 | E25: 5.4 | F25: =B25*E25/100 -> 0
A26: SS Vieil. Plaf. | B26: =B19*B20 -> 0 | C26: 6.75 | D26: =B26*C26/100 -> 0 | E26: 8.4 | F26: =B26*E26/100 -> 0
A27: Cotisation Logement (FNAL) (- de 20 salariés) | B27: =B19*B20 -> 0 | E27: 0.1 | F27: =B27*E27/100 -> 0
A28: Accidents du travail+Maladies proféssionnelles | B28: =B19*B20 -> 0 | E28: 1.5 | F28: =B28*E28/100 -> 0
A29: SS Solidarité Autonomie | B29: =B19*B20 -> 0 | E29: 0.3 | F29: =B29*E29/100 -> 0
A30: Assedic Chômage tranche A | B30: =B19*B20 -> 0 | C30: 2.4 | D30: =B30*C30/100 -> 0 | E30: 4 | F30: =B30*E30/100 -> 0
A31: AGS | B31: =B19*B20 -> 0 | E31: 0.3 | F31: =B31*E31/100 -> 0
A32: Retraite Complémentaire Non Cadres (ARRCO) | B32: =B19*B20 -> 0 | C32: 3 | D32: =B32*C32/100 -> 0 | E32: 4.5 | F32: =B32*E32/100 -> 0
A33: Cotisation AGFF Non Cadres | B33: =B19*B20 -> 0 | C33: 0.8 | D33: =B33*C33/100 -> 0 | E33: 1.2 | F33: =B33*E33/100 -> 0
A34: Taxe d'Apprentissage | B34: =B19*B20 -> 0 | E34: 0 | F34: =B34*E34/100 -> 0
A35: Participation Formation | B35: =B19*B20 -> 0 | E35: 1.9 | F35: =B35*E35/100 -> 0
A36: Taxe sur les salaires (-10 salariés) | B36: =B19*B20 -> 0 | E36: 0 | F36: =B36*E36/100 -> 0
A37: Réductin de cotisation Loi Fillon | E37: -100 | F37: -229.29
A38: CSG Déductible | B38: =98.25*B21/100 -> 0 | C38: 5.1 | D38: =B38*C38/100 -> 0
A39: CSG Non Déductible + CRDS | B39: =98.25*B21/100 -> 0 | C39: 2.9 | D39: =B39*C39/100 -> 0
A40: TOTAL RETENUES | D40: =SUM(D23:D39) -> 0 | F40: =SUM(F23:F39) -> -229.29
A42: Brut | B42: Cotisations salariales | D42: Cotisations patronales | F42: Imposable
A43: =B21 -> 0 | B43: =D40 -> 0 | D43: =F40 -> -229.29 | F43: =B21-B43+D39 -> 0
F45: Net à Payer
D46: PAYE PAR CHEQUE | F46: =B21-B43 -> 0
A48: Cumuls annuels : | B48: Brut : | C48: =B18 -> 86.7
B49: Heures : | C49: =B20 -> 86.7
B50: Cotis. Sal. : | C50: =B43 -> 0
B51: Imposable : | C51: =F43 -> 0
B52: Cotis. Patr. | C52: =D43 -> -229.29
B53: Congés payés :

Sheet MAI14
A1: LE PINCE-OREILLE
D5: SALARIE
A9: Code APE : 9499 Z
A12: BULLETIN DE PAYE DU MOIS DE MAI 2014
A13: du 01/05/2014 au 31/05/2014 en euros
B15: BASE | C15: CHARGES SALARIALES | E15: CHARGES PATRONALES
C16: TAUX | D16: MONTANTS | E16: TAUX | F16: MONTANTS
A18: Rémunération brute | B18: =PRODUCT(B20,B19) -> 86.7
A19: Taux
A20: Nombre d'heures | B20: 86.7
A21: Base rémunération total | B21: =B20*B19 -> 0
A23: SS Maladie,maternité,invalidité,décés | B23: =B20*$B$19 -> 0 | C23: 0.75 | D23: =B23*C23/100 -> 0 | E23: 12.8 | F23: =B23*E23/100 -> 0
A24: SS Vieillesse | B24: =B19*B20 -> 0 | C24: 0.1 | D24: =B24*C24/100 -> 0 | E24: 1.6 | F24: =B24*E24/100 -> 0
A25: Allocations familiales | B25: =B19*B20 -> 0 | E25: 5.4 | F25: =B25*E25/100 -> 0
A26: SS Vieil. Plaf. | B26: =B19*B20 -> 0 | C26: 6.75 | D26: =B26*C26/100 -> 0 | E26: 8.4 | F26: =B26*E26/100 -> 0
A27: Cotisation Logement (FNAL) (- de 20 salariés) | B27: =B19*B20 -> 0 | E27: 0.1 | F27: =B27*E27/100 -> 0
A28: Accidents du travail+Maladies proféssionnelles | B28: =B19*B20 -> 0 | E28: 1.5 | F28: =B28*E28/100 -> 0
A29: SS Solidarité Autonomie | B29: =B19*B20 -> 0 | E29: 0.3 | F29: =B29*E29/100 -> 0
A30: Assedic Chômage tranche A | B30: =B19*B20 -> 0 | C30: 2.4 | D30: =B30*C30/100 -> 0 | E30: 4 | F30: =B30*E30/100 -> 0
A31: AGS | B31: =B19*B20 -> 0 | E31: 0.3 | F31: =B31*E31/100 -> 0
A32: Retraite Complémentaire Non Cadres (ARRCO) | B32: =B19*B20 -> 0 | C32: 3 | D32: =B32*C32/100 -> 0 | E32: 4.5 | F32: =B32*E32/100 -> 0
A33: Cotisation AGFF Non Cadres | B33: =B19*B20 -> 0 | C33: 0.8 | D33: =B33*C33/100 -> 0 | E33: 1.2 | F33: =B33*E33/100 -> 0
A34: Taxe d'Apprentissage | B34: =B19*B20 -> 0 | E34: 0 | F34: =B34*E34/100 -> 0
A35: Participation Formation | B35: =B19*B20 -> 0 | E35: 1.9 | F35: =B35*E35/100 -> 0
A36: Taxe sur les salaires (-10 salariés) | B36: =B19*B20 -> 0 | E36: 0 | F36: =B36*E36/100 -> 0
A37: Réductin de cotisation Loi Fillon | E37: -100 | F37: -229.29
A38: CSG Déductible | B38: =98.25*B21/100 -> 0 | C38: 5.1 | D38: =B38*C38/100 -> 0
A39: CSG Non Déductible + CRDS | B39: =98.25*B21/100 -> 0 | C39: 2.9 | D39: =B39*C39/100 -> 0
A40: TOTAL RETENUES | D40: =SUM(D23:D39) -> 0 | F40: =SUM(F23:F39) -> -229.29
A42: Brut | B42: Cotisations salariales | D42: Cotisations patronales | F42: Imposable
A43: =B21 -> 0 | B43: =D40 -> 0 | D43: =F40 -> -229.29 | F43: =B21-B43+D39 -> 0
F45: Net à Payer
D46: PAYE PAR CHEQUE | F46: =B21-B43 -> 0
A48: Cumuls annuels : | B48: Brut : | C48: =B18 -> 86.7
B49: Heures : | C49: =B20 -> 86.7
B50: Cotis. Sal. : | C50: =B43 -> 0
B51: Imposable : | C51: =F43 -> 0
B52: Cotis. Patr. | C52: =D43 -> -229.29
B53: Congés payés :

Sheet JUIN14
A1: LE PINCE-OREILLE
D5: SALARIE
A9: Code APE : 9499 Z
A12: BULLETIN DE PAYE DU MOIS DE JUIN 2014
A13: du 01/06/2014 au 30/06/2014 en euros
B15: BASE | C15: CHARGES SALARIALES | E15: CHARGES PATRONALES
C16: TAUX | D16: MONTANTS | E16: TAUX | F16: MONTANTS
A18: Rémunération brute | B18: =PRODUCT(B20,B19) -> 86.7
A19: Taux
A20: Nombre d'heures | B20: 86.7
A21: Base rémunération total | B21: =B20*B19 -> 0
A23: SS Maladie,maternité,invalidité,décés | B23: =B20*$B$19 -> 0 | C23: 0.75 | D23: =B23*C23/100 -> 0 | E23: 12.8 | F23: =B23*E23/100 -> 0
A24: SS Vieillesse | B24: =B19*B20 -> 0 | C24: 0.1 | D24: =B24*C24/100 -> 0 | E24: 1.6 | F24: =B24*E24/100 -> 0
A25: Allocations familiales | B25: =B19*B20 -> 0 | E25: 5.4 | F25: =B25*E25/100 -> 0
A26: SS Vieil. Plaf. | B26: =B19*B20 -> 0 | C26: 6.75 | D26: =B26*C26/100 -> 0 | E26: 8.4 | F26: =B26*E26/100 -> 0
A27: Cotisation Logement (FNAL) (- de 20 salariés) | B27: =B19*B20 -> 0 | E27: 0.1 | F27: =B27*E27/100 -> 0
A28: Accidents du travail+Maladies proféssionnelles | B28: =B19*B20 -> 0 | E28: 1.5 | F28: =B28*E28/100 -> 0
A29: SS Solidarité Autonomie | B29: =B19*B20 -> 0 | E29: 0.3 | F29: =B29*E29/100 -> 0
A30: Assedic Chômage tranche A | B30: =B19*B20 -> 0 | C30: 2.4 | D30: =B30*C30/100 -> 0 | E30: 4 | F30: =B30*E30/100 -> 0
A31: AGS | B31: =B19*B20 -> 0 | E31: 0.3 | F31: =B31*E31/100 -> 0
A32: Retraite Complémentaire Non Cadres (ARRCO) | B32: =B19*B20 -> 0 | C32: 3 | D32: =B32*C32/100 -> 0 | E32: 4.5 | F32: =B32*E32/100 -> 0
A33: Cotisation AGFF Non Cadres | B33: =B19*B20 -> 0 | C33: 0.8 | D33: =B33*C33/100 -> 0 | E33: 1.2 | F33: =B33*E33/100 -> 0
A34: Taxe d'Apprentissage | B34: =B19*B20 -> 0 | E34: 0 | F34: =B34*E34/100 -> 0
A35: Participation Formation | B35: =B19*B20 -> 0 | E35: 1.9 | F35: =B35*E35/100 -> 0
A36: Taxe sur les salaires (-10 salariés) | B36: =B19*B20 -> 0 | E36: 0 | F36: =B36*E36/100 -> 0
A37: Réductin de cotisation Loi Fillon | E37: -100 | F37: -229.29
A38: CSG Déductible | B38: =98.25*B21/100 -> 0 | C38: 5.1 | D38: =B38*C38/100 -> 0
A39: CSG Non Déductible + CRDS | B39: =98.25*B21/100 -> 0 | C39: 2.9 | D39: =B39*C39/100 -> 0
A40: TOTAL RETENUES | D40: =SUM(D23:D39) -> 0 | F40: =SUM(F23:F39) -> -229.29
A42: Brut | B42: Cotisations salariales | D42: Cotisations patronales | F42: Imposable
A43: =B21 -> 0 | B43: =D40 -> 0 | D43: =F40 -> -229.29 | F43: =B21-B43+D39 -> 0
F45: Net à Payer
D46: PAYE PAR CHEQUE | F46: =B21-B43 -> 0
A48: Cumuls annuels : | B48: Brut : | C48: =B18 -> 86.7
B49: Heures : | C49: =B20 -> 86.7
B50: Cotis. Sal. : | C50: =B43 -> 0
B51: Imposable : | C51: =F43 -> 0
B52: Cotis. Patr. | C52: =D43 -> -229.29
B53: Congés payés :

Sheet JUILLET14
A1: LE PINCE-OREILLE
D5: SALARIE
A9: Code APE : 9499 Z
A12: BULLETIN DE PAYE DU MOIS DE JUILLET 2014
A13: du 01/07/2014 au 31/07/2014 en euros
B15: BASE | C15: CHARGES SALARIALES | E15: CHARGES PATRONALES
C16: TAUX | D16: MONTANTS | E16: TAUX | F16: MONTANTS
A18: Rémunération brute | B18: =PRODUCT(B20,B19) -> 86.7
A19: Taux
A20: Nombre d'heures | B20: 86.7
A21: Base rémunération total | B21: =B20*B19 -> 0
A23: SS Maladie,maternité,invalidité,décés | B23: =B20*$B$19 -> 0 | C23: 0.75 | D23: =B23*C23/100 -> 0 | E23: 12.8 | F23: =B23*E23/100 -> 0
A24: SS Vieillesse | B24: =B19*B20 -> 0 | C24: 0.1 | D24: =B24*C24/100 -> 0 | E24: 1.6 | F24: =B24*E24/100 -> 0
A25: Allocations familiales | B25: =B19*B20 -> 0 | E25: 5.4 | F25: =B25*E25/100 -> 0
A26: SS Vieil. Plaf. | B26: =B19*B20 -> 0 | C26: 6.75 | D26: =B26*C26/100 -> 0 | E26: 8.4 | F26: =B26*E26/100 -> 0
A27: Cotisation Logement (FNAL) (- de 20 salariés) | B27: =B19*B20 -> 0 | E27: 0.1 | F27: =B27*E27/100 -> 0
A28: Accidents du travail+Maladies proféssionnelles | B28: =B19*B20 -> 0 | E28: 1.5 | F28: =B28*E28/100 -> 0
A29: SS Solidarité Autonomie | B29: =B19*B20 -> 0 | E29: 0.3 | F29: =B29*E29/100 -> 0
A30: Assedic Chômage tranche A | B30: =B19*B20 -> 0 | C30: 2.4 | D30: =B30*C30/100 -> 0 | E30: 4 | F30: =B30*E30/100 -> 0
A31: AGS | B31: =B19*B20 -> 0 | E31: 0.3 | F31: =B31*E31/100 -> 0
A32: Retraite Complémentaire Non Cadres (ARRCO) | B32: =B19*B20 -> 0 | C32: 3 | D32: =B32*C32/100 -> 0 | E32: 4.5 | F32: =B32*E32/100 -> 0
A33: Cotisation AGFF Non Cadres | B33: =B19*B20 -> 0 | C33: 0.8 | D33: =B33*C33/100 -> 0 | E33: 1.2 | F33: =B33*E33/100 -> 0
A34: Taxe d'Apprentissage | B34: =B19*B20 -> 0 | E34: 0 | F34: =B34*E34/100 -> 0
A35: Participation Formation | B35: =B19*B20 -> 0 | E35: 1.9 | F35: =B35*E35/100 -> 0
A36: Taxe sur les salaires (-10 salariés) | B36: =B19*B20 -> 0 | E36: 0 | F36: =B36*E36/100 -> 0
A37: Réductin de cotisation Loi Fillon | E37: -100 | F37: -229.29
A38: CSG Déductible | B38: =98.25*B21/100 -> 0 | C38: 5.1 | D38: =B38*C38/100 -> 0
A39: CSG Non Déductible + CRDS | B39: =98.25*B21/100 -> 0 | C39: 2.9 | D39: =B39*C39/100 -> 0
A40: TOTAL RETENUES | D40: =SUM(D23:D39) -> 0 | F40: =SUM(F23:F39) -> -229.29
A42: Brut | B42: Cotisations salariales | D42: Cotisations patronales | F42: Imposable
A43: =B21 -> 0 | B43: =D40 -> 0 | D43: =F40 -> -229.29 | F43: =B21-B43+D39 -> 0
F45: Net à Payer
D46: PAYE PAR CHEQUE | F46: =B21-B43 -> 0
A48: Cumuls annuels : | B48: Brut : | C48: =B18 -> 86.7
B49: Heures : | C49: =B20 -> 86.7
B50: Cotis. Sal. : | C50: =B43 -> 0
B51: Imposable : | C51: =F43 -> 0
B52: Cotis. Patr. | C52: =D43 -> -229.29
B53: Congés payés :

Sheet AOUT14
A1: LE PINCE-OREILLE
D5: SALARIE
A9: Code APE : 9499 Z
A12: BULLETIN DE PAYE DU MOIS DE AOUT 2014
A13: du 01/08/2014 au 31/08/2014 en euros
B15: BASE | C15: CHARGES SALARIALES | E15: CHARGES PATRONALES
C16: TAUX | D16: MONTANTS | E16: TAUX | F16: MONTANTS
A18: Rémunération brute | B18: =PRODUCT(B20,B19) -> 86.7
A19: Taux
A20: Nombre d'heures | B20: 86.7
A21: Base rémunération total | B21: =B20*B19 -> 0
A23: SS Maladie,maternité,invalidité,décés | B23: =B20*$B$19 -> 0 | C23: 0.75 | D23: =B23*C23/100 -> 0 | E23: 12.8 | F23: =B23*E23/100 -> 0
A24: SS Vieillesse | B24: =B19*B20 -> 0 | C24: 0.1 | D24: =B24*C24/100 -> 0 | E24: 1.6 | F24: =B24*E24/100 -> 0
A25: Allocations familiales | B25: =B19*B20 -> 0 | E25: 5.4 | F25: =B25*E25/100 -> 0
A26: SS Vieil. Plaf. | B26: =B19*B20 -> 0 | C26: 6.75 | D26: =B26*C26/100 -> 0 | E26: 8.4 | F26: =B26*E26/100 -> 0
A27: Cotisation Logement (FNAL) (- de 20 salariés) | B27: =B19*B20 -> 0 | E27: 0.1 | F27: =B27*E27/100 -> 0
A28: Accidents du travail+Maladies proféssionnelles | B28: =B19*B20 -> 0 | E28: 1.5 | F28: =B28*E28/100 -> 0
A29: SS Solidarité Autonomie | B29: =B19*B20 -> 0 | E29: 0.3 | F29: =B29*E29/100 -> 0
A30: Assedic Chômage tranche A | B30: =B19*B20 -> 0 | C30: 2.4 | D30: =B30*C30/100 -> 0 | E30: 4 | F30: =B30*E30/100 -> 0
A31: AGS | B31: =B19*B20 -> 0 | E31: 0.3 | F31: =B31*E31/100 -> 0
A32: Retraite Complémentaire Non Cadres (ARRCO) | B32: =B19*B20 -> 0 | C32: 3 | D32: =B32*C32/100 -> 0 | E32: 4.5 | F32: =B32*E32/100 -> 0
A33: Cotisation AGFF Non Cadres | B33: =B19*B20 -> 0 | C33: 0.8 | D33: =B33*C33/100 -> 0 | E33: 1.2 | F33: =B33*E33/100 -> 0
A34: Taxe d'Apprentissage | B34: =B19*B20 -> 0 | E34: 0 | F34: =B34*E34/100 -> 0
A35: Participation Formation | B35: =B19*B20 -> 0 | E35: 1.9 | F35: =B35*E35/100 -> 0
A36: Taxe sur les salaires (-10 salariés) | B36: =B19*B20 -> 0 | E36: 0 | F36: =B36*E36/100 -> 0
A37: Réductin de cotisation Loi Fillon | E37: -100 | F37: -229.29
A38: CSG Déductible | B38: =98.25*B21/100 -> 0 | C38: 5.1 | D38: =B38*C38/100 -> 0
A39: CSG Non Déductible + CRDS | B39: =98.25*B21/100 -> 0 | C39: 2.9 | D39: =B39*C39/100 -> 0
A40: TOTAL RETENUES | D40: =SUM(D23:D39) -> 0 | F40: =SUM(F23:F39) -> -229.29
A42: Brut | B42: Cotisations salariales | D42: Cotisations patronales | F42: Imposable
A43: =B21 -> 0 | B43: =D40 -> 0 | D43: =F40 -> -229.29 | F43: =B21-B43+D39 -> 0
F45: Net à Payer
D46: PAYE PAR CHEQUE | F46: =B21-B43 -> 0
A48: Cumuls annuels : | B48: Brut : | C48: =B18 -> 86.7
B49: Heures : | C49: =B20 -> 86.7
B50: Cotis. Sal. : | C50: =B43 -> 0
B51: Imposable : | C51: =F43 -> 0
B52: Cotis. Patr. | C52: =D43 -> -229.29
B53: Congés payés :

Sheet SEPT14
A1: LE PINCE-OREILLE
D5: SALARIE
A9: Code APE : 9499 Z
A12: BULLETIN DE PAYE DU MOIS DE SEPT 2014
A13: du 01/09/2014 au 30/09/2014 en euros
B15: BASE | C15: CHARGES SALARIALES | E15: CHARGES PATRONALES
C16: TAUX | D16: MONTANTS | E16: TAUX | F16: MONTANTS
A18: Rémunération brute | B18: =PRODUCT(B20,B19) -> 86.7
A19: Taux
A20: Nombre d'heures | B20: 86.7
A21: Base rémunération total | B21: =B20*B19 -> 0
A23: SS Maladie,maternité,invalidité,décés | B23: =B20*$B$19 -> 0 | C23: 0.75 | D23: =B23*C23/100 -> 0 | E23: 12.8 | F23: =B23*E23/100 -> 0
A24: SS Vieillesse | B24: =B19*B20 -> 0 | C24: 0.1 | D24: =B24*C24/100 -> 0 | E24: 1.6 | F24: =B24*E24/100 -> 0
A25: Allocations familiales | B25: =B19*B20 -> 0 | E25: 5.4 | F25: =B25*E25/100 -> 0
A26: SS Vieil. Plaf. | B26: =B19*B20 -> 0 | C26: 6.75 | D26: =B26*C26/100 -> 0 | E26: 8.4 | F26: =B26*E26/100 -> 0
A27: Cotisation Logement (FNAL) (- de 20 salariés) | B27: =B19*B20 -> 0 | E27: 0.1 | F27: =B27*E27/100 -> 0
A28: Accidents du travail+Maladies proféssionnelles | B28: =B19*B20 -> 0 | E28: 1.5 | F28: =B28*E28/100 -> 0
A29: SS Solidarité Autonomie | B29: =B19*B20 -> 0 | E29: 0.3 | F29: =B29*E29/100 -> 0
A30: Assedic Chômage tranche A | B30: =B19*B20 -> 0 | C30: 2.4 | D30: =B30*C30/100 -> 0 | E30: 4 | F30: =B30*E30/100 -> 0
A31: AGS | B31: =B19*B20 -> 0 | E31: 0.3 | F31: =B31*E31/100 -> 0
A32: Retraite Complémentaire Non Cadres (ARRCO) | B32: =B19*B20 -> 0 | C32: 3 | D32: =B32*C32/100 -> 0 | E32: 4.5 | F32: =B32*E32/100 -> 0
A33: Cotisation AGFF Non Cadres | B33: =B19*B20 -> 0 | C33: 0.8 | D33: =B33*C33/100 -> 0 | E33: 1.2 | F33: =B33*E33/100 -> 0
A34: Taxe d'Apprentissage | B34: =B19*B20 -> 0 | E34: 0 | F34: =B34*E34/100 -> 0
A35: Participation Formation | B35: =B19*B20 -> 0 | E35: 1.9 | F35: =B35*E35/100 -> 0
A36: Taxe sur les salaires (-10 salariés) | B36: =B19*B20 -> 0 | E36: 0 | F36: =B36*E36/100 -> 0
A37: Réductin de cotisation Loi Fillon | E37: -100 | F37: -229.29
A38: CSG Déductible | B38: =98.25*B21/100 -> 0 | C38: 5.1 | D38: =B38*C38/100 -> 0
A39: CSG Non Déductible + CRDS | B39: =98.25*B21/100 -> 0 | C39: 2.9 | D39: =B39*C39/100 -> 0
A40: TOTAL RETENUES | D40: =SUM(D23:D39) -> 0 | F40: =SUM(F23:F39) -> -229.29
A42: Brut | B42: Cotisations salariales | D42: Cotisations patronales | F42: Imposable
A43: =B21 -> 0 | B43: =D40 -> 0 | D43: =F40 -> -229.29 | F43: =B21-B43+D39 -> 0
F45: Net à Payer
D46: PAYE PAR CHEQUE | F46: =B21-B43 -> 0
A48: Cumuls annuels : | B48: Brut : | C48: =B18 -> 86.7
B49: Heures : | C49: =B20 -> 86.7
B50: Cotis. Sal. : | C50: =B43 -> 0
B51: Imposable : | C51: =F43 -> 0
B52: Cotis. Patr. | C52: =D43 -> -229.29
B53: Congés payés :

Sheet OCT14
A1: LE PINCE-OREILLE
D5: SALARIE
A9: Code APE : 9499 Z
A12: BULLETIN DE PAYE DU MOIS DE OCTOBRE 2014
A13: du 01/10/2014 au 31/10/2014 en euros
B15: BASE | C15: CHARGES SALARIALES | E15: CHARGES PATRONALES
C16: TAUX | D16: MONTANTS | E16: TAUX | F16: MONTANTS
A18: Rémunération brute | B18: =PRODUCT(B20,B19) -> 86.7
A19: Taux
A20: Nombre d'heures | B20: 86.7
A21: Base rémunération total | B21: =B20*B19 -> 0
A23: SS Maladie,maternité,invalidité,décés | B23: =B20*$B$19 -> 0 | C23: 0.75 | D23: =B23*C23/100 -> 0 | E23: 12.8 | F23: =B23*E23/100 -> 0
A24: SS Vieillesse | B24: =B19*B20 -> 0 | C24: 0.1 | D24: =B24*C24/100 -> 0 | E24: 1.6 | F24: =B24*E24/100 -> 0
A25: Allocations familiales | B25: =B19*B20 -> 0 | E25: 5.4 | F25: =B25*E25/100 -> 0
A26: SS Vieil. Plaf. | B26: =B19*B20 -> 0 | C26: 6.75 | D26: =B26*C26/100 -> 0 | E26: 8.4 | F26: =B26*E26/100 -> 0
A27: Cotisation Logement (FNAL) (- de 20 salariés) | B27: =B19*B20 -> 0 | E27: 0.1 | F27: =B27*E27/100 -> 0
A28: Accidents du travail+Maladies proféssionnelles | B28: =B19*B20 -> 0 | E28: 1.5 | F28: =B28*E28/100 -> 0
A29: SS Solidarité Autonomie | B29: =B19*B20 -> 0 | E29: 0.3 | F29: =B29*E29/100 -> 0
A30: Assedic Chômage tranche A | B30: =B19*B20 -> 0 | C30: 2.4 | D30: =B30*C30/100 -> 0 | E30: 4 | F30: =B30*E30/100 -> 0
A31: AGS | B31: =B19*B20 -> 0 | E31: 0.3 | F31: =B31*E31/100 -> 0
A32: Retraite Complémentaire Non Cadres (ARRCO) | B32: =B19*B20 -> 0 | C32: 3 | D32: =B32*C32/100 -> 0 | E32: 4.5 | F32: =B32*E32/100 -> 0
A33: Cotisation AGFF Non Cadres | B33: =B19*B20 -> 0 | C33: 0.8 | D33: =B33*C33/100 -> 0 | E33: 1.2 | F33: =B33*E33/100 -> 0
A34: Taxe d'Apprentissage | B34: =B19*B20 -> 0 | E34: 0 | F34: =B34*E34/100 -> 0
A35: Participation Formation | B35: =B19*B20 -> 0 | E35: 1.9 | F35: =B35*E35/100 -> 0
A36: Taxe sur les salaires (-10 salariés) | B36: =B19*B20 -> 0 | E36: 0 | F36: =B36*E36/100 -> 0
A37: Réductin de cotisation Loi Fillon | E37: -100 | F37: -229.29
A38: CSG Déductible | B38: =98.25*B21/100 -> 0 | C38: 5.1 | D38: =B38*C38/100 -> 0
A39: CSG Non Déductible + CRDS | B39: =98.25*B21/100 -> 0 | C39: 2.9 | D39: =B39*C39/100 -> 0
A40: TOTAL RETENUES | D40: =SUM(D23:D39) -> 0 | F40: =SUM(F23:F39) -> -229.29
A42: Brut | B42: Cotisations salariales | D42: Cotisations patronales | F42: Imposable
A43: =B21 -> 0 | B43: =D40 -> 0 | D43: =F40 -> -229.29 | F43: =B21-B43+D39 -> 0
F45: Net à Payer
D46: PAYE PAR CHEQUE | F46: =B21-B43 -> 0
A48: Cumuls annuels : | B48: Brut : | C48: =B18 -> 86.7
B49: Heures : | C49: =B20 -> 86.7
B50: Cotis. Sal. : | C50: =B43 -> 0
B51: Imposable : | C51: =F43 -> 0
B52: Cotis. Patr. | C52: =D43 -> -229.29
B53: Congés payés :

Sheet NOV14
A1: LE PINCE-OREILLE
D5: SALARIE
A9: Code APE : 9499 Z
A12: BULLETIN DE PAYE DU MOIS DE NOVEMBRE 2014
A13: du 01/11/2014 au 30/11/2014 en euros
B15: BASE | C15: CHARGES SALARIALES | E15: CHARGES PATRONALES
C16: TAUX | D16: MONTANTS | E16: TAUX | F16: MONTANTS
A18: Rémunération brute | B18: =PRODUCT(B20,B19) -> 86.7
A19: Taux
A20: Nombre d'heures | B20: 86.7
A21: Base rémunération total | B21: =B20*B19 -> 0
A23: SS Maladie,maternité,invalidité,décés | B23: =B20*$B$19 -> 0 | C23: 0.75 | D23: =B23*C23/100 -> 0 | E23: 12.8 | F23: =B23*E23/100 -> 0
A24: SS Vieillesse | B24: =B19*B20 -> 0 | C24: 0.1 | D24: =B24*C24/100 -> 0 | E24: 1.6 | F24: =B24*E24/100 -> 0
A25: Allocations familiales | B25: =B19*B20 -> 0 | E25: 5.4 | F25: =B25*E25/100 -> 0
A26: SS Vieil. Plaf. | B26: =B19*B20 -> 0 | C26: 6.75 | D26: =B26*C26/100 -> 0 | E26: 8.4 | F26: =B26*E26/100 -> 0
A27: Cotisation Logement (FNAL) (- de 20 salariés) | B27: =B19*B20 -> 0 | E27: 0.1 | F27: =B27*E27/100 -> 0
A28: Accidents du travail+Maladies proféssionnelles | B28: =B19*B20 -> 0 | E28: 1.5 | F28: =B28*E28/100 -> 0
A29: SS Solidarité Autonomie | B29: =B19*B20 -> 0 | E29: 0.3 | F29: =B29*E29/100 -> 0
A30: Assedic Chômage tranche A | B30: =B19*B20 -> 0 | C30: 2.4 | D30: =B30*C30/100 -> 0 | E30: 4 | F30: =B30*E30/100 -> 0
A31: AGS | B31: =B19*B20 -> 0 | E31: 0.3 | F31: =B31*E31/100 -> 0
A32: Retraite Complémentaire Non Cadres (ARRCO) | B32: =B19*B20 -> 0 | C32: 3 | D32: =B32*C32/100 -> 0 | E32: 4.5 | F32: =B32*E32/100 -> 0
A33: Cotisation AGFF Non Cadres | B33: =B19*B20 -> 0 | C33: 0.8 | D33: =B33*C33/100 -> 0 | E33: 1.2 | F33: =B33*E33/100 -> 0
A34: Taxe d'Apprentissage | B34: =B19*B20 -> 0 | E34: 0 | F34: =B34*E34/100 -> 0
A35: Participation Formation | B35: =B19*B20 -> 0 | E35: 1.9 | F35: =B35*E35/100 -> 0
A36: Taxe sur les salaires (-10 salariés) | B36: =B19*B20 -> 0 | E36: 0 | F36: =B36*E36/100 -> 0
A37: Réductin de cotisation Loi Fillon | E37: -100 | F37: -229.29
A38: CSG Déductible | B38: =98.25*B21/100 -> 0 | C38: 5.1 | D38: =B38*C38/100 -> 0
A39: CSG Non Déductible + CRDS | B39: =98.25*B21/100 -> 0 | C39: 2.9 | D39: =B39*C39/100 -> 0
A40: TOTAL RETENUES | D40: =SUM(D23:D39) -> 0 | F40: =SUM(F23:F39) -> -229.29
A42: Brut | B42: Cotisations salariales | D42: Cotisations patronales | F42: Imposable
A43: =B21 -> 0 | B43: =D40 -> 0 | D43: =F40 -> -229.29 | F43: =B21-B43+D39 -> 0
F45: Net à Payer
D46: PAYE PAR CHEQUE | F46: =B21-B43 -> 0
A48: Cumuls annuels : | B48: Brut : | C48: =B18 -> 86.7
B49: Heures : | C49: =B20 -> 86.7
B50: Cotis. Sal. : | C50: =B43 -> 0
B51: Imposable : | C51: =F43 -> 0
B52: Cotis. Patr. | C52: =D43 -> -229.29
B53: Congés payés :

Sheet DEC14
A1: LE PINCE-OREILLE
D5: SALARIE
A12: BULLETIN DE PAYE DU MOIS DE DECEMBRE 2014
A13: du 01/12/2014 au 31/12/2014 en euros
B15: BASE | C15: CHARGES SALARIALES | E15: CHARGES PATRONALES
C16: TAUX | D16: MONTANTS | E16: TAUX | F16: MONTANTS
A18: Rémunération brute | B18: =PRODUCT(B20,B19) -> 86.7
A19: Taux
A20: Nombre d'heures | B20: 86.7
A21: Base rémunération total | B21: =B20*B19 -> 0
A23: SS Maladie,maternité,invalidité,décés | B23: =B20*$B$19 -> 0 | C23: 0.75 | D23: =B23*C23/100 -> 0 | E23: 12.8 | F23: =B23*E23/100 -> 0
A24: SS Vieillesse | B24: =B19*B20 -> 0 | C24: 0.1 | D24: =B24*C24/100 -> 0 | E24: 1.6 | F24: =B24*E24/100 -> 0
A25: Allocations familiales | B25: =B19*B20 -> 0 | E25: 5.4 | F25: =B25*E25/100 -> 0
A26: SS Vieil. Plaf. | B26: =B19*B20 -> 0 | C26: 6.75 | D26: =B26*C26/100 -> 0 | E26: 8.4 | F26: =B26*E26/100 -> 0
A27: Cotisation Logement (FNAL) (- de 20 salariés) | B27: =B19*B20 -> 0 | E27: 0.1 | F27: =B27*E27/100 -> 0
A28: Accidents du travail+Maladies proféssionnelles | B28: =B19*B20 -> 0 | E28: 1.5 | F28: =B28*E28/100 -> 0
A29: SS Solidarité Autonomie | B29: =B19*B20 -> 0 | E29: 0.3 | F29: =B29*E29/100 -> 0
A30: Assedic Chômage tranche A | B30: =B19*B20 -> 0 | C30: 2.4 | D30: =B30*C30/100 -> 0 | E30: 4 | F30: =B30*E30/100 -> 0
A31: AGS | B31: =B19*B20 -> 0 | E31: 0.3 | F31: =B31*E31/100 -> 0
A32: Retraite Complémentaire Non Cadres (ARRCO) | B32: =B19*B20 -> 0 | C32: 3 | D32: =B32*C32/100 -> 0 | E32: 4.5 | F32: =B32*E32/100 -> 0
A33: Cotisation AGFF Non Cadres | B33: =B19*B20 -> 0 | C33: 0.8 | D33: =B33*C33/100 -> 0 | E33: 1.2 | F33: =B33*E33/100 -> 0
A34: Taxe d'Apprentissage | B34: =B19*B20 -> 0 | E34: 0 | F34: =B34*E34/100 -> 0
A35: Participation Formation | B35: =B19*B20 -> 0 | E35: 1.9 | F35: =B35*E35/100 -> 0
A36: Taxe sur les salaires (-10 salariés) | B36: =B19*B20 -> 0 | E36: 0 | F36: =B36*E36/100 -> 0
A37: Réductin de cotisation Loi Fillon | E37: -100 | F37: -229.29
A38: CSG Déductible | B38: =98.25*B21/100 -> 0 | C38: 5.1 | D38: =B38*C38/100 -> 0
A39: CSG Non Déductible + CRDS | B39: =98.25*B21/100 -> 0 | C39: 2.9 | D39: =B39*C39/100 -> 0
A40: TOTAL RETENUES | D40: =SUM(D23:D39) -> 0 | F40: =SUM(F23:F39) -> -229.29
A42: Brut | B42: Cotisations salariales | D42: Cotisations patronales | F42: Imposable
A43: =B21 -> 0 | B43: =D40 -> 0 | D43: =F40 -> -229.29 | F43: =B21-B43+D39 -> 0
F45: Net à Payer
D46: PAYE PAR CHEQUE | F46: =B21-B43 -> 0
A48: Cumuls annuels : | B48: Brut : | C48: =B18 -> 86.7
B49: Heures : | C49: =B20 -> 86.7
B50: Cotis. Sal. : | C50: =B43 -> 0
B51: Imposable : | C51: =F43 -> 0
B52: Cotis. Patr. | C52: =D43 -> -229.29
B53: Congés payés :
