Workbook

Sheet A
A1: Code | B1: Libellé | D1: Solde | E1: Non Echu | F1: moins de 30 jours | G1: de 31 à 60 jours | H1: de 61 à 90 jours | I1: de 91 à 120 jours | J1: de 121 à 150 jours | L1: de 151 à 180 jours | O1: au delà de 181 jours
A2: 00029 | D2: 0 | E2: 0 | F2: 309.63 | G2: 0 | H2: 0 | I2: 0 | J2: -309.63 | L2: 0 | O2: 0 | R2: =G2+H2+I2+J2+L2 -> -309.63
A3: 00030 | D3: 6392.42 | E3: 0 | F3: 4438.15 | G3: 1954.27 | H3: 0 | I3: 0 | J3: 0 | L3: 0 | O3: 0 | R3: =G3+H3+I3+J3+L3 -> 1954.27
A4: 00036 | D4: 3993.82 | E4: 0 | F4: 0 | G4: 3993.82 | H4: 0 | I4: 0 | J4: 0 | L4: 0 | O4: 0 | R4: =G4+H4+I4+J4+L4 -> 3993.82
A5: 00048 | D5: 423.18 | E5: 0 | F5: 198.15 | G5: 225.03 | H5: 0 | I5: 0 | J5: 0 | L5: 0 | O5: 0 | R5: =G5+H5+I5+J5+L5 -> 225.03
A6: 00136 | D6: 23660.12 | E6: 0 | F6: 14463.7 | G6: 9135.86 | H6: 0 | I6: 0 | J6: 0 | L6: 0 | O6: 60.56 | R6: =G6+H6+I6+J6+L6 -> 9135.86
A7: 00167 | D7: 3070.81 | E7: 0 | F7: 1029.14 | G7: 1367.91 | H7: 0 | I7: 113.19 | J7: 0 | L7: 131.51 | O7: 429.06 | R7: =G7+H7+I7+J7+L7 -> 1612.61
A8: 00199 | D8: 797267.59 | E8: 0 | F8: 797267.59 | G8: 0 | H8: 0 | I8: 0 | J8: 0 | L8: 0 | O8: 0 | R8: =G8+H8+I8+J8+L8 -> 0
A9: 00203 | D9: 1469.75 | E9: 0 | F9: 1469.75 | G9: 0 | H9: 0 | I9: 0 | J9: 0 | L9: 0 | O9: 0 | R9: =G9+H9+I9+J9+L9 -> 0
A10: 00206 | D10: 363.99 | E10: 0 | F10: 292.88 | G10: 0 | H10: 71.11 | I10: 0 | J10: 0 | L10: 0 | O10: 0 | R10: =G10+H10+I10+J10+L10 -> 71.11
A11: 00208 | D11: 434.73 | E11: 0 | F11: 434.73 | G11: 0 | H11: 0 | I11: 0 | J11: 0 | L11: 0 | O11: 0 | R11: =G11+H11+I11+J11+L11 -> 0
A12: 00212 | D12: 6540.49 | E12: 0 | F12: 6540.49 | G12: 0 | H12: 0 | I12: 0 | J12: 0 | L12: 0 | O12: 0 | R12: =G12+H12+I12+J12+L12 -> 0
A13: 00214 | D13: 0 | E13: 0 | F13: 0 | G13: 0 | H13: 0 | I13: 0 | J13: 0 | L13: 0 | O13: 0 | R13: =G13+H13+I13+J13+L13 -> 0
... A517: 99998 | D517: 0 | E517: 0 | F517: 0 | G517: 0 | H517: 0 | I517: 0 | J517: 0 | L517: 0 | O517: 0 | R517: =G517+H517+I517+J517+L517 -> 0
D518: 5689851.1 | E518: 0 | F518: 3670590.4 | G518: 1471605 | H518: 215527.42 | I518: 65489.38 | J518: 76849.72 | L518: 4915.72 | O518: 184873.49
E519: 0 | F519: 0.645111 | G519: 0.258636 | H519: 0.037879 | I519: 0.011509 | J519: 0.013506 | L519: 0.000863 | O519: 0.032491
A520: Devise de la société : EURO (EUR) | N520: 1 | Q520: / | R520: 0

Sheet Feuil1
B1: Numéro de client | F1: Montant factures échues
D2: Solde | E2: moins de 30 jours (non échue) | F2: 42855
B3: 00029 | F3: -309.63 | H3: 8
B4: 00030 | D4: 5390.19 | E4: 4066.79 | F4: 3546.58 | H4: =IF(F4="",3,IF(G4="",8,IF(F4>G4,5,IF(G4>F4,1,FALSE)))) -> 8
B5: 00048 | D5: 1298.22 | E5: 710.74 | F5: 55.39 | H5: =IF(F5="",3,IF(G5="",8,IF(F5>G5,5,IF(G5>F5,1,FALSE)))) -> 8
B6: 00136 | D6: 51904.07 | E6: 51843.51 | F6: 23364.98 | H6: =IF(F6="",3,IF(G6="",8,IF(F6>G6,5,IF(G6>F6,1,FALSE)))) -> 8
B7: 00167 | D7: 1369.24 | E7: 1193.76 | F7: 1331.21 | H7: =IF(F7="",3,IF(G7="",8,IF(F7>G7,5,IF(G7>F7,1,FALSE)))) -> 8
B8: 00182 | F8: 800.88 | H8: =IF(F8="",3,IF(G8="",8,IF(F8>G8,5,IF(G8>F8,1,FALSE)))) -> 8
B9: 00203 | E9: 2783.53 | F9: 3216 | H9: =IF(F9="",3,IF(G9="",8,IF(F9>G9,5,IF(G9>F9,1,FALSE)))) -> 8
B10: 00206 | H10: =IF(F10="",3,IF(G10="",8,IF(F10>G10,5,IF(G10>F10,1,FALSE)))) -> 3
B11: 00212 | D11: 924.18 | E11: 0 | F11: -625.91 | H11: 8
B12: 00215 | H12: =IF(F12="",3,IF(G12="",8,IF(F12>G12,5,IF(G12>F12,1,FALSE)))) -> 3
B13: 00235 | D13: 6905.51 | E13: 4942.07 | F13: 609.58 | H13: =IF(F13="",3,IF(G13="",8,IF(F13>G13,5,IF(G13>F13,1,FALSE)))) -> 8
B14: 00245 | D14: 53952.91 | E14: 19236.37 | F14: 20605.02 | H14: =IF(F14="",3,IF(G14="",8,IF(F14>G14,5,IF(G14>F14,1,FALSE)))) -> 8
B15: 00289
B16: 00293 | D16: 19704.86 | F16: 19704.86 | H16: =IF(F16="",3,IF(G16="",8,IF(F16>G16,5,IF(G16>F16,1,FALSE)))) -> 8
B17: 00319 | D17: 52682.12 | E17: 40073.21 | F17: 16915.48 | H17: =IF(F17="",3,IF(G17="",8,IF(F17>G17,5,IF(G17>F17,1,FALSE)))) -> 8
B18: 00338 | F18: 31648.11 | H18: =IF(F18="",3,IF(G18="",8,IF(F18>G18,5,IF(G18>F18,1,FALSE)))) -> 8
B19: 00350 | F19: 962.2 | H19: =IF(F19="",3,IF(G19="",8,IF(F19>G19,5,IF(G19>F19,1,FALSE)))) -> 8
B20: 00482 | D20: 32237.23 | E20: -9786.29 | F20: 53503.61 | H20: =IF(F20="",3,IF(G20="",8,IF(F20>G20,5,IF(G20>F20,1,FALSE)))) -> 8
B21: 00545 | D21: 20842.38 | E21: 9688.24 | F21: 16999.89 | H21: =IF(F21="",3,IF(G21="",8,IF(F21>G21,5,IF(G21>F21,1,FALSE)))) -> 8
B22: 00549 | F22: 1452.63 | H22: =IF(F22="",3,IF(G22="",8,IF(F22>G22,5,IF(G22>F22,1,FALSE)))) -> 8
B23: 00558 | D23: 6643 | E23: 4688.86 | F23: 3074.11 | H23: =IF(F23="",3,IF(G23="",8,IF(F23>G23,5,IF(G23>F23,1,FALSE)))) -> 8
B24: 00562 | D24: 1862.73 | E24: 928.22 | F24: 2645.59 | H24: =IF(F24="",3,IF(G24="",8,IF(F24>G24,5,IF(G24>F24,1,FALSE)))) -> 8
B25: 00568 | F25: 483.83 | H25: =IF(F25="",3,IF(G25="",8,IF(F25>G25,5,IF(G25>F25,1,FALSE)))) -> 8
B26: 00598 | D26: 4328.64 | E26: 1982.32 | H26: =IF(F26="",3,IF(G26="",8,IF(F26>G26,5,IF(G26>F26,1,FALSE)))) -> 3
B27: 00601 | D27: 26857.56 | E27: 9217.79 | F27: 3103.94 | H27: =IF(F27="",3,IF(G27="",8,IF(F27>G27,5,IF(G27>F27,1,FALSE)))) -> 8
B28: 00621 | D28: 5813.48 | E28: 4238.99 | F28: 2164.64 | H28: 3
B29: 00631 | F29: 21986.2 | H29: =IF(F29="",3,IF(G29="",8,IF(F29>G29,5,IF(G29>F29,1,FALSE)))) -> 8
B30: 00651 | D30: 26345.97 | E30: 7278.86 | F30: 6414.74 | H30: =IF(F30="",3,IF(G30="",8,IF(F30>G30,5,IF(G30>F30,1,FALSE)))) -> 8
B31: 00687 | D31: 14671.4 | E31: 11833.17 | F31: 11032.31 | H31: =IF(F31="",3,IF(G31="",8,IF(F31>G31,5,IF(G31>F31,1,FALSE)))) -> 8
B32: 00712 | F32: 3085.74 | H32: =IF(F32="",3,IF(G32="",8,IF(F32>G32,5,IF(G32>F32,1,FALSE)))) -> 8
B33: 00721 | D33: 12665.81 | E33: 4369.82 | F33: 23754.53 | H33: =IF(F33="",3,IF(G33="",8,IF(F33>G33,5,IF(G33>F33,1,FALSE)))) -> 8
B34: 00726 | D34: 55154.31 | E34: 45606.33 | F34: 14316.56 | H34: =IF(F34="",3,IF(G34="",8,IF(F34>G34,5,IF(G34>F34,1,FALSE)))) -> 8
B35: 00754 | F35: 11123.51 | H35: =IF(F35="",3,IF(G35="",8,IF(F35>G35,5,IF(G35>F35,1,FALSE)))) -> 8
B36: 00816 | H36: =IF(F36="",3,IF(G36="",8,IF(F36>G36,5,IF(G36>F36,1,FALSE)))) -> 3
B37: 00896 | F37: 2501.87 | H37: =IF(F37="",3,IF(G37="",8,IF(F37>G37,5,IF(G37>F37,1,FALSE)))) -> 8
B38: 00965 | D38: 560.16 | F38: 560.16 | H38: =IF(F38="",3,IF(G38="",8,IF(F38>G38,5,IF(G38>F38,1,FALSE)))) -> 8
B39: 01005 | D39: 632 | F39: 632 | H39: =IF(F39="",3,IF(G39="",8,IF(F39>G39,5,IF(G39>F39,1,FALSE)))) -> 8
B40: 01032 | F40: 59366.23 | H40: =IF(F40="",3,IF(G40="",8,IF(F40>G40,5,IF(G40>F40,1,FALSE)))) -> 8
B41: 01065 | D41: 27948.36 | E41: 24036.38 | F41: 11319.31 | H41: =IF(F41="",3,IF(G41="",8,IF(F41>G41,5,IF(G41>F41,1,FALSE)))) -> 8
B42: 01077 | D42: 25443.69 | E42: 14153.91 | F42: 16942.56 | H42: =IF(F42="",3,IF(G42="",8,IF(F42>G42,5,IF(G42>F42,1,FALSE)))) -> 8
B43: 01132 | D43: 6232.23 | E43: 4430.79 | F43: 13036.7 | H43: =IF(F43="",3,IF(G43="",8,IF(F43>G43,5,IF(G43>F43,1,FALSE)))) -> 8
B44: 01215 | F44: 2033.8 | H44: =IF(F44="",3,IF(G44="",8,IF(F44>G44,5,IF(G44>F44,1,FALSE)))) -> 8
B45: 01238 | F45: 1292.61 | H45: =IF(F45="",3,IF(G45="",8,IF(F45>G45,5,IF(G45>F45,1,FALSE)))) -> 8
B46: 01258 | F46: 1401.72 | H46: =IF(F46="",3,IF(G46="",8,IF(F46>G46,5,IF(G46>F46,1,FALSE)))) -> 8
B47: 01336 | F47: -247.57 | H47: =IF(F47="",3,IF(G47="",8,IF(F47>G47,5,IF(G47>F47,1,FALSE)))) -> 8
B48: 01358 | F48: 7928.74 | H48: =IF(F48="",3,IF(G48="",8,IF(F48>G48,5,IF(G48>F48,1,FALSE)))) -> 8
B49: 01361 | D49: 30126.93 | E49: 11645.68 | H49: =IF(F49="",3,IF(G49="",8,IF(F49>G49,5,IF(G49>F49,1,FALSE)))) -> 3
B50: 01371 | E50: 0 | H50: =IF(F50="",3,IF(G50="",8,IF(F50>G50,5,IF(G50>F50,1,FALSE)))) -> 3
B51: 01412 | D51: 32150.91 | E51: 17528.5 | F51: 12971.1 | H51: =IF(F51="",3,IF(G51="",8,IF(F51>G51,5,IF(G51>F51,1,FALSE)))) -> 8
B52: 01435 | F52: 415.31 | H52: =IF(F52="",3,IF(G52="",8,IF(F52>G52,5,IF(G52>F52,1,FALSE)))) -> 8
B53: 01462 | D53: 41199.36 | E53: 34884.72 | F53: 24321.47 | H53: =IF(F53="",3,IF(G53="",8,IF(F53>G53,5,IF(G53>F53,1,FALSE)))) -> 8
B54: 01497 | D54: 52787.6 | E54: 32964.09 | F54: 17845.72 | H54: =IF(F54="",3,IF(G54="",8,IF(F54>G54,5,IF(G54>F54,1,FALSE)))) -> 8
B55: 01500 | F55: 174.32 | H55: =IF(F55="",3,IF(G55="",8,IF(F55>G55,5,IF(G55>F55,1,FALSE)))) -> 8
B56: 01503 | H56: =IF(F56="",3,IF(G56="",8,IF(F56>G56,5,IF(G56>F56,1,FALSE)))) -> 3
B57: 01504 | F57: 88.9 | H57: =IF(F57="",3,IF(G57="",8,IF(F57>G57,5,IF(G57>F57,1,FALSE)))) -> 8
B58: 01580 | F58: 491.5 | H58: =IF(F58="",3,IF(G58="",8,IF(F58>G58,5,IF(G58>F58,1,FALSE)))) -> 8
B59: 01583 | F59: 1089.15 | H59: =IF(F59="",3,IF(G59="",8,IF(F59>G59,5,IF(G59>F59,1,FALSE)))) -> 8
B60: 01611 | H60: =IF(F60="",3,IF(G60="",8,IF(F60>G60,5,IF(G60>F60,1,FALSE)))) -> 3
B61: 01613 | F61: -12.76 | H61: 8
B62: 01618 | F62: 361.95 | H62: =IF(F62="",3,IF(G62="",8,IF(F62>G62,5,IF(G62>F62,1,FALSE)))) -> 8
B63: 01669 | D63: 23624.99 | E63: 20080.46 | F63: 751.53 | H63: =IF(F63="",3,IF(G63="",8,IF(F63>G63,5,IF(G63>F63,1,FALSE)))) -> 8
B64: 01674 | D64: 30352.05 | E64: 30307.97 | F64: 6776.87 | H64: =IF(F64="",3,IF(G64="",8,IF(F64>G64,5,IF(G64>F64,1,FALSE)))) -> 8
B65: 01685 | H65: =IF(F65="",3,IF(G65="",8,IF(F65>G65,5,IF(G65>F65,1,FALSE)))) -> 3
B66: 01686 | D66: 86466.89 | E66: 61140.53 | F66: 36411.63 | H66: =IF(F66="",3,IF(G66="",8,IF(F66>G66,5,IF(G66>F66,1,FALSE)))) -> 8
B67: 01727 | D67: 124458.58 | E67: 87870.21 | F67: 161155.57 | H67: =IF(F67="",3,IF(G67="",8,IF(F67>G67,5,IF(G67>F67,1,FALSE)))) -> 8
B68: 01735 | D68: 130536.49 | E68: 112487.7 | H68: =IF(F68="",3,IF(G68="",8,IF(F68>G68,5,IF(G68>F68,1,FALSE)))) -> 3
B69: 01785 | F69: 3337.79 | H69: =IF(F69="",3,IF(G69="",8,IF(F69>G69,5,IF(G69>F69,1,FALSE)))) -> 8
B70: 01791 | D70: 7287.18 | E70: 2822.99 | F70: 1485.77 | H70: =IF(F70="",3,IF(G70="",8,IF(F70>G70,5,IF(G70>F70,1,FALSE)))) -> 8
B71: 01810 | D71: 43836.75 | E71: 34285.48 | F71: 19093.69 | H71: =IF(F71="",3,IF(G71="",8,IF(F71>G71,5,IF(G71>F71,1,FALSE)))) -> 8
B72: 01843 | D72: 9128.43 | E72: 7912.68 | F72: 7662.35 | H72: =IF(F72="",3,IF(G72="",8,IF(F72>G72,5,IF(G72>F72,1,FALSE)))) -> 8
B73: 01850 | D73: 6656.58 | E73: 5454.59 | F73: 1208.34 | H73: =IF(F73="",3,IF(G73="",8,IF(F73>G73,5,IF(G73>F73,1,FALSE)))) -> 8
B74: 01956 | F74: 271.3 | H74: 3
B75: 01958 | D75: 6468.71 | E75: 4242.13 | H75: =IF(F75="",3,IF(G75="",8,IF(F75>G75,5,IF(G75>F75,1,FALSE)))) -> 3
B76: 02026 | H76: =IF(F76="",3,IF(G76="",8,IF(F76>G76,5,IF(G76>F76,1,FALSE)))) -> 3
B77: 02063 | D77: 44404.71 | E77: 37872.93 | F77: 13005.16 | H77: =IF(F77="",3,IF(G77="",8,IF(F77>G77,5,IF(G77>F77,1,FALSE)))) -> 8
B78: 02088 | D78: 5074.72 | E78: 3278.84 | F78: 2282.1 | H78: =IF(F78="",3,IF(G78="",8,IF(F78>G78,5,IF(G78>F78,1,FALSE)))) -> 8
B79: 02096 | D79: 196062.84 | E79: 122803.63 | F79: 75821.41 | H79: =IF(F79="",3,IF(G79="",8,IF(F79>G79,5,IF(G79>F79,1,FALSE)))) -> 8
B80: 02137 | D80: 71595.51 | E80: 52425.22 | F80: 27658.27 | H80: =IF(F80="",3,IF(G80="",8,IF(F80>G80,5,IF(G80>F80,1,FALSE)))) -> 8
B81: 02139 | F81: 5429.76 | H81: =IF(F81="",3,IF(G81="",8,IF(F81>G81,5,IF(G81>F81,1,FALSE)))) -> 8
B82: 02210 | F82: 791.81 | H82: =IF(F82="",3,IF(G82="",8,IF(F82>G82,5,IF(G82>F82,1,FALSE)))) -> 8
B83: 02247 | F83: 2264.21 | H83: =IF(F83="",3,IF(G83="",8,IF(F83>G83,5,IF(G83>F83,1,FALSE)))) -> 8
B84: 02309 | F84: 598.22 | H84: =IF(F84="",3,IF(G84="",8,IF(F84>G84,5,IF(G84>F84,1,FALSE)))) -> 8
B85: 02332 | D85: 190783.46 | E85: 134065.02 | F85: #N/A | H85: =IF(F85="",3,IF(G85="",8,IF(F85>G85,5,IF(G85>F85,1,FALSE)))) -> #N/A
B86: 02338 | F86: 15477.31 | H86: =IF(F86="",3,IF(G86="",8,IF(F86>G86,5,IF(G86>F86,1,FALSE)))) -> 8
B87: 02362 | D87: 652.8 | E87: 323.76 | F87: #N/A | H87: =IF(F87="",3,IF(G87="",8,IF(F87>G87,5,IF(G87>F87,1,FALSE)))) -> #N/A
B88: 02388 | D88: 1447.48 | E88: 284.3 | H88: =IF(F88="",3,IF(G88="",8,IF(F88>G88,5,IF(G88>F88,1,FALSE)))) -> 3
B89: 02404 | H89: =IF(F89="",3,IF(G89="",8,IF(F89>G89,5,IF(G89>F89,1,FALSE)))) -> 3
B90: 02412 | F90: #N/A | H90: =IF(F90="",3,IF(G90="",8,IF(F90>G90,5,IF(G90>F90,1,FALSE)))) -> #N/A
B91: 02435 | H91: =IF(F91="",3,IF(G91="",8,IF(F91>G91,5,IF(G91>F91,1,FALSE)))) -> 3
B92: 02449 | D92: 10561.5 | E92: 7171.52 | H92: =IF(F92="",3,IF(G92="",8,IF(F92>G92,5,IF(G92>F92,1,FALSE)))) -> 3
B93: 02457 | D93: 64809.7 | E93: 51379.23 | F93: #N/A | H93: =IF(F93="",3,IF(G93="",8,IF(F93>G93,5,IF(G93>F93,1,FALSE)))) -> #N/A
B94: 02469 | D94: 25529.88 | E94: 20703.25 | F94: #N/A | H94: =IF(F94="",3,IF(G94="",8,IF(F94>G94,5,IF(G94>F94,1,FALSE)))) -> #N/A
B95: 02470 | H95: =IF(F95="",3,IF(G95="",8,IF(F95>G95,5,IF(G95>F95,1,FALSE)))) -> 3
B96: 02475 | D96: 63872.7 | E96: 63672.78 | F96: #N/A | H96: =IF(F96="",3,IF(G96="",8,IF(F96>G96,5,IF(G96>F96,1,FALSE)))) -> #N/A
B97: 02480 | D97: 1199.43 | E97: 597.45 | F97: #N/A | H97: =IF(F97="",3,IF(G97="",8,IF(F97>G97,5,IF(G97>F97,1,FALSE)))) -> #N/A
B98: 02535 | D98: 6857.5 | E98: 4367.7 | F98: #N/A | H98: =IF(F98="",3,IF(G98="",8,IF(F98>G98,5,IF(G98>F98,1,FALSE)))) -> #N/A
B99: 02546 | F99: -61.11 | H99: 8
B100: 02565 | F100: #N/A | H100: =IF(F100="",3,IF(G100="",8,IF(F100>G100,5,IF(G100>F100,1,FALSE)))) -> #N/A
...

Sheet base client
A3: Code Client | B3: Raison sociale | C3: Raison sociale (suite) | D3: Contrôle 1 | F3: Contrôle 2 | G3: Total + 30jours
A4: 8888 | D4: =VLOOKUP(A4,Feuil1!$B$3:$G$428,1,FALSE) -> #N/A | E4: =VLOOKUP(A4,Feuil1!$B$3:$G$428,3,FALSE) -> #N/A | F4: =VLOOKUP(A4,A!$A$2:$R$517,1,FALSE) -> #N/A | G4: =VLOOKUP(A4,A!$A$2:$R$517,18,FALSE) -> #N/A
A5: 00001 | D5: =VLOOKUP(A5,Feuil1!$B$3:$G$428,1,FALSE) -> #N/A | E5: =VLOOKUP(A5,Feuil1!$B$3:$G$428,3,FALSE) -> #N/A | F5: =VLOOKUP(A5,A!$A$2:$R$517,1,FALSE) -> #N/A | G5: =VLOOKUP(A5,A!$A$2:$R$517,18,FALSE) -> #N/A
A6: 00002 | D6: =VLOOKUP(A6,Feuil1!$B$3:$G$428,1,FALSE) -> #N/A | E6: =VLOOKUP(A6,Feuil1!$B$3:$G$428,3,FALSE) -> #N/A | F6: =VLOOKUP(A6,A!$A$2:$R$517,1,FALSE) -> #N/A | G6: =VLOOKUP(A6,A!$A$2:$R$517,18,FALSE) -> #N/A
A7: 00003 | D7: =VLOOKUP(A7,Feuil1!$B$3:$G$428,1,FALSE) -> #N/A | E7: =VLOOKUP(A7,Feuil1!$B$3:$G$428,3,FALSE) -> #N/A | F7: =VLOOKUP(A7,A!$A$2:$R$517,1,FALSE) -> #N/A | G7: =VLOOKUP(A7,A!$A$2:$R$517,18,FALSE) -> #N/A
A8: 00004 | D8: =VLOOKUP(A8,Feuil1!$B$3:$G$428,1,FALSE) -> #N/A | E8: =VLOOKUP(A8,Feuil1!$B$3:$G$428,3,FALSE) -> #N/A | F8: =VLOOKUP(A8,A!$A$2:$R$517,1,FALSE) -> #N/A | G8: =VLOOKUP(A8,A!$A$2:$R$517,18,FALSE) -> #N/A
A9: 00005 | D9: =VLOOKUP(A9,Feuil1!$B$3:$G$428,1,FALSE) -> #N/A | E9: =VLOOKUP(A9,Feuil1!$B$3:$G$428,3,FALSE) -> #N/A | F9: =VLOOKUP(A9,A!$A$2:$R$517,1,FALSE) -> #N/A | G9: =VLOOKUP(A9,A!$A$2:$R$517,18,FALSE) -> #N/A
A10: 00006 | D10: =VLOOKUP(A10,Feuil1!$B$3:$G$428,1,FALSE) -> #N/A | E10: =VLOOKUP(A10,Feuil1!$B$3:$G$428,3,FALSE) -> #N/A | F10: =VLOOKUP(A10,A!$A$2:$R$517,1,FALSE) -> #N/A | G10: =VLOOKUP(A10,A!$A$2:$R$517,18,FALSE) -> #N/A
A11: 00007 | D11: =VLOOKUP(A11,Feuil1!$B$3:$G$428,1,FALSE) -> #N/A | E11: =VLOOKUP(A11,Feuil1!$B$3:$G$428,3,FALSE) -> #N/A | F11: =VLOOKUP(A11,A!$A$2:$R$517,1,FALSE) -> #N/A | G11: =VLOOKUP(A11,A!$A$2:$R$517,18,FALSE) -> #N/A
A12: 00008 | D12: =VLOOKUP(A12,Feuil1!$B$3:$G$428,1,FALSE) -> #N/A | E12: =VLOOKUP(A12,Feuil1!$B$3:$G$428,3,FALSE) -> #N/A | F12: =VLOOKUP(A12,A!$A$2:$R$517,1,FALSE) -> #N/A | G12: =VLOOKUP(A12,A!$A$2:$R$517,18,FALSE) -> #N/A
A13: 00009 | D13: =VLOOKUP(A13,Feuil1!$B$3:$G$428,1,FALSE) -> #N/A | E13: =VLOOKUP(A13,Feuil1!$B$3:$G$428,3,FALSE) -> #N/A | F13: =VLOOKUP(A13,A!$A$2:$R$517,1,FALSE) -> #N/A | G13: =VLOOKUP(A13,A!$A$2:$R$517,18,FALSE) -> #N/A
A14: 00010 | D14: =VLOOKUP(A14,Feuil1!$B$3:$G$428,1,FALSE) -> #N/A | E14: =VLOOKUP(A14,Feuil1!$B$3:$G$428,3,FALSE) -> #N/A | F14: =VLOOKUP(A14,A!$A$2:$R$517,1,FALSE) -> #N/A | G14: =VLOOKUP(A14,A!$A$2:$R$517,18,FALSE) -> #N/A
A15: 00011 | D15: =VLOOKUP(A15,Feuil1!$B$3:$G$428,1,FALSE) -> #N/A | E15: =VLOOKUP(A15,Feuil1!$B$3:$G$428,3,FALSE) -> #N/A | F15: =VLOOKUP(A15,A!$A$2:$R$517,1,FALSE) -> #N/A | G15: =VLOOKUP(A15,A!$A$2:$R$517,18,FALSE) -> #N/A
... A4945: SNP | D4945: =VLOOKUP(A4945,Feuil1!$B$3:$G$428,1,FALSE) -> #N/A | E4945: =VLOOKUP(A4945,Feuil1!$B$3:$G$428,3,FALSE) -> #N/A | F4945: =VLOOKUP(A4945,A!$A$2:$R$517,1,FALSE) -> #N/A | G4945: =VLOOKUP(A4945,A!$A$2:$R$517,18,FALSE) -> #N/A
