Workbook

Sheet A
A1: Code | B1: Libellé | D1: Solde | E1: Non Echu | F1: moins de 30 jours | G1: de 31 à 60 jours | H1: de 61 à 90 jours | I1: de 91 à 120 jours | J1: de 121 à 150 jours | L1: de 151 à 180 jours | O1: au delà de 181 jours
A2: 00029 | D2: 0 | E2: 0 | F2: 309.63 | G2: 0 | H2: 0 | I2: 0 | J2: -309.63 | L2: 0 | O2: 0 | R2: =G2+H2+I2+J2+L2 -> -309.63
A3: 00030 | D3: 6392.42 | E3: 0 | F3: 4438.15 | G3: 1954.27 | H3: 0 | I3: 0 | J3: 0 | L3: 0 | O3: 0 | R3: =G3+H3+I3+J3+L3 -> 1954.27
A4: 00036 | D4: 3993.82 | E4: 0 | F4: 0 | G4: 3993.82 | H4: 0 | I4: 0 | J4: 0 | L4: 0 | O4: 0 | R4: =G4+H4+I4+J4+L4 -> 3993.82
A5: 00048 | D5: 423.18 | E5: 0 | F5: 198.15 | G5: 225.03 | H5: 0 | I5: 0 | J5: 0 | L5: 0 | O5: 0 | R5: =G5+H5+I5+J5+L5 -> 225.03
A6: 00136 | D6: 23660.12 | E6: 0 | F6: 14463.7 | G6: 9135.86 | H6: 0 | I6: 0 | J6: 0 | L6: 0 | O6: 60.56 | R6: =G6+H6+I6+J6+L6 -> 9135.86
A7: 00167 | D7: 3070.81 | E7: 0 | F7: 1029.14 | G7: 1367.91 | H7: 0 | I7: 113.19 | J7: 0 | L7: 131.51 | O7: 429.06 | R7: =G7+H7+I7+J7+L7 -> 1612.61
A8: 00199 | D8: 797267.59 | E8: 0 | F8: 797267.59 | G8: 0 | H8: 0 | I8: 0 | J8: 0 | L8: 0 | O8: 0 | R8: =G8+H8+I8+J8+L8 -> 0
A9: 00203 | D9: 1469.75 | E9: 0 | F9: 1469.75 | G9: 0 | H9: 0 | I9: 0 | J9: 0 | L9: 0 | O9: 0 | R9: =G9+H9+I9+J9+L9 -> 0
A10: 00206 | D10: 363.99 | E10: 0 | F10: 292.88 | G10: 0 | H10: 71.11 | I10: 0 | J10: 0 | L10: 0 | O10: 0 | R10: =G10+H10+I10+J10+L10 -> 71.11
A11: 00208 | D11: 434.73 | E11: 0 | F11: 434.73 | G11: 0 | H11: 0 | I11: 0 | J11: 0 | L11: 0 | O11: 0 | R11: =G11+H11+I11+J11+L11 -> 0
A12: 00212 | D12: 6540.49 | E12: 0 | F12: 6540.49 | G12: 0 | H12: 0 | I12: 0 | J12: 0 | L12: 0 | O12: 0 | R12: =G12+H12+I12+J12+L12 -> 0
A13: 00214 | D13: 0 | E13: 0 | F13: 0 | G13: 0 | H13: 0 | I13: 0 | J13: 0 | L13: 0 | O13: 0 | R13: =G13+H13+I13+J13+L13 -> 0
... A517: 99998 | D517: 0 | E517: 0 | F517: 0 | G517: 0 | H517: 0 | I517: 0 | J517: 0 | L517: 0 | O517: 0 | R517: =G517+H517+I517+J517+L517 -> 0
D518: 5689851.1 | E518: 0 | F518: 3670590.4 | G518: 1471605 | H518: 215527.42 | I518: 65489.38 | J518: 76849.72 | L518: 4915.72 | O518: 184873.49
E519: 0 | F519: 0.645111 | G519: 0.258636 | H519: 0.037879 | I519: 0.011509 | J519: 0.013506 | L519: 0.000863 | O519: 0.032491
A520: Devise de la société : EURO (EUR) | N520: 1 | Q520: / | R520: 0

Sheet Feuil1
B1: Numéro de client | F1: Montant factures échues
D2: Solde | E2: moins de 30 jours (non échue) | F2: 42855
B3: 00029 | F3: -309.63 | H3: 8
B4: 00030 | D4: 5390.19 | E4: 4066.79 | F4: 3546.58 | H4: =IF(F4="",3,IF(G4="",8,IF(F4>G4,5,IF(G4>F4,1,FALSE)))) -> 8
B5: 00048 | D5: 1298.22 | E5: 710.74 | F5: 55.39 | H5: =IF(F5="",3,IF(G5="",8,IF(F5>G5,5,IF(G5>F5,1,FALSE)))) -> 8
B6: 00136 | D6: 51904.07 | E6: 51843.51 | F6: 23364.98 | H6: =IF(F6="",3,IF(G6="",8,IF(F6>G6,5,IF(G6>F6,1,FALSE)))) -> 8
B7: 00167 | D7: 1369.24 | E7: 1193.76 | F7: 1331.21 | H7: =IF(F7="",3,IF(G7="",8,IF(F7>G7,5,IF(G7>F7,1,FALSE)))) -> 8
B8: 00182 | F8: 800.88 | H8: =IF(F8="",3,IF(G8="",8,IF(F8>G8,5,IF(G8>F8,1,FALSE)))) -> 8
B9: 00203 | E9: 2783.53 | F9: 3216 | H9: =IF(F9="",3,IF(G9="",8,IF(F9>G9,5,IF(G9>F9,1,FALSE)))) -> 8
B10: 00206 | H10: =IF(F10="",3,IF(G10="",8,IF(F10>G10,5,IF(G10>F10,1,FALSE)))) -> 3
B11: 00212 | D11: 924.18 | E11: 0 | F11: -625.91 | H11: 8
B12: 00215 | H12: =IF(F12="",3,IF(G12="",8,IF(F12>G12,5,IF(G12>F12,1,FALSE)))) -> 3
B13: 00235 | D13: 6905.51 | E13: 4942.07 | F13: 609.58 | H13: =IF(F13="",3,IF(G13="",8,IF(F13>G13,5,IF(G13>F13,1,FALSE)))) -> 8
B14: 00245 | D14: 53952.91 | E14: 19236.37 | F14: 20605.02 | H14: =IF(F14="",3,IF(G14="",8,IF(F14>G14,5,IF(G14>F14,1,FALSE)))) -> 8
B15: 00289
B16: 00293 | D16: 19704.86 | F16: 19704.86 | H16: =IF(F16="",3,IF(G16="",8,IF(F16>G16,5,IF(G16>F16,1,FALSE)))) -> 8
B17: 00319 | D17: 52682.12 | E17: 40073.21 | F17: 16915.48 | H17: =IF(F17="",3,IF(G17="",8,IF(F17>G17,5,IF(G17>F17,1,FALSE)))) -> 8
B18: 00338 | F18: 31648.11 | H18: =IF(F18="",3,IF(G18="",8,IF(F18>G18,5,IF(G18>F18,1,FALSE)))) -> 8
B19: 00350 | F19: 962.2 | H19: =IF(F19="",3,IF(G19="",8,IF(F19>G19,5,IF(G19>F19,1,FALSE)))) -> 8
B20: 00482 | D20: 32237.23 | E20: -9786.29 | F20: 53503.61 | H20: =IF(F20="",3,IF(G20="",8,IF(F20>G20,5,IF(G20>F20,1,FALSE)))) -> 8
B21: 00545 | D21: 20842.38 | E21: 9688.24 | F21: 16999.89 | H21: =IF(F21="",3,IF(G21="",8,IF(F21>G21,5,IF(G21>F21,1,FALSE)))) -> 8
B22: 00549 | F22: 1452.63 | H22: =IF(F22="",3,IF(G22="",8,IF(F22>G22,5,IF(G22>F22,1,FALSE)))) -> 8
B23: 00558 | D23: 6643 | E23: 4688.86 | F23: 3074.11 | H23: =IF(F23="",3,IF(G23="",8,IF(F23>G23,5,IF(G23>F23,1,FALSE)))) -> 8
B24: 00562 | D24: 1862.73 | E24: 928.22 | F24: 2645.59 | H24: =IF(F24="",3,IF(G24="",8,IF(F24>G24,5,IF(G24>F24,1,FALSE)))) -> 8
B25: 00568 | F25: 483.83 | H25: =IF(F25="",3,IF(G25="",8,IF(F25>G25,5,IF(G25>F25,1,FALSE)))) -> 8
B26: 00598 | D26: 4328.64 | E26: 1982.32 | H26: =IF(F26="",3,IF(G26="",8,IF(F26>G26,5,IF(G26>F26,1,FALSE)))) -> 3
B27: 00601 | D27: 26857.56 | E27: 9217.79 | F27: 3103.94 | H27: =IF(F27="",3,IF(G27="",8,IF(F27>G27,5,IF(G27>F27,1,FALSE)))) -> 8
B28: 00621 | D28: 5813.48 | E28: 4238.99 | F28: 2164.64 | H28: 3
B29: 00631 | F29: 21986.2 | H29: =IF(F29="",3,IF(G29="",8,IF(F29>G29,5,IF(G29>F29,1,FALSE)))) -> 8
B30: 00651 | D30: 26345.97 | E30: 7278.86 | F30: 6414.74 | H30: =IF(F30="",3,IF(G30="",8,IF(F30>G30,5,IF(G30>F30,1,FALSE)))) -> 8
B31: 00687 | D31: 14671.4 | E31: 11833.17 | F31: 11032.31 | H31: =IF(F31="",3,IF(G31="",8,IF(F31>G31,5,IF(G31>F31,1,FALSE)))) -> 8
B32: 00712 | F32: 3085.74 | H32: =IF(F32="",3,IF(G32="",8,IF(F32>G32,5,IF(G32>F32,1,FALSE)))) -> 8
B33: 00721 | D33: 12665.81 | E33: 4369.82 | F33: 23754.53 | H33: =IF(F33="",3,IF(G33="",8,IF(F33>G33,5,IF(G33>F33,1,FALSE)))) -> 8
B34: 00726 | D34: 55154.31 | E34: 45606.33 | F34: 14316.56 | H34: =IF(F34="",3,IF(G34="",8,IF(F34>G34,5,IF(G34>F34,1,FALSE)))) -> 8
B35: 00754 | F35: 11123.51 | H35: =IF(F35="",3,IF(G35="",8,IF(F35>G35,5,IF(G35>F35,1,FALSE)))) -> 8
B36: 00816 | H36: =IF(F36="",3,IF(G36="",8,IF(F36>G36,5,IF(G36>F36,1,FALSE)))) -> 3
B37: 00896 | F37: 2501.87 | H37: =IF(F37="",3,IF(G37="",8,IF(F37>G37,5,IF(G37>F37,1,FALSE)))) -> 8
B38: 00965 | D38: 560.16 | F38: 560.16 | H38: =IF(F38="",3,IF(G38="",8,IF(F38>G38,5,IF(G38>F38,1,FALSE)))) -> 8
B39: 01005 | D39: 632 | F39: 632 | H39: =IF(F39="",3,IF(G39="",8,IF(F39>G39,5,IF(G39>F39,1,FALSE)))) -> 8
B40: 01032 | F40: 59366.23 | H40: =IF(F40="",3,IF(G40="",8,IF(F40>G40,5,IF(G40>F40,1,FALSE)))) -> 8
...

Sheet base client
A3: Code Client | B3: Raison sociale | C3: Raison sociale (suite) | D3: Contrôle 1 | F3: Contrôle 2 | G3: Total + 30jours
A4: 8888 | D4: =VLOOKUP(A4,Feuil1!$B$3:$G$428,1,FALSE) -> #N/A | E4: =VLOOKUP(A4,Feuil1!$B$3:$G$428,3,FALSE) -> #N/A | F4: =VLOOKUP(A4,A!$A$2:$R$517,1,FALSE) -> #N/A | G4: =VLOOKUP(A4,A!$A$2:$R$517,18,FALSE) -> #N/A
A5: 00001 | D5: =VLOOKUP(A5,Feuil1!$B$3:$G$428,1,FALSE) -> #N/A | E5: =VLOOKUP(A5,Feuil1!$B$3:$G$428,3,FALSE) -> #N/A | F5: =VLOOKUP(A5,A!$A$2:$R$517,1,FALSE) -> #N/A | G5: =VLOOKUP(A5,A!$A$2:$R$517,18,FALSE) -> #N/A
A6: 00002 | D6: =VLOOKUP(A6,Feuil1!$B$3:$G$428,1,FALSE) -> #N/A | E6: =VLOOKUP(A6,Feuil1!$B$3:$G$428,3,FALSE) -> #N/A | F6: =VLOOKUP(A6,A!$A$2:$R$517,1,FALSE) -> #N/A | G6: =VLOOKUP(A6,A!$A$2:$R$517,18,FALSE) -> #N/A
A7: 00003 | D7: =VLOOKUP(A7,Feuil1!$B$3:$G$428,1,FALSE) -> #N/A | E7: =VLOOKUP(A7,Feuil1!$B$3:$G$428,3,FALSE) -> #N/A | F7: =VLOOKUP(A7,A!$A$2:$R$517,1,FALSE) -> #N/A | G7: =VLOOKUP(A7,A!$A$2:$R$517,18,FALSE) -> #N/A
A8: 00004 | D8: =VLOOKUP(A8,Feuil1!$B$3:$G$428,1,FALSE) -> #N/A | E8: =VLOOKUP(A8,Feuil1!$B$3:$G$428,3,FALSE) -> #N/A | F8: =VLOOKUP(A8,A!$A$2:$R$517,1,FALSE) -> #N/A | G8: =VLOOKUP(A8,A!$A$2:$R$517,18,FALSE) -> #N/A
A9: 00005 | D9: =VLOOKUP(A9,Feuil1!$B$3:$G$428,1,FALSE) -> #N/A | E9: =VLOOKUP(A9,Feuil1!$B$3:$G$428,3,FALSE) -> #N/A | F9: =VLOOKUP(A9,A!$A$2:$R$517,1,FALSE) -> #N/A | G9: =VLOOKUP(A9,A!$A$2:$R$517,18,FALSE) -> #N/A
A10: 00006 | D10: =VLOOKUP(A10,Feuil1!$B$3:$G$428,1,FALSE) -> #N/A | E10: =VLOOKUP(A10,Feuil1!$B$3:$G$428,3,FALSE) -> #N/A | F10: =VLOOKUP(A10,A!$A$2:$R$517,1,FALSE) -> #N/A | G10: =VLOOKUP(A10,A!$A$2:$R$517,18,FALSE) -> #N/A
A11: 00007 | D11: =VLOOKUP(A11,Feuil1!$B$3:$G$428,1,FALSE) -> #N/A | E11: =VLOOKUP(A11,Feuil1!$B$3:$G$428,3,FALSE) -> #N/A | F11: =VLOOKUP(A11,A!$A$2:$R$517,1,FALSE) -> #N/A | G11: =VLOOKUP(A11,A!$A$2:$R$517,18,FALSE) -> #N/A
A12: 00008 | D12: =VLOOKUP(A12,Feuil1!$B$3:$G$428,1,FALSE) -> #N/A | E12: =VLOOKUP(A12,Feuil1!$B$3:$G$428,3,FALSE) -> #N/A | F12: =VLOOKUP(A12,A!$A$2:$R$517,1,FALSE) -> #N/A | G12: =VLOOKUP(A12,A!$A$2:$R$517,18,FALSE) -> #N/A
A13: 00009 | D13: =VLOOKUP(A13,Feuil1!$B$3:$G$428,1,FALSE) -> #N/A | E13: =VLOOKUP(A13,Feuil1!$B$3:$G$428,3,FALSE) -> #N/A | F13: =VLOOKUP(A13,A!$A$2:$R$517,1,FALSE) -> #N/A | G13: =VLOOKUP(A13,A!$A$2:$R$517,18,FALSE) -> #N/A
A14: 00010 | D14: =VLOOKUP(A14,Feuil1!$B$3:$G$428,1,FALSE) -> #N/A | E14: =VLOOKUP(A14,Feuil1!$B$3:$G$428,3,FALSE) -> #N/A | F14: =VLOOKUP(A14,A!$A$2:$R$517,1,FALSE) -> #N/A | G14: =VLOOKUP(A14,A!$A$2:$R$517,18,FALSE) -> #N/A
A15: 00011 | D15: =VLOOKUP(A15,Feuil1!$B$3:$G$428,1,FALSE) -> #N/A | E15: =VLOOKUP(A15,Feuil1!$B$3:$G$428,3,FALSE) -> #N/A | F15: =VLOOKUP(A15,A!$A$2:$R$517,1,FALSE) -> #N/A | G15: =VLOOKUP(A15,A!$A$2:$R$517,18,FALSE) -> #N/A
... A4945: SNP | D4945: =VLOOKUP(A4945,Feuil1!$B$3:$G$428,1,FALSE) -> #N/A | E4945: =VLOOKUP(A4945,Feuil1!$B$3:$G$428,3,FALSE) -> #N/A | F4945: =VLOOKUP(A4945,A!$A$2:$R$517,1,FALSE) -> #N/A | G4945: =VLOOKUP(A4945,A!$A$2:$R$517,18,FALSE) -> #N/A
