Workbook

Sheet résultat
A9: Nom de la cave | B9: Pile de début | C9: Pile de fin | D9: Observation | E9: Date heure début | F9: Verif nom de la cave | G9: Hauteur | H9: Résultat
A10: CR1 | B10: 49 | C10: 51 | E10: 42024.341 | F10: =VLOOKUP(A10,parametre!A1:D208,1) -> CPF | G10: 22 | H10: =((C10-B10)-1)*G10 -> 22
A11: CR1 | B11: 31 | C11: 33 | E11: 42024.341 | F11: =VLOOKUP(A11,parametre!A2:D209,1) -> CPF | G11: 22
A12: CR1 | B12: 37 | C12: 39 | E12: 42024.341 | F12: =VLOOKUP(A12,parametre!A3:D210,1) -> CPF | G12: 22
A13: CR1 | B13: 28 | C13: 30 | E13: 42024.341 | F13: =VLOOKUP(A13,parametre!A4:D211,1) -> CPF | G13: 22
A14: CR1 | B14: 19 | C14: 21 | E14: 42024.341 | F14: =VLOOKUP(A14,parametre!A5:D212,1) -> CPF | G14: 22
A15: CR1 | B15: 34 | C15: 36 | E15: 42024.341 | F15: =VLOOKUP(A15,parametre!A6:D213,1) -> 3PCFD | G15: 22
A16: CR1 | B16: 52 | C16: 54 | E16: 42024.341 | F16: =VLOOKUP(A16,parametre!A7:D214,1) -> 3PCFD | G16: 22
A17: CR1 | B17: 55 | C17: 57 | E17: 42024.341 | F17: =VLOOKUP(A17,parametre!A8:D215,1) -> 3PCFD | G17: 22
A18: CR1 | B18: 22 | C18: 24 | E18: 42024.341 | F18: =VLOOKUP(A18,parametre!A9:D216,1) -> 3PCFD | G18: 22
A19: CR1 | B19: 40 | C19: 42 | E19: 42024.341 | F19: =VLOOKUP(A19,parametre!A10:D217,1) -> 3PCFD | G19: 22
A20: CR1 | B20: 58 | C20: 60 | E20: 42024.341 | F20: =VLOOKUP(A20,parametre!A11:D218,1) -> 3PCFD | G20: 22
A21: CR1 | B21: 43 | C21: 45 | E21: 42024.341 | F21: =VLOOKUP(A21,parametre!A12:D219,1) -> 3PCFD | G21: 22
A22: CR1 | B22: 46 | C22: 48 | E22: 42024.341 | F22: =VLOOKUP(A22,parametre!A13:D220,1) -> 3PCFD | G22: 22
A28: Nom de la cave | B28: Pile de début | C28: Pile de fin | D28: Observation | E28: Date heure début | F28: =VLOOKUP(A28,parametre!A19:D226,1) -> CPF
A29: CHB1 | B29: 19 | C29: 21 | E29: 42037.333 | F29: =VLOOKUP(A29,parametre!A65:D272,1) -> 3PCFD
A30: CHB1 | B30: 85 | C30: 87 | E30: 42037.333 | F30: =VLOOKUP(A30,parametre!A66:D273,1) -> ASR
A31: CHB1 | B31: 70 | C31: 72 | E31: 42037.333 | F31: =VLOOKUP(A31,parametre!A67:D274,1) -> ACSA
A32: CHB1 | B32: 82 | C32: 84 | E32: 42037.333 | F32: =VLOOKUP(A32,parametre!A68:D275,1) -> ACSA
A33: CHB1 | B33: 34 | C33: 36 | E33: 42037.333 | F33: =VLOOKUP(A33,parametre!A69:D276,1) -> ACSA
A34: CHB1 | B34: 37 | C34: 39 | E34: 42037.333 | F34: =VLOOKUP(A34,parametre!A70:D277,1) -> ACSA
A35: CHB1 | B35: 46 | C35: 48 | E35: 42037.333 | F35: =VLOOKUP(A35,parametre!A71:D278,1) -> ASR
A36: CHB1 | B36: 73 | C36: 75 | E36: 42037.333 | F36: =VLOOKUP(A36,parametre!A72:D279,1) -> ASR
A37: CHB1 | B37: 79 | C37: 81 | E37: 42037.333 | F37: =VLOOKUP(A37,parametre!A73:D280,1) -> ACSA
A38: CHB1 | B38: 25 | C38: 27 | E38: 42037.333 | F38: =VLOOKUP(A38,parametre!A74:D281,1) -> ACSA
A39: CHB1 | B39: 28 | C39: 30 | E39: 42037.333 | F39: =VLOOKUP(A39,parametre!A75:D282,1) -> ACSA
A40: CHB1 | B40: 100 | C40: 102 | E40: 42037.333 | F40: =VLOOKUP(A40,parametre!A76:D283,1) -> ACSA
... A165: CR1 | B165: 7 | C165: 9 | E165: 42038.421 | F165: =VLOOKUP(A165,parametre!A201:D408,1) -> CPF

Sheet parametre
A1: Nom du couloir | B1: Nom …. | C1: Hauteur | D1: Nbr d'échelle 3p | E1: X3 | F1: PILE
A2: CR1 | B2: Cave Rempart couloir 1 | C2: 22 | D2: 20 | E2: =C2*D2*3 -> 1320 | F2: 1 à 60
A3: CR2 | B3: Cave Rempart couloir 2 | C3: 22 | D3: 24 | E3: =C3*D3*3 -> 1584 | F3: 1 à 60
A4: CR3 | B4: Cave Rempart couloir 3 | C4: 22 | D4: 24 | E4: =C4*D4*3 -> 1584 | F4: 1 à 60
A5: CR4 | B5: Cave Rempart couloir 4 | C5: 22 | D5: 24 | E5: =C5*D5*3 -> 1584 | F5: 1 à 60
A6: CR5 | B6: Cave Rempart couloir 5 | C6: 22 | D6: 24 | E6: =C6*D6*3 -> 1584 | F6: 1 à 60
A7: CR6 | B7: Cave Rempart couloir 6 | C7: 22 | D7: 24 | E7: =C7*D7*3 -> 1584 | F7: 1 à 60
A8: CR7 | B8: Cave Rempart couloir 7 | C8: 22 | D8: 24 | E8: =C8*D8*3 -> 1584 | F8: 1 à 60
A9: CR8 | B9: Cave Rempart couloir 8 | C9: 22 | D9: 24 | E9: =C9*D9*3 -> 1584 | F9: 1 à 60
A10: CR9 | B10: Cave Rempart couloir 9 | C10: 22 | D10: 24 | E10: =C10*D10*3 -> 1584 | F10: 1 à 60
A11: CR10 | B11: Cave Rempart couloir 10 | C11: 22 | D11: 24 | E11: =C11*D11*3 -> 1584 | F11: 1 à 60
A12: CR11 | B12: Cave Rempart couloir 11 | C12: 22 | D12: 24 | E12: =C12*D12*3 -> 1584 | F12: 1 à 60
A13: CR12 | B13: Cave Rempart couloir 12 | C13: 22 | D13: 12 | E13: =C13*D13*3 -> 792 | F13: 1 à 60
... A26: CR25 | B26: Cave Rempart couloir 25 | C26: 22 | D26: 24 | E26: =C26*D26*3 -> 1584 | F26: 1 à 60
A27: CRCF | B27: Cave Renpart côté Fort | C27: 22 | D27: =14+10 -> 24 | E27: =C27*D27*3 -> 1584 | F27: 1 à 96
A28: CRCL | B28: Cave Rempart côté Lac | C28: 21 | D28: =14+17 -> 31 | E28: =C28*D28*3 -> 1953 | F28: 1 à 96
A29: CEB1 | B29: Cour Entrée Bas allée 1 | C29: 22 | D29: 25 | E29: attention pile de 6 et autre de haut | F29: 1 à 75
A30: CEB2 | B30: Cour Entrée Bas allée 2 | C30: 22 | D30: 26 | E30: attention pile de 6 et autre de haut | F30: 1 à 75
A31: CEB3 | B31: Cour Entrée Bas allée 3 | C31: 22 | D31: 26 | E31: attention pile de 6 et autre de haut | F31: 1 à 75
A32: CEB4 | B32: Cour Entrée Bas allée 4 | C32: 22 | D32: 26 | E32: attention pile de 6 et autre de haut | F32: 1 à 75
A33: CEB5 | B33: Cour Entrée Bas allée 5 | C33: 22 | D33: 25 | E33: attention pile de 6 et autre de haut | F33: 1 à 75
A34: CEH1 | B34: Cour Entrée Haut allée 1 | C34: 8 | D34: 25 | E34: =C34*D34*3 -> 600 | F34: 1 à 108
A35: CEH2 | B35: Cour Entrée Haut allée 2 | C35: 8 | D35: 26 | E35: =C35*D35*3 -> 624 | F35: 1 à 108
A36: CEH3 | B36: Cour Entrée Haut allée 3 | C36: 8 | D36: 26 | E36: =C36*D36*3 -> 624 | F36: 1 à 108
A37: CEH4 | B37: Cour Entrée Haut allée 4 | C37: 8 | D37: 26 | E37: =C37*D37*3 -> 624 | F37: 1 à 108
A38: CEH5 | B38: Cour Entrée Haut allée 5 | C38: 8 | D38: 25 | E38: =C38*D38*3 -> 600 | F38: 1 à 66
A39: CHS1 | B39: Cour Honneur Suppérieur allée 1 | C39: 21 | D39: 22 | E39: =C39*D39*3 -> 1386 | F39: 67 à 138
C40: 19 | D40: 24 | E40: =C40*D40*3 -> 1368 | F40: 1 à 66
A41: CHS2 | B41: Cour Honneur Suppérieur allée 2 | C41: 22 | D41: 24 | E41: =C41*D41*3 -> 1584 | F41: 73 à 138
C42: 21 | D42: 22 | E42: =C42*D42*3 -> 1386 | F42: 1 à 69
A43: CHS3 | B43: Cour Honneur Suppérieur allée 3 | C43: 24 | D43: 23 | E43: =C43*D43*3 -> 1656 | F43: 70 à 144
C44: 24 | D44: 25 | E44: =C44*D44*3 -> 1800 | F44: 1 à 75
A45: CHS4 | B45: Cour Honneur Suppérieur allée 4 | C45: 25 | D45: 25 | E45: =C45*D45*3 -> 1875 | F45: 76 à 144
C46: 24 | D46: 23 | E46: =C46*D46*3 -> 1656 | F46: 1 à 69
A47: CHS5 | B47: Cour Honneur Suppérieur allée 5 | C47: 24 | D47: 23 | E47: =C47*D47*3 -> 1656 | F47: 70 à 144
C48: 25 | D48: 25 | E48: =C48*D48*3 -> 1875 | F48: 1 à 75
A49: CHS6 | B49: Cour Honneur Suppérieur allée 6 | C49: 24 | D49: 25 | E49: =C49*D49*3 -> 1800 | F49: 76 à 144
C50: 24 | D50: 23 | E50: =C50*D50*3 -> 1656 | F50: 1 à 69
A51: CHS7 | B51: Cour Honneur Suppérieur allée 7 | C51: 21 | D51: 23 | E51: =C51*D51*3 -> 1449 | F51: 70 à 144
C52: 22 | D52: 25 | E52: =C52*D52*3 -> 1650 | F52: 1 à 75
...

Sheet Feuil3
