Workbook
Name encaissement: '- Récap journée'!$J$3:$J$8
Name Nb_creneaux: '- Récap journée'!$G$4

Sheet  - 10h30
A1: VISITE
O9: TARIFS
O10: 7€ Ad
O11: 3,50€ Enf (4-12 ans)
O12: gratuit - de 4 ans
A16: Date de résa | B16: Résa prise par : | C16: résa par tél | D16: Bureau d'encaissement | E16: cumul | F16: Nom | G16: Téléphone | H16: adultes | I16: enfants | J16: moins de 4 ans | K16: carte d'hôte | L16: CAJ Enfant GRATUIT | M16: CAJ Adulte GRATUIT | N16: Groupe Adulte | O16: carte avantages jeunes ENFANT | P16: carte avantages jeunes ADULTE | Q16: autres avantages ou réductions | R16: montant | S16: mode de règlement | T16: Commentaires
A17: 42177 | B17: GR | C17: x | E17: =SUM(H17:Q17) -> 2 | H17: 2 | R17: =(H17*'- Récap journée'!$M$4)+(I17*'- Récap journée'!$M$5)+(O17*'- Récap journée'!M8)+(' - 10h30'!P17*'- Récap journée'!M9)+(N17*'- Récap journée'!M11) -> 14 | S17: Chq | T17: Mal
A18: 42181 | B18: CB | D18: Malb | E18: =SUM(H18:Q18)+E17 -> 4 | H18: 2 | R18: =(H18*'- Récap journée'!$M$4)+(I18*'- Récap journée'!$M$5)+(O18*'- Récap journée'!M9)+(' - 10h30'!P18*'- Récap journée'!M10)+(N18*'- Récap journée'!M12) -> 14 | S18: Esp
A19: 42183 | B19: MC | D19: Mét | E19: =SUM(H19:Q19)+E18 -> 8 | H19: 4 | R19: =(H19*'- Récap journée'!$M$4)+(I19*'- Récap journée'!$M$5)+(O19*'- Récap journée'!M10)+(' - 10h30'!P19*'- Récap journée'!M11)+(N19*'- Récap journée'!M13) -> 28 | S19: Esp
A20: 42184 | B20: EB | E20: =SUM(H20:Q20)+E19 -> 10 | H20: 2 | R20: =(H20*'- Récap journée'!$M$4)+(I20*'- Récap journée'!$M$5)+(O20*'- Récap journée'!M11)+(' - 10h30'!P20*'- Récap journée'!M12)+(N20*'- Récap journée'!M14) -> 14 | S20: Esp-FSA | T20: Sur place - résa prise au portier
A21: 42184 | B21: EB | E21: =SUM(H21:Q21)+E20 -> 12 | H21: 2 | R21: =(H21*'- Récap journée'!$M$4)+(I21*'- Récap journée'!$M$5)+(O21*'- Récap journée'!M12)+(' - 10h30'!P21*'- Récap journée'!M13)+(N21*'- Récap journée'!M15) -> 14 | S21: Esp-FSA | T21: Sur place - résa prise au portier
A22: 42184 | B22: EB | C22: X | E22: =SUM(H22:Q22)+E21 -> 14 | H22: 2 | R22: =(H22*'- Récap journée'!$M$4)+(I22*'- Récap journée'!$M$5)+(O22*'- Récap journée'!M13)+(' - 10h30'!P22*'- Récap journée'!M14)+(N22*'- Récap journée'!M16) -> 14 | S22: CB-FSA | T22: Sur place
A23: 42162 | E23: =SUM(H23:Q23)+E22 -> 43 | H23: 10 | I23: 1 | J23: 2 | K23: 1 | L23: 5 | N23: 10 | R23: =(H23*'- Récap journée'!$M$4)+(I23*'- Récap journée'!$M$5)+(O23*'- Récap journée'!M14)+(' - 10h30'!P23*'- Récap journée'!M15)+(N23*'- Récap journée'!M17) -> 73.5
A24: 42165 | E24: =SUM(H24:Q24)+E23 -> 95 | H24: 2 | N24: 50 | R24: =(H24*'- Récap journée'!$M$4)+(I24*'- Récap journée'!$M$5)+(O24*'- Récap journée'!M15)+(' - 10h30'!P24*'- Récap journée'!M16)+(N24*'- Récap journée'!M18) -> 14
A25: 42165 | E25: =SUM(H25:Q25)+E24 -> 110 | O25: 5 | P25: 10 | R25: =(H25*'- Récap journée'!$M$4)+(I25*'- Récap journée'!$M$5)+(O25*'- Récap journée'!M16)+(' - 10h30'!P25*'- Récap journée'!M17)+(N25*'- Récap journée'!M19) -> 0
A26: 42165 | E26: =SUM(H26:Q26)+E25 -> 160 | H26: 50 | R26: =(H26*'- Récap journée'!$M$4)+(I26*'- Récap journée'!$M$5)+(O26*'- Récap journée'!M17)+(' - 10h30'!P26*'- Récap journée'!M18)+(N26*'- Récap journée'!M20) -> 350
A27: 42165 | E27: =SUM(H27:Q27)+E26 -> 168 | H27: 3 | I27: 5 | R27: =(H27*'- Récap journée'!$M$4)+(I27*'- Récap journée'!$M$5)+(O27*'- Récap journée'!M18)+(' - 10h30'!P27*'- Récap journée'!M19)+(N27*'- Récap journée'!M21) -> 38.5
A28: 42165 | E28: =SUM(H28:Q28)+E27 -> 182 | H28: 10 | I28: 2 | L28: 1 | M28: 1 | R28: =(H28*'- Récap journée'!$M$4)+(I28*'- Récap journée'!$M$5)+(O28*'- Récap journée'!M19)+(' - 10h30'!P28*'- Récap journée'!M20)+(N28*'- Récap journée'!M22) -> 77
A29: 42166 | E29: =SUM(H29:Q29)+E28 -> 202 | H29: 18 | I29: 2 | R29: =(H29*'- Récap journée'!$M$4)+(I29*'- Récap journée'!$M$5)+(O29*'- Récap journée'!M20)+(' - 10h30'!P29*'- Récap journée'!M21)+(N29*'- Récap journée'!M23) -> 133
A30: 42170 | E30: =SUM(H30:Q30)+E29 -> 204 | H30: 2 | R30: =(H30*'- Récap journée'!$M$4)+(I30*'- Récap journée'!$M$5)+(O30*'- Récap journée'!M21)+(' - 10h30'!P30*'- Récap journée'!M22)+(N30*'- Récap journée'!M24) -> 14
E31: =SUM(H31:Q31)+E30 -> 206 | H31: 2 | R31: =(H31*'- Récap journée'!$M$4)+(I31*'- Récap journée'!$M$5)+(O31*'- Récap journée'!M22)+(' - 10h30'!P31*'- Récap journée'!M23)+(N31*'- Récap journée'!M25) -> 14
H32: =SUM(H17:H31) -> 111 | I32: =SUM(I17:I31) -> 10 | J32: =SUM(J17:J31) -> 2 | K32: =SUM(K17:K31) -> 1 | L32: =SUM(L17:L31) -> 6 | M32: =SUM(M17:M31) -> 1 | N32: =SUM(N17:N31) -> 60 | O32: =SUM(O17:O31) -> 5 | ... T32: =SUM(T17:T31) -> 0
F33: Total encaissemet O
F34: Total encaissment F
F36: Encaissement O : | J36: Encaissement F :
F37: Esp | G37: =SUMPRODUCT(($S$17:$S$31=F37)*$R$17:$R$31) -> 42 | J37: Esp-FSA | K37: =SUMPRODUCT(($S$17:$S$31=J37)*$R$17:$R$31) -> 28
F38: Chq | G38: =SUMPRODUCT(($S$17:$S$31=F38)*$R$17:$R$31) -> 14 | J38: Chq-FSA | K38: =SUMPRODUCT(($S$17:$S$31=J38)*$R$17:$R$31) -> 0
F39: CB | G39: =SUMPRODUCT(($S$17:$S$31=F39)*$R$17:$R$31) -> 0 | J39: CB-FSA | K39: =SUMPRODUCT(($S$17:$S$31=J39)*$R$17:$R$31) -> 14
F40: Total | G40: =SUM(G37:G39) -> 56 | J40: Total | K40: =SUM(K37:K39) -> 42
F43: Entrée Adulte | G43: =H32 -> 111
F44: Entrée Enfant | G44: =I32+K32 -> 11
F45: Entrée Gratuite | G45: =Q32 -> 0
F46: Entrée moins de 4 ans | G46: =J32 -> 2
F47: Entrée CAV jeune Enfant | G47: =O32 -> 5
F48: Entrée CAV jeune Adulte | G48: =P32 -> 10
F49: Entrée Gratuite CAV jeune Enfant | G49: =L32 -> 6
F50: Entrée Gratutie CAV jeune Adulte | G50: =M32 -> 1
F51: Goupe Adulte | G51: =N32 -> 60

Sheet  - 11h00
A1: VISITE
O9: TARIFS
O10: 7€ Ad
O11: 3,50€ Enf (4-12 ans)
O12: gratuit - de 4 ans
A16: Date de résa | B16: Résa prise par : | C16: résa par tél | D16: Bureau d'encaissement | E16: cumul | F16: Nom | G16: Téléphone | H16: adultes | I16: enfants | J16: moins de 4 ans | K16: carte d'hôte | L16: CAJ Enfant GRATUIT | M16: CAJ Adulte GRATUIT | N16: Groupe Adulte | O16: carte avantages jeunes ENFANT | P16: carte avantages jeunes ADULTE | Q16: autres avantages ou réductions | R16: montant | S16: mode de règlement | T16: Commentaires
A17: 42177 | B17: GR | C17: x | E17: =SUM(H17:Q17) -> 2 | H17: 2 | R17: =(H17*'- Récap journée'!$M$4)+(I17*'- Récap journée'!$M$5)+(O17*'- Récap journée'!M8)+(' - 10h30'!P17*'- Récap journée'!M9)+(N17*'- Récap journée'!M11) -> 14 | S17: Chq | T17: Mal
A18: 42181 | B18: CB | D18: Malb | E18: =SUM(H18:Q18)+E17 -> 4 | H18: 2 | R18: =(H18*'- Récap journée'!$M$4)+(I18*'- Récap journée'!$M$5)+(O18*'- Récap journée'!M9)+(' - 10h30'!P18*'- Récap journée'!M10)+(N18*'- Récap journée'!M12) -> 14 | S18: Esp
A19: 42183 | B19: MC | D19: Mét | E19: =SUM(H19:Q19)+E18 -> 8 | H19: 4 | R19: =(H19*'- Récap journée'!$M$4)+(I19*'- Récap journée'!$M$5)+(O19*'- Récap journée'!M10)+(' - 10h30'!P19*'- Récap journée'!M11)+(N19*'- Récap journée'!M13) -> 28 | S19: Esp
A20: 42184 | B20: EB | E20: =SUM(H20:Q20)+E19 -> 10 | H20: 2 | R20: =(H20*'- Récap journée'!$M$4)+(I20*'- Récap journée'!$M$5)+(O20*'- Récap journée'!M11)+(' - 10h30'!P20*'- Récap journée'!M12)+(N20*'- Récap journée'!M14) -> 14 | S20: Esp-FSA | T20: Sur place - résa prise au portier
A21: 42184 | B21: EB | E21: =SUM(H21:Q21)+E20 -> 12 | H21: 2 | R21: =(H21*'- Récap journée'!$M$4)+(I21*'- Récap journée'!$M$5)+(O21*'- Récap journée'!M12)+(' - 10h30'!P21*'- Récap journée'!M13)+(N21*'- Récap journée'!M15) -> 14 | S21: Esp-FSA | T21: Sur place - résa prise au portier
A22: 42184 | B22: EB | C22: X | E22: =SUM(H22:Q22)+E21 -> 14 | H22: 2 | R22: =(H22*'- Récap journée'!$M$4)+(I22*'- Récap journée'!$M$5)+(O22*'- Récap journée'!M13)+(' - 10h30'!P22*'- Récap journée'!M14)+(N22*'- Récap journée'!M16) -> 14 | S22: CB-FSA | T22: Sur place
A23: 42184 | E23: =SUM(H23:Q23)+E22 -> 21 | I23: 1 | L23: 2 | M23: 4 | R23: =(H23*'- Récap journée'!$M$4)+(I23*'- Récap journée'!$M$5)+(O23*'- Récap journée'!M14)+(' - 10h30'!P23*'- Récap journée'!M15)+(N23*'- Récap journée'!M17) -> 3.5
A24: 42184 | E24: =SUM(H24:Q24)+E23 -> 23 | H24: 2 | R24: =(H24*'- Récap journée'!$M$4)+(I24*'- Récap journée'!$M$5)+(O24*'- Récap journée'!M21)+(' - 10h30'!P30*'- Récap journée'!M22)+(N24*'- Récap journée'!M24) -> 14
A25: 42184 | E25: =SUM(H25:Q25)+E24 -> 24 | H25: 1 | R25: =(H25*'- Récap journée'!$M$4)+(I25*'- Récap journée'!$M$5)+(O25*'- Récap journée'!M22)+(' - 10h30'!P31*'- Récap journée'!M23)+(N25*'- Récap journée'!M25) -> 7
H26: =SUM(H17:H25) -> 17 | I26: =SUM(I17:I25) -> 1 | J26: =SUM(J17:J25) -> 0 | K26: =SUM(K17:K25) -> 0 | L26: =SUM(L17:L25) -> 2 | M26: =SUM(M17:M25) -> 4 | N26: =SUM(N17:N25) -> 0 | O26: =SUM(O17:O25) -> 0 | ... T26: =SUM(T17:T25) -> 0
F27: Total encaissemet O
F28: Total encaissment F
F30: Encaissement O : | J30: Encaissement F :
F31: Esp | G31: =SUMPRODUCT(($S$17:$S$25=F31)*$R$17:$R$25) -> 42 | J31: Esp-FSA | K31: =SUMPRODUCT(($S$17:$S$25=J31)*$R$17:$R$25) -> 28
F32: Chq | G32: =SUMPRODUCT(($S$17:$S$25=F32)*$R$17:$R$25) -> 14 | J32: Chq-FSA | K32: =SUMPRODUCT(($S$17:$S$25=J32)*$R$17:$R$25) -> 0
F33: CB | G33: =SUMPRODUCT(($S$17:$S$25=F33)*$R$17:$R$25) -> 0 | J33: CB-FSA | K33: =SUMPRODUCT(($S$17:$S$25=J33)*$R$17:$R$25) -> 14
F34: Total | G34: =SUM(G31:G33) -> 56 | J34: Total | K34: =SUM(K31:K33) -> 42
F37: Entrée Adulte | G37: =H26 -> 17
F38: Entrée Enfant | G38: =I26+K26 -> 1
F39: Entrée Gratuite | G39: =Q26 -> 0
F40: Entrée moins de 4 ans | G40: =J26 -> 0
F41: Entrée CAV jeune Enfant | G41: =O26 -> 0
F42: Entrée CAV jeune Adulte | G42: =P26 -> 0
F43: Entrée Gratuite CAV jeune Enfant | G43: =L26 -> 2
F44: Entrée Gratutie CAV jeune Adulte | G44: =M26 -> 4
F45: Goupe Adulte | G45: =N26 -> 0

Sheet  - 11h30
A1: VISITE
O9: TARIFS
O10: 7€ Ad
O11: 3,50€ Enf (4-12 ans)
O12: gratuit - de 4 ans
A16: Date de résa | B16: Résa prise par : | C16: résa par tél | D16: Bureau d'encaissement | E16: cumul | F16: Nom | G16: Téléphone | H16: adultes | I16: enfants | J16: moins de 4 ans | K16: carte d'hôte | L16: CAJ Enfant GRATUIT | M16: CAJ Adulte GRATUIT | N16: Groupe Adulte | O16: carte avantages jeunes ENFANT | P16: carte avantages jeunes ADULTE | Q16: autres avantages ou réductions | R16: montant | S16: mode de règlement | T16: Commentaires
A17: 42177 | B17: GR | C17: x | E17: =SUM(H17:Q17) -> 2 | H17: 2 | R17: =(H17*'- Récap journée'!$M$4)+(I17*'- Récap journée'!$M$5)+(O17*'- Récap journée'!M8)+(' - 10h30'!P17*'- Récap journée'!M9)+(N17*'- Récap journée'!M11) -> 14 | S17: Chq | T17: Mal
A18: 42181 | B18: CB | D18: Malb | E18: =SUM(H18:Q18)+E17 -> 4 | H18: 2 | R18: =(H18*'- Récap journée'!$M$4)+(I18*'- Récap journée'!$M$5)+(O18*'- Récap journée'!M9)+(' - 10h30'!P18*'- Récap journée'!M10)+(N18*'- Récap journée'!M12) -> 14 | S18: Esp
A19: 42183 | B19: MC | D19: Mét | E19: =SUM(H19:Q19)+E18 -> 8 | H19: 4 | R19: =(H19*'- Récap journée'!$M$4)+(I19*'- Récap journée'!$M$5)+(O19*'- Récap journée'!M10)+(' - 10h30'!P19*'- Récap journée'!M11)+(N19*'- Récap journée'!M13) -> 28 | S19: Esp
A20: 42184 | B20: EB | E20: =SUM(H20:Q20)+E19 -> 10 | H20: 2 | R20: =(H20*'- Récap journée'!$M$4)+(I20*'- Récap journée'!$M$5)+(O20*'- Récap journée'!M11)+(' - 10h30'!P20*'- Récap journée'!M12)+(N20*'- Récap journée'!M14) -> 14 | S20: Esp-FSA | T20: Sur place - résa prise au portier
A21: 42184 | B21: EB | E21: =SUM(H21:Q21)+E20 -> 12 | H21: 2 | R21: =(H21*'- Récap journée'!$M$4)+(I21*'- Récap journée'!$M$5)+(O21*'- Récap journée'!M12)+(' - 10h30'!P21*'- Récap journée'!M13)+(N21*'- Récap journée'!M15) -> 14 | S21: Esp-FSA | T21: Sur place - résa prise au portier
A22: 42184 | B22: EB | C22: X | E22: =SUM(H22:Q22)+E21 -> 14 | H22: 2 | R22: =(H22*'- Récap journée'!$M$4)+(I22*'- Récap journée'!$M$5)+(O22*'- Récap journée'!M13)+(' - 10h30'!P22*'- Récap journée'!M14)+(N22*'- Récap journée'!M16) -> 14 | S22: CB-FSA | T22: Sur place
A23: 42179 | E23: =SUM(H23:Q23)+E22 -> 16 | H23: 2 | R23: =(H23*'- Récap journée'!$M$4)+(I23*'- Récap journée'!$M$5)+(O23*'- Récap journée'!M14)+(' - 10h30'!P23*'- Récap journée'!M15)+(N23*'- Récap journée'!M17) -> 14
A24: 42179 | E24: =SUM(H24:Q24)+E23 -> 21 | H24: 5 | R24: =(H24*'- Récap journée'!$M$4)+(I24*'- Récap journée'!$M$5)+(O24*'- Récap journée'!M15)+(' - 10h30'!P24*'- Récap journée'!M16)+(N24*'- Récap journée'!M18) -> 35
A25: 42179 | E25: =SUM(H25:Q25)+E24 -> 27 | H25: 6 | R25: =(H25*'- Récap journée'!$M$4)+(I25*'- Récap journée'!$M$5)+(O25*'- Récap journée'!M19)+(' - 10h30'!P28*'- Récap journée'!M20)+(N25*'- Récap journée'!M22) -> 42
A26: 42179 | E26: =SUM(H26:Q26)+E25 -> 77 | N26: 50 | R26: =(H26*'- Récap journée'!$M$4)+(I26*'- Récap journée'!$M$5)+(O26*'- Récap journée'!M20)+(' - 10h30'!P29*'- Récap journée'!M21)+(N26*'- Récap journée'!M23) -> 0
A27: 42179 | E27: =SUM(H27:Q27)+E26 -> 78 | H27: 1 | R27: =(H27*'- Récap journée'!$M$4)+(I27*'- Récap journée'!$M$5)+(O27*'- Récap journée'!M21)+(' - 10h30'!P30*'- Récap journée'!M22)+(N27*'- Récap journée'!M24) -> 7
A28: 42179 | E28: =SUM(H28:Q28)+E27 -> 80 | H28: 2 | R28: =(H28*'- Récap journée'!$M$4)+(I28*'- Récap journée'!$M$5)+(O28*'- Récap journée'!M22)+(' - 10h30'!P31*'- Récap journée'!M23)+(N28*'- Récap journée'!M25) -> 14
H29: =SUM(H17:H28) -> 30 | I29: =SUM(I17:I28) -> 0 | J29: =SUM(J17:J28) -> 0 | K29: =SUM(K17:K28) -> 0 | L29: =SUM(L17:L28) -> 0 | M29: =SUM(M17:M28) -> 0 | N29: =SUM(N17:N28) -> 50 | O29: =SUM(O17:O28) -> 0 | ... T29: =SUM(T17:T28) -> 0
F30: Total encaissemet O
F31: Total encaissment F
F33: Encaissement O : | J33: Encaissement F :
F34: Esp | G34: =SUMPRODUCT(($S$17:$S$28=F34)*$R$17:$R$28) -> 42 | J34: Esp-FSA | K34: =SUMPRODUCT(($S$17:$S$28=J34)*$R$17:$R$28) -> 28
F35: Chq | G35: =SUMPRODUCT(($S$17:$S$28=F35)*$R$17:$R$28) -> 14 | J35: Chq-FSA | K35: =SUMPRODUCT(($S$17:$S$28=J35)*$R$17:$R$28) -> 0
F36: CB | G36: =SUMPRODUCT(($S$17:$S$28=F36)*$R$17:$R$28) -> 0 | J36: CB-FSA | K36: =SUMPRODUCT(($S$17:$S$28=J36)*$R$17:$R$28) -> 14
F37: Total | G37: =SUM(G34:G36) -> 56 | J37: Total | K37: =SUM(K34:K36) -> 42
F40: Entrée Adulte | G40: =H29 -> 30
F41: Entrée Enfant | G41: =I29+K29 -> 0
F42: Entrée Gratuite | G42: =Q29 -> 0
F43: Entrée moins de 4 ans | G43: =J29 -> 0
F44: Entrée CAV jeune Enfant | G44: =O29 -> 0
F45: Entrée CAV jeune Adulte | G45: =P29 -> 0
F46: Entrée Gratuite CAV jeune Enfant | G46: =L29 -> 0
F47: Entrée Gratutie CAV jeune Adulte | G47: =M29 -> 0
F48: Goupe Adulte | G48: =N29 -> 50

Sheet  - 13h00
A1: VISITE
O9: TARIFS
O10: 7€ Ad
O11: 3,50€ Enf (4-12 ans)
O12: gratuit - de 4 ans
A16: Date de résa | B16: Résa prise par : | C16: résa par tél | D16: Bureau d'encaissement | E16: cumul | F16: Nom | G16: Téléphone | H16: adultes | I16: enfants | J16: moins de 4 ans | K16: carte d'hôte | L16: CAJ Enfant GRATUIT | M16: CAJ Adulte GRATUIT | N16: Groupe Adulte | O16: carte avantages jeunes ENFANT | P16: carte avantages jeunes ADULTE | Q16: autres avantages ou réductions | R16: montant | S16: mode de règlement | T16: Commentaires
A17: 42177 | B17: GR | C17: x | E17: =SUM(H17:Q17) -> 2 | H17: 2 | R17: =(H17*'- Récap journée'!$M$4)+(I17*'- Récap journée'!$M$5)+(O17*'- Récap journée'!M8)+(' - 10h30'!P17*'- Récap journée'!M9)+(N17*'- Récap journée'!M11) -> 14 | S17: Chq | T17: Mal
A18: 42181 | B18: CB | D18: Malb | E18: =SUM(H18:Q18)+E17 -> 4 | H18: 2 | R18: =(H18*'- Récap journée'!$M$4)+(I18*'- Récap journée'!$M$5)+(O18*'- Récap journée'!M9)+(' - 10h30'!P18*'- Récap journée'!M10)+(N18*'- Récap journée'!M12) -> 14 | S18: Esp
A19: 42183 | B19: MC | D19: Mét | E19: =SUM(H19:Q19)+E18 -> 8 | H19: 4 | R19: =(H19*'- Récap journée'!$M$4)+(I19*'- Récap journée'!$M$5)+(O19*'- Récap journée'!M10)+(' - 10h30'!P19*'- Récap journée'!M11)+(N19*'- Récap journée'!M13) -> 28 | S19: Esp
A20: 42184 | B20: EB | E20: =SUM(H20:Q20)+E19 -> 10 | H20: 2 | R20: =(H20*'- Récap journée'!$M$4)+(I20*'- Récap journée'!$M$5)+(O20*'- Récap journée'!M11)+(' - 10h30'!P20*'- Récap journée'!M12)+(N20*'- Récap journée'!M14) -> 14 | S20: Esp-FSA | T20: Sur place - résa prise au portier
A21: 42184 | B21: EB | E21: =SUM(H21:Q21)+E20 -> 18 | H21: 2 | L21: 4 | O21: 2 | R21: =(H21*'- Récap journée'!$M$4)+(I21*'- Récap journée'!$M$5)+(O21*'- Récap journée'!M12)+(' - 10h30'!P21*'- Récap journée'!M13)+(N21*'- Récap journée'!M15) -> 14 | S21: Esp-FSA | T21: Sur place - résa prise au portier
A22: 42184 | B22: EB | C22: X | E22: =SUM(H22:Q22)+E21 -> 20 | H22: 2 | R22: =(H22*'- Récap journée'!$M$4)+(I22*'- Récap journée'!$M$5)+(O22*'- Récap journée'!M13)+(' - 10h30'!P22*'- Récap journée'!M14)+(N22*'- Récap journée'!M16) -> 14 | S22: CB-FSA | T22: Sur place
A23: 42184 | E23: =SUM(H23:Q23)+E22 -> 22 | H23: 1 | P23: 1 | R23: =(H23*'- Récap journée'!$M$4)+(I23*'- Récap journée'!$M$5)+(O23*'- Récap journée'!M14)+(' - 10h30'!P23*'- Récap journée'!M15)+(N23*'- Récap journée'!M17) -> 7
A24: 42184 | E24: =SUM(H24:Q24)+E23 -> 24 | H24: 2 | R24: =(H24*'- Récap journée'!$M$4)+(I24*'- Récap journée'!$M$5)+(O24*'- Récap journée'!M15)+(' - 10h30'!P24*'- Récap journée'!M16)+(N24*'- Récap journée'!M18) -> 14
A25: 42184 | E25: =SUM(H25:Q25)+E24 -> 74 | H25: 50 | R25: =(H25*'- Récap journée'!$M$4)+(I25*'- Récap journée'!$M$5)+(O25*'- Récap journée'!M16)+(' - 10h30'!P25*'- Récap journée'!M17)+(N25*'- Récap journée'!M19) -> 350
A26: 42184 | E26: =SUM(H26:Q26)+E25 -> 89 | H26: 6 | N26: 6 | P26: 3 | R26: =(H26*'- Récap journée'!$M$4)+(I26*'- Récap journée'!$M$5)+(O26*'- Récap journée'!M17)+(' - 10h30'!P26*'- Récap journée'!M18)+(N26*'- Récap journée'!M20) -> 42
A27: 42184 | E27: =SUM(H27:Q27)+E26 -> 97 | H27: 8 | R27: =(H27*'- Récap journée'!$M$4)+(I27*'- Récap journée'!$M$5)+(O27*'- Récap journée'!M18)+(' - 10h30'!P27*'- Récap journée'!M19)+(N27*'- Récap journée'!M21) -> 56
A28: 42184 | E28: =SUM(H28:Q28)+E27 -> 111 | H28: 9 | L28: 5 | R28: =(H28*'- Récap journée'!$M$4)+(I28*'- Récap journée'!$M$5)+(O28*'- Récap journée'!M19)+(' - 10h30'!P28*'- Récap journée'!M20)+(N28*'- Récap journée'!M22) -> 63
A29: 42184 | E29: =SUM(H29:Q29)+E28 -> 113 | H29: 1 | Q29: 1 | R29: =(H29*'- Récap journée'!$M$4)+(I29*'- Récap journée'!$M$5)+(O29*'- Récap journée'!M20)+(' - 10h30'!P29*'- Récap journée'!M21)+(N29*'- Récap journée'!M23) -> 7
H30: =SUM(H17:H29) -> 91 | I30: =SUM(I17:I29) -> 0 | J30: =SUM(J17:J29) -> 0 | K30: =SUM(K17:K29) -> 0 | L30: =SUM(L17:L29) -> 9 | M30: =SUM(M17:M29) -> 0 | N30: =SUM(N17:N29) -> 6 | O30: =SUM(O17:O29) -> 2 | ... T30: =SUM(T17:T29) -> 0
F31: Total encaissemet O
F32: Total encaissment F
F34: Encaissement O : | J34: Encaissement F :
F35: Esp | G35: =SUMPRODUCT(($S$17:$S$29=F35)*$R$17:$R$29) -> 42 | J35: Esp-FSA | K35: =SUMPRODUCT(($S$17:$S$29=J35)*$R$17:$R$29) -> 28
F36: Chq | G36: =SUMPRODUCT(($S$17:$S$29=F36)*$R$17:$R$29) -> 14 | J36: Chq-FSA | K36: =SUMPRODUCT(($S$17:$S$29=J36)*$R$17:$R$29) -> 0
F37: CB | G37: =SUMPRODUCT(($S$17:$S$29=F37)*$R$17:$R$29) -> 0 | J37: CB-FSA | K37: =SUMPRODUCT(($S$17:$S$29=J37)*$R$17:$R$29) -> 14
F38: Total | G38: =SUM(G35:G37) -> 56 | J38: Total | K38: =SUM(K35:K37) -> 42
F41: Entrée Adulte | G41: =H30 -> 91
F42: Entrée Enfant | G42: =I30+K30 -> 0
F43: Entrée Gratuite | G43: =Q30 -> 1
F44: Entrée moins de 4 ans | G44: =J30 -> 0
F45: Entrée CAV jeune Enfant | G45: =O30 -> 2
F46: Entrée CAV jeune Adulte | G46: =P30 -> 4
F47: Entrée Gratuite CAV jeune Enfant | G47: =L30 -> 9
F48: Entrée Gratutie CAV jeune Adulte | G48: =M30 -> 0
F49: Goupe Adulte | G49: =N30 -> 6

Sheet - Récap journée
G2: Nombre de créneaux d'horaire | J2: Encaissement | L2: Tarif
J3: Esp
A4: Encaissement O : | G4: 5 | J4: Chq | L4: Adulte | M4: 7
A5: Esp | B5: =' - 10h30'!G37 -> 42 | J5: CB | L5: Enfant | M5: 3.5
A6: Chq | B6: =' - 10h30'!G38 -> 14 | J6: Esp-FSA | L6: moins de 4 ans | M6: 0
A7: CB | B7: =' - 10h30'!G39 -> 0 | J7: Chq-FSA | L7: carte d'hôte | M7: 0
A8: Total | B8: =' - 10h30'!G40 -> 56 | J8: CB-FSA | L8: carte avantage Jeune ENFANT | M8: 2.5
L9: carte avantage Jeune ADULTE | M9: 6.5
A10: Encaissement F : | L10: autre avantage | M10: 0
A11: Esp-FSA | B11: =' - 10h30'!K37 -> 28 | L11: Adulte Groupe | M11: 6
A12: Chq-FSA | B12: =' - 10h30'!K38 -> 0
A13: CB-FSA | B13: =' - 10h30'!K39 -> 14
A14: Total | B14: =' - 10h30'!K40 -> 42
B19: Total journée | C19: Moyen par Créneaux
A20: Entrée Adulte | B20: =' - 10h30'!G43+' - 11h00'!G37+' - 11h30'!G40+' - 13h00'!G41 -> 249 | C20: =B20/Nb_creneaux -> 49.8
A21: Entrée Enfant | B21: =' - 10h30'!G44+' - 11h00'!G38+' - 11h30'!G41+' - 13h00'!G42 -> 12 | C21: =B21/Nb_creneaux -> 2.4
A22: Entrée Gratuite | B22: =' - 10h30'!G45+' - 11h00'!G39+' - 11h30'!G42+' - 13h00'!G43 -> 1 | C22: =B22/Nb_creneaux -> 0.2
A23: Entrée moins de 4 ans | B23: =' - 10h30'!G46+' - 11h00'!G40+' - 11h30'!G43+' - 13h00'!G44 -> 2 | C23: =B23/Nb_creneaux -> 0.4
A24: Entrée CAV jeune Enfant | B24: =' - 10h30'!G47+' - 11h00'!G41+' - 11h30'!G44+' - 13h00'!G45 -> 7 | C24: =B24/Nb_creneaux -> 1.4
A25: Entrée CAV jeune Adulte | B25: =' - 10h30'!G48+' - 11h00'!G42+' - 11h30'!G45+' - 13h00'!G46 -> 14 | C25: =B25/Nb_creneaux -> 2.8
A26: Entrée Gratuite CAV jeune Enfant | B26: =' - 10h30'!G49+' - 11h00'!G43+' - 11h30'!G46+' - 13h00'!G47 -> 17 | C26: =B26/Nb_creneaux -> 3.4
A27: Entrée Gratutie CAV jeune Adulte | B27: =' - 10h30'!G50+' - 11h00'!G44+' - 11h30'!G47+' - 13h00'!G48 -> 5 | C27: =B27/Nb_creneaux -> 1
A28: Goupe Adulte | B28: =' - 10h30'!G51+' - 11h00'!G45+' - 11h30'!G48+' - 13h00'!G49 -> 116 | C28: =B28/Nb_creneaux -> 23.2
