Workbook
Name Cru: Données!$D$14
Name dateFinGN: Données!$D$12
Name entree: Données!$D$7
Name NumCOOP: Données!$D$17
Name sortie: Données!$D$8

Sheet Données
C5: Donnée sur stock FSA
C7: Dernier numéro Entrée de cave | D7: 5965
C8: Dernier numéro Sortie de cave | D8: 27488
C10: Données sur stock GN
C12: Date fin de mois | D12: 41452
C14: Crû | D14: 2012
C17: Numéro d'une Coop | D17: 025

Sheet Etat des Stocks FSA Sens +
B1: =CONCATENATE("Récaputilatif des stock FSA par mois de fabrication sur le crû ",Données!D14," avec ",Données!D7," comme dernier numéro d'entrée de cave ",Données!D8," comme dernier numéro de sortie de cave") -> Récaputilatif des stock FSA par mois de fabrication sur le crû 2012 avec 5965 comme dernier numéro d'entrée de cave 27488 comme dernier numéro de sortie de cave
AM2: =CONCATENATE("Stock au "&TEXT(Données!D12,"jj/mm/aaaa")) -> Stock au 27/06/2013
C3: Mois de Fabrication
C4: 1 | F4: 2 | I4: 3 | L4: 4 | O4: 5 | R4: 6 | U4: 7 | X4: 8 | AA4: 9 | AD4: 10 | AG4: 11 | AJ4: 12 | AM4: Total
B5: Num Coop | C5: Quantitée entrée FSA | D5: Quantité Sortie FSA | E5: Stock | F5: Quantitée entrée FSA | G5: Quantité Sortie FSA | H5: Stock | I5: Quantitée entrée FSA | J5: Quantité Sortie FSA | K5: Stock | L5: Quantitée entrée FSA | M5: Quantité Sortie FSA | N5: Stock | O5: Quantitée entrée FSA | P5: Quantité Sortie FSA | Q5: Stock | R5: Quantitée entrée FSA | S5: Quantité Sortie FSA | T5: Stock | U5: Quantitée entrée FSA | V5: Quantité Sortie FSA | W5: Stock | X5: Quantitée entrée FSA | Y5: Quantité Sortie FSA | Z5: Stock | AA5: Quantitée entrée FSA | AB5: Quantité Sortie FSA | AC5: Stock | AD5: Quantitée entrée FSA | AE5: Quantité Sortie FSA | AF5: Stock | AG5: Quantitée entrée FSA | AH5: Quantité Sortie FSA | AI5: Stock | AJ5: Quantitée entrée FSA | AK5: Quantité Sortie FSA | AL5: Stock | AM5: Quantitée entrée FSA | AN5: Quantité Sortie FSA | AO5: Stock
B6: 22 | E6: =C6-D6 -> 0 | H6: =F6-G6 -> 0 | K6: =I6-J6 -> 0 | N6: =L6-M6 -> 0 | O6: 11 | P6: 11 | Q6: =O6-P6 -> 0 | R6: 478 | S6: 478 | T6: =R6-S6 -> 0 | W6: =U6-V6 -> 0 | X6: 82 | Y6: 82 | Z6: =X6-Y6 -> 0 | AC6: =AA6-AB6 -> 0 | AD6: 8 | AE6: 8 | AF6: =AD6-AE6 -> 0 | AI6: =AG6-AH6 -> 0 | AL6: =AJ6-AK6 -> 0 | AM6: 579 | AN6: 579 | AO6: =AM6-AN6 -> 0
B7: 24 | C7: 210 | D7: 210 | E7: =C7-D7 -> 0 | H7: =F7-G7 -> 0 | K7: =I7-J7 -> 0 | N7: =L7-M7 -> 0 | O7: 653 | P7: 650 | Q7: =O7-P7 -> 3 | R7: 559 | S7: 559 | T7: =R7-S7 -> 0 | U7: 153 | V7: 153 | W7: =U7-V7 -> 0 | X7: 230 | Y7: 231 | Z7: =X7-Y7 -> -1 | AC7: =AA7-AB7 -> 0 | AF7: =AD7-AE7 -> 0 | AG7: 210 | AH7: 210 | AI7: =AG7-AH7 -> 0 | AJ7: 210 | AK7: 210 | AL7: =AJ7-AK7 -> 0 | AM7: 2225 | AN7: 2223 | AO7: =AM7-AN7 -> 2
B8: 25 | C8: 369 | D8: 369 | E8: =C8-D8 -> 0 | F8: 156 | G8: 156 | H8: =F8-G8 -> 0 | I8: 470 | J8: 470 | K8: =I8-J8 -> 0 | L8: 595 | M8: 595 | N8: =L8-M8 -> 0 | O8: 795 | P8: 797 | Q8: =O8-P8 -> -2 | R8: 578 | S8: 578 | T8: =R8-S8 -> 0 | U8: 781 | V8: 770 | W8: =U8-V8 -> 11 | X8: 544 | Y8: 541 | Z8: =X8-Y8 -> 3 | AA8: 495 | AB8: 503 | AC8: =AA8-AB8 -> -8 | AD8: 292 | AE8: 294 | AF8: =AD8-AE8 -> -2 | AG8: 270 | AH8: 268 | AI8: =AG8-AH8 -> 2 | AJ8: 310 | AK8: 310 | AL8: =AJ8-AK8 -> 0 | AM8: 5655 | AN8: 5651 | AO8: =AM8-AN8 -> 4
B9: 26 | E9: =C9-D9 -> 0 | H9: =F9-G9 -> 0 | K9: =I9-J9 -> 0 | N9: =L9-M9 -> 0 | O9: 234 | P9: 235 | Q9: =O9-P9 -> -1 | R9: 335 | S9: 288 | T9: =R9-S9 -> 47 | U9: 207 | V9: 204 | W9: =U9-V9 -> 3 | X9: 92 | Y9: 92 | Z9: =X9-Y9 -> 0 | AA9: 272 | AB9: 272 | AC9: =AA9-AB9 -> 0 | AD9: 311 | AE9: 308 | AF9: =AD9-AE9 -> 3 | AI9: =AG9-AH9 -> 0 | AL9: =AJ9-AK9 -> 0 | AM9: 1451 | AN9: 1399 | AO9: =AM9-AN9 -> 52
B10: 31 | C10: 181 | D10: 181 | E10: =C10-D10 -> 0 | H10: =F10-G10 -> 0 | K10: =I10-J10 -> 0 | N10: =L10-M10 -> 0 | O10: 133 | P10: 133 | Q10: =O10-P10 -> 0 | R10: 87 | S10: 88 | T10: =R10-S10 -> -1 | W10: =U10-V10 -> 0 | Z10: =X10-Y10 -> 0 | AC10: =AA10-AB10 -> 0 | AF10: =AD10-AE10 -> 0 | AI10: =AG10-AH10 -> 0 | AL10: =AJ10-AK10 -> 0 | AM10: 401 | AN10: 402 | AO10: =AM10-AN10 -> -1
B11: 32 | E11: =C11-D11 -> 0 | H11: =F11-G11 -> 0 | K11: =I11-J11 -> 0 | N11: =L11-M11 -> 0 | Q11: =O11-P11 -> 0 | T11: =R11-S11 -> 0 | W11: =U11-V11 -> 0 | Z11: =X11-Y11 -> 0 | AC11: =AA11-AB11 -> 0 | AD11: 215 | AE11: 214 | AF11: =AD11-AE11 -> 1 | AI11: =AG11-AH11 -> 0 | AL11: =AJ11-AK11 -> 0 | AM11: 215 | AN11: 214 | AO11: =AM11-AN11 -> 1
B12: 42 | E12: =C12-D12 -> 0 | H12: =F12-G12 -> 0 | K12: =I12-J12 -> 0 | N12: =L12-M12 -> 0 | O12: 10 | P12: 10 | Q12: =O12-P12 -> 0 | R12: 200 | S12: 200 | T12: =R12-S12 -> 0 | U12: 33 | V12: 53 | W12: =U12-V12 -> -20 | Z12: =X12-Y12 -> 0 | AC12: =AA12-AB12 -> 0 | AF12: =AD12-AE12 -> 0 | AI12: =AG12-AH12 -> 0 | AL12: =AJ12-AK12 -> 0 | AM12: 243 | AN12: 263 | AO12: =AM12-AN12 -> -20
B13: 45 | E13: =C13-D13 -> 0 | H13: =F13-G13 -> 0 | K13: =I13-J13 -> 0 | L13: 58 | M13: 58 | N13: =L13-M13 -> 0 | O13: 144 | P13: 144 | Q13: =O13-P13 -> 0 | R13: 111 | S13: 111 | T13: =R13-S13 -> 0 | U13: 85 | V13: 85 | W13: =U13-V13 -> 0 | Z13: =X13-Y13 -> 0 | AA13: 41 | AB13: 41 | AC13: =AA13-AB13 -> 0 | AD13: 69 | AE13: 69 | AF13: =AD13-AE13 -> 0 | AG13: 43 | AH13: 43 | AI13: =AG13-AH13 -> 0 | AJ13: 45 | AK13: 45 | AL13: =AJ13-AK13 -> 0 | AM13: 596 | AN13: 596 | AO13: =AM13-AN13 -> 0
B14: 51 | C14: 250 | D14: 250 | E14: =C14-D14 -> 0 | H14: =F14-G14 -> 0 | K14: =I14-J14 -> 0 | L14: 112 | M14: 112 | N14: =L14-M14 -> 0 | O14: 1106 | P14: 977 | Q14: =O14-P14 -> 129 | R14: 959 | S14: 683 | T14: =R14-S14 -> 276 | U14: 713 | V14: 631 | W14: =U14-V14 -> 82 | X14: 656 | Y14: 647 | Z14: =X14-Y14 -> 9 | AA14: 582 | AB14: 588 | AC14: =AA14-AB14 -> -6 | AD14: 572 | AE14: 554 | AF14: =AD14-AE14 -> 18 | AG14: 500 | AH14: 501 | AI14: =AG14-AH14 -> -1 | AJ14: 505 | AK14: 505 | AL14: =AJ14-AK14 -> 0 | AM14: 5955 | AN14: 5448 | AO14: =AM14-AN14 -> 507
B15: 54 | E15: =C15-D15 -> 0 | H15: =F15-G15 -> 0 | K15: =I15-J15 -> 0 | N15: =L15-M15 -> 0 | O15: 83 | P15: 84 | Q15: =O15-P15 -> -1 | R15: 73 | S15: 79 | T15: =R15-S15 -> -6 | U15: 78 | V15: 78 | W15: =U15-V15 -> 0 | Z15: =X15-Y15 -> 0 | AC15: =AA15-AB15 -> 0 | AF15: =AD15-AE15 -> 0 | AI15: =AG15-AH15 -> 0 | AL15: =AJ15-AK15 -> 0 | AM15: 234 | AN15: 241 | AO15: =AM15-AN15 -> -7
B16: 55 | E16: =C16-D16 -> 0 | H16: =F16-G16 -> 0 | K16: =I16-J16 -> 0 | N16: =L16-M16 -> 0 | O16: 211 | P16: 211 | Q16: =O16-P16 -> 0 | R16: 19 | S16: 19 | T16: =R16-S16 -> 0 | U16: 248 | V16: 248 | W16: =U16-V16 -> 0 | Z16: =X16-Y16 -> 0 | AC16: =AA16-AB16 -> 0 | AF16: =AD16-AE16 -> 0 | AI16: =AG16-AH16 -> 0 | AL16: =AJ16-AK16 -> 0 | AM16: 478 | AN16: 478 | AO16: =AM16-AN16 -> 0
B17: 64 | E17: =C17-D17 -> 0 | H17: =F17-G17 -> 0 | K17: =I17-J17 -> 0 | N17: =L17-M17 -> 0 | O17: 300 | P17: 305 | Q17: =O17-P17 -> -5 | R17: 485 | S17: 485 | T17: =R17-S17 -> 0 | U17: 356 | V17: 356 | W17: =U17-V17 -> 0 | X17: 441 | Y17: 454 | Z17: =X17-Y17 -> -13 | AA17: 96 | AB17: 96 | AC17: =AA17-AB17 -> 0 | AD17: 413 | AE17: 411 | AF17: =AD17-AE17 -> 2 | AG17: 260 | AH17: 272 | AI17: =AG17-AH17 -> -12 | AJ17: 420 | AK17: 420 | AL17: =AJ17-AK17 -> 0 | AM17: 2771 | AN17: 2799 | AO17: =AM17-AN17 -> -28
B18: 71 | C18: 80 | D18: 82 | E18: =C18-D18 -> -2 | F18: 75 | G18: 75 | H18: =F18-G18 -> 0 | I18: 38 | J18: 38 | K18: =I18-J18 -> 0 | L18: 81 | M18: 81 | N18: =L18-M18 -> 0 | O18: 257 | P18: 194 | Q18: =O18-P18 -> 63 | R18: 284 | S18: 219 | T18: =R18-S18 -> 65 | U18: 260 | V18: 196 | W18: =U18-V18 -> 64 | X18: 179 | Y18: 179 | Z18: =X18-Y18 -> 0 | AA18: 179 | AB18: 189 | AC18: =AA18-AB18 -> -10 | AD18: 153 | AE18: 153 | AF18: =AD18-AE18 -> 0 | AG18: 112 | AH18: 112 | AI18: =AG18-AH18 -> 0 | AJ18: 60 | AK18: 60 | AL18: =AJ18-AK18 -> 0 | AM18: 1758 | AN18: 1578 | AO18: =AM18-AN18 -> 180
B19: 1205 | E19: =C19-D19 -> 0 | H19: =F19-G19 -> 0 | K19: =I19-J19 -> 0 | N19: =L19-M19 -> 0 | Q19: =O19-P19 -> 0 | T19: =R19-S19 -> 0 | U19: 68 | W19: =U19-V19 -> 68 | X19: 10 | Z19: =X19-Y19 -> 10 | AC19: =AA19-AB19 -> 0 | AF19: =AD19-AE19 -> 0 | AI19: =AG19-AH19 -> 0 | AL19: =AJ19-AK19 -> 0 | AM19: 78 | AO19: =AM19-AN19 -> 78
B20: 1450 | E20: =C20-D20 -> 0 | H20: =F20-G20 -> 0 | K20: =I20-J20 -> 0 | N20: =L20-M20 -> 0 | Q20: =O20-P20 -> 0 | T20: =R20-S20 -> 0 | W20: =U20-V20 -> 0 | X20: 5 | Y20: 5 | Z20: =X20-Y20 -> 0 | AC20: =AA20-AB20 -> 0 | AF20: =AD20-AE20 -> 0 | AI20: =AG20-AH20 -> 0 | AL20: =AJ20-AK20 -> 0 | AM20: 5 | AN20: 5 | AO20: =AM20-AN20 -> 0
B21: 1704 | E21: =C21-D21 -> 0 | H21: =F21-G21 -> 0 | K21: =I21-J21 -> 0 | N21: =L21-M21 -> 0 | Q21: =O21-P21 -> 0 | T21: =R21-S21 -> 0 | W21: =U21-V21 -> 0 | Z21: =X21-Y21 -> 0 | AA21: 10 | AB21: 7 | AC21: =AA21-AB21 -> 3 | AF21: =AD21-AE21 -> 0 | AI21: =AG21-AH21 -> 0 | AL21: =AJ21-AK21 -> 0 | AM21: 10 | AN21: 7 | AO21: =AM21-AN21 -> 3
B22: 1730 | E22: =C22-D22 -> 0 | H22: =F22-G22 -> 0 | K22: =I22-J22 -> 0 | N22: =L22-M22 -> 0 | Q22: =O22-P22 -> 0 | R22: 189 | T22: =R22-S22 -> 189 | U22: 174 | V22: 28 | W22: =U22-V22 -> 146 | X22: 9 | Z22: =X22-Y22 -> 9 | AC22: =AA22-AB22 -> 0 | AF22: =AD22-AE22 -> 0 | AI22: =AG22-AH22 -> 0 | AL22: =AJ22-AK22 -> 0 | AM22: 372 | AN22: 28 | AO22: =AM22-AN22 -> 344
B23: 1747 | E23: =C23-D23 -> 0 | H23: =F23-G23 -> 0 | K23: =I23-J23 -> 0 | N23: =L23-M23 -> 0 | O23: 390 | P23: 123 | Q23: =O23-P23 -> 267 | R23: 620 | S23: 162 | T23: =R23-S23 -> 458 | U23: 499 | V23: 96 | W23: =U23-V23 -> 403 | X23: 260 | Y23: 120 | Z23: =X23-Y23 -> 140 | AA23: 51 | AB23: 8 | AC23: =AA23-AB23 -> 43 | AD23: 153 | AE23: 12 | AF23: =AD23-AE23 -> 141 | AI23: =AG23-AH23 -> 0 | AL23: =AJ23-AK23 -> 0 | AM23: 1973 | AN23: 521 | AO23: =AM23-AN23 -> 1452
B24: 1763 | E24: =C24-D24 -> 0 | H24: =F24-G24 -> 0 | K24: =I24-J24 -> 0 | N24: =L24-M24 -> 0 | O24: 31 | P24: 31 | Q24: =O24-P24 -> 0 | R24: 120 | S24: 120 | T24: =R24-S24 -> 0 | U24: 141 | V24: 82 | W24: =U24-V24 -> 59 | Z24: =X24-Y24 -> 0 | AC24: =AA24-AB24 -> 0 | AD24: 155 | AE24: 113 | AF24: =AD24-AE24 -> 42 | AG24: 75 | AH24: 2 | AI24: =AG24-AH24 -> 73 | AL24: =AJ24-AK24 -> 0 | AM24: 522 | AN24: 348 | AO24: =AM24-AN24 -> 174
B25: 1803 | E25: =C25-D25 -> 0 | H25: =F25-G25 -> 0 | K25: =I25-J25 -> 0 | N25: =L25-M25 -> 0 | O25: 56 | P25: 56 | Q25: =O25-P25 -> 0 | R25: 37 | S25: 37 | T25: =R25-S25 -> 0 | W25: =U25-V25 -> 0 | Z25: =X25-Y25 -> 0 | AA25: 14 | AB25: 14 | AC25: =AA25-AB25 -> 0 | AF25: =AD25-AE25 -> 0 | AI25: =AG25-AH25 -> 0 | AL25: =AJ25-AK25 -> 0 | AM25: 107 | AN25: 107 | AO25: =AM25-AN25 -> 0
B26: 1815 | E26: =C26-D26 -> 0 | H26: =F26-G26 -> 0 | K26: =I26-J26 -> 0 | N26: =L26-M26 -> 0 | O26: 349 | P26: 35 | Q26: =O26-P26 -> 314 | R26: 266 | S26: 57 | T26: =R26-S26 -> 209 | U26: 250 | V26: 50 | W26: =U26-V26 -> 200 | X26: 5 | Y26: 2 | Z26: =X26-Y26 -> 3 | AA26: 176 | AB26: 24 | AC26: =AA26-AB26 -> 152 | AD26: 80 | AE26: 35 | AF26: =AD26-AE26 -> 45 | AG26: 50 | AH26: 37 | AI26: =AG26-AH26 -> 13 | AL26: =AJ26-AK26 -> 0 | AM26: 1176 | AN26: 240 | AO26: =AM26-AN26 -> 936
B27: 1822 | E27: =C27-D27 -> 0 | H27: =F27-G27 -> 0 | K27: =I27-J27 -> 0 | N27: =L27-M27 -> 0 | O27: 49 | Q27: =O27-P27 -> 49 | R27: 18 | T27: =R27-S27 -> 18 | W27: =U27-V27 -> 0 | Z27: =X27-Y27 -> 0 | AC27: =AA27-AB27 -> 0 | AF27: =AD27-AE27 -> 0 | AI27: =AG27-AH27 -> 0 | AL27: =AJ27-AK27 -> 0 | AM27: 67 | AO27: =AM27-AN27 -> 67
B28: 1907 | E28: =C28-D28 -> 0 | H28: =F28-G28 -> 0 | K28: =I28-J28 -> 0 | N28: =L28-M28 -> 0 | Q28: =O28-P28 -> 0 | T28: =R28-S28 -> 0 | U28: 63 | W28: =U28-V28 -> 63 | X28: 75 | Y28: 22 | Z28: =X28-Y28 -> 53 | AC28: =AA28-AB28 -> 0 | AF28: =AD28-AE28 -> 0 | AI28: =AG28-AH28 -> 0 | AL28: =AJ28-AK28 -> 0 | AM28: 138 | AN28: 22 | AO28: =AM28-AN28 -> 116
B29: 1980 | E29: =C29-D29 -> 0 | H29: =F29-G29 -> 0 | K29: =I29-J29 -> 0 | N29: =L29-M29 -> 0 | O29: 349 | P29: 80 | Q29: =O29-P29 -> 269 | R29: 350 | S29: 20 | T29: =R29-S29 -> 330 | U29: 273 | V29: 94 | W29: =U29-V29 -> 179 | X29: 156 | Y29: 41 | Z29: =X29-Y29 -> 115 | AA29: 232 | AB29: 59 | AC29: =AA29-AB29 -> 173 | AD29: 212 | AF29: =AD29-AE29 -> 212 | AG29: 215 | AH29: 49 | AI29: =AG29-AH29 -> 166 | AL29: =AJ29-AK29 -> 0 | AM29: 1787 | AN29: 343 | AO29: =AM29-AN29 -> 1444
B30: 205 | C30: 241 | D30: 241 | E30: =C30-D30 -> 0 | F30: 183 | G30: 187 | H30: =F30-G30 -> -4 | I30: 171 | J30: 177 | K30: =I30-J30 -> -6 | L30: 297 | M30: 297 | N30: =L30-M30 -> 0 | O30: 560 | P30: 560 | Q30: =O30-P30 -> 0 | R30: 504 | S30: 504 | T30: =R30-S30 -> 0 | U30: 498 | V30: 478 | W30: =U30-V30 -> 20 | X30: 403 | Y30: 382 | Z30: =X30-Y30 -> 21 | AA30: 412 | AB30: 412 | AC30: =AA30-AB30 -> 0 | AD30: 289 | AE30: 289 | AF30: =AD30-AE30 -> 0 | AG30: 123 | AH30: 123 | AI30: =AG30-AH30 -> 0 | AJ30: 220 | AK30: 220 | AL30: =AJ30-AK30 -> 0 | AM30: 3901 | AN30: 3870 | AO30: =AM30-AN30 -> 31
B31: 390 | C31: 383 | D31: 383 | E31: =C31-D31 -> 0 | H31: =F31-G31 -> 0 | I31: 245 | J31: 245 | K31: =I31-J31 -> 0 | L31: 513 | M31: 513 | N31: =L31-M31 -> 0 | O31: 521 | P31: 521 | Q31: =O31-P31 -> 0 | R31: 492 | S31: 492 | T31: =R31-S31 -> 0 | U31: 419 | V31: 383 | W31: =U31-V31 -> 36 | X31: 399 | Y31: 380 | Z31: =X31-Y31 -> 19 | AA31: 432 | AB31: 402 | AC31: =AA31-AB31 -> 30 | AD31: 443 | AE31: 433 | AF31: =AD31-AE31 -> 10 | AG31: 429 | AH31: 446 | AI31: =AG31-AH31 -> -17 | AJ31: 416 | AK31: 416 | AL31: =AJ31-AK31 -> 0 | AM31: 4692 | AN31: 4614 | AO31: =AM31-AN31 -> 78
B32: 450 | E32: =C32-D32 -> 0 | H32: =F32-G32 -> 0 | K32: =I32-J32 -> 0 | L32: 216 | M32: 216 | N32: =L32-M32 -> 0 | O32: 684 | P32: 685 | Q32: =O32-P32 -> -1 | R32: 734 | S32: 733 | T32: =R32-S32 -> 1 | U32: 202 | V32: 201 | W32: =U32-V32 -> 1 | X32: 522 | Y32: 527 | Z32: =X32-Y32 -> -5 | AA32: 697 | AB32: 704 | AC32: =AA32-AB32 -> -7 | AD32: 492 | AE32: 499 | AF32: =AD32-AE32 -> -7 | AI32: =AG32-AH32 -> 0 | AJ32: 350 | AK32: 350 | AL32: =AJ32-AK32 -> 0 | AM32: 3897 | AN32: 3915 | AO32: =AM32-AN32 -> -18
B33: 704 | C33: 526 | D33: 525 | E33: =C33-D33 -> 1 | F33: 190 | G33: 190 | H33: =F33-G33 -> 0 | I33: 439 | J33: 443 | K33: =I33-J33 -> -4 | L33: 156 | M33: 156 | N33: =L33-M33 -> 0 | O33: 1175 | P33: 1187 | Q33: =O33-P33 -> -12 | R33: 1059 | S33: 1070 | T33: =R33-S33 -> -11 | U33: 822 | V33: 821 | W33: =U33-V33 -> 1 | X33: 780 | Y33: 781 | Z33: =X33-Y33 -> -1 | AA33: 671 | AB33: 671 | AC33: =AA33-AB33 -> 0 | AD33: 688 | AE33: 707 | AF33: =AD33-AE33 -> -19 | AG33: 583 | AH33: 582 | AI33: =AG33-AH33 -> 1 | AJ33: 456 | AK33: 450 | AL33: =AJ33-AK33 -> 6 | AM33: 7545 | AN33: 7583 | AO33: =AM33-AN33 -> -38
B34: 730 | E34: =C34-D34 -> 0 | H34: =F34-G34 -> 0 | K34: =I34-J34 -> 0 | L34: 348 | M34: 348 | N34: =L34-M34 -> 0 | O34: 363 | P34: 364 | Q34: =O34-P34 -> -1 | R34: 308 | S34: 306 | T34: =R34-S34 -> 2 | U34: 329 | V34: 329 | W34: =U34-V34 -> 0 | X34: 313 | Y34: 313 | Z34: =X34-Y34 -> 0 | AA34: 286 | AB34: 286 | AC34: =AA34-AB34 -> 0 | AD34: 259 | AE34: 260 | AF34: =AD34-AE34 -> -1 | AG34: 196 | AH34: 196 | AI34: =AG34-AH34 -> 0 | AL34: =AJ34-AK34 -> 0 | AM34: 2402 | AN34: 2402 | AO34: =AM34-AN34 -> 0
B35: 747 | C35: 528 | D35: 513 | E35: =C35-D35 -> 15 | F35: 510 | G35: 511 | H35: =F35-G35 -> -1 | I35: 257 | J35: 260 | K35: =I35-J35 -> -3 | L35: 544 | M35: 539 | N35: =L35-M35 -> 5 | O35: 1467 | P35: 1445 | Q35: =O35-P35 -> 22 | R35: 1285 | S35: 1281 | T35: =R35-S35 -> 4 | U35: 1191 | V35: 1187 | W35: =U35-V35 -> 4 | X35: 1187 | Y35: 1181 | Z35: =X35-Y35 -> 6 | AA35: 1184 | AB35: 1185 | AC35: =AA35-AB35 -> -1 | AD35: 1022 | AE35: 1012 | AF35: =AD35-AE35 -> 10 | AG35: 770 | AH35: 769 | AI35: =AG35-AH35 -> 1 | AJ35: 405 | AK35: 407 | AL35: =AJ35-AK35 -> -2 | AM35: 10350 | AN35: 10290 | AO35: =AM35-AN35 -> 60
B36: 763 | C36: 200 | D36: 200 | E36: =C36-D36 -> 0 | H36: =F36-G36 -> 0 | K36: =I36-J36 -> 0 | L36: 305 | M36: 306 | N36: =L36-M36 -> -1 | O36: 318 | P36: 320 | Q36: =O36-P36 -> -2 | R36: 299 | S36: 300 | T36: =R36-S36 -> -1 | U36: 297 | V36: 297 | W36: =U36-V36 -> 0 | X36: 282 | Y36: 283 | Z36: =X36-Y36 -> -1 | AA36: 427 | AB36: 428 | AC36: =AA36-AB36 -> -1 | AD36: 520 | AE36: 520 | AF36: =AD36-AE36 -> 0 | AG36: 154 | AH36: 153 | AI36: =AG36-AH36 -> 1 | AJ36: 217 | AK36: 218 | AL36: =AJ36-AK36 -> -1 | AM36: 3019 | AN36: 3025 | AO36: =AM36-AN36 -> -6
B37: 803 | E37: =C37-D37 -> 0 | H37: =F37-G37 -> 0 | K37: =I37-J37 -> 0 | N37: =L37-M37 -> 0 | O37: 324 | P37: 323 | Q37: =O37-P37 -> 1 | R37: 264 | S37: 264 | T37: =R37-S37 -> 0 | W37: =U37-V37 -> 0 | Z37: =X37-Y37 -> 0 | AA37: 59 | AB37: 59 | AC37: =AA37-AB37 -> 0 | AF37: =AD37-AE37 -> 0 | AI37: =AG37-AH37 -> 0 | AL37: =AJ37-AK37 -> 0 | AM37: 647 | AN37: 646 | AO37: =AM37-AN37 -> 1
B38: 815 | C38: 438 | D38: 438 | E38: =C38-D38 -> 0 | F38: 222 | G38: 222 | H38: =F38-G38 -> 0 | I38: 653 | J38: 653 | K38: =I38-J38 -> 0 | L38: 949 | M38: 948 | N38: =L38-M38 -> 1 | O38: 1066 | P38: 1069 | Q38: =O38-P38 -> -3 | R38: 893 | S38: 892 | T38: =R38-S38 -> 1 | U38: 891 | V38: 891 | W38: =U38-V38 -> 0 | X38: 877 | Y38: 844 | Z38: =X38-Y38 -> 33 | AA38: 767 | AB38: 768 | AC38: =AA38-AB38 -> -1 | AD38: 876 | AE38: 339 | AF38: =AD38-AE38 -> 537 | AG38: 776 | AH38: 613 | AI38: =AG38-AH38 -> 163 | AJ38: 815 | AK38: 813 | AL38: =AJ38-AK38 -> 2 | AM38: 9223 | AN38: 8490 | AO38: =AM38-AN38 -> 733
B39: 822 | E39: =C39-D39 -> 0 | H39: =F39-G39 -> 0 | K39: =I39-J39 -> 0 | N39: =L39-M39 -> 0 | O39: 375 | P39: 379 | Q39: =O39-P39 -> -4 | R39: 169 | S39: 170 | T39: =R39-S39 -> -1 | U39: 140 | V39: 140 | W39: =U39-V39 -> 0 | X39: 272 | Y39: 271 | Z39: =X39-Y39 -> 1 | AA39: 221 | AB39: 220 | AC39: =AA39-AB39 -> 1 | AD39: 284 | AE39: 284 | AF39: =AD39-AE39 -> 0 | AI39: =AG39-AH39 -> 0 | AL39: =AJ39-AK39 -> 0 | AM39: 1461 | AN39: 1464 | AO39: =AM39-AN39 -> -3
B40: 907 | C40: 337 | D40: 337 | E40: =C40-D40 -> 0 | F40: 400 | G40: 400 | H40: =F40-G40 -> 0 | I40: 274 | J40: 274 | K40: =I40-J40 -> 0 | L40: 485 | M40: 485 | N40: =L40-M40 -> 0 | O40: 453 | P40: 455 | Q40: =O40-P40 -> -2 | R40: 433 | S40: 424 | T40: =R40-S40 -> 9 | U40: 407 | V40: 408 | W40: =U40-V40 -> -1 | X40: 342 | Y40: 342 | Z40: =X40-Y40 -> 0 | AA40: 155 | AB40: 155 | AC40: =AA40-AB40 -> 0 | AD40: 389 | AE40: 377 | AF40: =AD40-AE40 -> 12 | AG40: 337 | AH40: 335 | AI40: =AG40-AH40 -> 2 | AJ40: 380 | AK40: 380 | AL40: =AJ40-AK40 -> 0 | AM40: 4392 | AN40: 4372 | AO40: =AM40-AN40 -> 20
B41: 920 | E41: =C41-D41 -> 0 | H41: =F41-G41 -> 0 | K41: =I41-J41 -> 0 | N41: =L41-M41 -> 0 | O41: 684 | P41: 683 | Q41: =O41-P41 -> 1 | R41: 1065 | S41: 1069 | T41: =R41-S41 -> -4 | W41: =U41-V41 -> 0 | X41: 254 | Y41: 254 | Z41: =X41-Y41 -> 0 | AA41: 200 | AB41: 200 | AC41: =AA41-AB41 -> 0 | AD41: 107 | AE41: 107 | AF41: =AD41-AE41 -> 0 | AI41: =AG41-AH41 -> 0 | AJ41: 245 | AK41: 245 | AL41: =AJ41-AK41 -> 0 | AM41: 2555 | AN41: 2558 | AO41: =AM41-AN41 -> -3
B42: 921 | E42: =C42-D42 -> 0 | H42: =F42-G42 -> 0 | K42: =I42-J42 -> 0 | N42: =L42-M42 -> 0 | O42: 260 | P42: 260 | Q42: =O42-P42 -> 0 | R42: 316 | S42: 316 | T42: =R42-S42 -> 0 | U42: 552 | V42: 552 | W42: =U42-V42 -> 0 | Z42: =X42-Y42 -> 0 | AC42: =AA42-AB42 -> 0 | AD42: 267 | AE42: 267 | AF42: =AD42-AE42 -> 0 | AG42: 383 | AH42: 383 | AI42: =AG42-AH42 -> 0 | AL42: =AJ42-AK42 -> 0 | AM42: 1778 | AN42: 1778 | AO42: =AM42-AN42 -> 0
B43: 942 | C43: 272 | D43: 272 | E43: =C43-D43 -> 0 | F43: 232 | G43: 232 | H43: =F43-G43 -> 0 | I43: 295 | J43: 295 | K43: =I43-J43 -> 0 | L43: 374 | M43: 374 | N43: =L43-M43 -> 0 | O43: 412 | P43: 411 | Q43: =O43-P43 -> 1 | R43: 325 | S43: 325 | T43: =R43-S43 -> 0 | U43: 288 | V43: 287 | W43: =U43-V43 -> 1 | X43: 151 | Y43: 151 | Z43: =X43-Y43 -> 0 | AA43: 255 | AB43: 253 | AC43: =AA43-AB43 -> 2 | AD43: 257 | AE43: 257 | AF43: =AD43-AE43 -> 0 | AI43: =AG43-AH43 -> 0 | AL43: =AJ43-AK43 -> 0 | AM43: 2861 | AN43: 2857 | AO43: =AM43-AN43 -> 4
B44: 962 | E44: =C44-D44 -> 0 | H44: =F44-G44 -> 0 | K44: =I44-J44 -> 0 | N44: =L44-M44 -> 0 | Q44: =O44-P44 -> 0 | T44: =R44-S44 -> 0 | W44: =U44-V44 -> 0 | Z44: =X44-Y44 -> 0 | AA44: 12 | AB44: 12 | AC44: =AA44-AB44 -> 0 | AF44: =AD44-AE44 -> 0 | AI44: =AG44-AH44 -> 0 | AL44: =AJ44-AK44 -> 0 | AM44: 12 | AN44: 12 | AO44: =AM44-AN44 -> 0
B45: 980 | C45: 696 | D45: 697 | E45: =C45-D45 -> -1 | F45: 328 | G45: 328 | H45: =F45-G45 -> 0 | I45: 285 | J45: 285 | K45: =I45-J45 -> 0 | L45: 804 | M45: 816 | N45: =L45-M45 -> -12 | O45: 908 | P45: 910 | Q45: =O45-P45 -> -2 | R45: 828 | S45: 791 | T45: =R45-S45 -> 37 | U45: 713 | V45: 713 | W45: =U45-V45 -> 0 | X45: 638 | Y45: 554 | Z45: =X45-Y45 -> 84 | AA45: 646 | AB45: 592 | AC45: =AA45-AB45 -> 54 | AD45: 554 | AE45: 528 | AF45: =AD45-AE45 -> 26 | AG45: 514 | AH45: 507 | AI45: =AG45-AH45 -> 7 | AJ45: 374 | AK45: 378 | AL45: =AJ45-AK45 -> -4 | AM45: 7288 | AN45: 7099 | AO45: =AM45-AN45 -> 189
B46: Total | C46: 4711 | D46: 4698 | E46: =C46-D46 -> 13 | F46: 2296 | G46: 2301 | H46: =F46-G46 -> -5 | I46: 3127 | J46: 3140 | K46: =I46-J46 -> -13 | L46: 5837 | M46: 5844 | N46: =L46-M46 -> -7 | O46: 14731 | P46: 13648 | Q46: =O46-P46 -> 1083 | R46: 14742 | S46: 13120 | T46: =R46-S46 -> 1622 | U46: 11131 | V46: 9811 | W46: =U46-V46 -> 1320 | X46: 9164 | Y46: 8679 | Z46: =X46-Y46 -> 485 | AA46: 8572 | AB46: 8148 | AC46: =AA46-AB46 -> 424 | AD46: 9080 | AE46: 8050 | AF46: =AD46-AE46 -> 1030 | AG46: 6000 | AH46: 5601 | AI46: =AG46-AH46 -> 399 | AJ46: 5428 | AK46: 5427 | AL46: =AJ46-AK46 -> 1 | AM46: 94819 | AN46: 88467 | AO46: =AM46-AN46 -> 6352

Sheet mr_Etat des Stocks FSA Sens +
B1: =CONCATENATE("Récaputilatif des stock FSA par mois de fabrication sur le crû ",Données!D14," avec ",Données!D7," comme dernier numéro d'entrée de cave ",Données!D8," comme dernier numéro de sortie de cave") -> Récaputilatif des stock FSA par mois de fabrication sur le crû 2012 avec 5965 comme dernier numéro d'entrée de cave 27488 comme dernier numéro de sortie de cave
AM2: =CONCATENATE("Stock au "&TEXT(Données!D12,"jj/mm/aaaa")) -> Stock au 27/06/2013
C3: Mois de Fabrication
C4: 1 | F4: 2 | I4: 3 | L4: 4 | O4: 5 | R4: 6 | U4: 7 | X4: 8 | AA4: 9 | AD4: 10 | AG4: 11 | AJ4: 12 | AM4: Total
B5: Num Coop | C5: Quantitée entrée FSA | D5: Quantité Sortie FSA | E5: Stock | F5: Quantitée entrée FSA | G5: Quantité Sortie FSA | H5: Stock | I5: Quantitée entrée FSA | J5: Quantité Sortie FSA | K5: Stock | L5: Quantitée entrée FSA | M5: Quantité Sortie FSA | N5: Stock | O5: Quantitée entrée FSA | P5: Quantité Sortie FSA | Q5: Stock | R5: Quantitée entrée FSA | S5: Quantité Sortie FSA | T5: Stock | U5: Quantitée entrée FSA | V5: Quantité Sortie FSA | W5: Stock | X5: Quantitée entrée FSA | Y5: Quantité Sortie FSA | Z5: Stock | AA5: Quantitée entrée FSA | AB5: Quantité Sortie FSA | AC5: Stock | AD5: Quantitée entrée FSA | AE5: Quantité Sortie FSA | AF5: Stock | AG5: Quantitée entrée FSA | AH5: Quantité Sortie FSA | AI5: Stock | AJ5: Quantitée entrée FSA | AK5: Quantité Sortie FSA | AL5: Stock | AM5: Quantitée entrée FSA | AN5: Quantité Sortie FSA | AO5: Stock
A6: =CONCATENATE(IF(LEN(B6)=2,"0"&B6,B6)) -> 022 | B6: 22 | E6: =C6-D6 -> 0 | H6: =F6-G6 -> 0 | K6: =I6-J6 -> 0 | N6: =L6-M6 -> 0 | O6: 1239 | P6: 1216 | Q6: =O6-P6 -> 23 | R6: 556 | S6: 556 | T6: =R6-S6 -> 0 | U6: 282 | V6: 283 | W6: =U6-V6 -> -1 | X6: 270 | Y6: 269 | Z6: =X6-Y6 -> 1 | AA6: 214 | AB6: 73 | AC6: =AA6-AB6 -> 141 | AD6: 172 | AF6: =AD6-AE6 -> 172 | AI6: =AG6-AH6 -> 0 | AL6: =AJ6-AK6 -> 0 | AM6: 2733 | AN6: 2397 | AO6: =AM6-AN6 -> 336
A7: =CONCATENATE(IF(LEN(B7)=2,"0"&B7,B7)) -> 025 | B7: 25 | C7: 394 | D7: 397 | E7: =C7-D7 -> -3 | F7: 619 | G7: 619 | H7: =F7-G7 -> 0 | I7: 460 | J7: 460 | K7: =I7-J7 -> 0 | L7: 466 | M7: 466 | N7: =L7-M7 -> 0 | O7: 682 | P7: 119 | Q7: =O7-P7 -> 563 | R7: 585 | S7: 139 | T7: =R7-S7 -> 446 | U7: 498 | V7: 38 | W7: =U7-V7 -> 460 | X7: 442 | Z7: =X7-Y7 -> 442 | AA7: 427 | AC7: =AA7-AB7 -> 427 | AD7: 405 | AF7: =AD7-AE7 -> 405 | AG7: 426 | AI7: =AG7-AH7 -> 426 | AJ7: 556 | AL7: =AJ7-AK7 -> 556 | AM7: 5960 | AN7: 2238 | AO7: =AM7-AN7 -> 3722
A8: =CONCATENATE(IF(LEN(B8)=2,"0"&B8,B8)) -> 026 | B8: 26 | E8: =C8-D8 -> 0 | H8: =F8-G8 -> 0 | K8: =I8-J8 -> 0 | N8: =L8-M8 -> 0 | O8: 370 | P8: 25 | Q8: =O8-P8 -> 345 | R8: 360 | T8: =R8-S8 -> 360 | U8: 288 | V8: 1 | W8: =U8-V8 -> 287 | X8: 264 | Z8: =X8-Y8 -> 264 | AA8: 265 | AC8: =AA8-AB8 -> 265 | AD8: 271 | AF8: =AD8-AE8 -> 271 | AG8: 124 | AI8: =AG8-AH8 -> 124 | AJ8: 66 | AL8: =AJ8-AK8 -> 66 | AM8: 2008 | AN8: 26 | AO8: =AM8-AN8 -> 1982
A9: =CONCATENATE(IF(LEN(B9)=2,"0"&B9,B9)) -> 031 | B9: 31 | E9: =C9-D9 -> 0 | H9: =F9-G9 -> 0 | K9: =I9-J9 -> 0 | N9: =L9-M9 -> 0 | Q9: =O9-P9 -> 0 | T9: =R9-S9 -> 0 | W9: =U9-V9 -> 0 | Z9: =X9-Y9 -> 0 | AC9: =AA9-AB9 -> 0 | AD9: 45 | AF9: =AD9-AE9 -> 45 | AI9: =AG9-AH9 -> 0 | AL9: =AJ9-AK9 -> 0 | AM9: 45 | AO9: =AM9-AN9 -> 45
A10: =CONCATENATE(IF(LEN(B10)=2,"0"&B10,B10)) -> 042 | B10: 42 | E10: =C10-D10 -> 0 | H10: =F10-G10 -> 0 | K10: =I10-J10 -> 0 | N10: =L10-M10 -> 0 | O10: 297 | P10: 295 | Q10: =O10-P10 -> 2 | R10: 185 | S10: 152 | T10: =R10-S10 -> 33 | W10: =U10-V10 -> 0 | X10: 61 | Y10: 61 | Z10: =X10-Y10 -> 0 | AC10: =AA10-AB10 -> 0 | AF10: =AD10-AE10 -> 0 | AI10: =AG10-AH10 -> 0 | AL10: =AJ10-AK10 -> 0 | AM10: 543 | AN10: 508 | AO10: =AM10-AN10 -> 35
A11: =CONCATENATE(IF(LEN(B11)=2,"0"&B11,B11)) -> 045 | B11: 45 | C11: 46 | D11: 46 | E11: =C11-D11 -> 0 | F11: 23 | G11: 23 | H11: =F11-G11 -> 0 | I11: 8 | J11: 8 | K11: =I11-J11 -> 0 | L11: 62 | M11: 62 | N11: =L11-M11 -> 0 | O11: 258 | P11: 214 | Q11: =O11-P11 -> 44 | R11: 46 | T11: =R11-S11 -> 46 | U11: 61 | W11: =U11-V11 -> 61 | X11: 49 | Z11: =X11-Y11 -> 49 | AA11: 59 | AC11: =AA11-AB11 -> 59 | AD11: 63 | AF11: =AD11-AE11 -> 63 | AG11: 42 | AI11: =AG11-AH11 -> 42 | AJ11: 53 | AL11: =AJ11-AK11 -> 53 | AM11: 770 | AN11: 353 | AO11: =AM11-AN11 -> 417
A12: =CONCATENATE(IF(LEN(B12)=2,"0"&B12,B12)) -> 051 | B12: 51 | C12: 519 | D12: 521 | E12: =C12-D12 -> -2 | F12: 516 | G12: 520 | H12: =F12-G12 -> -4 | I12: 651 | J12: 651 | K12: =I12-J12 -> 0 | L12: 680 | M12: 691 | N12: =L12-M12 -> -11 | O12: 1107 | P12: 610 | Q12: =O12-P12 -> 497 | R12: 729 | S12: 16 | T12: =R12-S12 -> 713 | U12: 651 | W12: =U12-V12 -> 651 | X12: 641 | Z12: =X12-Y12 -> 641 | AA12: 587 | AC12: =AA12-AB12 -> 587 | AD12: 585 | AF12: =AD12-AE12 -> 585 | AG12: 472 | AI12: =AG12-AH12 -> 472 | AJ12: 516 | AK12: 1 | AL12: =AJ12-AK12 -> 515 | AM12: 7654 | AN12: 3010 | AO12: =AM12-AN12 -> 4644
A13: =CONCATENATE(IF(LEN(B13)=2,"0"&B13,B13)) -> 054 | B13: 54 | E13: =C13-D13 -> 0 | H13: =F13-G13 -> 0 | K13: =I13-J13 -> 0 | L13: 45 | M13: 45 | N13: =L13-M13 -> 0 | O13: 233 | P13: 233 | Q13: =O13-P13 -> 0 | R13: 174 | S13: 114 | T13: =R13-S13 -> 60 | U13: 173 | V13: 1 | W13: =U13-V13 -> 172 | Z13: =X13-Y13 -> 0 | AC13: =AA13-AB13 -> 0 | AF13: =AD13-AE13 -> 0 | AI13: =AG13-AH13 -> 0 | AL13: =AJ13-AK13 -> 0 | AM13: 625 | AN13: 393 | AO13: =AM13-AN13 -> 232
A14: =CONCATENATE(IF(LEN(B14)=2,"0"&B14,B14)) -> 064 | B14: 64 | C14: 416 | D14: 420 | E14: =C14-D14 -> -4 | F14: 393 | G14: 393 | H14: =F14-G14 -> 0 | K14: =I14-J14 -> 0 | L14: 300 | M14: 300 | N14: =L14-M14 -> 0 | O14: 279 | P14: 279 | Q14: =O14-P14 -> 0 | R14: 326 | S14: 319 | T14: =R14-S14 -> 7 | U14: 300 | V14: 288 | W14: =U14-V14 -> 12 | X14: 300 | Y14: 287 | Z14: =X14-Y14 -> 13 | AA14: 298 | AB14: 288 | AC14: =AA14-AB14 -> 10 | AD14: 400 | AE14: 227 | AF14: =AD14-AE14 -> 173 | AG14: 401 | AH14: 208 | AI14: =AG14-AH14 -> 193 | AL14: =AJ14-AK14 -> 0 | AM14: 3413 | AN14: 3009 | AO14: =AM14-AN14 -> 404
A15: =CONCATENATE(IF(LEN(B15)=2,"0"&B15,B15)) -> 071 | B15: 71 | C15: 172 | D15: 172 | E15: =C15-D15 -> 0 | F15: 147 | G15: 147 | H15: =F15-G15 -> 0 | I15: 201 | J15: 201 | K15: =I15-J15 -> 0 | L15: 120 | M15: 120 | N15: =L15-M15 -> 0 | O15: 198 | P15: 189 | Q15: =O15-P15 -> 9 | R15: 183 | S15: 160 | T15: =R15-S15 -> 23 | U15: 181 | V15: 100 | W15: =U15-V15 -> 81 | X15: 177 | Y15: 15 | Z15: =X15-Y15 -> 162 | AA15: 170 | AC15: =AA15-AB15 -> 170 | AD15: 166 | AF15: =AD15-AE15 -> 166 | AG15: 143 | AI15: =AG15-AH15 -> 143 | AJ15: 146 | AK15: 146 | AL15: =AJ15-AK15 -> 0 | AM15: 2004 | AN15: 1250 | AO15: =AM15-AN15 -> 754
A16: =CONCATENATE(IF(LEN(B16)=2,"0"&B16,B16)) -> 205 | B16: 205 | E16: =C16-D16 -> 0 | H16: =F16-G16 -> 0 | K16: =I16-J16 -> 0 | N16: =L16-M16 -> 0 | O16: 605 | P16: 6 | Q16: =O16-P16 -> 599 | R16: 517 | S16: 131 | T16: =R16-S16 -> 386 | U16: 468 | V16: 3 | W16: =U16-V16 -> 465 | X16: 475 | Z16: =X16-Y16 -> 475 | AA16: 446 | AC16: =AA16-AB16 -> 446 | AD16: 285 | AF16: =AD16-AE16 -> 285 | AG16: 81 | AI16: =AG16-AH16 -> 81 | AJ16: 490 | AL16: =AJ16-AK16 -> 490 | AM16: 3367 | AN16: 140 | AO16: =AM16-AN16 -> 3227
A17: =CONCATENATE(IF(LEN(B17)=2,"0"&B17,B17)) -> 390 | B17: 390 | E17: =C17-D17 -> 0 | H17: =F17-G17 -> 0 | K17: =I17-J17 -> 0 | N17: =L17-M17 -> 0 | O17: 548 | P17: 404 | Q17: =O17-P17 -> 144 | R17: 499 | S17: 259 | T17: =R17-S17 -> 240 | U17: 383 | V17: 133 | W17: =U17-V17 -> 250 | X17: 417 | Y17: 253 | Z17: =X17-Y17 -> 164 | AA17: 410 | AC17: =AA17-AB17 -> 410 | AD17: 413 | AF17: =AD17-AE17 -> 413 | AG17: 409 | AI17: =AG17-AH17 -> 409 | AJ17: 376 | AL17: =AJ17-AK17 -> 376 | AM17: 3455 | AN17: 1049 | AO17: =AM17-AN17 -> 2406
A18: =CONCATENATE(IF(LEN(B18)=2,"0"&B18,B18)) -> 450 | B18: 450 | E18: =C18-D18 -> 0 | H18: =F18-G18 -> 0 | K18: =I18-J18 -> 0 | L18: 300 | M18: 300 | N18: =L18-M18 -> 0 | O18: 1064 | P18: 478 | Q18: =O18-P18 -> 586 | R18: 924 | S18: 162 | T18: =R18-S18 -> 762 | U18: 796 | V18: 131 | W18: =U18-V18 -> 665 | X18: 254 | Y18: 41 | Z18: =X18-Y18 -> 213 | AA18: 629 | AB18: 122 | AC18: =AA18-AB18 -> 507 | AD18: 365 | AF18: =AD18-AE18 -> 365 | AG18: 300 | AI18: =AG18-AH18 -> 300 | AJ18: 352 | AL18: =AJ18-AK18 -> 352 | AM18: 4984 | AN18: 1234 | AO18: =AM18-AN18 -> 3750
A19: =CONCATENATE(IF(LEN(B19)=2,"0"&B19,B19)) -> 570 | B19: 570 | E19: =C19-D19 -> 0 | H19: =F19-G19 -> 0 | K19: =I19-J19 -> 0 | N19: =L19-M19 -> 0 | O19: 195 | P19: 193 | Q19: =O19-P19 -> 2 | R19: 249 | S19: 246 | T19: =R19-S19 -> 3 | W19: =U19-V19 -> 0 | Z19: =X19-Y19 -> 0 | AC19: =AA19-AB19 -> 0 | AF19: =AD19-AE19 -> 0 | AI19: =AG19-AH19 -> 0 | AL19: =AJ19-AK19 -> 0 | AM19: 444 | AN19: 439 | AO19: =AM19-AN19 -> 5
A20: =CONCATENATE(IF(LEN(B20)=2,"0"&B20,B20)) -> 704 | B20: 704 | C20: 687 | D20: 687 | E20: =C20-D20 -> 0 | F20: 312 | G20: 310 | H20: =F20-G20 -> 2 | K20: =I20-J20 -> 0 | L20: 47 | M20: 47 | N20: =L20-M20 -> 0 | O20: 1116 | P20: 601 | Q20: =O20-P20 -> 515 | R20: 1001 | S20: 317 | T20: =R20-S20 -> 684 | U20: 920 | V20: 188 | W20: =U20-V20 -> 732 | X20: 896 | Z20: =X20-Y20 -> 896 | AA20: 582 | AB20: 5 | AC20: =AA20-AB20 -> 577 | AD20: 771 | AE20: 13 | AF20: =AD20-AE20 -> 758 | AG20: 276 | AI20: =AG20-AH20 -> 276 | AJ20: 438 | AL20: =AJ20-AK20 -> 438 | AM20: 7046 | AN20: 2168 | AO20: =AM20-AN20 -> 4878
A21: =CONCATENATE(IF(LEN(B21)=2,"0"&B21,B21)) -> 730 | B21: 730 | C21: 273 | D21: 274 | E21: =C21-D21 -> -1 | H21: =F21-G21 -> 0 | I21: 280 | J21: 281 | K21: =I21-J21 -> -1 | N21: =L21-M21 -> 0 | O21: 433 | P21: 37 | Q21: =O21-P21 -> 396 | R21: 324 | S21: 1 | T21: =R21-S21 -> 323 | U21: 347 | V21: 2 | W21: =U21-V21 -> 345 | X21: 286 | Z21: =X21-Y21 -> 286 | AA21: 252 | AC21: =AA21-AB21 -> 252 | AD21: 232 | AF21: =AD21-AE21 -> 232 | AG21: 138 | AI21: =AG21-AH21 -> 138 | AJ21: 229 | AL21: =AJ21-AK21 -> 229 | AM21: 2794 | AN21: 595 | AO21: =AM21-AN21 -> 2199
A22: =CONCATENATE(IF(LEN(B22)=2,"0"&B22,B22)) -> 747 | B22: 747 | C22: 1142 | D22: 1127 | E22: =C22-D22 -> 15 | F22: 1013 | G22: 1012 | H22: =F22-G22 -> 1 | I22: 1376 | J22: 1376 | K22: =I22-J22 -> 0 | L22: 794 | M22: 794 | N22: =L22-M22 -> 0 | O22: 1388 | P22: 1380 | Q22: =O22-P22 -> 8 | R22: 1298 | S22: 1227 | T22: =R22-S22 -> 71 | U22: 1198 | V22: 792 | W22: =U22-V22 -> 406 | X22: 1199 | Y22: 125 | Z22: =X22-Y22 -> 1074 | AA22: 1140 | AB22: 1 | AC22: =AA22-AB22 -> 1139 | AD22: 1106 | AE22: 1 | AF22: =AD22-AE22 -> 1105 | AG22: 962 | AH22: 1 | AI22: =AG22-AH22 -> 961 | AJ22: 966 | AK22: 482 | AL22: =AJ22-AK22 -> 484 | AM22: 13582 | AN22: 8318 | AO22: =AM22-AN22 -> 5264
A23: =CONCATENATE(IF(LEN(B23)=2,"0"&B23,B23)) -> 763 | B23: 763 | E23: =C23-D23 -> 0 | F23: 202 | G23: 202 | H23: =F23-G23 -> 0 | I23: 230 | J23: 229 | K23: =I23-J23 -> 1 | L23: 257 | M23: 256 | N23: =L23-M23 -> 1 | O23: 325 | P23: 111 | Q23: =O23-P23 -> 214 | R23: 301 | S23: 43 | T23: =R23-S23 -> 258 | U23: 524 | V23: 11 | W23: =U23-V23 -> 513 | X23: 491 | Z23: =X23-Y23 -> 491 | AA23: 250 | AC23: =AA23-AB23 -> 250 | AD23: 259 | AF23: =AD23-AE23 -> 259 | AG23: 225 | AI23: =AG23-AH23 -> 225 | AJ23: 218 | AL23: =AJ23-AK23 -> 218 | AM23: 3282 | AN23: 852 | AO23: =AM23-AN23 -> 2430
A24: =CONCATENATE(IF(LEN(B24)=2,"0"&B24,B24)) -> 803 | B24: 803 | E24: =C24-D24 -> 0 | H24: =F24-G24 -> 0 | K24: =I24-J24 -> 0 | N24: =L24-M24 -> 0 | O24: 543 | P24: 209 | Q24: =O24-P24 -> 334 | R24: 235 | S24: 213 | T24: =R24-S24 -> 22 | W24: =U24-V24 -> 0 | Z24: =X24-Y24 -> 0 | AC24: =AA24-AB24 -> 0 | AF24: =AD24-AE24 -> 0 | AI24: =AG24-AH24 -> 0 | AL24: =AJ24-AK24 -> 0 | AM24: 778 | AN24: 422 | AO24: =AM24-AN24 -> 356
A25: =CONCATENATE(IF(LEN(B25)=2,"0"&B25,B25)) -> 815 | B25: 815 | C25: 450 | D25: 445 | E25: =C25-D25 -> 5 | F25: 638 | G25: 638 | H25: =F25-G25 -> 0 | I25: 403 | J25: 401 | K25: =I25-J25 -> 2 | L25: 1009 | M25: 1006 | N25: =L25-M25 -> 3 | O25: 1188 | P25: 225 | Q25: =O25-P25 -> 963 | R25: 1037 | S25: 94 | T25: =R25-S25 -> 943 | U25: 928 | W25: =U25-V25 -> 928 | X25: 892 | Y25: 4 | Z25: =X25-Y25 -> 888 | AA25: 903 | AB25: 1 | AC25: =AA25-AB25 -> 902 | AD25: 666 | AF25: =AD25-AE25 -> 666 | AG25: 761 | AI25: =AG25-AH25 -> 761 | AJ25: 937 | AL25: =AJ25-AK25 -> 937 | AM25: 9812 | AN25: 2814 | AO25: =AM25-AN25 -> 6998
A26: =CONCATENATE(IF(LEN(B26)=2,"0"&B26,B26)) -> 822 | B26: 822 | E26: =C26-D26 -> 0 | H26: =F26-G26 -> 0 | K26: =I26-J26 -> 0 | N26: =L26-M26 -> 0 | O26: 364 | P26: 35 | Q26: =O26-P26 -> 329 | R26: 336 | S26: 30 | T26: =R26-S26 -> 306 | U26: 285 | V26: 68 | W26: =U26-V26 -> 217 | X26: 261 | Y26: 5 | Z26: =X26-Y26 -> 256 | AA26: 221 | AC26: =AA26-AB26 -> 221 | AD26: 270 | AF26: =AD26-AE26 -> 270 | AG26: 123 | AI26: =AG26-AH26 -> 123 | AJ26: 66 | AL26: =AJ26-AK26 -> 66 | AM26: 1926 | AN26: 138 | AO26: =AM26-AN26 -> 1788
A27: =CONCATENATE(IF(LEN(B27)=2,"0"&B27,B27)) -> 850 | B27: 850 | E27: =C27-D27 -> 0 | H27: =F27-G27 -> 0 | I27: 88 | J27: 88 | K27: =I27-J27 -> 0 | N27: =L27-M27 -> 0 | Q27: =O27-P27 -> 0 | T27: =R27-S27 -> 0 | W27: =U27-V27 -> 0 | Z27: =X27-Y27 -> 0 | AC27: =AA27-AB27 -> 0 | AF27: =AD27-AE27 -> 0 | AI27: =AG27-AH27 -> 0 | AL27: =AJ27-AK27 -> 0 | AM27: 88 | AN27: 88 | AO27: =AM27-AN27 -> 0
A28: =CONCATENATE(IF(LEN(B28)=2,"0"&B28,B28)) -> 907 | B28: 907 | C28: 315 | D28: 315 | E28: =C28-D28 -> 0 | F28: 253 | G28: 253 | H28: =F28-G28 -> 0 | I28: 172 | J28: 172 | K28: =I28-J28 -> 0 | L28: 201 | M28: 201 | N28: =L28-M28 -> 0 | O28: 463 | P28: 109 | Q28: =O28-P28 -> 354 | R28: 423 | T28: =R28-S28 -> 423 | U28: 389 | V28: 71 | W28: =U28-V28 -> 318 | X28: 356 | Y28: 1 | Z28: =X28-Y28 -> 355 | AA28: 330 | AB28: 19 | AC28: =AA28-AB28 -> 311 | AD28: 231 | AE28: 26 | AF28: =AD28-AE28 -> 205 | AG28: 168 | AH28: 105 | AI28: =AG28-AH28 -> 63 | AJ28: 312 | AK28: 312 | AL28: =AJ28-AK28 -> 0 | AM28: 3613 | AN28: 1584 | AO28: =AM28-AN28 -> 2029
A29: =CONCATENATE(IF(LEN(B29)=2,"0"&B29,B29)) -> 920 | B29: 920 | C29: 48 | D29: 54 | E29: =C29-D29 -> -6 | H29: =F29-G29 -> 0 | K29: =I29-J29 -> 0 | N29: =L29-M29 -> 0 | O29: 957 | P29: 788 | Q29: =O29-P29 -> 169 | R29: 1206 | S29: 800 | T29: =R29-S29 -> 406 | U29: 837 | V29: 513 | W29: =U29-V29 -> 324 | X29: 913 | Y29: 366 | Z29: =X29-Y29 -> 547 | AA29: 567 | AC29: =AA29-AB29 -> 567 | AD29: 432 | AF29: =AD29-AE29 -> 432 | AG29: 201 | AI29: =AG29-AH29 -> 201 | AJ29: 648 | AK29: 1 | AL29: =AJ29-AK29 -> 647 | AM29: 5809 | AN29: 2522 | AO29: =AM29-AN29 -> 3287
A30: =CONCATENATE(IF(LEN(B30)=2,"0"&B30,B30)) -> 921 | B30: 921 | E30: =C30-D30 -> 0 | H30: =F30-G30 -> 0 | K30: =I30-J30 -> 0 | N30: =L30-M30 -> 0 | Q30: =O30-P30 -> 0 | T30: =R30-S30 -> 0 | U30: 535 | V30: 545 | W30: =U30-V30 -> -10 | Z30: =X30-Y30 -> 0 | AC30: =AA30-AB30 -> 0 | AF30: =AD30-AE30 -> 0 | AI30: =AG30-AH30 -> 0 | AL30: =AJ30-AK30 -> 0 | AM30: 535 | AN30: 545 | AO30: =AM30-AN30 -> -10
A31: =CONCATENATE(IF(LEN(B31)=2,"0"&B31,B31)) -> 942 | B31: 942 | E31: =C31-D31 -> 0 | H31: =F31-G31 -> 0 | K31: =I31-J31 -> 0 | N31: =L31-M31 -> 0 | Q31: =O31-P31 -> 0 | R31: 185 | T31: =R31-S31 -> 185 | U31: 138 | W31: =U31-V31 -> 138 | X31: 220 | Y31: 1 | Z31: =X31-Y31 -> 219 | AA31: 272 | AC31: =AA31-AB31 -> 272 | AD31: 277 | AF31: =AD31-AE31 -> 277 | AG31: 166 | AI31: =AG31-AH31 -> 166 | AJ31: 147 | AL31: =AJ31-AK31 -> 147 | AM31: 1405 | AN31: 1 | AO31: =AM31-AN31 -> 1404
A32: =CONCATENATE(IF(LEN(B32)=2,"0"&B32,B32)) -> 980 | B32: 980 | C32: 282 | D32: 282 | E32: =C32-D32 -> 0 | F32: 417 | G32: 417 | H32: =F32-G32 -> 0 | I32: 488 | J32: 487 | K32: =I32-J32 -> 1 | L32: 589 | M32: 589 | N32: =L32-M32 -> 0 | O32: 673 | P32: 33 | Q32: =O32-P32 -> 640 | R32: 581 | S32: 66 | T32: =R32-S32 -> 515 | U32: 472 | V32: 7 | W32: =U32-V32 -> 465 | X32: 491 | Z32: =X32-Y32 -> 491 | AA32: 474 | AC32: =AA32-AB32 -> 474 | AD32: 518 | AF32: =AD32-AE32 -> 518 | AG32: 645 | AI32: =AG32-AH32 -> 645 | AJ32: 495 | AL32: =AJ32-AK32 -> 495 | AM32: 6125 | AN32: 1881 | AO32: =AM32-AN32 -> 4244
A33: =CONCATENATE(IF(LEN(B33)=2,"0"&B33,B33)) -> Total | B33: Total | C33: 4744 | D33: 4740 | E33: =C33-D33 -> 4 | F33: 4533 | G33: 4534 | H33: =F33-G33 -> -1 | I33: 4357 | J33: 4354 | K33: =I33-J33 -> 3 | L33: 4870 | M33: 4877 | N33: =L33-M33 -> -7 | O33: 14525 | P33: 7789 | Q33: =O33-P33 -> 6736 | R33: 12260 | S33: 5045 | T33: =R33-S33 -> 7215 | U33: 10654 | V33: 3175 | W33: =U33-V33 -> 7479 | X33: 9355 | Y33: 1428 | Z33: =X33-Y33 -> 7927 | AA33: 8496 | AB33: 509 | AC33: =AA33-AB33 -> 7987 | AD33: 7932 | AE33: 267 | AF33: =AD33-AE33 -> 7665 | AG33: 6063 | AH33: 314 | AI33: =AG33-AH33 -> 5749 | AJ33: 7011 | AK33: 942 | AL33: =AJ33-AK33 -> 6069 | AM33: 94800 | AN33: 37974 | AO33: =AM33-AN33 -> 56826
A34: =CONCATENATE(IF(LEN(B34)=2,"0"&B34,B34))
A35: =CONCATENATE(IF(LEN(B35)=2,"0"&B35,B35))
A36: =CONCATENATE(IF(LEN(B36)=2,"0"&B36,B36))
A37: =CONCATENATE(IF(LEN(B37)=2,"0"&B37,B37))
A38: =CONCATENATE(IF(LEN(B38)=2,"0"&B38,B38))
A39: =CONCATENATE(IF(LEN(B39)=2,"0"&B39,B39))
A40: =CONCATENATE(IF(LEN(B40)=2,"0"&B40,B40))
A41: =CONCATENATE(IF(LEN(B41)=2,"0"&B41,B41))
A42: =CONCATENATE(IF(LEN(B42)=2,"0"&B42,B42))
A43: =CONCATENATE(IF(LEN(B43)=2,"0"&B43,B43))
A44: =CONCATENATE(IF(LEN(B44)=2,"0"&B44,B44))
A45: =CONCATENATE(IF(LEN(B45)=2,"0"&B45,B45))
... A66: =CONCATENATE(IF(LEN(B66)=2,"0"&B66,B66))

Sheet Etat des Stocks FSA Sens -
B5: Mois de Fabrication
B6: 1 | C6: 2 | D6: 3 | E6: 4 | F6: 5 | G6: 6 | H6: 7 | I6: 8 | J6: 9 | K6: 10 | L6: 11 | M6: 12 | N6: Total
A7: Num Coop | B7: Quantité Sortie FSA | C7: Quantité Sortie FSA | D7: Quantité Sortie FSA | E7: Quantité Sortie FSA | F7: Quantité Sortie FSA | G7: Quantité Sortie FSA | H7: Quantité Sortie FSA | I7: Quantité Sortie FSA | J7: Quantité Sortie FSA | K7: Quantité Sortie FSA | L7: Quantité Sortie FSA | M7: Quantité Sortie FSA | N7: Quantité Sortie FSA
A8: 22 | G8: 7 | N8: 7
A9: 24 | I9: 1 | N9: 1
A10: 25 | F10: 5 | H10: 2 | I10: 6 | J10: 9 | K10: 2 | N10: 24
A11: 26 | F11: 1 | G11: 15 | N11: 16
A12: 31 | G12: 1 | N12: 1
A13: 32 | K13: 1 | N13: 1
A14: 42 | H14: 20 | N14: 20
A15: 45
A16: 51 | F16: 2 | H16: 1 | I16: 1 | J16: 6 | L16: 2 | N16: 12
A17: 54 | F17: 1 | G17: 6 | N17: 7
A18: 55 | H18: 1 | N18: 1
A19: 64 | F19: 5 | I19: 13 | K19: 3 | L19: 13 | N19: 34
A20: 71 | B20: 2 | J20: 10 | L20: 4 | N20: 16
A21: 1205
A22: 1450
A23: 1704
A24: 1730 | H24: 1 | N24: 1
A25: 1747
A26: 1763
A27: 1803
A28: 1815 | F28: 1 | H28: 1 | N28: 2
A29: 1822
A30: 1907
A31: 1980 | I31: 4 | N31: 4
A32: 205 | C32: 4 | D32: 6 | N32: 10
A33: 390 | H33: 5 | L33: 17 | N33: 22
A34: 450 | F34: 1 | I34: 5 | J34: 7 | K34: 7 | N34: 20
A35: 704 | B35: 1 | D35: 4 | F35: 12 | G35: 14 | I35: 2 | J35: 2 | K35: 19 | N35: 54
A36: 730 | F36: 1 | K36: 1 | N36: 2
A37: 747 | C37: 1 | D37: 9 | F37: 11 | G37: 3 | H37: 2 | I37: 1 | J37: 2 | L37: 2 | M37: 2 | N37: 33
A38: 763 | B38: 1 | E38: 1 | F38: 2 | G38: 1 | H38: 1 | I38: 1 | J38: 2 | M38: 1 | N38: 10
A39: 803 | F39: 1 | N39: 1
A40: 815 | F40: 4 | J40: 1 | M40: 1 | N40: 6
A41: 822 | F41: 4 | G41: 1 | N41: 5
A42: 907 | F42: 2 | G42: 1 | H42: 4 | N42: 7
A43: 920 | F43: 1 | G43: 8 | N43: 9
A44: 921
A45: 942
A46: 962
A47: 980 | B47: 1 | E47: 12 | F47: 3 | I47: 6 | K47: 1 | M47: 4 | N47: 27
A48: Total | B48: 5 | C48: 5 | D48: 19 | E48: 13 | F48: 57 | G48: 57 | H48: 38 | I48: 40 | J48: 39 | K48: 34 | L48: 38 | M48: 8 | N48: 353

Sheet Stock GN
B1: =CONCATENATE("Récaputilatif des stock GN par mois de fabrication sur le crû ",Données!D14," avec comme derniere date de mouvement le "&TEXT(Données!D12,"jj/mm/aaaa")) -> Récaputilatif des stock GN par mois de fabrication sur le crû 2012 avec comme derniere date de mouvement le 27/06/2013
F7: Mois de production | G7: Annee/Cru
F8: 5 | G8: 6 | H8: 7 | I8: 8 | J8: 9 | K8: 10 | L8: 11 | M8: 12 | N8: Total
F9: 2012 | G9: 2012 | H9: 2012 | I9: 2012 | J9: 2012 | K9: 2012 | L9: 2012 | M9: 2012
B10: Lot | C10: Num Coop | D10: Num Mois du Lot GN | E10: Num Année du Lot GN | F10: Quantite signee | G10: Quantite signee | H10: Quantite signee | I10: Quantite signee | J10: Quantite signee | K10: Quantite signee | L10: Quantite signee | M10: Quantite signee | N10: Quantite signee
B11: 017 08 12 | C11: 17 | D11: 8 | E11: 12 | I11: 8 | N11: 8
B12: 017 10 12 | C12: 17 | D12: 10 | E12: 12 | K12: 7 | N12: 7
B13: 017 11 12 | C13: 17 | D13: 11 | E13: 12 | L13: 5 | N13: 5
B14: 017 12 12 | C14: 17 | D14: 12 | E14: 12 | M14: 354 | N14: 354
B15: 022 09 12 | C15: 22 | D15: 9 | E15: 12 | J15: 214 | N15: 214
B16: 022 10 12 | C16: 22 | D16: 10 | E16: 12 | K16: 172 | N16: 172
B17: 022 11 12 | C17: 22 | D17: 11 | E17: 12 | L17: 10 | N17: 10
B18: 022 12 12 | C18: 22 | D18: 12 | E18: 12 | M18: 422 | N18: 422
B19: 024 09 12 | C19: 24 | D19: 9 | E19: 12 | J19: 108 | N19: 108
B20: 024 10 12 | C20: 24 | D20: 10 | E20: 12 | K20: 57 | N20: 57
B21: 024 11 12 | C21: 24 | D21: 11 | E21: 12 | L21: 369 | N21: 369
B22: 024 12 12 | C22: 24 | D22: 12 | E22: 12 | M22: 476 | N22: 476
B23: 026 09 12 | C23: 26 | D23: 9 | E23: 12 | J23: 125 | N23: 125
B24: 026 10 12 | C24: 26 | D24: 10 | E24: 12 | K24: 169 | N24: 169
B25: 026 12 12 | C25: 26 | D25: 12 | E25: 12 | M25: 171 | N25: 171
B26: 027 11 12 | C26: 27 | D26: 11 | E26: 12 | L26: 5 | N26: 5
B27: 028 11 12 | C27: 28 | D27: 11 | E27: 12 | L27: 8 | N27: 8
B28: 028 12 12 | C28: 28 | D28: 12 | E28: 12 | M28: 35 | N28: 35
B29: 031 07 12 | C29: 31 | D29: 7 | E29: 12 | H29: 5 | N29: 5
B30: 031 09 12 | C30: 31 | D30: 9 | E30: 12 | J30: 3 | N30: 3
B31: 031 10 12 | C31: 31 | D31: 10 | E31: 12 | K31: 45 | N31: 45
B32: 031 11 12 | C32: 31 | D32: 11 | E32: 12 | L32: 108 | N32: 108
B33: 031 12 12 | C33: 31 | D33: 12 | E33: 12 | M33: 60 | N33: 60
B34: 032 07 12 | C34: 32 | D34: 7 | E34: 12 | H34: 1 | N34: 1
B35: 032 08 12 | C35: 32 | D35: 8 | E35: 12 | I35: 10 | N35: 10
B36: 032 09 12 | C36: 32 | D36: 9 | E36: 12 | J36: 34 | N36: 34
B37: 032 10 12 | C37: 32 | D37: 10 | E37: 12 | K37: 106 | N37: 106
B38: 032 11 12 | C38: 32 | D38: 11 | E38: 12 | L38: 195 | N38: 195
B39: 032 12 12 | C39: 32 | D39: 12 | E39: 12 | M39: 356 | N39: 356
B40: 042 06 12 | C40: 42 | D40: 6 | E40: 12 | G40: 1 | N40: 1
B41: 042 08 12 | C41: 42 | D41: 8 | E41: 12 | I41: 18 | N41: 18
B42: 042 09 12 | C42: 42 | D42: 9 | E42: 12 | J42: 65 | N42: 65
B43: 042 10 12 | C43: 42 | D43: 10 | E43: 12 | K43: 9 | N43: 9
B44: 042 11 12 | C44: 42 | D44: 11 | E44: 12 | L44: 16 | N44: 16
B45: 042 12 12 | C45: 42 | D45: 12 | E45: 12 | M45: 369 | N45: 369
B46: 045 09 12 | C46: 45 | D46: 9 | E46: 12 | J46: 6 | N46: 6
B47: 045 10 12 | C47: 45 | D47: 10 | E47: 12 | K47: 6 | N47: 6
B48: 045 11 12 | C48: 45 | D48: 11 | E48: 12 | L48: 17 | N48: 17
B49: 045 12 12 | C49: 45 | D49: 12 | E49: 12 | M49: 188 | N49: 188
B50: 055 06 12 | C50: 55 | D50: 6 | E50: 12 | G50: 2 | N50: 2
B51: 055 07 12 | C51: 55 | D51: 7 | E51: 12 | H51: 3 | N51: 3
B52: 055 10 12 | C52: 55 | D52: 10 | E52: 12 | K52: 2 | N52: 2
B53: 055 11 12 | C53: 55 | D53: 11 | E53: 12 | L53: 9 | N53: 9
B54: 055 12 12 | C54: 55 | D54: 12 | E54: 12 | M54: 10 | N54: 10
B55: 057 08 12 | C55: 57 | D55: 8 | E55: 12 | I55: 3 | N55: 3
B56: 057 09 12 | C56: 57 | D56: 9 | E56: 12 | J56: 1 | N56: 1
B57: 057 10 12 | C57: 57 | D57: 10 | E57: 12 | K57: 15 | N57: 15
B58: 057 11 12 | C58: 57 | D58: 11 | E58: 12 | L58: 23 | N58: 23
B59: 057 12 12 | C59: 57 | D59: 12 | E59: 12 | M59: 8 | N59: 8
B60: 064 06 12 | C60: 64 | D60: 6 | E60: 12 | G60: 89 | N60: 89
B61: 064 12 12 | C61: 64 | D61: 12 | E61: 12 | M61: 20 | N61: 20
B62: 072 08 12 | C62: 72 | D62: 8 | E62: 12 | I62: 19 | N62: 19
B63: 072 09 12 | C63: 72 | D63: 9 | E63: 12 | J63: 4 | N63: 4
B64: 072 10 12 | C64: 72 | D64: 10 | E64: 12 | K64: 27 | N64: 27
B65: 072 11 12 | C65: 72 | D65: 11 | E65: 12 | L65: 80 | N65: 80
B66: 072 12 12 | C66: 72 | D66: 12 | E66: 12 | M66: 180 | N66: 180
B67: 083 06 12 | C67: 83 | D67: 6 | E67: 12 | G67: 1 | N67: 1
B68: 083 08 12 | C68: 83 | D68: 8 | E68: 12 | I68: 5 | N68: 5
B69: 083 09 12 | C69: 83 | D69: 9 | E69: 12 | J69: 4 | N69: 4
B70: 083 10 12 | C70: 83 | D70: 10 | E70: 12 | K70: 19 | N70: 19
B71: 083 11 12 | C71: 83 | D71: 11 | E71: 12 | L71: 289 | N71: 289
B72: 083 12 12 | C72: 83 | D72: 12 | E72: 12 | M72: 325 | N72: 325
B73: 171 12 12 | C73: 171 | D73: 12 | E73: 12 | M73: 28 | N73: 28
B74: 450 11 12 | C74: 450 | D74: 11 | E74: 12 | L74: 15 | N74: 15
B75: 450 12 12 | C75: 450 | D75: 12 | E75: 12 | M75: 263 | N75: 263
B76: 570 09 12 | C76: 570 | D76: 9 | E76: 12 | J76: 27 | N76: 27
B77: 570 11 12 | C77: 570 | D77: 11 | E77: 12 | L77: 40 | N77: 40
B78: 570 12 12 | C78: 570 | D78: 12 | E78: 12 | M78: 331 | N78: 331
B79: 704 09 12 | C79: 704 | D79: 9 | E79: 12 | J79: 313 | N79: 313
B80: 704 10 12 | C80: 704 | D80: 10 | E80: 12 | K80: 308 | N80: 308
B81: 704 11 12 | C81: 704 | D81: 11 | E81: 12 | L81: 418 | N81: 418
B82: 704 12 12 | C82: 704 | D82: 12 | E82: 12 | M82: 3 | N82: 3
B83: 763 10 12 | C83: 763 | D83: 10 | E83: 12 | K83: 140 | N83: 140
B84: 763 11 12 | C84: 763 | D84: 11 | E84: 12 | L84: 211 | N84: 211
B85: 763 12 12 | C85: 763 | D85: 12 | E85: 12 | M85: 238 | N85: 238
B86: 803 08 12 | C86: 803 | D86: 8 | E86: 12 | I86: 5 | N86: 5
B87: 803 09 12 | C87: 803 | D87: 9 | E87: 12 | J87: 5 | N87: 5
B88: 803 10 12 | C88: 803 | D88: 10 | E88: 12 | K88: 6 | N88: 6
B89: 803 11 12 | C89: 803 | D89: 11 | E89: 12 | L89: 336 | N89: 336
B90: 803 12 12 | C90: 803 | D90: 12 | E90: 12 | M90: 396 | N90: 396
B91: 822 09 12 | C91: 822 | D91: 9 | E91: 12 | J91: 80 | N91: 80
B92: 822 10 12 | C92: 822 | D92: 10 | E92: 12 | K92: 168 | N92: 168
B93: 822 12 12 | C93: 822 | D93: 12 | E93: 12 | M93: 190 | N93: 190
B94: 920 09 12 | C94: 920 | D94: 9 | E94: 12 | J94: 3 | N94: 3
B95: 920 10 12 | C95: 920 | D95: 10 | E95: 12 | K95: 568 | N95: 568
B96: 920 11 12 | C96: 920 | D96: 11 | E96: 12 | L96: 77 | N96: 77
B97: 920 12 12 | C97: 920 | D97: 12 | E97: 12 | M97: 317 | N97: 317
B98: 921 05 12 | C98: 921 | D98: 5 | E98: 12 | F98: 3 | N98: 3
B99: 921 08 12 | C99: 921 | D99: 8 | E99: 12 | I99: 4 | N99: 4
B100: 921 09 12 | C100: 921 | D100: 9 | E100: 12 | J100: 7 | N100: 7
B101: 921 10 12 | C101: 921 | D101: 10 | E101: 12 | K101: 14 | N101: 14
B102: 921 11 12 | C102: 921 | D102: 11 | E102: 12 | L102: 188 | N102: 188
B103: 921 12 12 | C103: 921 | D103: 12 | E103: 12 | M103: 235 | N103: 235
B104: 942 12 12 | C104: 942 | D104: 12 | E104: 12 | M104: 1 | N104: 1
B105: 962 09 12 | C105: 962 | D105: 9 | E105: 12 | J105: 12 | N105: 12
...

Sheet Recap
B9: Mois de Fabrication
B10: 1 | E10: 2 | H10: 3 | K10: 4 | N10: 5 | Q10: 6 | T10: 7 | W10: 8 | Z10: 9 | AC10: 10 | AF10: 11 | AI10: 12 | AL10: Total
A11: Num Coop FSA | B11: Quantitée FSA | C11: Quantité GN | D11: Stock | E11: Quantitée FSA | F11: Quantité GN | G11: Stock | H11: Quantitée FSA | I11: Quantité GN | J11: Stock | K11: Quantitée FSA | L11: Quantité GN | M11: Stock | N11: Quantitée entrée FSA | O11: Quantité Sortie FSA | P11: Stock | Q11: Quantitée entrée FSA | R11: Quantité Sortie FSA | S11: Stock | T11: Quantitée FSA | U11: Quantité GN | V11: Stock | W11: Quantitée FSA | X11: Quantité GN | Y11: Stock | Z11: Quantitée FSA | AA11: Quantité GN | AB11: Stock | AC11: Quantitée FSA | AD11: Quantité GN | AE11: Stock | AF11: Quantitée entrée FSA | AG11: Quantité Sortie FSA | AH11: Stock | AI11: Quantitée entrée FSA | AJ11: Quantité Sortie FSA | AK11: Stock | AL11: Quantitée FSA | AM11: Quantité GN | AN11: Stock
A12: 17 | D12: =B12+C12 -> 0 | G12: =E12+F12 -> 0 | J12: =H12+I12 -> 0 | M12: =K12+L12 -> 0 | P12: =N12+8 -> 8 | Q12: 0 | S12: =Q12+R12 -> 0 | V12: =T12+U12 -> 0 | X12: 8 | Y12: =W12+X12 -> 8 | AB12: =Z12+AA12 -> 0 | AD12: 7 | AE12: =AC12+AD12 -> 7 | AF12: 5 | AH12: =AF12+AG12 -> 5 | AJ12: 354 | AK12: =AI12+-AJ12 -> -354 | AL12: =B12+E12+H12+K12+N12+Q12+T12+W12+Z12+AC12+AF12+AI12 -> 5 | AM12: =C12+F12+I12+L12+O12+R12+U12+X12+AA12+AD12+AG12+AJ12 -> 369 | AN12: =AL12-AM12 -> -364
A13: 22 | Q13: 7 | AA13: 214 | AD13: 172 | AG13: 10 | AJ13: 422
A14: 24 | N14: 3 | W14: 0 | AA14: 108 | AD14: 57 | AG14: 369 | AJ14: 476
A15: ='mr_Etat des Stocks FSA Sens +'!B7 -> 25 | B15: 0 | D15: =B15+C15 -> 0 | E15: 0 | G15: =E15+F15 -> 0 | H15: 0 | J15: =H15+I15 -> 0 | K15: 0 | M15: =K15+L15 -> 0 | P15: =N15+8 -> 8 | S15: =Q15+R15 -> 0 | T15: 11 | V15: =T15+U15 -> 11 | W15: 3 | Y15: =W15+X15 -> 3 | AB15: =Z15+AA15 -> 0 | AC15: 0 | AE15: =AC15+AD15 -> 0 | AF15: 2 | AH15: =AF15+AG15 -> 2 | AK15: =AI15+-AJ15 -> 0 | AL15: =B15+E15+H15+K15+N15+Q15+T15+W15+Z15+AC15+AF15+AI15 -> 16 | AM15: =C15+F15+I15+L15+O15+R15+U15+X15+AA15+AD15+AG15+AJ15 -> 0 | AN15: =AL15-AM15 -> 16
A16: ='mr_Etat des Stocks FSA Sens +'!B8 -> 26 | D16: =B16+C16 -> 0 | G16: =E16+F16 -> 0 | J16: =H16+I16 -> 0 | M16: =K16+L16 -> 0 | P16: =N16+8 -> 8 | Q16: 47 | S16: =Q16+R16 -> 47 | T16: 3 | V16: =T16+U16 -> 3 | Y16: =W16+X16 -> 0 | AB16: =Z16+AA16 -> 0 | AC16: 3 | AE16: =AC16+AD16 -> 3 | AH16: =AF16+AG16 -> 0 | AK16: =AI16+-AJ16 -> 0 | AL16: =B16+E16+H16+K16+N16+Q16+T16+W16+Z16+AC16+AF16+AI16 -> 53 | AM16: =C16+F16+I16+L16+O16+R16+U16+X16+AA16+AD16+AG16+AJ16 -> 0 | AN16: =AL16-AM16 -> 53
A17: ='mr_Etat des Stocks FSA Sens +'!B9 -> 31 | D17: =B17+C17 -> 0 | G17: =E17+F17 -> 0 | J17: =H17+I17 -> 0 | M17: =K17+L17 -> 0 | P17: =N17+8 -> 8 | S17: =Q17+R17 -> 0 | V17: =T17+U17 -> 0 | Y17: =W17+X17 -> 0 | AB17: =Z17+AA17 -> 0 | AE17: =AC17+AD17 -> 0 | AH17: =AF17+AG17 -> 0 | AK17: =AI17+-AJ17 -> 0 | AL17: =B17+E17+H17+K17+N17+Q17+T17+W17+Z17+AC17+AF17+AI17 -> 0 | AM17: =C17+F17+I17+L17+O17+R17+U17+X17+AA17+AD17+AG17+AJ17 -> 0 | AN17: =AL17-AM17 -> 0
A18: ='mr_Etat des Stocks FSA Sens +'!B10 -> 42 | D18: =B18+C18 -> 0 | G18: =E18+F18 -> 0 | J18: =H18+I18 -> 0 | M18: =K18+L18 -> 0 | P18: =N18+8 -> 8 | S18: =Q18+R18 -> 0 | V18: =T18+U18 -> 0 | Y18: =W18+X18 -> 0 | AB18: =Z18+AA18 -> 0 | AE18: =AC18+AD18 -> 0 | AH18: =AF18+AG18 -> 0 | AK18: =AI18+-AJ18 -> 0 | AL18: =B18+E18+H18+K18+N18+Q18+T18+W18+Z18+AC18+AF18+AI18 -> 0 | AM18: =C18+F18+I18+L18+O18+R18+U18+X18+AA18+AD18+AG18+AJ18 -> 0 | AN18: =AL18-AM18 -> 0
A19: ='mr_Etat des Stocks FSA Sens +'!B11 -> 45 | D19: =B19+C19 -> 0 | G19: =E19+F19 -> 0 | J19: =H19+I19 -> 0 | M19: =K19+L19 -> 0 | P19: =N19+8 -> 8 | S19: =Q19+R19 -> 0 | V19: =T19+U19 -> 0 | Y19: =W19+X19 -> 0 | AB19: =Z19+AA19 -> 0 | AE19: =AC19+AD19 -> 0 | AH19: =AF19+AG19 -> 0 | AK19: =AI19+-AJ19 -> 0 | AL19: =B19+E19+H19+K19+N19+Q19+T19+W19+Z19+AC19+AF19+AI19 -> 0 | AM19: =C19+F19+I19+L19+O19+R19+U19+X19+AA19+AD19+AG19+AJ19 -> 0 | AN19: =AL19-AM19 -> 0
A20: ='mr_Etat des Stocks FSA Sens +'!B12 -> 51 | D20: =B20+C20 -> 0 | G20: =E20+F20 -> 0 | J20: =H20+I20 -> 0 | M20: =K20+L20 -> 0 | P20: =N20+8 -> 8 | S20: =Q20+R20 -> 0 | V20: =T20+U20 -> 0 | Y20: =W20+X20 -> 0 | AB20: =Z20+AA20 -> 0 | AE20: =AC20+AD20 -> 0 | AH20: =AF20+AG20 -> 0 | AK20: =AI20+-AJ20 -> 0 | AL20: =B20+E20+H20+K20+N20+Q20+T20+W20+Z20+AC20+AF20+AI20 -> 0 | AM20: =C20+F20+I20+L20+O20+R20+U20+X20+AA20+AD20+AG20+AJ20 -> 0 | AN20: =AL20-AM20 -> 0
A21: ='mr_Etat des Stocks FSA Sens +'!B13 -> 54 | D21: =B21+C21 -> 0 | G21: =E21+F21 -> 0 | J21: =H21+I21 -> 0 | M21: =K21+L21 -> 0 | P21: =N21+8 -> 8 | S21: =Q21+R21 -> 0 | V21: =T21+U21 -> 0 | Y21: =W21+X21 -> 0 | AB21: =Z21+AA21 -> 0 | AE21: =AC21+AD21 -> 0 | AH21: =AF21+AG21 -> 0 | AK21: =AI21+-AJ21 -> 0 | AL21: =B21+E21+H21+K21+N21+Q21+T21+W21+Z21+AC21+AF21+AI21 -> 0 | AM21: =C21+F21+I21+L21+O21+R21+U21+X21+AA21+AD21+AG21+AJ21 -> 0 | AN21: =AL21-AM21 -> 0
A22: ='mr_Etat des Stocks FSA Sens +'!B14 -> 64 | D22: =B22+C22 -> 0 | G22: =E22+F22 -> 0 | J22: =H22+I22 -> 0 | M22: =K22+L22 -> 0 | P22: =N22+8 -> 8 | S22: =Q22+R22 -> 0 | V22: =T22+U22 -> 0 | Y22: =W22+X22 -> 0 | AB22: =Z22+AA22 -> 0 | AE22: =AC22+AD22 -> 0 | AH22: =AF22+AG22 -> 0 | AK22: =AI22+-AJ22 -> 0 | AL22: =B22+E22+H22+K22+N22+Q22+T22+W22+Z22+AC22+AF22+AI22 -> 0 | AM22: =C22+F22+I22+L22+O22+R22+U22+X22+AA22+AD22+AG22+AJ22 -> 0 | AN22: =AL22-AM22 -> 0
A23: ='mr_Etat des Stocks FSA Sens +'!B15 -> 71 | D23: =B23+C23 -> 0 | G23: =E23+F23 -> 0 | J23: =H23+I23 -> 0 | M23: =K23+L23 -> 0 | P23: =N23+8 -> 8 | S23: =Q23+R23 -> 0 | V23: =T23+U23 -> 0 | Y23: =W23+X23 -> 0 | AB23: =Z23+AA23 -> 0 | AE23: =AC23+AD23 -> 0 | AH23: =AF23+AG23 -> 0 | AK23: =AI23+-AJ23 -> 0 | AL23: =B23+E23+H23+K23+N23+Q23+T23+W23+Z23+AC23+AF23+AI23 -> 0 | AM23: =C23+F23+I23+L23+O23+R23+U23+X23+AA23+AD23+AG23+AJ23 -> 0 | AN23: =AL23-AM23 -> 0
A24: ='mr_Etat des Stocks FSA Sens +'!B16 -> 205 | D24: =B24+C24 -> 0 | G24: =E24+F24 -> 0 | J24: =H24+I24 -> 0 | M24: =K24+L24 -> 0 | P24: =N24+8 -> 8 | S24: =Q24+R24 -> 0 | V24: =T24+U24 -> 0 | Y24: =W24+X24 -> 0 | AB24: =Z24+AA24 -> 0 | AE24: =AC24+AD24 -> 0 | AH24: =AF24+AG24 -> 0 | AK24: =AI24+-AJ24 -> 0 | AL24: =B24+E24+H24+K24+N24+Q24+T24+W24+Z24+AC24+AF24+AI24 -> 0 | AM24: =C24+F24+I24+L24+O24+R24+U24+X24+AA24+AD24+AG24+AJ24 -> 0 | AN24: =AL24-AM24 -> 0
A25: ='mr_Etat des Stocks FSA Sens +'!B17 -> 390 | D25: =B25+C25 -> 0 | G25: =E25+F25 -> 0 | J25: =H25+I25 -> 0 | M25: =K25+L25 -> 0 | P25: =N25+8 -> 8 | S25: =Q25+R25 -> 0 | V25: =T25+U25 -> 0 | Y25: =W25+X25 -> 0 | AB25: =Z25+AA25 -> 0 | AE25: =AC25+AD25 -> 0 | AH25: =AF25+AG25 -> 0 | AK25: =AI25+-AJ25 -> 0 | AL25: =B25+E25+H25+K25+N25+Q25+T25+W25+Z25+AC25+AF25+AI25 -> 0 | AM25: =C25+F25+I25+L25+O25+R25+U25+X25+AA25+AD25+AG25+AJ25 -> 0 | AN25: =AL25-AM25 -> 0
A26: ='mr_Etat des Stocks FSA Sens +'!B18 -> 450 | D26: =B26+C26 -> 0 | G26: =E26+F26 -> 0 | J26: =H26+I26 -> 0 | M26: =K26+L26 -> 0 | P26: =N26+8 -> 8 | S26: =Q26+R26 -> 0 | V26: =T26+U26 -> 0 | Y26: =W26+X26 -> 0 | AB26: =Z26+AA26 -> 0 | AE26: =AC26+AD26 -> 0 | AH26: =AF26+AG26 -> 0 | AK26: =AI26+-AJ26 -> 0 | AL26: =B26+E26+H26+K26+N26+Q26+T26+W26+Z26+AC26+AF26+AI26 -> 0 | AM26: =C26+F26+I26+L26+O26+R26+U26+X26+AA26+AD26+AG26+AJ26 -> 0 | AN26: =AL26-AM26 -> 0
A27: ='mr_Etat des Stocks FSA Sens +'!B19 -> 570 | D27: =B27+C27 -> 0 | G27: =E27+F27 -> 0 | J27: =H27+I27 -> 0 | M27: =K27+L27 -> 0 | P27: =N27+8 -> 8 | S27: =Q27+R27 -> 0 | V27: =T27+U27 -> 0 | Y27: =W27+X27 -> 0 | AB27: =Z27+AA27 -> 0 | AE27: =AC27+AD27 -> 0 | AH27: =AF27+AG27 -> 0 | AK27: =AI27+-AJ27 -> 0 | AL27: =B27+E27+H27+K27+N27+Q27+T27+W27+Z27+AC27+AF27+AI27 -> 0 | AM27: =C27+F27+I27+L27+O27+R27+U27+X27+AA27+AD27+AG27+AJ27 -> 0 | AN27: =AL27-AM27 -> 0
A28: ='mr_Etat des Stocks FSA Sens +'!B20 -> 704
A29: ='mr_Etat des Stocks FSA Sens +'!B21 -> 730
A30: ='mr_Etat des Stocks FSA Sens +'!B22 -> 747
A31: ='mr_Etat des Stocks FSA Sens +'!B23 -> 763
A32: ='mr_Etat des Stocks FSA Sens +'!B24 -> 803
A33: ='mr_Etat des Stocks FSA Sens +'!B25 -> 815
A34: ='mr_Etat des Stocks FSA Sens +'!B26 -> 822
A35: ='mr_Etat des Stocks FSA Sens +'!B27 -> 850
A36: ='mr_Etat des Stocks FSA Sens +'!B28 -> 907
A37: ='mr_Etat des Stocks FSA Sens +'!B29 -> 920
A38: ='mr_Etat des Stocks FSA Sens +'!B30 -> 921
A39: ='mr_Etat des Stocks FSA Sens +'!B31 -> 942
... A59: ='mr_Etat des Stocks FSA Sens +'!B51 -> 0
A60: Total | B60: 4422 | D60: =B60-C60 -> 4422 | E60: 3583 | G60: =E60-F60 -> 3583 | H60: 4092 | J60: =H60-I60 -> 4092 | K60: 4478 | M60: =K60-L60 -> 4478 | N60: 1244 | P60: =N60-O60 -> 1244 | Q60: 1244 | S60: =Q60-R60 -> 1244 | T60: 4422 | V60: =T60-U60 -> 4422 | W60: 3583 | Y60: =W60-X60 -> 3583 | Z60: 4092 | AB60: =Z60-AA60 -> 4092 | AC60: 4478 | AE60: =AC60-AD60 -> 4478 | AF60: 1244 | AH60: =AF60-AG60 -> 1244 | AI60: 1244 | AK60: =AI60-AJ60 -> 1244 | AL60: 17819 | AN60: =AL60-AM60 -> 17819
