Workbook
Name liste: '[1]Fichier de ref en-cour'!$P$64:$P$65

Sheet MP JAN 2014
A1: FAM | B1: SFAM | C1: REF | D1: Flux | E1: LIBELLE | F1: UNIT | G1: UNIT PRICE | H1: PRIX UNIT | I1: STOCK 01 | J1: VALO1 | K1: STOCK 02 | L1: VALO2 | M1: STOCK TOTAL | N1: VALO TOTALE
A2: MP | B2: PP | C2: MPP07100 | E2: MOPLEN HP648S | F2: KG | H2: 1.583 | I2: 28139.568 | J2: 44544.936 | K2: 0 | L2: 0 | M2: 28139.568 | N2: 44544.936 | O2: =VLOOKUP(C2,LISTE!$A$1:$C$10,3,0) -> OK
A3: MP | B3: PP | C3: MPP07100 | D3: BRO | E3: MOPLEN HP648S ( ex:H32GA ) | F3: KG | H3: 0.106 | I3: 4226 | J3: 447.956 | K3: 0 | L3: 0 | M3: 4226 | N3: 447.956 | O3: =VLOOKUP(C3,LISTE!$A$1:$C$10,3,0) -> OK
A4: MP | B4: PS | C4: MPS07514 | E4: PS 830 P1 (HIPS) TOTAL pour | F4: KG | H4: 1.6279 | I4: 32500 | J4: 52906.75 | K4: 0 | L4: 0 | M4: 32500 | N4: 52906.75 | O4: =VLOOKUP(C4,LISTE!$A$1:$C$10,3,0) -> OK
A5: MP | B5: PZ | C5: MPZ09860 | E5: TPE G55777 R06104080PDC | F5: KG | H5: 4.735 | I5: 1040 | J5: 4924.4 | K5: 0 | L5: 0 | M5: 1040 | N5: 4924.4 | O5: =VLOOKUP(C5,LISTE!$A$1:$C$10,3,0) -> OK
A6: MP | B6: CAR | C6: EPL0565365 | E6: Plaque Aquilux Noire ep.2mm | F6: UN | H6: 0.458 | I6: 4014 | J6: 1838.412 | K6: 0 | L6: 0 | M6: 4014 | N6: 1838.412 | O6: =VLOOKUP(C6,LISTE!$A$1:$C$10,3,0) -> #N/A
A7: MP | B7: CAR | C7: ETH04 | E7: THERMOFORM TH04 1232/1449/1464 | F7: UN | H7: 0.458 | I7: 3842 | J7: 1759.636 | K7: 0 | L7: 0 | M7: 3842 | N7: 1759.636 | O7: =VLOOKUP(C7,LISTE!$A$1:$C$10,3,0) -> #N/A
A8: MP | B8: CAR | C8: EPVC048I | E8: PVC INCOLORE SOLV. 48MMX100ML | F8: UN | H8: 1.55 | I8: 864 | J8: 1339.2 | K8: 0 | L8: 0 | M8: 864 | N8: 1339.2 | O8: =VLOOKUP(C8,LISTE!$A$1:$C$10,3,0) -> #N/A
A9: MP | B9: CAR | C9: ECO0045 | E9: Cornières 60 x 60 | F9: UN | G9: UN | H9: 0.7 | I9: 1823.3131 | J9: 1276.3191 | K9: 0 | L9: 0 | M9: 1823.3131 | N9: 1276.3191 | O9: =VLOOKUP(C9,LISTE!$A$1:$C$10,3,0) -> #N/A
A10: MP | B10: CAR | C10: ETH06 | E10: THERMOFORM TH06 1466/1477/1483 | F10: UN | H10: 0.7205 | I10: 1655 | J10: 1192.4275 | K10: 0 | L10: 0 | M10: 1655 | N10: 1192.4275 | O10: =VLOOKUP(C10,LISTE!$A$1:$C$10,3,0) -> #N/A
A11: MP | B11: CAR | C11: EMB0725 | E11: CA 725X480X500 C10 | F11: UN | H11: 1.413 | I11: 827 | J11: 1168.551 | K11: 0 | L11: 0 | M11: 827 | N11: 1168.551 | O11: =VLOOKUP(C11,LISTE!$A$1:$C$10,3,0) -> #N/A
A12: MP | B12: CAR | C12: EMB3233 | E12: MOUSSE 320x320x20 Plate | F12: UN | H12: 0.47 | I12: 2428 | J12: 1141.16 | K12: 0 | L12: 0 | M12: 2428 | N12: 1141.16 | O12: =VLOOKUP(C12,LISTE!$A$1:$C$10,3,0) -> #N/A
A13: MP | B13: CAR | C13: EBU0050 | E13: DISTRIBUL 50X50M PRED 50CM | F13: UN | H13: 16.54 | I13: 58 | J13: 959.32 | K13: 0 | L13: 0 | M13: 58 | N13: 959.32 | O13: =VLOOKUP(C13,LISTE!$A$1:$C$10,3,0) -> #N/A
A14: MP | B14: CAR | C14: ESA0320 | E14: Sac PE 300 + 2x100 x 350 50µm | F14: UN | G14: UN | H14: 0.0743 | I14: 11850 | J14: 880.455 | K14: 0 | L14: 0 | M14: 11850 | N14: 880.455 | O14: =VLOOKUP(C14,LISTE!$A$1:$C$10,3,0) -> #N/A
A15: MP | B15: CAR | C15: EPL0380 | E15: PLAQUE GALIA 12 / 13 PC6 | F15: UN | G15: UN | H15: 0.57 | I15: 1200 | J15: 684 | K15: 0 | L15: 0 | M15: 1200 | N15: 684 | O15: =VLOOKUP(C15,LISTE!$A$1:$C$10,3,0) -> #N/A
A16: MP | B16: CAR | C16: ESN1312 | E16: RONDELLE SNR 132x50 ép:1,5mm | F16: UN | H16: 0.25 | I16: 2500 | J16: 625 | K16: 0 | L16: 0 | M16: 2500 | N16: 625 | O16: =VLOOKUP(C16,LISTE!$A$1:$C$10,3,0) -> #N/A
A17: MP | B17: CAR | C17: EBRAC003 | E17: BRACELETS CAOUTCHOUCS 60x3 | F17: UN | G17: UN | H17: 5.4 | I17: 100 | J17: 540 | K17: 0 | L17: 0 | M17: 100 | N17: 540 | O17: =VLOOKUP(C17,LISTE!$A$1:$C$10,3,0) -> #N/A
A18: MP | B18: CAR | C18: ESA0300 01 | E18: SACS PEbd 300 x 400 ép.60µ | F18: UN | G18: UN | H18: 0.0377 | I18: 14000 | J18: 527.8 | K18: 0 | L18: 0 | M18: 14000 | N18: 527.8 | O18: =VLOOKUP(C18,LISTE!$A$1:$C$10,3,0) -> #N/A
A19: MP | B19: CAR | C19: EGI1353 | E19: PLATEAU F14473 | F19: UN | H19: 0.35 | I19: 1483 | J19: 519.05 | K19: 0 | L19: 0 | M19: 1483 | N19: 519.05 | O19: =VLOOKUP(C19,LISTE!$A$1:$C$10,3,0) -> #N/A
A20: MP | B20: CAR | C20: EPL0280 | E20: PLAQUE GALIA 15 / 16 PC6 | F20: UN | G20: UN | H20: 0.57 | I20: 750 | J20: 427.5 | K20: 0 | L20: 0 | M20: 750 | N20: 427.5 | O20: =VLOOKUP(C20,LISTE!$A$1:$C$10,3,0) -> #N/A
A21: MP | B21: CAR | C21: EBU0032 | E21: DISTRIBUL 32X50M PRED 32CM | F21: UN | H21: 13.9 | I21: 30 | J21: 417 | K21: 0 | L21: 0 | M21: 30 | N21: 417 | O21: =VLOOKUP(C21,LISTE!$A$1:$C$10,3,0) -> #N/A
A22: MP | B22: CAR | C22: EMB0115 | E22: BOITES 115x100x70 | F22: UN | G22: UN | H22: 0.243 | I22: 1346 | J22: 327.078 | K22: 0 | L22: 0 | M22: 1346 | N22: 327.078 | O22: =VLOOKUP(C22,LISTE!$A$1:$C$10,3,0) -> #N/A
A23: MP | B23: CAR | C23: ESA1280 01 | E23: Sac PE 120x180x80 100 µm | F23: UN | G23: UN | H23: 4.12 | I23: 75 | J23: 309 | K23: 0 | L23: 0 | M23: 75 | N23: 309 | O23: =VLOOKUP(C23,LISTE!$A$1:$C$10,3,0) -> #N/A
A24: MP | B24: CAR | C24: ESA0300 | E24: SACS PEbd 300 x 500 ép.40µ | F24: UN | G24: UN | H24: 0.0377 | I24: 8000 | J24: 301.6 | K24: 0 | L24: 0 | M24: 8000 | N24: 301.6 | O24: =VLOOKUP(C24,LISTE!$A$1:$C$10,3,0) -> #N/A
A25: MP | B25: CAR | C25: EFE0280 | E25: Feuillard en PP 12mmX0.70 | F25: BO | G25: UN | H25: 45 | I25: 6.104 | J25: 274.68 | K25: 0 | L25: 0 | M25: 6.104 | N25: 274.68 | O25: =VLOOKUP(C25,LISTE!$A$1:$C$10,3,0) -> #N/A
A26: MP | B26: CAR | C26: EMB03232 | E26: CA 320x320x380 Plate | F26: UN | H26: 1.174 | I26: 200 | J26: 234.8 | K26: 0 | L26: 0 | M26: 200 | N26: 234.8 | O26: =VLOOKUP(C26,LISTE!$A$1:$C$10,3,0) -> #N/A
A27: MP | B27: CAR | C27: EMB0602 | E27: CA 600x320x530 BC20 Imprimé | F27: UN | G27: UN | H27: 1.4603 | I27: 135 | J27: 197.1405 | K27: 0 | L27: 0 | M27: 135 | N27: 197.1405 | O27: =VLOOKUP(C27,LISTE!$A$1:$C$10,3,0) -> #N/A
A28: MP | B28: CAR | C28: EPL0585 | E28: PLAQUE 585x485 PC6 | F28: UN | G28: UN | H28: 0.1691 | I28: 1010 | J28: 170.791 | K28: 0 | L28: 0 | M28: 1010 | N28: 170.791 | O28: =VLOOKUP(C28,LISTE!$A$1:$C$10,3,0) -> #N/A
A29: MP | B29: CAR | C29: EMG0015 | E29: CA GALIA A15 | F29: UN | G29: UN | H29: 0.2488 | I29: 600 | J29: 149.28 | K29: 0 | L29: 0 | M29: 600 | N29: 149.28 | O29: =VLOOKUP(C29,LISTE!$A$1:$C$10,3,0) -> #N/A
A30: MP | B30: CAR | C30: EMB0389 | E30: CA 389X288X282 BE 2 faces BL | F30: UN | H30: 0.96 | I30: 150 | J30: 144 | K30: 0 | L30: 0 | M30: 150 | N30: 144 | O30: =VLOOKUP(C30,LISTE!$A$1:$C$10,3,0) -> #N/A
A31: MP | B31: CAR | C31: ESA0000 | E31: SACS PAPIERS NEUTRES | F31: UN | G31: UN | H31: 0.69 | I31: 200 | J31: 138 | K31: 0 | L31: 0 | M31: 200 | N31: 138 | O31: =VLOOKUP(C31,LISTE!$A$1:$C$10,3,0) -> #N/A
A32: MP | B32: CAR | C32: EMB0972 | E32: CA 972x282x685 PROTO TUB BULLE | F32: UN | H32: 4.8 | I32: 28 | J32: 134.4 | K32: 0 | L32: 0 | M32: 28 | N32: 134.4 | O32: =VLOOKUP(C32,LISTE!$A$1:$C$10,3,0) -> #N/A
A33: MP | B33: CAR | C33: EPT0802 | E33: Pal. 800x1200 traitée NIMP15 | F33: UN | H33: 5.71 | I33: 19.5514 | J33: 111.6384 | K33: 0 | L33: 0 | M33: 19.5514 | N33: 111.6384 | O33: =VLOOKUP(C33,LISTE!$A$1:$C$10,3,0) -> #N/A
A34: MP | B34: CAR | C34: EFI0450 01 | E34: FILM ETIRABLE MANUEL | F34: UN | H34: 3.45 | I34: 30 | J34: 103.5 | K34: 0 | L34: 0 | M34: 30 | N34: 103.5 | O34: =VLOOKUP(C34,LISTE!$A$1:$C$10,3,0) -> #N/A
A35: MP | B35: CAR | C35: EMD0450 | E35: CA STANDART DX 450 | F35: UN | G35: UN | H35: 0.567 | I35: 160 | J35: 90.72 | K35: 0 | L35: 0 | M35: 160 | N35: 90.72 | O35: =VLOOKUP(C35,LISTE!$A$1:$C$10,3,0) -> #N/A
A36: MP | B36: CAR | C36: EFI0450 | E36: FILM ETIRABLE MANUEL | F36: UN | G36: UN | H36: 4.9927 | I36: 18 | J36: 89.8686 | K36: 0 | L36: 0 | M36: 18 | N36: 89.8686 | O36: =VLOOKUP(C36,LISTE!$A$1:$C$10,3,0) -> #N/A
A37: MP | B37: CAR | C37: EPL0580 | E37: PLAQUE GALIA 9 / 10 / 11 PC6 | F37: UN | G37: UN | H37: 0.68 | I37: 100 | J37: 68 | K37: 0 | L37: 0 | M37: 100 | N37: 68 | O37: =VLOOKUP(C37,LISTE!$A$1:$C$10,3,0) -> #N/A
A38: MP | B38: CAR | C38: EDO0000 | E38: DOUFFLINE PRéDéCOUPée CELLAIRE | F38: UN | G38: UN | H38: 30.2306 | I38: 2 | J38: 60.4612 | K38: 0 | L38: 0 | M38: 2 | N38: 60.4612 | O38: =VLOOKUP(C38,LISTE!$A$1:$C$10,3,0) -> #N/A
A39: MP | B39: CAR | C39: ESA0200 | E39: SACS PEbd 200 x 300 ép.40µ | F39: UN | G39: UN | H39: 0.0229 | I39: 2000 | J39: 45.8 | K39: 0 | L39: 0 | M39: 2000 | N39: 45.8 | O39: =VLOOKUP(C39,LISTE!$A$1:$C$10,3,0) -> #N/A
A40: MP | B40: CAR | C40: ETH03 | E40: THERMOFORME TH03 1430 | F40: UN | H40: 0.458 | I40: 70 | J40: 32.06 | K40: 0 | L40: 0 | M40: 70 | N40: 32.06 | O40: =VLOOKUP(C40,LISTE!$A$1:$C$10,3,0) -> #N/A
...

Sheet LISTE
A1: Ref | B1: Libellé | C1: OK/NON
A2: MPP07100 | B2: MOPLEN HP648S | C2: OK
A3: MPS07514 | B3: PS 830 P1 POLYSTYRENE | C3: OK
A4: MPZ09860 | B4: TPE G55777 R06104080PDC | C4: OK
A5: MPS07511 | B5: PS POLYSTYROL 143E CR13 | C5: OK
A6: MPP07112 | B6: PURELL PP331N | C6: OK
A7: MCL01004 | B7: Colorant DEEP BLACK OM0055 | C7: OK
A8: MPZ09861 | B8: TPE KRATON G2705 | C8: OK.R
A9: MCX01114 | B9: OMNI COLOUR DEEP BLACK OM | C9: OK.R
A10: MPS07520 | B10: POLYSTROL 454CNAT | C10: OK.R
