Workbook
Name liste: '[1]Fichier de ref en-cour'!$P$64:$P$65

Sheet MP JAN 2014
A1: FAM | B1: SFAM | C1: REF | D1: Flux | E1: LIBELLE | F1: UNIT | G1: UNIT PRICE | H1: PRIX UNIT | I1: STOCK 01 | J1: VALO1 | K1: STOCK 02 | L1: VALO2 | M1: STOCK TOTAL | N1: VALO TOTALE
A2: MP | B2: PP | C2: MPP07100 | E2: MOPLEN HP648S | F2: KG | H2: 1.583 | I2: 28139.568 | J2: 44544.936 | K2: 0 | L2: 0 | M2: 28139.568 | N2: 44544.936 | O2: =VLOOKUP(C2,LISTE!$A$1:$C$10,3,0) -> OK
A3: MP | B3: PP | C3: MPP07100 | D3: BRO | E3: MOPLEN HP648S ( ex:H32GA ) | F3: KG | H3: 0.106 | I3: 4226 | J3: 447.956 | K3: 0 | L3: 0 | M3: 4226 | N3: 447.956 | O3: =VLOOKUP(C3,LISTE!$A$1:$C$10,3,0) -> OK
A4: MP | B4: PS | C4: MPS07514 | E4: PS 830 P1 (HIPS) TOTAL pour | F4: KG | H4: 1.6279 | I4: 32500 | J4: 52906.75 | K4: 0 | L4: 0 | M4: 32500 | N4: 52906.75 | O4: =VLOOKUP(C4,LISTE!$A$1:$C$10,3,0) -> OK
A5: MP | B5: PZ | C5: MPZ09860 | E5: TPE G55777 R06104080PDC | F5: KG | H5: 4.735 | I5: 1040 | J5: 4924.4 | K5: 0 | L5: 0 | M5: 1040 | N5: 4924.4 | O5: =VLOOKUP(C5,LISTE!$A$1:$C$10,3,0) -> OK
A6: MP | B6: CAR | C6: EPL0565365 | E6: Plaque Aquilux Noire ep.2mm | F6: UN | H6: 0.458 | I6: 4014 | J6: 1838.412 | K6: 0 | L6: 0 | M6: 4014 | N6: 1838.412 | O6: =VLOOKUP(C6,LISTE!$A$1:$C$10,3,0) -> #N/A
A7: MP | B7: CAR | C7: ETH04 | E7: THERMOFORM TH04 1232/1449/1464 | F7: UN | H7: 0.458 | I7: 3842 | J7: 1759.636 | K7: 0 | L7: 0 | M7: 3842 | N7: 1759.636 | O7: =VLOOKUP(C7,LISTE!$A$1:$C$10,3,0) -> #N/A
A8: MP | B8: CAR | C8: EPVC048I | E8: PVC INCOLORE SOLV. 48MMX100ML | F8: UN | H8: 1.55 | I8: 864 | J8: 1339.2 | K8: 0 | L8: 0 | M8: 864 | N8: 1339.2 | O8: =VLOOKUP(C8,LISTE!$A$1:$C$10,3,0) -> #N/A
A9: MP | B9: CAR | C9: ECO0045 | E9: Cornières 60 x 60 | F9: UN | G9: UN | H9: 0.7 | I9: 1823.3131 | J9: 1276.3191 | K9: 0 | L9: 0 | M9: 1823.3131 | N9: 1276.3191 | O9: =VLOOKUP(C9,LISTE!$A$1:$C$10,3,0) -> #N/A
A10: MP | B10: CAR | C10: ETH06 | E10: THERMOFORM TH06 1466/1477/1483 | F10: UN | H10: 0.7205 | I10: 1655 | J10: 1192.4275 | K10: 0 | L10: 0 | M10: 1655 | N10: 1192.4275 | O10: =VLOOKUP(C10,LISTE!$A$1:$C$10,3,0) -> #N/A
A11: MP | B11: CAR | C11: EMB0725 | E11: CA 725X480X500 C10 | F11: UN | H11: 1.413 | I11: 827 | J11: 1168.551 | K11: 0 | L11: 0 | M11: 827 | N11: 1168.551 | O11: =VLOOKUP(C11,LISTE!$A$1:$C$10,3,0) -> #N/A
A12: MP | B12: CAR | C12: EMB3233 | E12: MOUSSE 320x320x20 Plate | F12: UN | H12: 0.47 | I12: 2428 | J12: 1141.16 | K12: 0 | L12: 0 | M12: 2428 | N12: 1141.16 | O12: =VLOOKUP(C12,LISTE!$A$1:$C$10,3,0) -> #N/A
A13: MP | B13: CAR | C13: EBU0050 | E13: DISTRIBUL 50X50M PRED 50CM | F13: UN | H13: 16.54 | I13: 58 | J13: 959.32 | K13: 0 | L13: 0 | M13: 58 | N13: 959.32 | O13: =VLOOKUP(C13,LISTE!$A$1:$C$10,3,0) -> #N/A
A14: MP | B14: CAR | C14: ESA0320 | E14: Sac PE 300 + 2x100 x 350 50µm | F14: UN | G14: UN | H14: 0.0743 | I14: 11850 | J14: 880.455 | K14: 0 | L14: 0 | M14: 11850 | N14: 880.455 | O14: =VLOOKUP(C14,LISTE!$A$1:$C$10,3,0) -> #N/A
A15: MP | B15: CAR | C15: EPL0380 | E15: PLAQUE GALIA 12 / 13 PC6 | F15: UN | G15: UN | H15: 0.57 | I15: 1200 | J15: 684 | K15: 0 | L15: 0 | M15: 1200 | N15: 684 | O15: =VLOOKUP(C15,LISTE!$A$1:$C$10,3,0) -> #N/A
A16: MP | B16: CAR | C16: ESN1312 | E16: RONDELLE SNR 132x50 ép:1,5mm | F16: UN | H16: 0.25 | I16: 2500 | J16: 625 | K16: 0 | L16: 0 | M16: 2500 | N16: 625 | O16: =VLOOKUP(C16,LISTE!$A$1:$C$10,3,0) -> #N/A
A17: MP | B17: CAR | C17: EBRAC003 | E17: BRACELETS CAOUTCHOUCS 60x3 | F17: UN | G17: UN | H17: 5.4 | I17: 100 | J17: 540 | K17: 0 | L17: 0 | M17: 100 | N17: 540 | O17: =VLOOKUP(C17,LISTE!$A$1:$C$10,3,0) -> #N/A
A18: MP | B18: CAR | C18: ESA0300 01 | E18: SACS PEbd 300 x 400 ép.60µ | F18: UN | G18: UN | H18: 0.0377 | I18: 14000 | J18: 527.8 | K18: 0 | L18: 0 | M18: 14000 | N18: 527.8 | O18: =VLOOKUP(C18,LISTE!$A$1:$C$10,3,0) -> #N/A
A19: MP | B19: CAR | C19: EGI1353 | E19: PLATEAU F14473 | F19: UN | H19: 0.35 | I19: 1483 | J19: 519.05 | K19: 0 | L19: 0 | M19: 1483 | N19: 519.05 | O19: =VLOOKUP(C19,LISTE!$A$1:$C$10,3,0) -> #N/A
A20: MP | B20: CAR | C20: EPL0280 | E20: PLAQUE GALIA 15 / 16 PC6 | F20: UN | G20: UN | H20: 0.57 | I20: 750 | J20: 427.5 | K20: 0 | L20: 0 | M20: 750 | N20: 427.5 | O20: =VLOOKUP(C20,LISTE!$A$1:$C$10,3,0) -> #N/A
A21: MP | B21: CAR | C21: EBU0032 | E21: DISTRIBUL 32X50M PRED 32CM | F21: UN | H21: 13.9 | I21: 30 | J21: 417 | K21: 0 | L21: 0 | M21: 30 | N21: 417 | O21: =VLOOKUP(C21,LISTE!$A$1:$C$10,3,0) -> #N/A
A22: MP | B22: CAR | C22: EMB0115 | E22: BOITES 115x100x70 | F22: UN | G22: UN | H22: 0.243 | I22: 1346 | J22: 327.078 | K22: 0 | L22: 0 | M22: 1346 | N22: 327.078 | O22: =VLOOKUP(C22,LISTE!$A$1:$C$10,3,0) -> #N/A
A23: MP | B23: CAR | C23: ESA1280 01 | E23: Sac PE 120x180x80 100 µm | F23: UN | G23: UN | H23: 4.12 | I23: 75 | J23: 309 | K23: 0 | L23: 0 | M23: 75 | N23: 309 | O23: =VLOOKUP(C23,LISTE!$A$1:$C$10,3,0) -> #N/A
A24: MP | B24: CAR | C24: ESA0300 | E24: SACS PEbd 300 x 500 ép.40µ | F24: UN | G24: UN | H24: 0.0377 | I24: 8000 | J24: 301.6 | K24: 0 | L24: 0 | M24: 8000 | N24: 301.6 | O24: =VLOOKUP(C24,LISTE!$A$1:$C$10,3,0) -> #N/A
A25: MP | B25: CAR | C25: EFE0280 | E25: Feuillard en PP 12mmX0.70 | F25: BO | G25: UN | H25: 45 | I25: 6.104 | J25: 274.68 | K25: 0 | L25: 0 | M25: 6.104 | N25: 274.68 | O25: =VLOOKUP(C25,LISTE!$A$1:$C$10,3,0) -> #N/A
A26: MP | B26: CAR | C26: EMB03232 | E26: CA 320x320x380 Plate | F26: UN | H26: 1.174 | I26: 200 | J26: 234.8 | K26: 0 | L26: 0 | M26: 200 | N26: 234.8 | O26: =VLOOKUP(C26,LISTE!$A$1:$C$10,3,0) -> #N/A
A27: MP | B27: CAR | C27: EMB0602 | E27: CA 600x320x530 BC20 Imprimé | F27: UN | G27: UN | H27: 1.4603 | I27: 135 | J27: 197.1405 | K27: 0 | L27: 0 | M27: 135 | N27: 197.1405 | O27: =VLOOKUP(C27,LISTE!$A$1:$C$10,3,0) -> #N/A
A28: MP | B28: CAR | C28: EPL0585 | E28: PLAQUE 585x485 PC6 | F28: UN | G28: UN | H28: 0.1691 | I28: 1010 | J28: 170.791 | K28: 0 | L28: 0 | M28: 1010 | N28: 170.791 | O28: =VLOOKUP(C28,LISTE!$A$1:$C$10,3,0) -> #N/A
A29: MP | B29: CAR | C29: EMG0015 | E29: CA GALIA A15 | F29: UN | G29: UN | H29: 0.2488 | I29: 600 | J29: 149.28 | K29: 0 | L29: 0 | M29: 600 | N29: 149.28 | O29: =VLOOKUP(C29,LISTE!$A$1:$C$10,3,0) -> #N/A
A30: MP | B30: CAR | C30: EMB0389 | E30: CA 389X288X282 BE 2 faces BL | F30: UN | H30: 0.96 | I30: 150 | J30: 144 | K30: 0 | L30: 0 | M30: 150 | N30: 144 | O30: =VLOOKUP(C30,LISTE!$A$1:$C$10,3,0) -> #N/A
A31: MP | B31: CAR | C31: ESA0000 | E31: SACS PAPIERS NEUTRES | F31: UN | G31: UN | H31: 0.69 | I31: 200 | J31: 138 | K31: 0 | L31: 0 | M31: 200 | N31: 138 | O31: =VLOOKUP(C31,LISTE!$A$1:$C$10,3,0) -> #N/A
A32: MP | B32: CAR | C32: EMB0972 | E32: CA 972x282x685 PROTO TUB BULLE | F32: UN | H32: 4.8 | I32: 28 | J32: 134.4 | K32: 0 | L32: 0 | M32: 28 | N32: 134.4 | O32: =VLOOKUP(C32,LISTE!$A$1:$C$10,3,0) -> #N/A
A33: MP | B33: CAR | C33: EPT0802 | E33: Pal. 800x1200 traitée NIMP15 | F33: UN | H33: 5.71 | I33: 19.5514 | J33: 111.6384 | K33: 0 | L33: 0 | M33: 19.5514 | N33: 111.6384 | O33: =VLOOKUP(C33,LISTE!$A$1:$C$10,3,0) -> #N/A
A34: MP | B34: CAR | C34: EFI0450 01 | E34: FILM ETIRABLE MANUEL | F34: UN | H34: 3.45 | I34: 30 | J34: 103.5 | K34: 0 | L34: 0 | M34: 30 | N34: 103.5 | O34: =VLOOKUP(C34,LISTE!$A$1:$C$10,3,0) -> #N/A
A35: MP | B35: CAR | C35: EMD0450 | E35: CA STANDART DX 450 | F35: UN | G35: UN | H35: 0.567 | I35: 160 | J35: 90.72 | K35: 0 | L35: 0 | M35: 160 | N35: 90.72 | O35: =VLOOKUP(C35,LISTE!$A$1:$C$10,3,0) -> #N/A
A36: MP | B36: CAR | C36: EFI0450 | E36: FILM ETIRABLE MANUEL | F36: UN | G36: UN | H36: 4.9927 | I36: 18 | J36: 89.8686 | K36: 0 | L36: 0 | M36: 18 | N36: 89.8686 | O36: =VLOOKUP(C36,LISTE!$A$1:$C$10,3,0) -> #N/A
A37: MP | B37: CAR | C37: EPL0580 | E37: PLAQUE GALIA 9 / 10 / 11 PC6 | F37: UN | G37: UN | H37: 0.68 | I37: 100 | J37: 68 | K37: 0 | L37: 0 | M37: 100 | N37: 68 | O37: =VLOOKUP(C37,LISTE!$A$1:$C$10,3,0) -> #N/A
A38: MP | B38: CAR | C38: EDO0000 | E38: DOUFFLINE PRéDéCOUPée CELLAIRE | F38: UN | G38: UN | H38: 30.2306 | I38: 2 | J38: 60.4612 | K38: 0 | L38: 0 | M38: 2 | N38: 60.4612 | O38: =VLOOKUP(C38,LISTE!$A$1:$C$10,3,0) -> #N/A
A39: MP | B39: CAR | C39: ESA0200 | E39: SACS PEbd 200 x 300 ép.40µ | F39: UN | G39: UN | H39: 0.0229 | I39: 2000 | J39: 45.8 | K39: 0 | L39: 0 | M39: 2000 | N39: 45.8 | O39: =VLOOKUP(C39,LISTE!$A$1:$C$10,3,0) -> #N/A
A40: MP | B40: CAR | C40: ETH03 | E40: THERMOFORME TH03 1430 | F40: UN | H40: 0.458 | I40: 70 | J40: 32.06 | K40: 0 | L40: 0 | M40: 70 | N40: 32.06 | O40: =VLOOKUP(C40,LISTE!$A$1:$C$10,3,0) -> #N/A
A41: MP | B41: CAR | C41: EPL0580C | E41: PLAQUE A9 compact - 575 x 380 | F41: UN | G41: UN | H41: 0.0556 | I41: 500 | J41: 27.8 | K41: 0 | L41: 0 | M41: 500 | N41: 27.8 | O41: =VLOOKUP(C41,LISTE!$A$1:$C$10,3,0) -> #N/A
A42: MP | B42: CAR | C42: EMGF016 | E42: FOND GALIA C16 | F42: UN | H42: 0.2441 | I42: 100 | J42: 24.41 | K42: 0 | L42: 0 | M42: 100 | N42: 24.41 | O42: =VLOOKUP(C42,LISTE!$A$1:$C$10,3,0) -> #N/A
A43: MP | B43: CAR | C43: ETH05 | E43: THERMOFORME TH05 1466 | F43: UN | H43: 0.458 | I43: 53 | J43: 24.274 | K43: 0 | L43: 0 | M43: 53 | N43: 24.274 | O43: =VLOOKUP(C43,LISTE!$A$1:$C$10,3,0) -> #N/A
A44: MP | B44: CAR | C44: EMGC016 | E44: COUVERCLE GALIA 15/16 | F44: UN | H44: 0.2249 | I44: 100 | J44: 22.49 | K44: 0 | L44: 0 | M44: 100 | N44: 22.49 | O44: =VLOOKUP(C44,LISTE!$A$1:$C$10,3,0) -> #N/A
A45: MP | B45: COL | C45: MCL0135 | E45: WHITE COLOR HIPS MC-70788ST | F45: KG | H45: 7.14 | I45: 2100.9 | J45: 15000.426 | K45: 0 | L45: 0 | M45: 2100.9 | N45: 15000.426 | O45: =VLOOKUP(C45,LISTE!$A$1:$C$10,3,0) -> #N/A
A46: MP | B46: COL | C46: MCL01004 | E46: COLORANT DEEP BLACK OC94620025 | F46: KG | H46: 1.9 | I46: 1003 | J46: 1905.7 | K46: 0 | L46: 0 | M46: 1003 | N46: 1905.7 | O46: =VLOOKUP(C46,LISTE!$A$1:$C$10,3,0) -> #N/A
A47: MP | B47: COL | C47: MCL0708 | E47: MM-SL51120644-ZA BLEU TRANS | F47: KG | H47: 10.26 | I47: 179 | J47: 1836.54 | K47: 0 | L47: 0 | M47: 179 | N47: 1836.54 | O47: =VLOOKUP(C47,LISTE!$A$1:$C$10,3,0) -> #N/A
A48: MP | B48: COL | C48: MCL0128 | E48: MM- BLANC 36686B18 | F48: KG | H48: 6.28 | I48: 244 | J48: 1532.32 | K48: 0 | L48: 0 | M48: 244 | N48: 1532.32 | O48: =VLOOKUP(C48,LISTE!$A$1:$C$10,3,0) -> #N/A
A49: MP | B49: COL | C49: MCL0710 | E49: RENOL-NC51120536 BLEU TRANSLUC | F49: KG | H49: 19.5 | I49: 0 | J49: 0 | K49: 48.75 | L49: 950.625 | M49: 48.75 | N49: 950.625 | O49: =VLOOKUP(C49,LISTE!$A$1:$C$10,3,0) -> #N/A
A50: MP | B50: COL | C50: MCX01110 | E50: MEVOPUR WHITE PP0M176011 | F50: KG | H50: 26.77 | I50: 22 | J50: 588.94 | K50: 0 | L50: 0 | M50: 22 | N50: 588.94 | O50: =VLOOKUP(C50,LISTE!$A$1:$C$10,3,0) -> #N/A
A51: MP | B51: COL | C51: MCL0522 | E51: MM-ORANGE 166700 B18 à 6% | F51: KG | H51: 11.64 | I51: 50 | J51: 582 | K51: 0 | L51: 0 | M51: 50 | N51: 582 | O51: =VLOOKUP(C51,LISTE!$A$1:$C$10,3,0) -> #N/A
A52: MP | B52: COL | C52: MCL0133 | E52: MM-BLANC M 04500 J UNIV. | F52: KG | H52: 6.57 | I52: 80 | J52: 525.6 | K52: 0 | L52: 0 | M52: 80 | N52: 525.6 | O52: =VLOOKUP(C52,LISTE!$A$1:$C$10,3,0) -> #N/A
A53: MP | B53: COL | C53: MCX01107 | E53: VECTRA FK E 9500 BLEU | F53: KG | H53: 87.5 | I53: 5.7 | J53: 498.75 | K53: 0 | L53: 0 | M53: 5.7 | N53: 498.75 | O53: =VLOOKUP(C53,LISTE!$A$1:$C$10,3,0) -> #N/A
... A112: MP | B112: INE | C112: ISN144202 | E112: INSERT BORGNE M6 L13 | F112: UN | H112: 0.063 | I112: 194968 | J112: 12282.984 | K112: 0 | L112: 0 | M112: 194968 | N112: 12282.984 | O112: =VLOOKUP(C112,LISTE!$A$1:$C$10,3,0) -> #N/A
A113: MP | B113: INE | C113: IDE00514 | E113: TOILE METALLIQUE LAITON | F113: UN | G113: UN | H113: 0.0482 | I113: 184000 | J113: 8868.8 | K113: 0 | L113: 0 | M113: 184000 | N113: 8868.8 | O113: =VLOOKUP(C113,LISTE!$A$1:$C$10,3,0) -> #N/A
A114: MP | B114: INE | C114: ISN144201 | E114: INSERT STIFFENER pour 1442 | F114: UN | H114: 0.1624 | I114: 54301 | J114: 8818.4824 | K114: 0 | L114: 0 | M114: 54301 | N114: 8818.4824 | O114: =VLOOKUP(C114,LISTE!$A$1:$C$10,3,0) -> #N/A
A115: MP | B115: INE | C115: IGI1353322 01-B | E115: ADJUST SCREW filet M9.5 X0.4 | F115: UN | H115: 2.52 | I115: 0 | J115: 0 | K115: 2838 | L115: 7151.76 | M115: 2838 | N115: 7151.76 | O115: =VLOOKUP(C115,LISTE!$A$1:$C$10,3,0) -> #N/A
A116: MP | B116: INE | C116: ETI1442 01 | E116: ETIQUETTE 1442 V1 | F116: UN | H116: 0.0929 | I116: 70722 | J116: 6570.0738 | K116: 0 | L116: 0 | M116: 70722 | N116: 6570.0738 | O116: =VLOOKUP(C116,LISTE!$A$1:$C$10,3,0) -> #N/A
A117: MP | B117: INE | C117: IGI1353 | E117: FRICTION RING F144885 | F117: UN | H117: 0.18 | I117: 29475 | J117: 5305.5 | K117: 0 | L117: 0 | M117: 29475 | N117: 5305.5 | O117: =VLOOKUP(C117,LISTE!$A$1:$C$10,3,0) -> #N/A
A118: MP | B118: INE | C118: ETI1442 03 | E118: ETIQUETTE 1442 V2 (point noir) | F118: UN | H118: 0.0929 | I118: 50633 | J118: 4703.8057 | K118: 0 | L118: 0 | M118: 50633 | N118: 4703.8057 | O118: =VLOOKUP(C118,LISTE!$A$1:$C$10,3,0) -> #N/A
A119: MP | B119: INE | C119: IMV1279 01 | E119: ETIQUETTE SECABLE SB 2X3.5 cm | F119: UN | H119: 0.0929 | I119: 17568 | J119: 1632.0672 | K119: 0 | L119: 0 | M119: 17568 | N119: 1632.0672 | O119: =VLOOKUP(C119,LISTE!$A$1:$C$10,3,0) -> #N/A
A120: MP | B120: INE | C120: IGI1354022 01 | E120: ROD INSERT nv profil 04.11 JBT | F120: UN | H120: 0.36 | I120: 4500 | J120: 1620 | K120: 0 | L120: 0 | M120: 4500 | N120: 1620 | O120: =VLOOKUP(C120,LISTE!$A$1:$C$10,3,0) -> #N/A
A121: MP | B121: INE | C121: IAP00876 | E121: QUICK-SERT 1434 M8 X 15 LAITON | F121: UN | G121: UN | H121: 0.2045 | I121: 6500 | J121: 1329.25 | K121: 0 | L121: 0 | M121: 6500 | N121: 1329.25 | O121: =VLOOKUP(C121,LISTE!$A$1:$C$10,3,0) -> #N/A
A122: MP | B122: INE | C122: IDR130104 | E122: RESSORT 0.50*3.8*28 | F122: UN | H122: 0.02 | I122: 23620 | J122: 472.4 | K122: 0 | L122: 0 | M122: 23620 | N122: 472.4 | O122: =VLOOKUP(C122,LISTE!$A$1:$C$10,3,0) -> #N/A
A123: MP | B123: INE | C123: IDR120904 A | E123: RESSORT 0.85*11.8*80 | F123: UN | H123: 0.109 | I123: 3872 | J123: 422.048 | K123: 0 | L123: 0 | M123: 3872 | N123: 422.048 | O123: =VLOOKUP(C123,LISTE!$A$1:$C$10,3,0) -> #N/A
A124: MP | B124: INE | C124: IDR1209 06 | E124: VIS DELTA PT 2.5X10 | F124: UN | H124: 0.078 | I124: 4976 | J124: 388.128 | K124: 0 | L124: 0 | M124: 4976 | N124: 388.128 | O124: =VLOOKUP(C124,LISTE!$A$1:$C$10,3,0) -> #N/A
A125: MP | B125: INE | C125: IDR130101 | E125: RESSORT 0.70*10*30 | F125: UN | H125: 0.055 | I125: 5240 | J125: 288.2 | K125: 0 | L125: 0 | M125: 5240 | N125: 288.2 | O125: =VLOOKUP(C125,LISTE!$A$1:$C$10,3,0) -> #N/A
A126: MP | B126: INE | C126: IDR1209 13 | E126: RESSORT 0.50*3.8*25.5 | F126: UN | H126: 0.048 | I126: 6000 | J126: 288 | K126: 0 | L126: 0 | M126: 6000 | N126: 288 | O126: =VLOOKUP(C126,LISTE!$A$1:$C$10,3,0) -> #N/A
A127: MP | B127: INE | C127: IDR1209 03 | E127: RESSORT 0.85*10*29.5 | F127: UN | H127: 0.06 | I127: 3872 | J127: 232.32 | K127: 0 | L127: 0 | M127: 3872 | N127: 232.32 | O127: =VLOOKUP(C127,LISTE!$A$1:$C$10,3,0) -> #N/A
A128: MP | B128: INE | C128: IDR130102 | E128: RESSORT 0.85*11.8*92 | F128: UN | H128: 0.2 | I128: 980 | J128: 196 | K128: 0 | L128: 0 | M128: 980 | N128: 196 | O128: =VLOOKUP(C128,LISTE!$A$1:$C$10,3,0) -> #N/A
A129: MP | B129: INE | C129: ISN139302 | E129: INSERT NUT 40/THH060H128B 00 | F129: UN | H129: 0.1695 | I129: 1020 | J129: 172.89 | K129: 0 | L129: 0 | M129: 1020 | N129: 172.89 | O129: =VLOOKUP(C129,LISTE!$A$1:$C$10,3,0) -> #N/A
A130: MP | B130: INE | C130: IDR1209 14 | E130: RESSORT 0.85 x 11.8 x 70 | F130: UN | H130: 0.048 | I130: 3554 | J130: 170.592 | K130: 0 | L130: 0 | M130: 3554 | N130: 170.592 | O130: =VLOOKUP(C130,LISTE!$A$1:$C$10,3,0) -> #N/A
A131: MP | B131: INE | C131: IDR1209 01 | E131: ANNULE LE 21.05.10 | F131: UN | H131: 2.95 | I131: 20 | J131: 59 | K131: 0 | L131: 0 | M131: 20 | N131: 59 | O131: =VLOOKUP(C131,LISTE!$A$1:$C$10,3,0) -> #N/A
A132: MP | B132: PA | C132: MPA01914 | E132: ZYTEL 70 G 43HSL NCO10 | F132: KG | H132: 4.15 | I132: 5405 | J132: 22430.75 | K132: 0 | L132: 0 | M132: 5405 | N132: 22430.75 | O132: =VLOOKUP(C132,LISTE!$A$1:$C$10,3,0) -> #N/A
A133: MP | B133: PA | C133: MPA01810 | E133: NILAMID A3 HHR GF43 BK 9005/J | F133: KG | H133: 3.8 | I133: 3325 | J133: 12635 | K133: 0 | L133: 0 | M133: 3325 | N133: 12635 | O133: =VLOOKUP(C133,LISTE!$A$1:$C$10,3,0) -> #N/A
... A165: MP | B165: PA | C165: MPA01409 | E165: PA6-GRILON TS VO ORANGE 2008/2 | F165: KG | H165: 4.78 | I165: 225 | J165: 1075.5 | K165: 0 | L165: 0 | M165: 225 | N165: 1075.5 | O165: =VLOOKUP(C165,LISTE!$A$1:$C$10,3,0) -> #N/A
A166: MP | B166: PA | C166: MPA01251 | D166: MEL | E166: DURETHAN AKV35 H2.0 NOIR901510 | F166: KG | H166: 2.65 | I166: 400 | J166: 1060 | K166: 0 | L166: 0 | M166: 400 | N166: 1060 | O166: =VLOOKUP(C166,LISTE!$A$1:$C$10,3,0) -> #N/A
A167: MP | B167: PA | C167: MPA01411 | E167: PA6 GRILON TSVO BLEU 5015/1 | F167: KG | H167: 4.55 | I167: 225 | J167: 1023.75 | K167: 0 | L167: 0 | M167: 225 | N167: 1023.75 | O167: =VLOOKUP(C167,LISTE!$A$1:$C$10,3,0) -> #N/A
A168: MP | B168: PA | C168: MPA01907 | E168: ZYTEL 70G30 HSL BK 39 NOIR | F168: KG | H168: 3.89 | I168: 250 | J168: 972.5 | K168: 0 | L168: 0 | M168: 250 | N168: 972.5 | O168: =VLOOKUP(C168,LISTE!$A$1:$C$10,3,0) -> #N/A
A169: MP | B169: PA | C169: MPA01417 | E169: PA6-GRILON TS VO NATURAL | F169: KG | H169: 3.23 | I169: 238 | J169: 768.74 | K169: 0 | L169: 0 | M169: 238 | N169: 768.74 | O169: =VLOOKUP(C169,LISTE!$A$1:$C$10,3,0) -> #N/A
A170: MP | B170: PA | C170: MPA01804 | E170: FRIANYL A63 V2 ORANGE 2004/E | F170: KG | H170: 2.9 | I170: 250 | J170: 725 | K170: 0 | L170: 0 | M170: 250 | N170: 725 | O170: =VLOOKUP(C170,LISTE!$A$1:$C$10,3,0) -> #N/A
A171: MP | B171: PA | C171: MPA01146 | E171: AR218V30 NOIR | F171: KG | H171: 2.35 | I171: 289 | J171: 679.15 | K171: 0 | L171: 0 | M171: 289 | N171: 679.15 | O171: =VLOOKUP(C171,LISTE!$A$1:$C$10,3,0) -> #N/A
A172: MP | B172: PA | C172: MPA01601 | E172: THERMOCOMP PB00A GYMDNAT | F172: KG | H172: 5.31 | I172: 122 | J172: 647.82 | K172: 0 | L172: 0 | M172: 122 | N172: 647.82 | O172: =VLOOKUP(C172,LISTE!$A$1:$C$10,3,0) -> #N/A
A173: MP | B173: PA | C173: MPA01421 | E173: PA66/6-GRILON TS VO GRIS 7035 | F173: KG | H173: 3.68 | I173: 175 | J173: 644 | K173: 0 | L173: 0 | M173: 175 | N173: 644 | O173: =VLOOKUP(C173,LISTE!$A$1:$C$10,3,0) -> #N/A
A174: MP | B174: PA | C174: MPA01221 | E174: UMID A3K GRIS 01.650 (RAL7035) | F174: KG | H174: 4.9927 | I174: 125 | J174: 624.0875 | K174: 0 | L174: 0 | M174: 125 | N174: 624.0875 | O174: =VLOOKUP(C174,LISTE!$A$1:$C$10,3,0) -> #N/A
A175: MP | B175: PA | C175: MPA01643 | E175: NYLATRON GS.S. | F175: KG | H175: 12.5 | I175: 47 | J175: 587.5 | K175: 0 | L175: 0 | M175: 47 | N175: 587.5 | O175: =VLOOKUP(C175,LISTE!$A$1:$C$10,3,0) -> #N/A
A176: MP | B176: PA | C176: MPA01810 | D176: BRO | E176: FRIANYL A63 HH-GV43 9005/J | F176: KG | H176: 0.2 | I176: 2390 | J176: 478 | K176: 0 | L176: 0 | M176: 2390 | N176: 478 | O176: =VLOOKUP(C176,LISTE!$A$1:$C$10,3,0) -> #N/A
A177: MP | B177: PA | C177: MPA01906 | D177: MEL | E177: ZYTEL E 114 L BK 97 NOIR | F177: KG | H177: 3.8112 | I177: 125 | J177: 476.4 | K177: 0 | L177: 0 | M177: 125 | N177: 476.4 | O177: =VLOOKUP(C177,LISTE!$A$1:$C$10,3,0) -> #N/A
A178: MP | B178: PA | C178: MPA01423 | E178: PA6-66 GRILON TSS Noir 9832 | F178: KG | H178: 4 | I178: 117 | J178: 468 | K178: 0 | L178: 0 | M178: 117 | N178: 468 | O178: =VLOOKUP(C178,LISTE!$A$1:$C$10,3,0) -> #N/A
A179: MP | B179: PA | C179: MPA01132 | E179: A218V30 NATUREL | F179: KG | H179: 3.29 | I179: 136 | J179: 447.44 | K179: 0 | L179: 0 | M179: 136 | N179: 447.44 | O179: =VLOOKUP(C179,LISTE!$A$1:$C$10,3,0) -> #N/A
A180: MP | B180: PA | C180: MPA01706 | E180: RILSAN AMN T6 LD NOIR | F180: KG | H180: 17.66 | I180: 25 | J180: 441.5 | K180: 0 | L180: 0 | M180: 25 | N180: 441.5 | O180: =VLOOKUP(C180,LISTE!$A$1:$C$10,3,0) -> #N/A
A181: MP | B181: PA | C181: MPX01068 | E181: STANYL TW 200 F6 | F181: KG | H181: 19.38 | I181: 22 | J181: 426.36 | K181: 0 | L181: 0 | M181: 22 | N181: 426.36 | O181: =VLOOKUP(C181,LISTE!$A$1:$C$10,3,0) -> #N/A
A182: MP | B182: PA | C182: MPA01106 | E182: A216 NATUREL | F182: KG | H182: 3.35 | I182: 124 | J182: 415.4 | K182: 0 | L182: 0 | M182: 124 | N182: 415.4 | O182: =VLOOKUP(C182,LISTE!$A$1:$C$10,3,0) -> #N/A
A183: MP | B183: PA | C183: MPA01419 | E183: GRILAMID TR-90 LS NATUREL | F183: KG | H183: 14.31 | I183: 27 | J183: 386.37 | K183: 0 | L183: 0 | M183: 27 | N183: 386.37 | O183: =VLOOKUP(C183,LISTE!$A$1:$C$10,3,0) -> #N/A
A184: MP | B184: PA | C184: MPA01805 | E184: FRIANYL A3 V2 WT 9003/E | F184: KG | H184: 3.85 | I184: 100 | J184: 385 | K184: 0 | L184: 0 | M184: 100 | N184: 385 | O184: =VLOOKUP(C184,LISTE!$A$1:$C$10,3,0) -> #N/A
A185: MP | B185: PA | C185: MPA01136 | D185: MEL | F185: KG | H185: 2.75 | I185: 120 | J185: 330 | K185: 0 | L185: 0 | M185: 120 | N185: 330 | O185: =VLOOKUP(C185,LISTE!$A$1:$C$10,3,0) -> #N/A
A186: MP | B186: PA | C186: MPA01051 | E186: B216 NATUREL | F186: KG | H186: 4.35 | I186: 75 | J186: 326.25 | K186: 0 | L186: 0 | M186: 75 | N186: 326.25 | O186: =VLOOKUP(C186,LISTE!$A$1:$C$10,3,0) -> #N/A
A187: MP | B187: PA | C187: MPA01322 | D187: MEL | E187: PA612 GF20 VESTAMID X7099 NAT | F187: KG | H187: 12.96 | I187: 25 | J187: 324 | K187: 0 | L187: 0 | M187: 25 | N187: 324 | O187: =VLOOKUP(C187,LISTE!$A$1:$C$10,3,0) -> #N/A
A188: MP | B188: PA | C188: MPA01139 | E188: TECHNYL B218 NOIR 21N | F188: KG | H188: 4.26 | I188: 75 | J188: 319.5 | K188: 0 | L188: 0 | M188: 75 | N188: 319.5 | O188: =VLOOKUP(C188,LISTE!$A$1:$C$10,3,0) -> #N/A
A189: MP | B189: PA | C189: MPA01203 | E189: UMID A3K MO1 NATUREL | F189: KG | H189: 3.9179 | I189: 75 | J189: 293.8425 | K189: 0 | L189: 0 | M189: 75 | N189: 293.8425 | O189: =VLOOKUP(C189,LISTE!$A$1:$C$10,3,0) -> #N/A
...

Sheet LISTE
A1: Ref | B1: Libellé | C1: OK/NON
A2: MPP07100 | B2: MOPLEN HP648S | C2: OK
A3: MPS07514 | B3: PS 830 P1 POLYSTYRENE | C3: OK
A4: MPZ09860 | B4: TPE G55777 R06104080PDC | C4: OK
A5: MPS07511 | B5: PS POLYSTYROL 143E CR13 | C5: OK
A6: MPP07112 | B6: PURELL PP331N | C6: OK
A7: MCL01004 | B7: Colorant DEEP BLACK OM0055 | C7: OK
A8: MPZ09861 | B8: TPE KRATON G2705 | C8: OK.R
A9: MCX01114 | B9: OMNI COLOUR DEEP BLACK OM | C9: OK.R
A10: MPS07520 | B10: POLYSTROL 454CNAT | C10: OK.R
