Workbook

Sheet archive mensuelle
B1: art 1 | C1: art 2 | D1: art 3 | E1: art 4
A2: 41659 | B2: 1 | C2: 0 | D2: 3 | E2: 4
A3: 41660 | B3: 4 | C3: 1 | D3: 2 | E3: 60
A4: 41661 | B4: 3 | C4: 5 | D4: 9 | E4: 1
A5: 41662 | B5: 17 | C5: 20 | D5: 0 | E5: 9
A6: 41663 | B6: =IF($A6='saisi journalière'!$B$1,'saisi journalière'!B$12,"") | C6: =IF($A6='saisi journalière'!$B$1,'saisi journalière'!C$12,"") | D6: =IF($A6='saisi journalière'!$B$1,'saisi journalière'!D$12,"") | E6: =IF($A6='saisi journalière'!$B$1,'saisi journalière'!E$12,"")
A7: 41664 | B7: =IF($A7='saisi journalière'!$B$1,'saisi journalière'!B$12,"") | C7: =IF($A7='saisi journalière'!$B$1,'saisi journalière'!C$12,"") | D7: =IF($A7='saisi journalière'!$B$1,'saisi journalière'!D$12,"") | E7: =IF($A7='saisi journalière'!$B$1,'saisi journalière'!E$12,"")
A8: 41665 | B8: =IF($A8='saisi journalière'!$B$1,'saisi journalière'!B$12,"") | C8: =IF($A8='saisi journalière'!$B$1,'saisi journalière'!C$12,"") | D8: =IF($A8='saisi journalière'!$B$1,'saisi journalière'!D$12,"") | E8: =IF($A8='saisi journalière'!$B$1,'saisi journalière'!E$12,"")
A9: 41666 | B9: =IF($A9='saisi journalière'!$B$1,'saisi journalière'!B$12,"") | C9: =IF($A9='saisi journalière'!$B$1,'saisi journalière'!C$12,"") | D9: =IF($A9='saisi journalière'!$B$1,'saisi journalière'!D$12,"") | E9: =IF($A9='saisi journalière'!$B$1,'saisi journalière'!E$12,"")
A10: 41667 | B10: =IF($A10='saisi journalière'!$B$1,'saisi journalière'!B$12,"") | C10: =IF($A10='saisi journalière'!$B$1,'saisi journalière'!C$12,"") | D10: =IF($A10='saisi journalière'!$B$1,'saisi journalière'!D$12,"") | E10: =IF($A10='saisi journalière'!$B$1,'saisi journalière'!E$12,"")
A11: 41668 | B11: =IF($A11='saisi journalière'!$B$1,'saisi journalière'!B$12,"") | C11: =IF($A11='saisi journalière'!$B$1,'saisi journalière'!C$12,"") | D11: =IF($A11='saisi journalière'!$B$1,'saisi journalière'!D$12,"") | E11: =IF($A11='saisi journalière'!$B$1,'saisi journalière'!E$12,"")

Sheet saisi journalière
A1: Date du jour | B1: =TODAY() -> 41662
A3: point de vente | B3: art 1 | C3: art 2 | D3: art 3 | E3: art 4
A4: A | B4: 2 | E4: 2
A5: B | C5: 3
A6: C | C6: 1 | E6: 5
A7: D | B7: 6 | C7: 2
A8: E | B8: 3 | C8: 6
A9: F | B9: 1 | C9: 5 | E9: 2
A10: G | B10: 2 | C10: 3
A11: H | B11: 3
A12: TOTAL | B12: =SUM(B4:B11) -> 17 | C12: =SUM(C4:C11) -> 20 | D12: =SUM(D4:D11) -> 0 | E12: =SUM(E4:E11) -> 9

Sheet Feuil3
