Workbook

Sheet LISTE TOTALE
A1: id | B1: Nom Elève | C1: Prénom Elève | D1: Année | E1: Classe
A2: 1093 | B2: Dupont | C2: Justine | D2: P6 | E2: FH
A3: 1838 | B3: Dupont | C3: Robin | D3: P6 | E3: FD
A4: 1022 | B4: Meurice | C4: Laura | D4: P6 | E4: SK
A5: 1065 | B5: Meurice | C5: Matteo | D5: P6 | E5: FD
A6: 1989 | B6: Dupond | C6: Nicolas | D6: P6 | E6: FW
A7: 1944 | B7: Dupond | C7: Laurine | D7: P6 | E7: FD
A8: 4006 | B8: Marcel | C8: Alexandra | D8: P6 | E8: FD
A9: 4007 | B9: Marcel | C9: Julie | D9: P6 | E9: SK
A10: 4008 | B10: Bidon1 | C10: Aline | D10: P6 | E10: FH
A11: 4010 | B11: Bidon2 | C11: Charline | D11: P6 | E11: FD

Sheet Data
A1: id: | B1: Jour: | C1: Date: | D1: Heure: | E1: DET UNITE MATIN | F1: LIMITE MATIN | G1: UNITE MATIN | H1: DET UNITE PM1 | I1: DET UNITE PM2 | J1: DET UNITE PM3 | K1: DET UNITE PM4 | L1: UNITE APRES MIDI (Lu_Ma_Je) | M1: DET UNITE PMM1 | N1: DET UNITE PMM2 | O1: DET UNITE PMM3 | P1: UNITE APRES MIDI MERCREDI | Q1: DET UNITE PMV1 | R1: DET UNITE PMV2 | S1: DET UNITE PMV3 | T1: UNITE APRES MIDI
A2: 1093 | B2: =TEXT(C2,"jjjj") -> jjjj | C2: 03/02/2014 | D2: 0.30277778 | E2: 0.31180556 | F2: 0.33333333 | G2: =IF(D2>F2,0,IF(D2>E2,1,2)) -> 2 | H2: 0.69097222 | I2: 0.71180556 | J2: 0.73263889 | K2: 0.75 | L2: =IF(D2>F2,IF(D2<H2,1,IF(D2<I2,2,IF(D2<J2,3,4))),0) -> 0 | M2: 0.54861111 | N2: 0.61111111 | O2: 0.67361111 | P2: =IF(B2="mercredi",IF(D2>F2,IF(D2<M2,2,IF(D2<N2,4,IF(D2<O2,6,8))),0),IF(D2>F2,IF(D2<H2,1,IF(D2<I2,2,IF(D2<J2,3,4))),0)) -> 0 | Q2: 0.63194444 | R2: 0.67361111 | S2: 0.71527778 | T2: =IF(B2="vendredi",IF(D2>F2,IF(D2<Q2,2,IF(D2<R2,4,IF(D2<S2,6,8))),0),IF(B2="mercredi",IF(D2>F2,IF(D2<M2,2,IF(D2<N2,4,IF(D2<O2,6,8))),0),IF(D2>F2,IF(D2<H2,1,IF(D2<I2,2,IF(D2<J2,3,4))),0))) -> 0
A3: 1944 | B3: =TEXT(C3,"jjjj") -> jjjj | C3: 03/02/2014 | D3: 0.3125 | E3: 0.31180556 | F3: 0.33333333 | G3: =IF(D3>F3,0,IF(D3>E3,1,2)) -> 1 | H3: 0.69097222 | I3: 0.71180556 | J3: 0.73263889 | K3: 0.75 | L3: =IF(D3>F3,IF(D3<H3,1,IF(D3<I3,2,IF(D3<J3,3,4))),0) -> 0 | M3: 0.54861111 | N3: 0.61111111 | O3: 0.67361111 | P3: =IF(B3="mercredi",IF(D3>F3,IF(D3<M3,2,IF(D3<N3,4,IF(D3<O3,6,8))),0),IF(D3>F3,IF(D3<H3,1,IF(D3<I3,2,IF(D3<J3,3,4))),0)) -> 0 | Q3: 0.63194444 | R3: 0.67361111 | S3: 0.71527778 | T3: =IF(B3="vendredi",IF(D3>F3,IF(D3<Q3,2,IF(D3<R3,4,IF(D3<S3,6,8))),0),IF(B3="mercredi",IF(D3>F3,IF(D3<M3,2,IF(D3<N3,4,IF(D3<O3,6,8))),0),IF(D3>F3,IF(D3<H3,1,IF(D3<I3,2,IF(D3<J3,3,4))),0))) -> 0
A4: 1838 | B4: =TEXT(C4,"jjjj") -> jjjj | C4: 03/02/2014 | D4: 0.31388889 | E4: 0.31180556 | F4: 0.33333333 | G4: =IF(D4>F4,0,IF(D4>E4,1,2)) -> 1 | H4: 0.69097222 | I4: 0.71180556 | J4: 0.73263889 | K4: 0.75 | L4: =IF(D4>F4,IF(D4<H4,1,IF(D4<I4,2,IF(D4<J4,3,4))),0) -> 0 | M4: 0.54861111 | N4: 0.61111111 | O4: 0.67361111 | P4: =IF(B4="mercredi",IF(D4>F4,IF(D4<M4,2,IF(D4<N4,4,IF(D4<O4,6,8))),0),IF(D4>F4,IF(D4<H4,1,IF(D4<I4,2,IF(D4<J4,3,4))),0)) -> 0 | Q4: 0.63194444 | R4: 0.67361111 | S4: 0.71527778 | T4: =IF(B4="vendredi",IF(D4>F4,IF(D4<Q4,2,IF(D4<R4,4,IF(D4<S4,6,8))),0),IF(B4="mercredi",IF(D4>F4,IF(D4<M4,2,IF(D4<N4,4,IF(D4<O4,6,8))),0),IF(D4>F4,IF(D4<H4,1,IF(D4<I4,2,IF(D4<J4,3,4))),0))) -> 0
A5: 1093 | B5: =TEXT(C5,"jjjj") -> jjjj | C5: 41674 | D5: 0.32638889 | E5: 0.31180556 | F5: 0.33333333 | G5: =IF(D5>F5,0,IF(D5>E5,1,2)) -> 1 | H5: 0.69097222 | I5: 0.71180556 | J5: 0.73263889 | K5: 0.75 | L5: =IF(D5>F5,IF(D5<H5,1,IF(D5<I5,2,IF(D5<J5,3,4))),0) -> 0 | M5: 0.54861111 | N5: 0.61111111 | O5: 0.67361111 | P5: =IF(B5="mercredi",IF(D5>F5,IF(D5<M5,2,IF(D5<N5,4,IF(D5<O5,6,8))),0),IF(D5>F5,IF(D5<H5,1,IF(D5<I5,2,IF(D5<J5,3,4))),0)) -> 0 | Q5: 0.63194444 | R5: 0.67361111 | S5: 0.71527778 | T5: =IF(B5="vendredi",IF(D5>F5,IF(D5<Q5,2,IF(D5<R5,4,IF(D5<S5,6,8))),0),IF(B5="mercredi",IF(D5>F5,IF(D5<M5,2,IF(D5<N5,4,IF(D5<O5,6,8))),0),IF(D5>F5,IF(D5<H5,1,IF(D5<I5,2,IF(D5<J5,3,4))),0))) -> 0
A6: 1944 | B6: =TEXT(C6,"jjjj") -> jjjj | C6: 41674 | D6: 0.3125 | E6: 0.31180556 | F6: 0.33333333 | G6: =IF(D6>F6,0,IF(D6>E6,1,2)) -> 1 | H6: 0.69097222 | I6: 0.71180556 | J6: 0.73263889 | K6: 0.75 | L6: =IF(D6>F6,IF(D6<H6,1,IF(D6<I6,2,IF(D6<J6,3,4))),0) -> 0 | M6: 0.54861111 | N6: 0.61111111 | O6: 0.67361111 | P6: =IF(B6="mercredi",IF(D6>F6,IF(D6<M6,2,IF(D6<N6,4,IF(D6<O6,6,8))),0),IF(D6>F6,IF(D6<H6,1,IF(D6<I6,2,IF(D6<J6,3,4))),0)) -> 0 | Q6: 0.63194444 | R6: 0.67361111 | S6: 0.71527778 | T6: =IF(B6="vendredi",IF(D6>F6,IF(D6<Q6,2,IF(D6<R6,4,IF(D6<S6,6,8))),0),IF(B6="mercredi",IF(D6>F6,IF(D6<M6,2,IF(D6<N6,4,IF(D6<O6,6,8))),0),IF(D6>F6,IF(D6<H6,1,IF(D6<I6,2,IF(D6<J6,3,4))),0))) -> 0
A7: 1838 | B7: =TEXT(C7,"jjjj") -> jjjj | C7: 41674 | D7: 0.43888889 | E7: 0.31180556 | F7: 0.33333333 | G7: =IF(D7>F7,0,IF(D7>E7,1,2)) -> 0 | H7: 0.69097222 | I7: 0.71180556 | J7: 0.73263889 | K7: 0.75 | L7: =IF(D7>F7,IF(D7<H7,1,IF(D7<I7,2,IF(D7<J7,3,4))),0) -> 1 | M7: 0.54861111 | N7: 0.61111111 | O7: 0.67361111 | P7: =IF(B7="mercredi",IF(D7>F7,IF(D7<M7,2,IF(D7<N7,4,IF(D7<O7,6,8))),0),IF(D7>F7,IF(D7<H7,1,IF(D7<I7,2,IF(D7<J7,3,4))),0)) -> 1 | Q7: 0.63194444 | R7: 0.67361111 | S7: 0.71527778 | T7: =IF(B7="vendredi",IF(D7>F7,IF(D7<Q7,2,IF(D7<R7,4,IF(D7<S7,6,8))),0),IF(B7="mercredi",IF(D7>F7,IF(D7<M7,2,IF(D7<N7,4,IF(D7<O7,6,8))),0),IF(D7>F7,IF(D7<H7,1,IF(D7<I7,2,IF(D7<J7,3,4))),0))) -> 1
A8: 1093 | B8: =TEXT(C8,"jjjj") -> jjjj | C8: 03/02/2014 | D8: 0.67777778 | E8: 0.31180556 | F8: 0.33333333 | G8: =IF(D8>F8,0,IF(D8>E8,1,2)) -> 0 | H8: 0.69097222 | I8: 0.71180556 | J8: 0.73263889 | K8: 0.75 | L8: =IF(D8>F8,IF(D8<H8,1,IF(D8<I8,2,IF(D8<J8,3,4))),0) -> 1 | M8: 0.54861111 | N8: 0.61111111 | O8: 0.67361111 | P8: =IF(B8="mercredi",IF(D8>F8,IF(D8<M8,2,IF(D8<N8,4,IF(D8<O8,6,8))),0),IF(D8>F8,IF(D8<H8,1,IF(D8<I8,2,IF(D8<J8,3,4))),0)) -> 1 | Q8: 0.63194444 | R8: 0.67361111 | S8: 0.71527778 | T8: =IF(B8="vendredi",IF(D8>F8,IF(D8<Q8,2,IF(D8<R8,4,IF(D8<S8,6,8))),0),IF(B8="mercredi",IF(D8>F8,IF(D8<M8,2,IF(D8<N8,4,IF(D8<O8,6,8))),0),IF(D8>F8,IF(D8<H8,1,IF(D8<I8,2,IF(D8<J8,3,4))),0))) -> 1
A9: 1093 | B9: =TEXT(C9,"jjjj") -> jjjj | C9: 03/02/2014 | D9: 0.71944444 | E9: 0.31180556 | F9: 0.33333333 | G9: =IF(D9>F9,0,IF(D9>E9,1,2)) -> 0 | H9: 0.69097222 | I9: 0.71180556 | J9: 0.73263889 | K9: 0.75 | L9: =IF(D9>F9,IF(D9<H9,1,IF(D9<I9,2,IF(D9<J9,3,4))),0) -> 3 | M9: 0.54861111 | N9: 0.61111111 | O9: 0.67361111 | P9: =IF(B9="mercredi",IF(D9>F9,IF(D9<M9,2,IF(D9<N9,4,IF(D9<O9,6,8))),0),IF(D9>F9,IF(D9<H9,1,IF(D9<I9,2,IF(D9<J9,3,4))),0)) -> 3 | Q9: 0.63194444 | R9: 0.67361111 | S9: 0.71527778 | T9: =IF(B9="vendredi",IF(D9>F9,IF(D9<Q9,2,IF(D9<R9,4,IF(D9<S9,6,8))),0),IF(B9="mercredi",IF(D9>F9,IF(D9<M9,2,IF(D9<N9,4,IF(D9<O9,6,8))),0),IF(D9>F9,IF(D9<H9,1,IF(D9<I9,2,IF(D9<J9,3,4))),0))) -> 3
A10: 1944 | B10: =TEXT(C10,"jjjj") -> jjjj | C10: 03/02/2014 | D10: 0.73333333 | E10: 0.31180556 | F10: 0.33333333 | G10: =IF(D10>F10,0,IF(D10>E10,1,2)) -> 0 | H10: 0.69097222 | I10: 0.71180556 | J10: 0.73263889 | K10: 0.75 | L10: =IF(D10>F10,IF(D10<H10,1,IF(D10<I10,2,IF(D10<J10,3,4))),0) -> 4 | M10: 0.54861111 | N10: 0.61111111 | O10: 0.67361111 | P10: =IF(B10="mercredi",IF(D10>F10,IF(D10<M10,2,IF(D10<N10,4,IF(D10<O10,6,8))),0),IF(D10>F10,IF(D10<H10,1,IF(D10<I10,2,IF(D10<J10,3,4))),0)) -> 4 | Q10: 0.63194444 | R10: 0.67361111 | S10: 0.71527778 | T10: =IF(B10="vendredi",IF(D10>F10,IF(D10<Q10,2,IF(D10<R10,4,IF(D10<S10,6,8))),0),IF(B10="mercredi",IF(D10>F10,IF(D10<M10,2,IF(D10<N10,4,IF(D10<O10,6,8))),0),IF(D10>F10,IF(D10<H10,1,IF(D10<I10,2,IF(D10<J10,3,4))),0))) -> 4
A11: 1838 | B11: =TEXT(C11,"jjjj") -> jjjj | C11: 03/02/2014 | D11: 0.73263889 | E11: 0.31180556 | F11: 0.33333333 | G11: =IF(D11>F11,0,IF(D11>E11,1,2)) -> 0 | H11: 0.69097222 | I11: 0.71180556 | J11: 0.73263889 | K11: 0.75 | L11: =IF(D11>F11,IF(D11<H11,1,IF(D11<I11,2,IF(D11<J11,3,4))),0) -> 4 | M11: 0.54861111 | N11: 0.61111111 | O11: 0.67361111 | P11: =IF(B11="mercredi",IF(D11>F11,IF(D11<M11,2,IF(D11<N11,4,IF(D11<O11,6,8))),0),IF(D11>F11,IF(D11<H11,1,IF(D11<I11,2,IF(D11<J11,3,4))),0)) -> 4 | Q11: 0.63194444 | R11: 0.67361111 | S11: 0.71527778 | T11: =IF(B11="vendredi",IF(D11>F11,IF(D11<Q11,2,IF(D11<R11,4,IF(D11<S11,6,8))),0),IF(B11="mercredi",IF(D11>F11,IF(D11<M11,2,IF(D11<N11,4,IF(D11<O11,6,8))),0),IF(D11>F11,IF(D11<H11,1,IF(D11<I11,2,IF(D11<J11,3,4))),0))) -> 4
A12: 1093 | B12: =TEXT(C12,"jjjj") -> jjjj | C12: 41674 | D12: 0.66805556 | E12: 0.31180556 | F12: 0.33333333 | G12: =IF(D12>F12,0,IF(D12>E12,1,2)) -> 0 | H12: 0.69097222 | I12: 0.71180556 | J12: 0.73263889 | K12: 0.75 | L12: =IF(D12>F12,IF(D12<H12,1,IF(D12<I12,2,IF(D12<J12,3,4))),0) -> 1 | M12: 0.54861111 | N12: 0.61111111 | O12: 0.67361111 | P12: =IF(B12="mercredi",IF(D12>F12,IF(D12<M12,2,IF(D12<N12,4,IF(D12<O12,6,8))),0),IF(D12>F12,IF(D12<H12,1,IF(D12<I12,2,IF(D12<J12,3,4))),0)) -> 1 | Q12: 0.63194444 | R12: 0.67361111 | S12: 0.71527778 | T12: =IF(B12="vendredi",IF(D12>F12,IF(D12<Q12,2,IF(D12<R12,4,IF(D12<S12,6,8))),0),IF(B12="mercredi",IF(D12>F12,IF(D12<M12,2,IF(D12<N12,4,IF(D12<O12,6,8))),0),IF(D12>F12,IF(D12<H12,1,IF(D12<I12,2,IF(D12<J12,3,4))),0))) -> 1
A13: 1944 | B13: =TEXT(C13,"jjjj") -> jjjj | C13: 41674 | D13: 0.70763889 | E13: 0.31180556 | F13: 0.33333333 | G13: =IF(D13>F13,0,IF(D13>E13,1,2)) -> 0 | H13: 0.69097222 | I13: 0.71180556 | J13: 0.73263889 | K13: 0.75 | L13: =IF(D13>F13,IF(D13<H13,1,IF(D13<I13,2,IF(D13<J13,3,4))),0) -> 2 | M13: 0.54861111 | N13: 0.61111111 | O13: 0.67361111 | P13: =IF(B13="mercredi",IF(D13>F13,IF(D13<M13,2,IF(D13<N13,4,IF(D13<O13,6,8))),0),IF(D13>F13,IF(D13<H13,1,IF(D13<I13,2,IF(D13<J13,3,4))),0)) -> 2 | Q13: 0.63194444 | R13: 0.67361111 | S13: 0.71527778 | T13: =IF(B13="vendredi",IF(D13>F13,IF(D13<Q13,2,IF(D13<R13,4,IF(D13<S13,6,8))),0),IF(B13="mercredi",IF(D13>F13,IF(D13<M13,2,IF(D13<N13,4,IF(D13<O13,6,8))),0),IF(D13>F13,IF(D13<H13,1,IF(D13<I13,2,IF(D13<J13,3,4))),0))) -> 2
A14: 1838 | B14: =TEXT(C14,"jjjj") -> jjjj | C14: 41674 | D14: 0.75 | E14: 0.31180556 | F14: 0.33333333 | G14: =IF(D14>F14,0,IF(D14>E14,1,2)) -> 0 | H14: 0.69097222 | I14: 0.71180556 | J14: 0.73263889 | K14: 0.75 | L14: =IF(D14>F14,IF(D14<H14,1,IF(D14<I14,2,IF(D14<J14,3,4)))) -> 4 | M14: 0.54861111 | N14: 0.61111111 | O14: 0.67361111 | P14: =IF(B14="mercredi",IF(D14>F14,IF(D14<M14,2,IF(D14<N14,4,IF(D14<O14,6,8))),0),IF(D14>F14,IF(D14<H14,1,IF(D14<I14,2,IF(D14<J14,3,4))),0)) -> 4 | Q14: 0.63194444 | R14: 0.67361111 | S14: 0.71527778 | T14: =IF(B14="vendredi",IF(D14>F14,IF(D14<Q14,2,IF(D14<R14,4,IF(D14<S14,6,8))),0),IF(B14="mercredi",IF(D14>F14,IF(D14<M14,2,IF(D14<N14,4,IF(D14<O14,6,8))),0),IF(D14>F14,IF(D14<H14,1,IF(D14<I14,2,IF(D14<J14,3,4))),0))) -> 4
A15: 1944 | B15: =TEXT(C15,"jjjj") -> jjjj | C15: 03/02/2014 | D15: 0.74930556 | E15: 0.31180556 | F15: 0.33333333 | G15: =IF(D15>F15,0,IF(D15>E15,1,2)) -> 0 | H15: 0.69097222 | I15: 0.71180556 | J15: 0.73263889 | K15: 0.75 | L15: =IF(D15>F15,IF(D15<H15,1,IF(D15<I15,2,IF(D15<J15,3,4)))) -> 4 | M15: 0.54861111 | N15: 0.61111111 | O15: 0.67361111 | P15: =IF(B15="mercredi",IF(D15>F15,IF(D15<M15,2,IF(D15<N15,4,IF(D15<O15,6,8))),0),IF(D15>F15,IF(D15<H15,1,IF(D15<I15,2,IF(D15<J15,3,4))),0)) -> 4 | Q15: 0.63194444 | R15: 0.67361111 | S15: 0.71527778 | T15: =IF(B15="vendredi",IF(D15>F15,IF(D15<Q15,2,IF(D15<R15,4,IF(D15<S15,6,8))),0),IF(B15="mercredi",IF(D15>F15,IF(D15<M15,2,IF(D15<N15,4,IF(D15<O15,6,8))),0),IF(D15>F15,IF(D15<H15,1,IF(D15<I15,2,IF(D15<J15,3,4))),0))) -> 4
A16: 1838 | B16: =TEXT(C16,"jjjj") -> jjjj | C16: 03/02/2014 | D16: 0.73819444 | E16: 0.31180556 | F16: 0.33333333 | G16: =IF(D16>F16,0,IF(D16>E16,1,2)) -> 0 | H16: 0.69097222 | I16: 0.71180556 | J16: 0.73263889 | K16: 0.75 | L16: =IF(D16>F16,IF(D16<H16,1,IF(D16<I16,2,IF(D16<J16,3,4)))) -> 4 | M16: 0.54861111 | N16: 0.61111111 | O16: 0.67361111 | P16: =IF(B16="mercredi",IF(D16>F16,IF(D16<M16,2,IF(D16<N16,4,IF(D16<O16,6,8))),0),IF(D16>F16,IF(D16<H16,1,IF(D16<I16,2,IF(D16<J16,3,4))),0)) -> 4 | Q16: 0.63194444 | R16: 0.67361111 | S16: 0.71527778 | T16: =IF(B16="vendredi",IF(D16>F16,IF(D16<Q16,2,IF(D16<R16,4,IF(D16<S16,6,8))),0),IF(B16="mercredi",IF(D16>F16,IF(D16<M16,2,IF(D16<N16,4,IF(D16<O16,6,8))),0),IF(D16>F16,IF(D16<H16,1,IF(D16<I16,2,IF(D16<J16,3,4))),0))) -> 4
A17: 1093 | B17: =TEXT(C17,"jjjj") -> jjjj | C17: 41674 | D17: 0.70277778 | E17: 0.31180556 | F17: 0.33333333 | G17: =IF(D17>F17,0,IF(D17>E17,1,2)) -> 0 | H17: 0.69097222 | I17: 0.71180556 | J17: 0.73263889 | K17: 0.75 | L17: =IF(D17>F17,IF(D17<H17,1,IF(D17<I17,2,IF(D17<J17,3,4)))) -> 2 | M17: 0.54861111 | N17: 0.61111111 | O17: 0.67361111 | P17: =IF(B17="mercredi",IF(D17>F17,IF(D17<M17,2,IF(D17<N17,4,IF(D17<O17,6,8))),0),IF(D17>F17,IF(D17<H17,1,IF(D17<I17,2,IF(D17<J17,3,4))),0)) -> 2 | Q17: 0.63194444 | R17: 0.67361111 | S17: 0.71527778 | T17: =IF(B17="vendredi",IF(D17>F17,IF(D17<Q17,2,IF(D17<R17,4,IF(D17<S17,6,8))),0),IF(B17="mercredi",IF(D17>F17,IF(D17<M17,2,IF(D17<N17,4,IF(D17<O17,6,8))),0),IF(D17>F17,IF(D17<H17,1,IF(D17<I17,2,IF(D17<J17,3,4))),0))) -> 2
A18: 1944 | B18: =TEXT(C18,"jjjj") -> jjjj | C18: 41674 | D18: 0.68194444 | E18: 0.31180556 | F18: 0.33333333 | G18: =IF(D18>F18,0,IF(D18>E18,1,2)) -> 0 | H18: 0.69097222 | I18: 0.71180556 | J18: 0.73263889 | K18: 0.75 | L18: =IF(D18>F18,IF(D18<H18,1,IF(D18<I18,2,IF(D18<J18,3,4)))) -> 1 | M18: 0.54861111 | N18: 0.61111111 | O18: 0.67361111 | P18: =IF(B18="mercredi",IF(D18>F18,IF(D18<M18,2,IF(D18<N18,4,IF(D18<O18,6,8))),0),IF(D18>F18,IF(D18<H18,1,IF(D18<I18,2,IF(D18<J18,3,4))),0)) -> 1 | Q18: 0.63194444 | R18: 0.67361111 | S18: 0.71527778 | T18: =IF(B18="vendredi",IF(D18>F18,IF(D18<Q18,2,IF(D18<R18,4,IF(D18<S18,6,8))),0),IF(B18="mercredi",IF(D18>F18,IF(D18<M18,2,IF(D18<N18,4,IF(D18<O18,6,8))),0),IF(D18>F18,IF(D18<H18,1,IF(D18<I18,2,IF(D18<J18,3,4))),0))) -> 1
A19: 1838 | B19: =TEXT(C19,"jjjj") -> jjjj | C19: 41674 | D19: 0.68055556 | E19: 0.31180556 | F19: 0.33333333 | G19: =IF(D19>F19,0,IF(D19>E19,1,2)) -> 0 | H19: 0.69097222 | I19: 0.71180556 | J19: 0.73263889 | K19: 0.75 | L19: =IF(D19>F19,IF(D19<H19,1,IF(D19<I19,2,IF(D19<J19,3,4)))) -> 1 | M19: 0.54861111 | N19: 0.61111111 | O19: 0.67361111 | P19: =IF(B19="mercredi",IF(D19>F19,IF(D19<M19,2,IF(D19<N19,4,IF(D19<O19,6,8))),0),IF(D19>F19,IF(D19<H19,1,IF(D19<I19,2,IF(D19<J19,3,4))),0)) -> 1 | Q19: 0.63194444 | R19: 0.67361111 | S19: 0.71527778 | T19: =IF(B19="vendredi",IF(D19>F19,IF(D19<Q19,2,IF(D19<R19,4,IF(D19<S19,6,8))),0),IF(B19="mercredi",IF(D19>F19,IF(D19<M19,2,IF(D19<N19,4,IF(D19<O19,6,8))),0),IF(D19>F19,IF(D19<H19,1,IF(D19<I19,2,IF(D19<J19,3,4))),0))) -> 1
A20: 1944 | B20: =TEXT(C20,"jjjj") -> jjjj | C20: 41675 | D20: 0.74930556 | E20: 0.31180556 | F20: 0.33333333 | G20: =IF(D20>F20,0,IF(D20>E20,1,2)) -> 0 | H20: 0.69097222 | I20: 0.71180556 | J20: 0.73263889 | K20: 0.75 | L20: =IF(D20>F20,IF(D20<H20,1,IF(D20<I20,2,IF(D20<J20,3,4)))) -> 4 | M20: 0.54861111 | N20: 0.61111111 | O20: 0.67361111 | P20: =IF(B20="mercredi",IF(D20>F20,IF(D20<M20,2,IF(D20<N20,4,IF(D20<O20,6,8))),0),IF(D20>F20,IF(D20<H20,1,IF(D20<I20,2,IF(D20<J20,3,4))),0)) -> 4 | Q20: 0.63194444 | R20: 0.67361111 | S20: 0.71527778 | T20: =IF(B20="vendredi",IF(D20>F20,IF(D20<Q20,2,IF(D20<R20,4,IF(D20<S20,6,8))),0),IF(B20="mercredi",IF(D20>F20,IF(D20<M20,2,IF(D20<N20,4,IF(D20<O20,6,8))),0),IF(D20>F20,IF(D20<H20,1,IF(D20<I20,2,IF(D20<J20,3,4))),0))) -> 4
A21: 1838 | B21: =TEXT(C21,"jjjj") -> jjjj | C21: 41675 | D21: 0.73819444 | E21: 0.31180556 | F21: 0.33333333 | G21: =IF(D21>F21,0,IF(D21>E21,1,2)) -> 0 | H21: 0.69097222 | I21: 0.71180556 | J21: 0.73263889 | K21: 0.75 | L21: =IF(D21>F21,IF(D21<H21,1,IF(D21<I21,2,IF(D21<J21,3,4)))) -> 4 | M21: 0.54861111 | N21: 0.61111111 | O21: 0.67361111 | P21: =IF(B21="mercredi",IF(D21>F21,IF(D21<M21,2,IF(D21<N21,4,IF(D21<O21,6,8))),0),IF(D21>F21,IF(D21<H21,1,IF(D21<I21,2,IF(D21<J21,3,4))),0)) -> 4 | Q21: 0.63194444 | R21: 0.67361111 | S21: 0.71527778 | T21: =IF(B21="vendredi",IF(D21>F21,IF(D21<Q21,2,IF(D21<R21,4,IF(D21<S21,6,8))),0),IF(B21="mercredi",IF(D21>F21,IF(D21<M21,2,IF(D21<N21,4,IF(D21<O21,6,8))),0),IF(D21>F21,IF(D21<H21,1,IF(D21<I21,2,IF(D21<J21,3,4))),0))) -> 4
A22: 1093 | B22: =TEXT(C22,"jjjj") -> jjjj | C22: 41675 | D22: 0.70277778 | E22: 0.31180556 | F22: 0.33333333 | G22: =IF(D22>F22,0,IF(D22>E22,1,2)) -> 0 | H22: 0.69097222 | I22: 0.71180556 | J22: 0.73263889 | K22: 0.75 | L22: =IF(D22>F22,IF(D22<H22,1,IF(D22<I22,2,IF(D22<J22,3,4)))) -> 2 | M22: 0.54861111 | N22: 0.61111111 | O22: 0.67361111 | P22: =IF(B22="mercredi",IF(D22>F22,IF(D22<M22,2,IF(D22<N22,4,IF(D22<O22,6,8))),0),IF(D22>F22,IF(D22<H22,1,IF(D22<I22,2,IF(D22<J22,3,4))),0)) -> 2 | Q22: 0.63194444 | R22: 0.67361111 | S22: 0.71527778 | T22: =IF(B22="vendredi",IF(D22>F22,IF(D22<Q22,2,IF(D22<R22,4,IF(D22<S22,6,8))),0),IF(B22="mercredi",IF(D22>F22,IF(D22<M22,2,IF(D22<N22,4,IF(D22<O22,6,8))),0),IF(D22>F22,IF(D22<H22,1,IF(D22<I22,2,IF(D22<J22,3,4))),0))) -> 2
A23: 1944 | B23: =TEXT(C23,"jjjj") -> jjjj | C23: 41677 | D23: 0.68194444 | E23: 0.31180556 | F23: 0.33333333 | G23: =IF(D23>F23,0,IF(D23>E23,1,2)) -> 0 | H23: 0.69097222 | I23: 0.71180556 | J23: 0.73263889 | K23: 0.75 | L23: =IF(D23>F23,IF(D23<H23,1,IF(D23<I23,2,IF(D23<J23,3,4)))) -> 1 | M23: 0.54861111 | N23: 0.61111111 | O23: 0.67361111 | P23: =IF(B23="mercredi",IF(D23>F23,IF(D23<M23,2,IF(D23<N23,4,IF(D23<O23,6,8))),0),IF(D23>F23,IF(D23<H23,1,IF(D23<I23,2,IF(D23<J23,3,4))),0)) -> 1 | Q23: 0.63194444 | R23: 0.67361111 | S23: 0.71527778 | T23: =IF(B23="vendredi",IF(D23>F23,IF(D23<Q23,2,IF(D23<R23,4,IF(D23<S23,6,8))),0),IF(B23="mercredi",IF(D23>F23,IF(D23<M23,2,IF(D23<N23,4,IF(D23<O23,6,8))),0),IF(D23>F23,IF(D23<H23,1,IF(D23<I23,2,IF(D23<J23,3,4))),0))) -> 1
A24: 1838 | B24: =TEXT(C24,"jjjj") -> jjjj | C24: 41677 | D24: 0.68055556 | E24: 0.31180556 | F24: 0.33333333 | G24: =IF(D24>F24,0,IF(D24>E24,1,2)) -> 0 | H24: 0.69097222 | I24: 0.71180556 | J24: 0.73263889 | K24: 0.75 | L24: =IF(D24>F24,IF(D24<H24,1,IF(D24<I24,2,IF(D24<J24,3,4)))) -> 1 | M24: 0.54861111 | N24: 0.61111111 | O24: 0.67361111 | P24: =IF(B24="mercredi",IF(D24>F24,IF(D24<M24,2,IF(D24<N24,4,IF(D24<O24,6,8))),0),IF(D24>F24,IF(D24<H24,1,IF(D24<I24,2,IF(D24<J24,3,4))),0)) -> 1 | Q24: 0.63194444 | R24: 0.67361111 | S24: 0.71527778 | T24: =IF(B24="vendredi",IF(D24>F24,IF(D24<Q24,2,IF(D24<R24,4,IF(D24<S24,6,8))),0),IF(B24="mercredi",IF(D24>F24,IF(D24<M24,2,IF(D24<N24,4,IF(D24<O24,6,8))),0),IF(D24>F24,IF(D24<H24,1,IF(D24<I24,2,IF(D24<J24,3,4))),0))) -> 1

Sheet données nomminative
A1: NOM | B1: PRENOM | C1: ANNEE | D1: Jour: | E1: Date: | F1: Heure: | G1: UNITE MATIN | H1: UNITE APRES MIDI
A2: =IF(ISERROR(VLOOKUP(Data!$A2,'LISTE TOTALE'!$A$2:$E$11,2,FALSE)),"",VLOOKUP(Data!$A2,'LISTE TOTALE'!$A$2:$E$11,2,FALSE)) -> Dupont | B2: =IF(ISERROR(VLOOKUP(Data!$A2,'LISTE TOTALE'!$A$2:$E$11,3,FALSE)),"",VLOOKUP(Data!$A2,'LISTE TOTALE'!$A$2:$E$11,3,FALSE)) -> Justine | C2: =IF(ISERROR(VLOOKUP(Data!$A2,'LISTE TOTALE'!$A$2:$E$11,4,FALSE)),"",VLOOKUP(Data!$A2,'LISTE TOTALE'!$A$2:$E$11,4,FALSE)) -> P6 | D2: =IF(Data!B2="","",Data!B2) -> jjjj | E2: =IF(Data!C2="","",Data!C2) -> 03/02/2014 | F2: =IF(Data!D2="","",Data!D2) -> 0.30277778 | G2: =IF(Data!G2="","",Data!G2) -> 2 | H2: =IF(Data!T2="","",Data!T2) -> 0
A3: =IF(ISERROR(VLOOKUP(Data!$A3,'LISTE TOTALE'!$A$2:$E$11,2,FALSE)),"",VLOOKUP(Data!$A3,'LISTE TOTALE'!$A$2:$E$11,2,FALSE)) -> Dupond | B3: =IF(ISERROR(VLOOKUP(Data!$A3,'LISTE TOTALE'!$A$2:$E$11,3,FALSE)),"",VLOOKUP(Data!$A3,'LISTE TOTALE'!$A$2:$E$11,3,FALSE)) -> Laurine | C3: =IF(ISERROR(VLOOKUP(Data!$A3,'LISTE TOTALE'!$A$2:$E$11,4,FALSE)),"",VLOOKUP(Data!$A3,'LISTE TOTALE'!$A$2:$E$11,4,FALSE)) -> P6 | D3: =IF(Data!B3="","",Data!B3) -> jjjj | E3: =IF(Data!C3="","",Data!C3) -> 03/02/2014 | F3: =IF(Data!D3="","",Data!D3) -> 0.3125 | G3: =IF(Data!G3="","",Data!G3) -> 1 | H3: =IF(Data!T3="","",Data!T3) -> 0
A4: =IF(ISERROR(VLOOKUP(Data!$A4,'LISTE TOTALE'!$A$2:$E$11,2,FALSE)),"",VLOOKUP(Data!$A4,'LISTE TOTALE'!$A$2:$E$11,2,FALSE)) -> Dupont | B4: =IF(ISERROR(VLOOKUP(Data!$A4,'LISTE TOTALE'!$A$2:$E$11,3,FALSE)),"",VLOOKUP(Data!$A4,'LISTE TOTALE'!$A$2:$E$11,3,FALSE)) -> Robin | C4: =IF(ISERROR(VLOOKUP(Data!$A4,'LISTE TOTALE'!$A$2:$E$11,4,FALSE)),"",VLOOKUP(Data!$A4,'LISTE TOTALE'!$A$2:$E$11,4,FALSE)) -> P6 | D4: =IF(Data!B4="","",Data!B4) -> jjjj | E4: =IF(Data!C4="","",Data!C4) -> 03/02/2014 | F4: =IF(Data!D4="","",Data!D4) -> 0.31388889 | G4: =IF(Data!G4="","",Data!G4) -> 1 | H4: =IF(Data!T4="","",Data!T4) -> 0
A5: =IF(ISERROR(VLOOKUP(Data!$A5,'LISTE TOTALE'!$A$2:$E$11,2,FALSE)),"",VLOOKUP(Data!$A5,'LISTE TOTALE'!$A$2:$E$11,2,FALSE)) -> Dupont | B5: =IF(ISERROR(VLOOKUP(Data!$A5,'LISTE TOTALE'!$A$2:$E$11,3,FALSE)),"",VLOOKUP(Data!$A5,'LISTE TOTALE'!$A$2:$E$11,3,FALSE)) -> Justine | C5: =IF(ISERROR(VLOOKUP(Data!$A5,'LISTE TOTALE'!$A$2:$E$11,4,FALSE)),"",VLOOKUP(Data!$A5,'LISTE TOTALE'!$A$2:$E$11,4,FALSE)) -> P6 | D5: =IF(Data!B5="","",Data!B5) -> jjjj | E5: =IF(Data!C5="","",Data!C5) -> 41674 | F5: =IF(Data!D5="","",Data!D5) -> 0.32638889 | G5: =IF(Data!G5="","",Data!G5) -> 1 | H5: =IF(Data!T5="","",Data!T5) -> 0
A6: =IF(ISERROR(VLOOKUP(Data!$A6,'LISTE TOTALE'!$A$2:$E$11,2,FALSE)),"",VLOOKUP(Data!$A6,'LISTE TOTALE'!$A$2:$E$11,2,FALSE)) -> Dupond | B6: =IF(ISERROR(VLOOKUP(Data!$A6,'LISTE TOTALE'!$A$2:$E$11,3,FALSE)),"",VLOOKUP(Data!$A6,'LISTE TOTALE'!$A$2:$E$11,3,FALSE)) -> Laurine | C6: =IF(ISERROR(VLOOKUP(Data!$A6,'LISTE TOTALE'!$A$2:$E$11,4,FALSE)),"",VLOOKUP(Data!$A6,'LISTE TOTALE'!$A$2:$E$11,4,FALSE)) -> P6 | D6: =IF(Data!B6="","",Data!B6) -> jjjj | E6: =IF(Data!C6="","",Data!C6) -> 41674 | F6: =IF(Data!D6="","",Data!D6) -> 0.3125 | G6: =IF(Data!G6="","",Data!G6) -> 1 | H6: =IF(Data!T6="","",Data!T6) -> 0
A7: =IF(ISERROR(VLOOKUP(Data!$A7,'LISTE TOTALE'!$A$2:$E$11,2,FALSE)),"",VLOOKUP(Data!$A7,'LISTE TOTALE'!$A$2:$E$11,2,FALSE)) -> Dupont | B7: =IF(ISERROR(VLOOKUP(Data!$A7,'LISTE TOTALE'!$A$2:$E$11,3,FALSE)),"",VLOOKUP(Data!$A7,'LISTE TOTALE'!$A$2:$E$11,3,FALSE)) -> Robin | C7: =IF(ISERROR(VLOOKUP(Data!$A7,'LISTE TOTALE'!$A$2:$E$11,4,FALSE)),"",VLOOKUP(Data!$A7,'LISTE TOTALE'!$A$2:$E$11,4,FALSE)) -> P6 | D7: =IF(Data!B7="","",Data!B7) -> jjjj | E7: =IF(Data!C7="","",Data!C7) -> 41674 | F7: =IF(Data!D7="","",Data!D7) -> 0.43888889 | G7: =IF(Data!G7="","",Data!G7) -> 0 | H7: =IF(Data!T7="","",Data!T7) -> 1
A8: =IF(ISERROR(VLOOKUP(Data!$A8,'LISTE TOTALE'!$A$2:$E$11,2,FALSE)),"",VLOOKUP(Data!$A8,'LISTE TOTALE'!$A$2:$E$11,2,FALSE)) -> Dupont | B8: =IF(ISERROR(VLOOKUP(Data!$A8,'LISTE TOTALE'!$A$2:$E$11,3,FALSE)),"",VLOOKUP(Data!$A8,'LISTE TOTALE'!$A$2:$E$11,3,FALSE)) -> Justine | C8: =IF(ISERROR(VLOOKUP(Data!$A8,'LISTE TOTALE'!$A$2:$E$11,4,FALSE)),"",VLOOKUP(Data!$A8,'LISTE TOTALE'!$A$2:$E$11,4,FALSE)) -> P6 | D8: =IF(Data!B8="","",Data!B8) -> jjjj | E8: =IF(Data!C8="","",Data!C8) -> 03/02/2014 | F8: =IF(Data!D8="","",Data!D8) -> 0.67777778 | G8: =IF(Data!G8="","",Data!G8) -> 0 | H8: =IF(Data!T8="","",Data!T8) -> 1
A9: =IF(ISERROR(VLOOKUP(Data!$A9,'LISTE TOTALE'!$A$2:$E$11,2,FALSE)),"",VLOOKUP(Data!$A9,'LISTE TOTALE'!$A$2:$E$11,2,FALSE)) -> Dupont | B9: =IF(ISERROR(VLOOKUP(Data!$A9,'LISTE TOTALE'!$A$2:$E$11,3,FALSE)),"",VLOOKUP(Data!$A9,'LISTE TOTALE'!$A$2:$E$11,3,FALSE)) -> Justine | C9: =IF(ISERROR(VLOOKUP(Data!$A9,'LISTE TOTALE'!$A$2:$E$11,4,FALSE)),"",VLOOKUP(Data!$A9,'LISTE TOTALE'!$A$2:$E$11,4,FALSE)) -> P6 | D9: =IF(Data!B9="","",Data!B9) -> jjjj | E9: =IF(Data!C9="","",Data!C9) -> 03/02/2014 | F9: =IF(Data!D9="","",Data!D9) -> 0.71944444 | G9: =IF(Data!G9="","",Data!G9) -> 0 | H9: =IF(Data!T9="","",Data!T9) -> 3
A10: =IF(ISERROR(VLOOKUP(Data!$A10,'LISTE TOTALE'!$A$2:$E$11,2,FALSE)),"",VLOOKUP(Data!$A10,'LISTE TOTALE'!$A$2:$E$11,2,FALSE)) -> Dupond | B10: =IF(ISERROR(VLOOKUP(Data!$A10,'LISTE TOTALE'!$A$2:$E$11,3,FALSE)),"",VLOOKUP(Data!$A10,'LISTE TOTALE'!$A$2:$E$11,3,FALSE)) -> Laurine | C10: =IF(ISERROR(VLOOKUP(Data!$A10,'LISTE TOTALE'!$A$2:$E$11,4,FALSE)),"",VLOOKUP(Data!$A10,'LISTE TOTALE'!$A$2:$E$11,4,FALSE)) -> P6 | D10: =IF(Data!B10="","",Data!B10) -> jjjj | E10: =IF(Data!C10="","",Data!C10) -> 03/02/2014 | F10: =IF(Data!D10="","",Data!D10) -> 0.73333333 | G10: =IF(Data!G10="","",Data!G10) -> 0 | H10: =IF(Data!T10="","",Data!T10) -> 4
A11: =IF(ISERROR(VLOOKUP(Data!$A11,'LISTE TOTALE'!$A$2:$E$11,2,FALSE)),"",VLOOKUP(Data!$A11,'LISTE TOTALE'!$A$2:$E$11,2,FALSE)) -> Dupont | B11: =IF(ISERROR(VLOOKUP(Data!$A11,'LISTE TOTALE'!$A$2:$E$11,3,FALSE)),"",VLOOKUP(Data!$A11,'LISTE TOTALE'!$A$2:$E$11,3,FALSE)) -> Robin | C11: =IF(ISERROR(VLOOKUP(Data!$A11,'LISTE TOTALE'!$A$2:$E$11,4,FALSE)),"",VLOOKUP(Data!$A11,'LISTE TOTALE'!$A$2:$E$11,4,FALSE)) -> P6 | D11: =IF(Data!B11="","",Data!B11) -> jjjj | E11: =IF(Data!C11="","",Data!C11) -> 03/02/2014 | F11: =IF(Data!D11="","",Data!D11) -> 0.73263889 | G11: =IF(Data!G11="","",Data!G11) -> 0 | H11: =IF(Data!T11="","",Data!T11) -> 4
A12: =IF(ISERROR(VLOOKUP(Data!$A12,'LISTE TOTALE'!$A$2:$E$11,2,FALSE)),"",VLOOKUP(Data!$A12,'LISTE TOTALE'!$A$2:$E$11,2,FALSE)) -> Dupont | B12: =IF(ISERROR(VLOOKUP(Data!$A12,'LISTE TOTALE'!$A$2:$E$11,3,FALSE)),"",VLOOKUP(Data!$A12,'LISTE TOTALE'!$A$2:$E$11,3,FALSE)) -> Justine | C12: =IF(ISERROR(VLOOKUP(Data!$A12,'LISTE TOTALE'!$A$2:$E$11,4,FALSE)),"",VLOOKUP(Data!$A12,'LISTE TOTALE'!$A$2:$E$11,4,FALSE)) -> P6 | D12: =IF(Data!B12="","",Data!B12) -> jjjj | E12: =IF(Data!C12="","",Data!C12) -> 41674 | F12: =IF(Data!D12="","",Data!D12) -> 0.66805556 | G12: =IF(Data!G12="","",Data!G12) -> 0 | H12: =IF(Data!T12="","",Data!T12) -> 1
A13: =IF(ISERROR(VLOOKUP(Data!$A13,'LISTE TOTALE'!$A$2:$E$11,2,FALSE)),"",VLOOKUP(Data!$A13,'LISTE TOTALE'!$A$2:$E$11,2,FALSE)) -> Dupond | B13: =IF(ISERROR(VLOOKUP(Data!$A13,'LISTE TOTALE'!$A$2:$E$11,3,FALSE)),"",VLOOKUP(Data!$A13,'LISTE TOTALE'!$A$2:$E$11,3,FALSE)) -> Laurine | C13: =IF(ISERROR(VLOOKUP(Data!$A13,'LISTE TOTALE'!$A$2:$E$11,4,FALSE)),"",VLOOKUP(Data!$A13,'LISTE TOTALE'!$A$2:$E$11,4,FALSE)) -> P6 | D13: =IF(Data!B13="","",Data!B13) -> jjjj | E13: =IF(Data!C13="","",Data!C13) -> 41674 | F13: =IF(Data!D13="","",Data!D13) -> 0.70763889 | G13: =IF(Data!G13="","",Data!G13) -> 0 | H13: =IF(Data!T13="","",Data!T13) -> 2
... A31: =IF(ISERROR(VLOOKUP(Data!$A31,'LISTE TOTALE'!$A$2:$E$11,2,FALSE)),"",VLOOKUP(Data!$A31,'LISTE TOTALE'!$A$2:$E$11,2,FALSE)) | B31: =IF(ISERROR(VLOOKUP(Data!$A31,'LISTE TOTALE'!$A$2:$E$11,3,FALSE)),"",VLOOKUP(Data!$A31,'LISTE TOTALE'!$A$2:$E$11,3,FALSE)) | C31: =IF(ISERROR(VLOOKUP(Data!$A31,'LISTE TOTALE'!$A$2:$E$11,4,FALSE)),"",VLOOKUP(Data!$A31,'LISTE TOTALE'!$A$2:$E$11,4,FALSE)) | D31: =IF(Data!B31="","",Data!B31) | E31: =IF(Data!C31="","",Data!C31) | F31: =IF(Data!D31="","",Data!D31) | G31: =IF(Data!G31="","",Data!G31) | H31: =IF(Data!T31="","",Data!T31)
