Workbook

Sheet Liste des employés
A1: Nom | B1: Notes
A2: Barry, Hélène | B2: =INDIRECT("'"&IF(RIGHT(A2,1)=" ",LEFT(A2,LEN(A2)-1),A2)&"'!"&"J16") -> 74.5
A3: Beauchesne, Marc-André | B3: =INDIRECT("'"&IF(RIGHT(A3,1)=" ",LEFT(A3,LEN(A3)-1),A3)&"'!"&"J16") -> 74.5
A4: Béland-Lapotry, Jean-Pierre | B4: =INDIRECT("'"&IF(RIGHT(A4,1)=" ",LEFT(A4,LEN(A4)-1),A4)&"'!"&"J16") -> 0
A5: Bissonnette, Maxime | B5: =INDIRECT("'"&IF(RIGHT(A5,1)=" ",LEFT(A5,LEN(A5)-1),A5)&"'!"&"J16") -> 0
A6: Boivin, France | B6: =INDIRECT("'"&IF(RIGHT(A6,1)=" ",LEFT(A6,LEN(A6)-1),A6)&"'!"&"J16") -> 0
A7: Bourgeois, Mélanie | B7: =INDIRECT("'"&IF(RIGHT(A7,1)=" ",LEFT(A7,LEN(A7)-1),A7)&"'!"&"J16") -> 0
A8: Brutus, Grégory | B8: =INDIRECT("'"&IF(RIGHT(A8,1)=" ",LEFT(A8,LEN(A8)-1),A8)&"'!"&"J16") -> #REF!
A9: Cagliesi, Sara | B9: =INDIRECT("'"&IF(RIGHT(A9,1)=" ",LEFT(A9,LEN(A9)-1),A9)&"'!"&"J16") -> #REF!
A10: Chabot, Sébastien | B10: =INDIRECT("'"&IF(RIGHT(A10,1)=" ",LEFT(A10,LEN(A10)-1),A10)&"'!"&"J16") -> 0
A11: Chiasson, Philippe | B11: =INDIRECT("'"&IF(RIGHT(A11,1)=" ",LEFT(A11,LEN(A11)-1),A11)&"'!"&"J16") -> 0
A12: Cordeiro, Fatima-Helena | B12: =INDIRECT("'"&IF(RIGHT(A12,1)=" ",LEFT(A12,LEN(A12)-1),A12)&"'!"&"J16") -> #REF!
A13: Cortez-Salvador, Ana | B13: =INDIRECT("'"&IF(RIGHT(A13,1)=" ",LEFT(A13,LEN(A13)-1),A13)&"'!"&"J16") -> #REF!
... A37: Tassé, Nancy | B37: =INDIRECT("'"&IF(RIGHT(A37,1)=" ",LEFT(A37,LEN(A37)-1),A37)&"'!"&"J16") -> 0

Sheet Avertissement
A1: Nom | B1: Avertissement
B2: Retard | H2: Absence | N2: Urgence | T2: Habillement
B3: A.V. 1 | C3: A.V. 2 | D3: A.E. 1 | E3: A. E. 2 | F3: Susp 2 jrs | G3: Susp 5 jrs | H3: A.V. 1 | I3: A.V. 2 | J3: A.E. 1 | K3: A. E. 2 | L3: Susp 2 jrs | M3: Susp 5 jrs | N3: A.V. 1 | O3: A.V. 2 | P3: A.E. 1 | Q3: A. E. 2 | R3: Susp 2 jrs | S3: Susp 5 jrs | T3: A.V. 1 | U3: A.V. 2 | V3: A.E. 1 | W3: A. E. 2 | X3: Susp 2 jrs | Y3: Susp 5 jrs
A4: Barry, Hélène
A5: Beauchesne, Marc-André
A6: Béland-Lapotry, Jean-Pierre
A7: Bissonnette, Maxime
A8: Boivin, France
A9: Bourgeois, Mélanie
A10: Brutus, Grégory
A11: Cagliesi, Sara
A12: Chabot, Sébastien
A13: Chiasson, Philippe
A14: Cordeiro, Fatima-Helena
A15: Cortez-Salvador, Ana
... A39: Tassé, Nancy

Sheet Formation
A1: Nom | B1: Formation Interne | J1: Formation Externe
B2: Plan d'intégration | C2: Évaluation 3 mois | D2: Urgence | E2: Pack Out | F2: Démolition | G2: Contenu | H2: Rembourrage | I2: Buanderie
A3: Barry, Hélène
A4: Beauchesne, Marc-André
A5: Béland-Lapotry, Jean-Pierre
A6: Bissonnette, Maxime
A7: Boivin, France
A8: Bourgeois, Mélanie
A9: Brutus, Grégory
A10: Cagliesi, Sara
A11: Chabot, Sébastien
A12: Chiasson, Philippe
A13: Cordeiro, Fatima-Helena
A14: Cortez-Salvador, Ana
... A38: Tassé, Nancy

Sheet Équipements
A1: PROPRIO | B1: Marc-André | C1: Benoit C | D1: Cynthia M | E1: Alain P | F1: Jo-Lu | G1: Françis H | H1: Denis D | I1: Hélène B | J1: Michel | K1: Jo-Lé | L1: Dany Gregoire | M1: Gregory B | N1: M-A Beauchesne
A2: COFFRE À OUTILS #.. | B2: 1 | C2: 2 | D2: 3 | E2: 4 | F2: 5 | G2: 6 | H2: 7 | I2: 8 | J2: 9 | K2: 10 | L2: 11 | M2: 12
A3: TESTER AIR | B3: HUM049 | C3: HUM003 | D3: HUM041 | E3: HUM005 | F3: HUM042 | G3: HUM044 | H3: HUM009 | J3: HUM046 | K3: HUM040 | L3: HUM037 | M3: HUM036
A4: TESTER MATÉRIAUX | B4: HUM050 | C4: HUM048 | D4: HUM041 | E4: HUM043 | F4: HUM045 | G4: HUM001 | H4: HUM038 | J4: HUM047 | K4: HUM008 | L4: HUM014 | M4: HUM007
A5: CAMÉRA | C5: O | D5: O | E5: O | F5: O | G5: O | H5: O | I5: O | J5: O | K5: O | L5: O | M5: CAM006 | N5: CAMVERTE
A6: TOURNEVIS 9 EN 1 | C6: O | D6: X | E6: X | F6: X | G6: O | H6: O | I6: X | J6: X | K6: X | L6: X | M6: O
A7: RABAISSE PLAINTE | C7: O | D7: X | E7: X | F7: X | G7: O | H7: X | I7: X | J7: X | K7: X | L7: X | M7: X
A8: CROBAR | C8: O | D8: O | E8: X | F8: O | G8: O | H8: O | I8: X | J8: O | K8: O | L8: X | M8: X
A9: EXACTO | C9: O | D9: X | E9: X | F9: X | G9: O | H9: X | I9: X | J9: X | K9: X | L9: X | M9: X
A10: MARTEAU | C10: O | D10: X | E10: X | F10: X | G10: O | H10: O | I10: X | J10: X | K10: X | L10: X | M10: O
A11: COUTEAU A GYPSE | C11: O | D11: O | E11: O | F11: O | H11: X | I11: X | L11: X | M11: O
A12: PINCE MULTIPRISES | C12: O | D12: X | E12: X | F12: O | G12: O | H12: X | I12: X | J12: X | K12: X | L12: X | M12: O
A13: PINCE UNIVERSELLE | C13: O | D13: X | E13: X | F13: O | G13: O | H13: X | I13: X | J13: X | K13: X | L13: X | M13: O
A14: PINCE A ETAU | C14: O | D14: X | E14: X | F14: O | G14: O | H14: X | I14: X | J14: X | K14: X | L14: X | M14: O
A15: PINCE A METAL | C15: O | D15: X | E15: X | F15: O | G15: O | H15: X | I15: O | J15: X | K15: X | L15: X | M15: O
A16: DRILL | C16: O | D16: O | E16: X | F16: O | G16: O | H16: O | I16: O | J16: O | K16: O | L16: O | M16: O
A17: CHOKE LINE | C17: O | D17: O | E17: O | F17: X | G17: O | H17: O | I17: O | J17: X | L17: X | M17: X
A18: EXTENSION | C18: O | D18: O | E18: X | F18: X | G18: O | H18: O | I18: O | J18: O | K18: X | L18: X | M18: O
A19: CLÉS MÉTRIQUES AJUST. | C19: O | D19: O | E19: X | F19: X | G19: O | H19: X | I19: O | J19: X | K19: X | L19: X | M19: O
A20: CLÉS HEXAGONALES | C20: O | D20: O | E20: X | F20: X | G20: O | H20: X | I20: X | J20: X | K20: X | L20: O | M20: O
A21: GANTS DE TRAVAIL | C21: O | D21: X | E21: X | F21: X | G21: O | H21: X | I21: X | J21: X | K21: X | L21: X | M21: X
A22: TAPE ELECTRIQUE | C22: O | D22: X | E22: X | F22: X | G22: O | H22: X | I22: X | J22: X | K22: X | L22: X | M22: X
A23: TAPE VERT | C23: O | D23: X | E23: X | F23: X | G23: O | H23: X | I23: X | J23: X | K23: X | L23: X | M23: X
A24: CRAYON BOIS | C24: O | D24: O | E24: X | F24: X | G24: O | H24: O | I24: X | J24: X | K24: O | L24: X | M24: X
A25: CISEAUX | C25: O | D25: O | E25: X | F25: O | G25: O | H25: O | I25: X | J25: O | K25: O | L25: X | M25: O
A26: VIS | C26: O | D26: X | E26: X | F26: X | G26: O | H26: X | I26: X | J26: X | K26: X | L26: X | M26: X
A27: CLOU | C27: O | D27: X | E27: X | F27: X | G27: O | H27: X | I27: X | J27: X | K27: X | L27: X | M27: X
A28: TAPE A MESURER | C28: O | D28: X | E28: X | F28: X | G28: O | H28: X | I28: X | J28: X | K28: X | L28: X | M28: X
A29: TAPE LASER | C29: O | D29: O | E29: O | F29: O | G29: O | H29: O | I29: O | J29: O | K29: O | L29: O | M29: O
... A32: AUTRES | C32: O | D32: O | E32: X | F32: O | G32: O | H32: O | I32: O | J32: O | K32: O | L32: O | M32: O

Sheet Bottes

Sheet Barry, Hélène
B2: Fiche d'employé( e )
N3: Formation interne
C5: Nom de l'employé: | F5: Hélène Barry | N5: =Formation!B2 -> Plan d'intégration | Q5: =IF(Formation!B3="","",Formation!B3) | R5: =Formation!F2 -> Démolition | U5: =IF(Formation!F3="","",Formation!F3)
C6: Titre: | F6: Technicienne A | N6: =Formation!C2 -> Évaluation 3 mois | Q6: =IF(Formation!C3="","",Formation!B4) | R6: =Formation!G2 -> Contenu | U6: =IF(Formation!G3="","",Formation!G3)
C7: Date d'embauche: | F7: 39216 | N7: =Formation!D2 -> Urgence | Q7: =IF(Formation!D3="","",Formation!D3) | R7: =Formation!H2 -> Rembourrage | U7: =IF(Formation!H3="","",Formation!H3)
N8: =Formation!E2 -> Pack Out | Q8: =IF(Formation!E3="","",Formation!E3) | R8: =Formation!I2 -> Buanderie | U8: =IF(Formation!I3="","",Formation!I3)
D10: Évaluations
B11: Motivation: | D11: 9.5 | G11: Autonomie: | I11: 8 | N11: Formation externe
B12: Organisation: | D12: 8 | G12: Jugement: | I12: 5
B13: Productivité: | D13: 7 | G13: Entregent: | I13: 9 | N13: =IF(Formation!J2="","",Formation!J2) | Q13: =IF(Formation!J3="","",Formation!J3) | R13: =IF(Formation!N2="","",Formation!N2) | U13: =IF(Formation!N3="","",Formation!N3)
B14: Qualité: | D14: 7 | G14: Comportement: | I14: 7 | N14: =IF(Formation!K2="","",Formation!K2) | Q14: =IF(Formation!K3="","",Formation!K3) | R14: =IF(Formation!O2="","",Formation!O2) | U14: =IF(Formation!O3="","",Formation!O3)
B15: Créativité: | D15: 9 | G15: Ponctualité: | I15: 5 | N15: =IF(Formation!L2="","",Formation!L2) | Q15: =IF(Formation!L3="","",Formation!L3) | R15: =IF(Formation!P2="","",Formation!P2) | U15: =IF(Formation!P3="","",Formation!P3)
G16: Résultat Global : | J16: =SUM(D11:F15,I11:K15) -> 74.5 | N16: =IF(Formation!M2="","",Formation!M2) | Q16: =IF(Formation!M3="","",Formation!M3) | R16: =IF(Formation!Q2="","",Formation!Q2) | U16: =IF(Formation!Q3="","",Formation!Q3)
D20: Avertissement: | O20: Équipements
D21: Retard | N21: =Équipements!A2 -> COFFRE À OUTILS #.. | Q21: 1 | R21: =Équipements!A24 -> CRAYON BOIS
D22: A.V. 1 | E22: A.V. 2 | F22: A.E. 1 | G22: A. E. 2 | H22: 2 jrs | I22: 5 jrs | N22: =Équipements!A3 -> TESTER AIR | R22: =Équipements!A25 -> CISEAUX
D23: =IF(Avertissement!B4="","",Avertissement!B4) | E23: =IF(Avertissement!C4="","",Avertissement!C4) | F23: =IF(Avertissement!D4="","",Avertissement!D4) | G23: =IF(Avertissement!E4="","",Avertissement!E4) | H23: =IF(Avertissement!F4="","",Avertissement!F4) | I23: =IF(Avertissement!G4="","",Avertissement!G4) | N23: =Équipements!A4 -> TESTER MATÉRIAUX | R23: =Équipements!A26 -> VIS
D24: Urgence | N24: =Équipements!A5 -> CAMÉRA | R24: =Équipements!A27 -> CLOU
D25: A.V. 1 | E25: A.V. 2 | F25: A.E. 1 | G25: A. E. 2 | H25: 2 jrs | I25: 5 jrs | N25: =Équipements!A6 -> TOURNEVIS 9 EN 1 | R25: =Équipements!A28 -> TAPE A MESURER
D26: =IF(Avertissement!H4="","",Avertissement!H4) | E26: =IF(Avertissement!I4="","",Avertissement!I4) | F26: =IF(Avertissement!J4="","",Avertissement!J4) | G26: =IF(Avertissement!K4="","",Avertissement!K4) | H26: =IF(Avertissement!L4="","",Avertissement!L4) | I26: =IF(Avertissement!M4="","",Avertissement!M4) | N26: =Équipements!A7 -> RABAISSE PLAINTE | R26: =Équipements!A29 -> TAPE LASER
D27: Absence | N27: =Équipements!A8 -> CROBAR | R27: =Équipements!A30 -> WEB DE DÉMÉNAG.
D28: A.V. 1 | E28: A.V. 2 | F28: A.E. 1 | G28: A. E. 2 | H28: 2 jrs | I28: 5 jrs | N28: =Équipements!A9 -> EXACTO | R28: =Équipements!A31 -> AUTRES
D29: =IF(Avertissement!N4="","",Avertissement!N4) | E29: =IF(Avertissement!O4="","",Avertissement!O4) | F29: =IF(Avertissement!P4="","",Avertissement!P4) | G29: =IF(Avertissement!Q4="","",Avertissement!Q4) | H29: =IF(Avertissement!R4="","",Avertissement!R4) | I29: =IF(Avertissement!S4="","",Avertissement!S4) | N29: =Équipements!A10 -> MARTEAU | R29: =Équipements!A32 -> AUTRES
D30: Habillement | N30: =Équipements!A11 -> COUTEAU A GYPSE | R30: =Équipements!A33 -> 0
D31: A.V. 1 | E31: A.V. 2 | F31: A.E. 1 | G31: A. E. 2 | H31: 2 jrs | I31: 5 jrs | N31: =Équipements!A12 -> PINCE MULTIPRISES | R31: =Équipements!A34 -> 0
D32: =IF(Avertissement!T4="","",Avertissement!T4) | E32: =IF(Avertissement!U4="","",Avertissement!U4) | F32: =IF(Avertissement!V4="","",Avertissement!V4) | G32: =IF(Avertissement!W4="","",Avertissement!W4) | H32: =IF(Avertissement!X4="","",Avertissement!X4) | I32: =IF(Avertissement!Y4="","",Avertissement!Y4) | N32: =Équipements!A13 -> PINCE UNIVERSELLE | R32: =Équipements!A35 -> 0
N33: =Équipements!A14 -> PINCE A ETAU | R33: =Équipements!A36 -> 0
N34: =Équipements!A15 -> PINCE A METAL | R34: =Équipements!A37 -> 0
N35: =Équipements!A16 -> DRILL | R35: =Équipements!A38 -> 0
B36: Commentaires: | N36: =Équipements!A17 -> CHOKE LINE | R36: =Équipements!A39 -> 0
N37: =Équipements!A18 -> EXTENSION | R37: =Équipements!A40 -> 0
N38: =Équipements!A19 -> CLÉS MÉTRIQUES AJUST. | R38: =Équipements!A41 -> 0
N39: =Équipements!A20 -> CLÉS HEXAGONALES | R39: =Équipements!A42 -> 0
N40: =Équipements!A21 -> GANTS DE TRAVAIL | R40: =Équipements!A43 -> 0
N41: =Équipements!A22 -> TAPE ELECTRIQUE | R41: =Équipements!A44 -> 0
N42: =Équipements!A23 -> TAPE VERT | R42: =Équipements!A45 -> 0

Sheet Beauchesne, Marc-André
B2: Fiche d'employé( e )
N3: Formation interne
C5: Nom de l'employé: | F5: Marc-André Beauchesne | N5: =Formation!B2 -> Plan d'intégration | Q5: =IF(Formation!B3="","",Formation!B3) | R5: =Formation!F2 -> Démolition | U5: =IF(Formation!F3="","",Formation!F3)
C6: Titre: | F6: Chef équipe (soir) | N6: =Formation!C2 -> Évaluation 3 mois | Q6: =IF(Formation!C3="","",Formation!B4) | R6: =Formation!G2 -> Contenu | U6: =IF(Formation!G3="","",Formation!G3)
C7: Date d'embauche: | F7: 41640 | N7: =Formation!D2 -> Urgence | Q7: =IF(Formation!D3="","",Formation!D3) | R7: =Formation!H2 -> Rembourrage | U7: =IF(Formation!H3="","",Formation!H3)
N8: =Formation!E2 -> Pack Out | Q8: =IF(Formation!E3="","",Formation!E3) | R8: =Formation!I2 -> Buanderie | U8: =IF(Formation!I3="","",Formation!I3)
D10: Évaluations
B11: Motivation: | D11: 9.5 | G11: Autonomie: | I11: 8 | N11: Formation externe
B12: Organisation: | D12: 8 | G12: Jugement: | I12: 5
B13: Productivité: | D13: 7 | G13: Entregent: | I13: 9 | N13: =IF(Formation!J2="","",Formation!J2) | Q13: =IF(Formation!J3="","",Formation!J3) | R13: =IF(Formation!N2="","",Formation!N2) | U13: =IF(Formation!N3="","",Formation!N3)
B14: Qualité: | D14: 7 | G14: Comportement: | I14: 7 | N14: =IF(Formation!K2="","",Formation!K2) | Q14: =IF(Formation!K3="","",Formation!K3) | R14: =IF(Formation!O2="","",Formation!O2) | U14: =IF(Formation!O3="","",Formation!O3)
B15: Créativité: | D15: 9 | G15: Ponctualité: | I15: 5 | N15: =IF(Formation!L2="","",Formation!L2) | Q15: =IF(Formation!L3="","",Formation!L3) | R15: =IF(Formation!P2="","",Formation!P2) | U15: =IF(Formation!P3="","",Formation!P3)
G16: Résultat Global : | J16: =SUM(D11:F15,I11:K15) -> 74.5 | N16: =IF(Formation!M2="","",Formation!M2) | Q16: =IF(Formation!M3="","",Formation!M3) | R16: =IF(Formation!Q2="","",Formation!Q2) | U16: =IF(Formation!Q3="","",Formation!Q3)
D20: Avertissement: | O20: Équipements
D21: Retard | N21: =Équipements!A2 -> COFFRE À OUTILS #.. | Q21: 1 | R21: =Équipements!A24 -> CRAYON BOIS
D22: A.V. 1 | E22: A.V. 2 | F22: A.E. 1 | G22: A. E. 2 | H22: 2 jrs | I22: 5 jrs | N22: =Équipements!A3 -> TESTER AIR | R22: =Équipements!A25 -> CISEAUX
D23: =IF(Avertissement!B5="","",Avertissement!B5) | E23: =IF(Avertissement!C5="","",Avertissement!C5) | F23: =IF(Avertissement!D5="","",Avertissement!D5) | G23: =IF(Avertissement!E5="","",Avertissement!E5) | H23: =IF(Avertissement!F5="","",Avertissement!F5) | I23: =IF(Avertissement!G5="","",Avertissement!G5) | N23: =Équipements!A4 -> TESTER MATÉRIAUX | R23: =Équipements!A26 -> VIS
D24: Urgence | N24: =Équipements!A5 -> CAMÉRA | R24: =Équipements!A27 -> CLOU
D25: A.V. 1 | E25: A.V. 2 | F25: A.E. 1 | G25: A. E. 2 | H25: 2 jrs | I25: 5 jrs | N25: =Équipements!A6 -> TOURNEVIS 9 EN 1 | R25: =Équipements!A28 -> TAPE A MESURER
D26: =IF(Avertissement!H5="","",Avertissement!H5) | E26: =IF(Avertissement!I5="","",Avertissement!I5) | F26: =IF(Avertissement!J5="","",Avertissement!J5) | G26: =IF(Avertissement!K5="","",Avertissement!K5) | H26: =IF(Avertissement!L5="","",Avertissement!L5) | I26: =IF(Avertissement!M5="","",Avertissement!M5) | N26: =Équipements!A7 -> RABAISSE PLAINTE | R26: =Équipements!A29 -> TAPE LASER
D27: Absence | N27: =Équipements!A8 -> CROBAR | R27: =Équipements!A30 -> WEB DE DÉMÉNAG.
D28: A.V. 1 | E28: A.V. 2 | F28: A.E. 1 | G28: A. E. 2 | H28: 2 jrs | I28: 5 jrs | N28: =Équipements!A9 -> EXACTO | R28: =Équipements!A31 -> AUTRES
D29: =IF(Avertissement!N5="","",Avertissement!N5) | E29: =IF(Avertissement!O5="","",Avertissement!O5) | F29: =IF(Avertissement!P5="","",Avertissement!P5) | G29: =IF(Avertissement!Q5="","",Avertissement!Q5) | H29: =IF(Avertissement!R5="","",Avertissement!R5) | I29: =IF(Avertissement!S5="","",Avertissement!S5) | N29: =Équipements!A10 -> MARTEAU | R29: =Équipements!A32 -> AUTRES
D30: Habillement | N30: =Équipements!A11 -> COUTEAU A GYPSE | R30: =Équipements!A33 -> 0
D31: A.V. 1 | E31: A.V. 2 | F31: A.E. 1 | G31: A. E. 2 | H31: 2 jrs | I31: 5 jrs | N31: =Équipements!A12 -> PINCE MULTIPRISES | R31: =Équipements!A34 -> 0
D32: =IF(Avertissement!T5="","",Avertissement!T5) | E32: =IF(Avertissement!U5="","",Avertissement!U5) | F32: =IF(Avertissement!V5="","",Avertissement!V5) | G32: =IF(Avertissement!W5="","",Avertissement!W5) | H32: =IF(Avertissement!X5="","",Avertissement!X5) | I32: =IF(Avertissement!Y5="","",Avertissement!Y5) | N32: =Équipements!A13 -> PINCE UNIVERSELLE | R32: =Équipements!A35 -> 0
N33: =Équipements!A14 -> PINCE A ETAU | R33: =Équipements!A36 -> 0
N34: =Équipements!A15 -> PINCE A METAL | R34: =Équipements!A37 -> 0
N35: =Équipements!A16 -> DRILL | R35: =Équipements!A38 -> 0
B36: Commentaires: | N36: =Équipements!A17 -> CHOKE LINE | R36: =Équipements!A39 -> 0
N37: =Équipements!A18 -> EXTENSION | R37: =Équipements!A40 -> 0
N38: =Équipements!A19 -> CLÉS MÉTRIQUES AJUST. | R38: =Équipements!A41 -> 0
N39: =Équipements!A20 -> CLÉS HEXAGONALES | R39: =Équipements!A42 -> 0
N40: =Équipements!A21 -> GANTS DE TRAVAIL | R40: =Équipements!A43 -> 0
N41: =Équipements!A22 -> TAPE ELECTRIQUE | R41: =Équipements!A44 -> 0
N42: =Équipements!A23 -> TAPE VERT | R42: =Équipements!A45 -> 0

Sheet Béland-Lapotry, Jean-Pierre

Sheet Bissonnette, Maxime

Sheet Boivin, France

Sheet Bourgeois, Mélanie

Sheet Brutus, Gregory

Sheet Cagliesi. Sara

Sheet Chabot, Sébastien

Sheet Chiasson, Philippe

Sheet Cordeiro, Fatima

Sheet Cortez, Ana

Sheet Coté, Benoit

Sheet Décembre, Marc-Antoine

Sheet Désormeaux, Denis

Sheet Fortin, Céline

Sheet Francique, Samuel

Sheet Gagnon, Sylvain

Sheet Gareau, Nicolas

Sheet Gravel-B, Gabriel

Sheet Guzman, Véronica

Sheet Hamel, Francis

Sheet Jean, Edison

Sheet Leduc, Chantal

Sheet Lemerise, William

Sheet Lépine, Jonathan

Sheet Ménard, Michel

Sheet Monteforte, Daniel

Sheet Morrisseau, Jeannot

Sheet Nemours, Jean-Baptiste

Sheet Ouimet, Patrick

Sheet Presseau, Marc-André

Sheet St-Georges, Félix

Sheet Tanguay, Guy

Sheet Tassé, Nancy
