Workbook

Sheet Liste Répas
A1: Semaine | B1: Date audit | C1: Groupe | D1: Modèle | E1: Matière | F1: Couleur | G1: Partie concernée | H1: Défaut | I1: Nbre pièce | J1: Surface (m²) | L1: sans espace
A2: 8 | B2: 41687 | C2: 1 | D2: Long | E2: Soie | F2: Argile | G2: Soufflet gauche | H2: Piqûre | I2: 1 | J2: =INDEX(Feuil1!D:D,MATCH('Liste Répas'!L2,Feuil1!G:G,0),1) -> 0.0123 | K2: =CONCATENATE(D2,E2,G2) -> LongSoieSoufflet gauche | L2: =SUBSTITUTE(K2," ","") -> LongSoieSouffletgauche
A3: 8 | B3: 41687 | C3: 1 | D3: Long | E3: Soie | F3: Bleu Hydra | G3: Gorge | H3: Piqûre | I3: 1 | J3: =INDEX(Feuil1!D:D,MATCH('Liste Répas'!L3,Feuil1!G:G,0),1) -> 0.047 | K3: =CONCATENATE(D3,E3,G3) -> LongSoieGorge | L3: =SUBSTITUTE(K3," ","") -> LongSoieGorge
A4: 8 | B4: 41687 | C4: 1 | D4: Long | E4: Soie | F4: Bleu Hydra | G4: PCC | H4: Piqûre | I4: 1 | J4: =INDEX(Feuil1!D:D,MATCH('Liste Répas'!L4,Feuil1!G:G,0),1) -> #N/A | K4: =CONCATENATE(D4,E4,G4) -> LongSoiePCC | L4: =SUBSTITUTE(K4," ","") -> LongSoiePCC
A5: 8 | B5: 41687 | C5: 1 | D5: Long | E5: Soie | F5: Bleu Hydra | G5: Soufflet gauche | H5: Piqûre | I5: 1 | J5: =INDEX(Feuil1!D:D,MATCH('Liste Répas'!L5,Feuil1!G:G,0),1) -> 0.0123 | K5: =CONCATENATE(D5,E5,G5) -> LongSoieSoufflet gauche | L5: =SUBSTITUTE(K5," ","") -> LongSoieSouffletgauche
A6: 8 | B6: 41687 | C6: 1 | D6: Long | E6: RFT Viledon | G6: PCC trapèze | H6: Piqûre | I6: 1 | J6: =INDEX(Feuil1!D:D,MATCH('Liste Répas'!L6,Feuil1!G:G,0),1) -> #N/A | K6: =CONCATENATE(D6,E6,G6) -> LongRFT ViledonPCC trapèze | L6: =SUBSTITUTE(K6," ","") -> LongRFTViledonPCCtrapèze
A7: 8 | B7: 41687 | C7: 1 | D7: Long | E7: RFT Viledon | G7: PCC | H7: Piqûre | I7: 1 | J7: =INDEX(Feuil1!D:D,MATCH('Liste Répas'!L7,Feuil1!G:G,0),1) -> #N/A | K7: =CONCATENATE(D7,E7,G7) -> LongRFT ViledonPCC | L7: =SUBSTITUTE(K7," ","") -> LongRFTViledonPCC
A8: 8 | B8: 41687 | C8: 1 | D8: Long | E8: RFT Viledon | G8: Gorge | H8: Piqûre | I8: 1 | J8: =INDEX(Feuil1!D:D,MATCH('Liste Répas'!L8,Feuil1!G:G,0),1) -> 0.0426 | K8: =CONCATENATE(D8,E8,G8) -> LongRFT ViledonGorge | L8: =SUBSTITUTE(K8," ","") -> LongRFTViledonGorge
A9: 8 | B9: 41687 | C9: 2 | D9: Long | E9: Soie | F9: Rose Jaipur | G9: Poche int FE | H9: Montage | I9: 1 | J9: =INDEX(Feuil1!D:D,MATCH('Liste Répas'!L9,Feuil1!G:G,0),1) -> #N/A | K9: =CONCATENATE(D9,E9,G9) -> LongSoiePoche int FE | L9: =SUBSTITUTE(K9," ","") -> LongSoiePocheintFE
A10: 8 | B10: 41687 | C10: 2 | D10: Long | E10: RFT Viledon | G10: Poche int FE | H10: Montage | I10: 1 | J10: =INDEX(Feuil1!D:D,MATCH('Liste Répas'!L10,Feuil1!G:G,0),1) -> #N/A | K10: =CONCATENATE(D10,E10,G10) -> LongRFT ViledonPoche int FE | L10: =SUBSTITUTE(K10," ","") -> LongRFTViledonPocheintFE
A11: 8 | B11: 41687 | C11: 3 | D11: Trotter | E11: Soie | F11: Bleu izmir | G11: Gorge | H11: Piqûre | I11: 1 | J11: =INDEX(Feuil1!D:D,MATCH('Liste Répas'!L11,Feuil1!G:G,0),1) -> 0.0613 | K11: =CONCATENATE(D11,E11,G11) -> TrotterSoieGorge | L11: =SUBSTITUTE(K11," ","") -> TrotterSoieGorge
A12: 8 | B12: 41687 | C12: 3 | D12: Trotter | E12: Soie | F12: Bleu izmir | G12: Poche CC | H12: Piqûre | I12: 1 | J12: =INDEX(Feuil1!D:D,MATCH('Liste Répas'!L12,Feuil1!G:G,0),1) -> 0.0309 | K12: =CONCATENATE(D12,E12,G12) -> TrotterSoiePoche CC | L12: =SUBSTITUTE(K12," ","") -> TrotterSoiePocheCC
A13: 8 | B13: 41687 | C13: 3 | D13: Trotter | E13: Soie | F13: Bleu izmir | G13: Poche droite | H13: Piqûre | I13: 1 | J13: =INDEX(Feuil1!D:D,MATCH('Liste Répas'!L13,Feuil1!G:G,0),1) -> 0.0436 | K13: =CONCATENATE(D13,E13,G13) -> TrotterSoiePoche droite | L13: =SUBSTITUTE(K13," ","") -> TrotterSoiePochedroite
A14: 8 | B14: 41687 | C14: 3 | D14: Trotter | E14: RFT Viledon | G14: gorge | H14: Piqûre | I14: 1 | J14: =INDEX(Feuil1!D:D,MATCH('Liste Répas'!L14,Feuil1!G:G,0),1) -> 0.0569 | K14: =CONCATENATE(D14,E14,G14) -> TrotterRFT Viledongorge | L14: =SUBSTITUTE(K14," ","") -> TrotterRFTViledongorge
A15: 8 | B15: 41687 | C15: 3 | D15: Trotter | E15: RFT Viledon | G15: Poche droite | H15: Piqûre | I15: 1 | J15: =INDEX(Feuil1!D:D,MATCH('Liste Répas'!L15,Feuil1!G:G,0),1) -> 0.0291 | K15: =CONCATENATE(D15,E15,G15) -> TrotterRFT ViledonPoche droite | L15: =SUBSTITUTE(K15," ","") -> TrotterRFTViledonPochedroite
A16: 8 | B16: 41687 | C16: 3 | D16: GM | E16: Veau EPS | F16: Cognac | G16: Ecusson | H16: Piqûre | I16: 2 | J16: =INDEX(Feuil1!D:D,MATCH('Liste Répas'!L16,Feuil1!G:G,0),1) -> 0.0007 | K16: =CONCATENATE(D16,E16,G16) -> GMVeau EPSEcusson | L16: =SUBSTITUTE(K16," ","") -> GMVeauEPSEcusson
A17: 8 | B17: 41687 | C17: 3 | D17: GM | E17: Veau EPS | F17: Cognac | G17: Bande d'épingle | H17: Piqûre | I17: 1 | J17: =INDEX(Feuil1!D:D,MATCH('Liste Répas'!L17,Feuil1!G:G,0),1) -> 0.0014 | K17: =CONCATENATE(D17,E17,G17) -> GMVeau EPSBande d'épingle | L17: =SUBSTITUTE(K17," ","") -> GMVeauEPSBanded'épingle
A18: 8 | B18: 41687 | C18: 3 | D18: GM | E18: Veau EPS | F18: Cognac | G18: Passant stylo | H18: Piqûre | I18: 2 | J18: =INDEX(Feuil1!D:D,MATCH('Liste Répas'!L18,Feuil1!G:G,0),1) -> 0.0008 | K18: =CONCATENATE(D18,E18,G18) -> GMVeau EPSPassant stylo | L18: =SUBSTITUTE(K18," ","") -> GMVeauEPSPassantstylo
A19: 8 | B19: 41687 | C19: 3 | D19: GM | E19: Soie | F19: Capu collier | G19: Gorge | H19: Piqûre | I19: 1 | J19: =INDEX(Feuil1!D:D,MATCH('Liste Répas'!L19,Feuil1!G:G,0),1) -> 0.0313 | K19: =CONCATENATE(D19,E19,G19) -> GMSoieGorge | L19: =SUBSTITUTE(K19," ","") -> GMSoieGorge
A20: 8 | B20: 41687 | C20: 3 | D20: GM | E20: Soie | F20: Capu collier | G20: Poche CC | H20: Piqûre | I20: 1 | J20: =INDEX(Feuil1!D:D,MATCH('Liste Répas'!L20,Feuil1!G:G,0),1) -> 0.0208 | K20: =CONCATENATE(D20,E20,G20) -> GMSoiePoche CC | L20: =SUBSTITUTE(K20," ","") -> GMSoiePocheCC
A21: 8 | B21: 41687 | C21: 3 | D21: GM | E21: Soie | F21: Capu collier | G21: Poche gauche | H21: Piqûre | I21: 1 | J21: =INDEX(Feuil1!D:D,MATCH('Liste Répas'!L21,Feuil1!G:G,0),1) -> 0.0258 | K21: =CONCATENATE(D21,E21,G21) -> GMSoiePoche gauche | L21: =SUBSTITUTE(K21," ","") -> GMSoiePochegauche
A22: 8 | B22: 41687 | C22: 3 | D22: GM | E22: Soie | F22: Capu collier | G22: Poche droite | H22: Piqûre | I22: 1 | J22: =INDEX(Feuil1!D:D,MATCH('Liste Répas'!L22,Feuil1!G:G,0),1) -> 0.0208 | K22: =CONCATENATE(D22,E22,G22) -> GMSoiePoche droite | L22: =SUBSTITUTE(K22," ","") -> GMSoiePochedroite
A23: 8 | B23: 41687 | C23: 3 | D23: GM | E23: RFT viledon | G23: Gorge | H23: Piqûre | I23: 1 | J23: =INDEX(Feuil1!D:D,MATCH('Liste Répas'!L23,Feuil1!G:G,0),1) -> 0.0295 | K23: =CONCATENATE(D23,E23,G23) -> GMRFT viledonGorge | L23: =SUBSTITUTE(K23," ","") -> GMRFTviledonGorge
A24: 8 | B24: 41687 | C24: 3 | D24: GM | E24: RFT viledon | G24: Poche CC | H24: Piqûre | I24: 1 | J24: =INDEX(Feuil1!D:D,MATCH('Liste Répas'!L24,Feuil1!G:G,0),1) -> 0.0085 | K24: =CONCATENATE(D24,E24,G24) -> GMRFT viledonPoche CC | L24: =SUBSTITUTE(K24," ","") -> GMRFTviledonPocheCC
A25: 8 | B25: 41687 | C25: 3 | D25: GM | E25: RFT viledon | G25: Poche gauche | H25: Piqûre | I25: 1 | J25: =INDEX(Feuil1!D:D,MATCH('Liste Répas'!L25,Feuil1!G:G,0),1) -> 0.0118 | K25: =CONCATENATE(D25,E25,G25) -> GMRFT viledonPoche gauche | L25: =SUBSTITUTE(K25," ","") -> GMRFTviledonPochegauche
A26: 8 | B26: 41687 | C26: 3 | D26: GM | E26: RFT viledon | G26: Poche droite | H26: Piqûre | I26: 1 | J26: =INDEX(Feuil1!D:D,MATCH('Liste Répas'!L26,Feuil1!G:G,0),1) -> 0.0085 | K26: =CONCATENATE(D26,E26,G26) -> GMRFT viledonPoche droite | L26: =SUBSTITUTE(K26," ","") -> GMRFTviledonPochedroite
A27: 8 | B27: 41687 | C27: 4 | D27: Long | E27: Soie | F27: Astro pink | G27: PCC | H27: Piqûre | I27: 1 | J27: =INDEX(Feuil1!D:D,MATCH('Liste Répas'!L27,Feuil1!G:G,0),1) -> #N/A | K27: =CONCATENATE(D27,E27,G27) -> LongSoiePCC | L27: =SUBSTITUTE(K27," ","") -> LongSoiePCC
A28: 8 | B28: 41687 | C28: 4 | D28: Long | E28: RFT Viledon | G28: PCC trapèze | H28: Piqûre | I28: 3 | J28: =INDEX(Feuil1!D:D,MATCH('Liste Répas'!L28,Feuil1!G:G,0),1) -> #N/A | K28: =CONCATENATE(D28,E28,G28) -> LongRFT ViledonPCC trapèze | L28: =SUBSTITUTE(K28," ","") -> LongRFTViledonPCCtrapèze
A29: 8 | B29: 41687 | C29: 4 | D29: Long | E29: RFT Viledon | G29: PCC | H29: Piqûre | I29: 1 | J29: =INDEX(Feuil1!D:D,MATCH('Liste Répas'!L29,Feuil1!G:G,0),1) -> #N/A | K29: =CONCATENATE(D29,E29,G29) -> LongRFT ViledonPCC | L29: =SUBSTITUTE(K29," ","") -> LongRFTViledonPCC
A30: 8 | B30: 41687 | C30: 4 | D30: Long | E30: RFT synderm | G30: FAG | H30: Piqûre | I30: 5 | J30: =INDEX(Feuil1!D:D,MATCH('Liste Répas'!L30,Feuil1!G:G,0),1) -> 0.0389 | K30: =CONCATENATE(D30,E30,G30) -> LongRFT syndermFAG | L30: =SUBSTITUTE(K30," ","") -> LongRFTsyndermFAG
A31: 8 | B31: 41687 | C31: 4 | D31: Long | E31: Soie | F31: ??? | G31: Poche Int FE | H31: Montage | I31: 1 | J31: =INDEX(Feuil1!D:D,MATCH('Liste Répas'!L31,Feuil1!G:G,0),1) -> #N/A | K31: =CONCATENATE(D31,E31,G31) -> LongSoiePoche Int FE | L31: =SUBSTITUTE(K31," ","") -> LongSoiePocheIntFE
A32: 8 | B32: 41687 | C32: 4 | D32: Long | E32: RFT viledon | G32: Poche Int FE | H32: Montage | I32: 1 | J32: =INDEX(Feuil1!D:D,MATCH('Liste Répas'!L32,Feuil1!G:G,0),1) -> #N/A | K32: =CONCATENATE(D32,E32,G32) -> LongRFT viledonPoche Int FE | L32: =SUBSTITUTE(K32," ","") -> LongRFTviledonPocheIntFE
A33: 8 | B33: 41687 | C33: Coupe | D33: Long | E33: Soie | F33: Pink | G33: Double poche CC | H33: Marque | I33: 1 | J33: =INDEX(Feuil1!D:D,MATCH('Liste Répas'!L33,Feuil1!G:G,0),1) -> #N/A | K33: =CONCATENATE(D33,E33,G33) -> LongSoieDouble poche CC | L33: =SUBSTITUTE(K33," ","") -> LongSoieDoublepocheCC
A34: 8 | B34: 41687 | C34: Prépa | D34: Long | E34: Bijouterie | F34: Gold | G34: FAG | H34: Fonctionnel, problème fonctionnement (MC) | I34: 1 | J34: =INDEX(Feuil1!D:D,MATCH('Liste Répas'!L34,Feuil1!G:G,0),1) -> #N/A | K34: =CONCATENATE(D34,E34,G34) -> LongBijouterie FAG | L34: =SUBSTITUTE(K34," ","") -> LongBijouterieFAG
A35: 8 | B35: 41687 | C35: Prépa | D35: Long | E35: Bijouterie | F35: Souffre | G35: FAG | H35: Aspect, trame coupée (MP) | I35: 1 | J35: =INDEX(Feuil1!D:D,MATCH('Liste Répas'!L35,Feuil1!G:G,0),1) -> #N/A | K35: =CONCATENATE(D35,E35,G35) -> LongBijouterie FAG | L35: =SUBSTITUTE(K35," ","") -> LongBijouterieFAG
A36: 8 | B36: 41687 | C36: Prépa | D36: Long | E36: Bijouterie | F36: Souffre | G36: FAG | H36: Aspect défaut tissage trame | I36: 1 | J36: =INDEX(Feuil1!D:D,MATCH('Liste Répas'!L36,Feuil1!G:G,0),1) -> #N/A | K36: =CONCATENATE(D36,E36,G36) -> LongBijouterie FAG | L36: =SUBSTITUTE(K36," ","") -> LongBijouterieFAG
A37: 8 | B37: 41687 | C37: Prépa | D37: Long | E37: Bijouterie | F37: Souffre | G37: FAG | H37: Aspect trame coupée | I37: 1 | J37: =INDEX(Feuil1!D:D,MATCH('Liste Répas'!L37,Feuil1!G:G,0),1) -> #N/A | K37: =CONCATENATE(D37,E37,G37) -> LongBijouterie FAG | L37: =SUBSTITUTE(K37," ","") -> LongBijouterieFAG
A38: 8 | B38: 41687 | C38: Prépa | D38: Long | E38: Veau EPS | F38: Etoupe | G38: Corps | H38: Epi visible après parure | I38: 2 | J38: =INDEX(Feuil1!D:D,MATCH('Liste Répas'!L38,Feuil1!G:G,0),1) -> 0.0437 | K38: =CONCATENATE(D38,E38,G38) -> LongVeau EPSCorps | L38: =SUBSTITUTE(K38," ","") -> LongVeauEPSCorps
A39: 8 | B39: 41687 | C39: Prépa | D39: GM | E39: Soie | F39: Capu collier de chien | G39: Poche droite | I39: 1 | J39: =INDEX(Feuil1!D:D,MATCH('Liste Répas'!L39,Feuil1!G:G,0),1) -> 0.0208 | K39: =CONCATENATE(D39,E39,G39) -> GMSoiePoche droite | L39: =SUBSTITUTE(K39," ","") -> GMSoiePochedroite
A40: 8 | B40: 41687 | C40: Prépa | D40: Long | E40: Veau EPS | F40: Etoupe | G40: Corps | H40: Robot/trace | I40: 2 | J40: =INDEX(Feuil1!D:D,MATCH('Liste Répas'!L40,Feuil1!G:G,0),1) -> 0.0437 | K40: =CONCATENATE(D40,E40,G40) -> LongVeau EPSCorps | L40: =SUBSTITUTE(K40," ","") -> LongVeauEPSCorps
...

Sheet BILAN S8
B1: Total | C1: Totale (%) | D1: Veau EPS | E1: Répartition (%) | F1: Soie | G1: Répartition (%) | H1: RFT triplure | I1: Répartition (%) | J1: RFT viledon | K1: Répartition (%) | L1: Bijouterie | M1: Répartition (%) | N1: Synderm | O1: Répartition (%) | P1: Mousse | Q1: Répartition (%)
A2: Cellule 1
A3: Cellule 2
A4: Cellule 3
A5: Cellule 4
A6: Coupe
A7: Préparation
A8: Matière
A13: Montage | B13: Cellule 1 | D13: Cellule 2 | F13: Cellule 3 | H13: Cellule 4
A14: Piqûre
A18: Veau epson | D18: Soie
A19: Brique | D19: Argil
A20: Saphir | D20: B hydra
A21: Flamingo | D21: Brique
A22: Souffre | D22: B izmir
A23: Cognac | D23: Rouge coq
A24: Jaipur | D24: Couverture
A25: Etain | D25: Gris tourterelle
A26: Bleu malte | D26: Pink astro
D27: Turquoise
D28: Capu collier
D29: Capu chaîne

Sheet Feuil1
A1: Trotter | B1: RFT triplure | C1: Corps | D1: 0.0532 | F1: =CONCATENATE(A1,B1,C1,) -> TrotterRFT triplureCorps | G1: =SUBSTITUTE(F1," ","") -> TrotterRFTtriplureCorps
A2: Trotter | B2: Veau EPS | C2: Ecusson | D2: 0.0007 | F2: =CONCATENATE(A2,B2,C2,) -> TrotterVeau EPSEcusson | G2: =SUBSTITUTE(F2," ","") -> TrotterVeauEPSEcusson
A3: Trotter | B3: Veau EPS | C3: Passant stylo | D3: 0.0009 | F3: =CONCATENATE(A3,B3,C3,) -> TrotterVeau EPSPassant stylo | G3: =SUBSTITUTE(F3," ","") -> TrotterVeauEPSPassantstylo
A4: Trotter | B4: Veau EPS | C4: Bande d'épingle | D4: 0.0044 | F4: =CONCATENATE(A4,B4,C4,) -> TrotterVeau EPSBande d'épingle | G4: =SUBSTITUTE(F4," ","") -> TrotterVeauEPSBanded'épingle
A5: Trotter | B5: Veau EPS | C5: Corps | D5: 0.0604 | F5: =CONCATENATE(A5,B5,C5,) -> TrotterVeau EPSCorps | G5: =SUBSTITUTE(F5," ","") -> TrotterVeauEPSCorps
A6: Trotter | B6: Soie | C6: Tirette | D6: 0.0011 | F6: =CONCATENATE(A6,B6,C6,) -> TrotterSoieTirette | G6: =SUBSTITUTE(F6," ","") -> TrotterSoieTirette
A7: Trotter | B7: Soie | C7: Gorge | D7: 0.0613 | F7: =CONCATENATE(A7,B7,C7,) -> TrotterSoieGorge | G7: =SUBSTITUTE(F7," ","") -> TrotterSoieGorge
A8: Trotter | B8: Soie | C8: Poche CC | D8: 0.0309 | F8: =CONCATENATE(A8,B8,C8,) -> TrotterSoiePoche CC | G8: =SUBSTITUTE(F8," ","") -> TrotterSoiePocheCC
A9: Trotter | B9: Soie | C9: Poche gauche | D9: 0.041 | F9: =CONCATENATE(A9,B9,C9,) -> TrotterSoiePoche gauche | G9: =SUBSTITUTE(F9," ","") -> TrotterSoiePochegauche
A10: Trotter | B10: Soie | C10: Poche droite | D10: 0.0436 | F10: =CONCATENATE(A10,B10,C10,) -> TrotterSoiePoche droite | G10: =SUBSTITUTE(F10," ","") -> TrotterSoiePochedroite
A11: Trotter | B11: RFT mousse | C11: Tirette | D11: 0.0003 | F11: =CONCATENATE(A11,B11,C11,) -> TrotterRFT mousseTirette | G11: =SUBSTITUTE(F11," ","") -> TrotterRFTmousseTirette
A12: Trotter | B12: RFT viledon | C12: Gorge | D12: 0.0569 | F12: =CONCATENATE(A12,B12,C12,) -> TrotterRFT viledonGorge | G12: =SUBSTITUTE(F12," ","") -> TrotterRFTviledonGorge
... A14: Trotter | B14: RFT viledon | C14: Poche droite | D14: 0.0291 | F14: =CONCATENATE(A14,B14,C14,) -> TrotterRFT viledonPoche droite | G14: =SUBSTITUTE(F14," ","") -> TrotterRFTviledonPochedroite
F15: =CONCATENATE(A15,B15,C15,) | G15: =SUBSTITUTE(F15," ","")
A16: PM | B16: RFT triplure | C16: Corps | D16: 0.0149 | F16: =CONCATENATE(A16,B16,C16,) -> PMRFT triplureCorps | G16: =SUBSTITUTE(F16," ","") -> PMRFTtriplureCorps
A17: PM | B17: Veau EPS | C17: Ecusson | D17: 0.0007 | F17: =CONCATENATE(A17,B17,C17,) -> PMVeau EPSEcusson | G17: =SUBSTITUTE(F17," ","") -> PMVeauEPSEcusson
A18: PM | B18: Veau EPS | C18: Corps | D18: 0.0178 | F18: =CONCATENATE(A18,B18,C18,) -> PMVeau EPSCorps | G18: =SUBSTITUTE(F18," ","") -> PMVeauEPSCorps
A19: PM | B19: Veau EPS | C19: Bande d'épingle | D19: 0.002 | F19: =CONCATENATE(A19,B19,C19,) -> PMVeau EPSBande d'épingle | G19: =SUBSTITUTE(F19," ","") -> PMVeauEPSBanded'épingle
A20: PM | B20: Veau EPS | C20: Passant stylo | D20: 0.0008 | F20: =CONCATENATE(A20,B20,C20,) -> PMVeau EPSPassant stylo | G20: =SUBSTITUTE(F20," ","") -> PMVeauEPSPassantstylo
A21: PM | B21: Soie | C21: Tirette | D21: 0.0011 | F21: =CONCATENATE(A21,B21,C21,) -> PMSoieTirette | G21: =SUBSTITUTE(F21," ","") -> PMSoieTirette
A22: PM | B22: Soie | C22: Gorge | D22: 0.0185 | F22: =CONCATENATE(A22,B22,C22,) -> PMSoieGorge | G22: =SUBSTITUTE(F22," ","") -> PMSoieGorge
A23: PM | B23: Soie | C23: Poche CC | D23: 0.0245 | F23: =CONCATENATE(A23,B23,C23,) -> PMSoiePoche CC | G23: =SUBSTITUTE(F23," ","") -> PMSoiePocheCC
A24: PM | B24: Soie | C24: Poche droite | D24: 0.0141 | F24: =CONCATENATE(A24,B24,C24,) -> PMSoiePoche droite | G24: =SUBSTITUTE(F24," ","") -> PMSoiePochedroite
A25: PM | B25: RFT mouse | C25: Tirette | D25: 0.0003 | F25: =CONCATENATE(A25,B25,C25,) -> PMRFT mouseTirette | G25: =SUBSTITUTE(F25," ","") -> PMRFTmouseTirette
A26: PM | B26: RFT viledon | C26: Poche CC | D26: 0.0041 | F26: =CONCATENATE(A26,B26,C26,) -> PMRFT viledonPoche CC | G26: =SUBSTITUTE(F26," ","") -> PMRFTviledonPocheCC
A27: PM | B27: RFT viledon | C27: Poche CC dos | D27: 0.006 | F27: =CONCATENATE(A27,B27,C27,) -> PMRFT viledonPoche CC dos | G27: =SUBSTITUTE(F27," ","") -> PMRFTviledonPocheCCdos
... A29: PM | B29: RFT viledon | C29: Gorge | D29: 0.017 | F29: =CONCATENATE(A29,B29,C29,) -> PMRFT viledonGorge | G29: =SUBSTITUTE(F29," ","") -> PMRFTviledonGorge
F30: =CONCATENATE(A30,B30,C30,) | G30: =SUBSTITUTE(F30," ","")
A31: Vision | B31: RFT triplure | C31: Corps | D31: 0.0361 | F31: =CONCATENATE(A31,B31,C31,) -> VisionRFT triplureCorps | G31: =SUBSTITUTE(F31," ","") -> VisionRFTtriplureCorps
A32: Vision | B32: Veau EPS | C32: Ecusson | D32: 0.0007 | F32: =CONCATENATE(A32,B32,C32,) -> VisionVeau EPSEcusson | G32: =SUBSTITUTE(F32," ","") -> VisionVeauEPSEcusson
A33: Vision | B33: Veau EPS | C33: Corps | D33: 0.0418 | F33: =CONCATENATE(A33,B33,C33,) -> VisionVeau EPSCorps | G33: =SUBSTITUTE(F33," ","") -> VisionVeauEPSCorps
A34: Vision | B34: Veau EPS | C34: Bande d'épingle | D34: 0.0017 | F34: =CONCATENATE(A34,B34,C34,) -> VisionVeau EPSBande d'épingle | G34: =SUBSTITUTE(F34," ","") -> VisionVeauEPSBanded'épingle
A35: Vision | B35: Veau EPS | C35: Passant stylo | D35: 0.0009 | F35: =CONCATENATE(A35,B35,C35,) -> VisionVeau EPSPassant stylo | G35: =SUBSTITUTE(F35," ","") -> VisionVeauEPSPassantstylo
A36: Vision | B36: Soie | C36: Tirette | D36: 0.0003 | F36: =CONCATENATE(A36,B36,C36,) -> VisionSoieTirette | G36: =SUBSTITUTE(F36," ","") -> VisionSoieTirette
A37: Vision | B37: Soie | C37: Gorge | D37: 0.0422 | F37: =CONCATENATE(A37,B37,C37,) -> VisionSoieGorge | G37: =SUBSTITUTE(F37," ","") -> VisionSoieGorge
A38: Vision | B38: Soie | C38: Poche CC | D38: 0.0283 | F38: =CONCATENATE(A38,B38,C38,) -> VisionSoiePoche CC | G38: =SUBSTITUTE(F38," ","") -> VisionSoiePocheCC
A39: Vision | B39: Soie | C39: Poche gauche | D39: 0.0349 | F39: =CONCATENATE(A39,B39,C39,) -> VisionSoiePoche gauche | G39: =SUBSTITUTE(F39," ","") -> VisionSoiePochegauche
A40: Vision | B40: Soie | C40: Poche droite | D40: 0.0283 | F40: =CONCATENATE(A40,B40,C40,) -> VisionSoiePoche droite | G40: =SUBSTITUTE(F40," ","") -> VisionSoiePochedroite
A41: Vision | B41: RFT mouse | C41: Tirette | D41: 0.0003 | F41: =CONCATENATE(A41,B41,C41,) -> VisionRFT mouseTirette | G41: =SUBSTITUTE(F41," ","") -> VisionRFTmouseTirette
A42: Vision | B42: RFT viledon | C42: Gorge | D42: 0.0404 | F42: =CONCATENATE(A42,B42,C42,) -> VisionRFT viledonGorge | G42: =SUBSTITUTE(F42," ","") -> VisionRFTviledonGorge
...
