Workbook

Sheet Liste Répas
A1: Semaine | B1: Date audit | C1: Groupe | D1: Modèle | E1: Matière | F1: Couleur | G1: Partie concernée | H1: Défaut | I1: Nbre pièce | J1: Surface (m²) | L1: sans espace
A2: 8 | B2: 41687 | C2: 1 | D2: Long | E2: Soie | F2: Argile | G2: Soufflet gauche | H2: Piqûre | I2: 1 | J2: =INDEX(Feuil1!D:D,MATCH('Liste Répas'!L2,Feuil1!G:G,0),1) -> 0.0123 | K2: =CONCATENATE(D2,E2,G2) -> LongSoieSoufflet gauche | L2: =SUBSTITUTE(K2," ","") -> LongSoieSouffletgauche
A3: 8 | B3: 41687 | C3: 1 | D3: Long | E3: Soie | F3: Bleu Hydra | G3: Gorge | H3: Piqûre | I3: 1 | J3: =INDEX(Feuil1!D:D,MATCH('Liste Répas'!L3,Feuil1!G:G,0),1) -> 0.047 | K3: =CONCATENATE(D3,E3,G3) -> LongSoieGorge | L3: =SUBSTITUTE(K3," ","") -> LongSoieGorge
A4: 8 | B4: 41687 | C4: 1 | D4: Long | E4: Soie | F4: Bleu Hydra | G4: PCC | H4: Piqûre | I4: 1 | J4: =INDEX(Feuil1!D:D,MATCH('Liste Répas'!L4,Feuil1!G:G,0),1) -> #N/A | K4: =CONCATENATE(D4,E4,G4) -> LongSoiePCC | L4: =SUBSTITUTE(K4," ","") -> LongSoiePCC
A5: 8 | B5: 41687 | C5: 1 | D5: Long | E5: Soie | F5: Bleu Hydra | G5: Soufflet gauche | H5: Piqûre | I5: 1 | J5: =INDEX(Feuil1!D:D,MATCH('Liste Répas'!L5,Feuil1!G:G,0),1) -> 0.0123 | K5: =CONCATENATE(D5,E5,G5) -> LongSoieSoufflet gauche | L5: =SUBSTITUTE(K5," ","") -> LongSoieSouffletgauche
A6: 8 | B6: 41687 | C6: 1 | D6: Long | E6: RFT Viledon | G6: PCC trapèze | H6: Piqûre | I6: 1 | J6: =INDEX(Feuil1!D:D,MATCH('Liste Répas'!L6,Feuil1!G:G,0),1) -> #N/A | K6: =CONCATENATE(D6,E6,G6) -> LongRFT ViledonPCC trapèze | L6: =SUBSTITUTE(K6," ","") -> LongRFTViledonPCCtrapèze
A7: 8 | B7: 41687 | C7: 1 | D7: Long | E7: RFT Viledon | G7: PCC | H7: Piqûre | I7: 1 | J7: =INDEX(Feuil1!D:D,MATCH('Liste Répas'!L7,Feuil1!G:G,0),1) -> #N/A | K7: =CONCATENATE(D7,E7,G7) -> LongRFT ViledonPCC | L7: =SUBSTITUTE(K7," ","") -> LongRFTViledonPCC
A8: 8 | B8: 41687 | C8: 1 | D8: Long | E8: RFT Viledon | G8: Gorge | H8: Piqûre | I8: 1 | J8: =INDEX(Feuil1!D:D,MATCH('Liste Répas'!L8,Feuil1!G:G,0),1) -> 0.0426 | K8: =CONCATENATE(D8,E8,G8) -> LongRFT ViledonGorge | L8: =SUBSTITUTE(K8," ","") -> LongRFTViledonGorge
A9: 8 | B9: 41687 | C9: 2 | D9: Long | E9: Soie | F9: Rose Jaipur | G9: Poche int FE | H9: Montage | I9: 1 | J9: =INDEX(Feuil1!D:D,MATCH('Liste Répas'!L9,Feuil1!G:G,0),1) -> #N/A | K9: =CONCATENATE(D9,E9,G9) -> LongSoiePoche int FE | L9: =SUBSTITUTE(K9," ","") -> LongSoiePocheintFE
A10: 8 | B10: 41687 | C10: 2 | D10: Long | E10: RFT Viledon | G10: Poche int FE | H10: Montage | I10: 1 | J10: =INDEX(Feuil1!D:D,MATCH('Liste Répas'!L10,Feuil1!G:G,0),1) -> #N/A | K10: =CONCATENATE(D10,E10,G10) -> LongRFT ViledonPoche int FE | L10: =SUBSTITUTE(K10," ","") -> LongRFTViledonPocheintFE
A11: 8 | B11: 41687 | C11: 3 | D11: Trotter | E11: Soie | F11: Bleu izmir | G11: Gorge | H11: Piqûre | I11: 1 | J11: =INDEX(Feuil1!D:D,MATCH('Liste Répas'!L11,Feuil1!G:G,0),1) -> 0.0613 | K11: =CONCATENATE(D11,E11,G11) -> TrotterSoieGorge | L11: =SUBSTITUTE(K11," ","") -> TrotterSoieGorge
A12: 8 | B12: 41687 | C12: 3 | D12: Trotter | E12: Soie | F12: Bleu izmir | G12: Poche CC | H12: Piqûre | I12: 1 | J12: =INDEX(Feuil1!D:D,MATCH('Liste Répas'!L12,Feuil1!G:G,0),1) -> 0.0309 | K12: =CONCATENATE(D12,E12,G12) -> TrotterSoiePoche CC | L12: =SUBSTITUTE(K12," ","") -> TrotterSoiePocheCC
A13: 8 | B13: 41687 | C13: 3 | D13: Trotter | E13: Soie | F13: Bleu izmir | G13: Poche droite | H13: Piqûre | I13: 1 | J13: =INDEX(Feuil1!D:D,MATCH('Liste Répas'!L13,Feuil1!G:G,0),1) -> 0.0436 | K13: =CONCATENATE(D13,E13,G13) -> TrotterSoiePoche droite | L13: =SUBSTITUTE(K13," ","") -> TrotterSoiePochedroite
A14: 8 | B14: 41687 | C14: 3 | D14: Trotter | E14: RFT Viledon | G14: gorge | H14: Piqûre | I14: 1 | J14: =INDEX(Feuil1!D:D,MATCH('Liste Répas'!L14,Feuil1!G:G,0),1) -> 0.0569 | K14: =CONCATENATE(D14,E14,G14) -> TrotterRFT Viledongorge | L14: =SUBSTITUTE(K14," ","") -> TrotterRFTViledongorge
A15: 8 | B15: 41687 | C15: 3 | D15: Trotter | E15: RFT Viledon | G15: Poche droite | H15: Piqûre | I15: 1 | J15: =INDEX(Feuil1!D:D,MATCH('Liste Répas'!L15,Feuil1!G:G,0),1) -> 0.0291 | K15: =CONCATENATE(D15,E15,G15) -> TrotterRFT ViledonPoche droite | L15: =SUBSTITUTE(K15," ","") -> TrotterRFTViledonPochedroite
A16: 8 | B16: 41687 | C16: 3 | D16: GM | E16: Veau EPS | F16: Cognac | G16: Ecusson | H16: Piqûre | I16: 2 | J16: =INDEX(Feuil1!D:D,MATCH('Liste Répas'!L16,Feuil1!G:G,0),1) -> 0.0007 | K16: =CONCATENATE(D16,E16,G16) -> GMVeau EPSEcusson | L16: =SUBSTITUTE(K16," ","") -> GMVeauEPSEcusson
A17: 8 | B17: 41687 | C17: 3 | D17: GM | E17: Veau EPS | F17: Cognac | G17: Bande d'épingle | H17: Piqûre | I17: 1 | J17: =INDEX(Feuil1!D:D,MATCH('Liste Répas'!L17,Feuil1!G:G,0),1) -> 0.0014 | K17: =CONCATENATE(D17,E17,G17) -> GMVeau EPSBande d'épingle | L17: =SUBSTITUTE(K17," ","") -> GMVeauEPSBanded'épingle
A18: 8 | B18: 41687 | C18: 3 | D18: GM | E18: Veau EPS | F18: Cognac | G18: Passant stylo | H18: Piqûre | I18: 2 | J18: =INDEX(Feuil1!D:D,MATCH('Liste Répas'!L18,Feuil1!G:G,0),1) -> 0.0008 | K18: =CONCATENATE(D18,E18,G18) -> GMVeau EPSPassant stylo | L18: =SUBSTITUTE(K18," ","") -> GMVeauEPSPassantstylo
A19: 8 | B19: 41687 | C19: 3 | D19: GM | E19: Soie | F19: Capu collier | G19: Gorge | H19: Piqûre | I19: 1 | J19: =INDEX(Feuil1!D:D,MATCH('Liste Répas'!L19,Feuil1!G:G,0),1) -> 0.0313 | K19: =CONCATENATE(D19,E19,G19) -> GMSoieGorge | L19: =SUBSTITUTE(K19," ","") -> GMSoieGorge
A20: 8 | B20: 41687 | C20: 3 | D20: GM | E20: Soie | F20: Capu collier | G20: Poche CC | H20: Piqûre | I20: 1 | J20: =INDEX(Feuil1!D:D,MATCH('Liste Répas'!L20,Feuil1!G:G,0),1) -> 0.0208 | K20: =CONCATENATE(D20,E20,G20) -> GMSoiePoche CC | L20: =SUBSTITUTE(K20," ","") -> GMSoiePocheCC
A21: 8 | B21: 41687 | C21: 3 | D21: GM | E21: Soie | F21: Capu collier | G21: Poche gauche | H21: Piqûre | I21: 1 | J21: =INDEX(Feuil1!D:D,MATCH('Liste Répas'!L21,Feuil1!G:G,0),1) -> 0.0258 | K21: =CONCATENATE(D21,E21,G21) -> GMSoiePoche gauche | L21: =SUBSTITUTE(K21," ","") -> GMSoiePochegauche
A22: 8 | B22: 41687 | C22: 3 | D22: GM | E22: Soie | F22: Capu collier | G22: Poche droite | H22: Piqûre | I22: 1 | J22: =INDEX(Feuil1!D:D,MATCH('Liste Répas'!L22,Feuil1!G:G,0),1) -> 0.0208 | K22: =CONCATENATE(D22,E22,G22) -> GMSoiePoche droite | L22: =SUBSTITUTE(K22," ","") -> GMSoiePochedroite
A23: 8 | B23: 41687 | C23: 3 | D23: GM | E23: RFT viledon | G23: Gorge | H23: Piqûre | I23: 1 | J23: =INDEX(Feuil1!D:D,MATCH('Liste Répas'!L23,Feuil1!G:G,0),1) -> 0.0295 | K23: =CONCATENATE(D23,E23,G23) -> GMRFT viledonGorge | L23: =SUBSTITUTE(K23," ","") -> GMRFTviledonGorge
A24: 8 | B24: 41687 | C24: 3 | D24: GM | E24: RFT viledon | G24: Poche CC | H24: Piqûre | I24: 1 | J24: =INDEX(Feuil1!D:D,MATCH('Liste Répas'!L24,Feuil1!G:G,0),1) -> 0.0085 | K24: =CONCATENATE(D24,E24,G24) -> GMRFT viledonPoche CC | L24: =SUBSTITUTE(K24," ","") -> GMRFTviledonPocheCC
A25: 8 | B25: 41687 | C25: 3 | D25: GM | E25: RFT viledon | G25: Poche gauche | H25: Piqûre | I25: 1 | J25: =INDEX(Feuil1!D:D,MATCH('Liste Répas'!L25,Feuil1!G:G,0),1) -> 0.0118 | K25: =CONCATENATE(D25,E25,G25) -> GMRFT viledonPoche gauche | L25: =SUBSTITUTE(K25," ","") -> GMRFTviledonPochegauche
A26: 8 | B26: 41687 | C26: 3 | D26: GM | E26: RFT viledon | G26: Poche droite | H26: Piqûre | I26: 1 | J26: =INDEX(Feuil1!D:D,MATCH('Liste Répas'!L26,Feuil1!G:G,0),1) -> 0.0085 | K26: =CONCATENATE(D26,E26,G26) -> GMRFT viledonPoche droite | L26: =SUBSTITUTE(K26," ","") -> GMRFTviledonPochedroite
A27: 8 | B27: 41687 | C27: 4 | D27: Long | E27: Soie | F27: Astro pink | G27: PCC | H27: Piqûre | I27: 1 | J27: =INDEX(Feuil1!D:D,MATCH('Liste Répas'!L27,Feuil1!G:G,0),1) -> #N/A | K27: =CONCATENATE(D27,E27,G27) -> LongSoiePCC | L27: =SUBSTITUTE(K27," ","") -> LongSoiePCC
A28: 8 | B28: 41687 | C28: 4 | D28: Long | E28: RFT Viledon | G28: PCC trapèze | H28: Piqûre | I28: 3 | J28: =INDEX(Feuil1!D:D,MATCH('Liste Répas'!L28,Feuil1!G:G,0),1) -> #N/A | K28: =CONCATENATE(D28,E28,G28) -> LongRFT ViledonPCC trapèze | L28: =SUBSTITUTE(K28," ","") -> LongRFTViledonPCCtrapèze
A29: 8 | B29: 41687 | C29: 4 | D29: Long | E29: RFT Viledon | G29: PCC | H29: Piqûre | I29: 1 | J29: =INDEX(Feuil1!D:D,MATCH('Liste Répas'!L29,Feuil1!G:G,0),1) -> #N/A | K29: =CONCATENATE(D29,E29,G29) -> LongRFT ViledonPCC | L29: =SUBSTITUTE(K29," ","") -> LongRFTViledonPCC
A30: 8 | B30: 41687 | C30: 4 | D30: Long | E30: RFT synderm | G30: FAG | H30: Piqûre | I30: 5 | J30: =INDEX(Feuil1!D:D,MATCH('Liste Répas'!L30,Feuil1!G:G,0),1) -> 0.0389 | K30: =CONCATENATE(D30,E30,G30) -> LongRFT syndermFAG | L30: =SUBSTITUTE(K30," ","") -> LongRFTsyndermFAG
A31: 8 | B31: 41687 | C31: 4 | D31: Long | E31: Soie | F31: ??? | G31: Poche Int FE | H31: Montage | I31: 1 | J31: =INDEX(Feuil1!D:D,MATCH('Liste Répas'!L31,Feuil1!G:G,0),1) -> #N/A | K31: =CONCATENATE(D31,E31,G31) -> LongSoiePoche Int FE | L31: =SUBSTITUTE(K31," ","") -> LongSoiePocheIntFE
A32: 8 | B32: 41687 | C32: 4 | D32: Long | E32: RFT viledon | G32: Poche Int FE | H32: Montage | I32: 1 | J32: =INDEX(Feuil1!D:D,MATCH('Liste Répas'!L32,Feuil1!G:G,0),1) -> #N/A | K32: =CONCATENATE(D32,E32,G32) -> LongRFT viledonPoche Int FE | L32: =SUBSTITUTE(K32," ","") -> LongRFTviledonPocheIntFE
A33: 8 | B33: 41687 | C33: Coupe | D33: Long | E33: Soie | F33: Pink | G33: Double poche CC | H33: Marque | I33: 1 | J33: =INDEX(Feuil1!D:D,MATCH('Liste Répas'!L33,Feuil1!G:G,0),1) -> #N/A | K33: =CONCATENATE(D33,E33,G33) -> LongSoieDouble poche CC | L33: =SUBSTITUTE(K33," ","") -> LongSoieDoublepocheCC
A34: 8 | B34: 41687 | C34: Prépa | D34: Long | E34: Bijouterie | F34: Gold | G34: FAG | H34: Fonctionnel, problème fonctionnement (MC) | I34: 1 | J34: =INDEX(Feuil1!D:D,MATCH('Liste Répas'!L34,Feuil1!G:G,0),1) -> #N/A | K34: =CONCATENATE(D34,E34,G34) -> LongBijouterie FAG | L34: =SUBSTITUTE(K34," ","") -> LongBijouterieFAG
A35: 8 | B35: 41687 | C35: Prépa | D35: Long | E35: Bijouterie | F35: Souffre | G35: FAG | H35: Aspect, trame coupée (MP) | I35: 1 | J35: =INDEX(Feuil1!D:D,MATCH('Liste Répas'!L35,Feuil1!G:G,0),1) -> #N/A | K35: =CONCATENATE(D35,E35,G35) -> LongBijouterie FAG | L35: =SUBSTITUTE(K35," ","") -> LongBijouterieFAG
A36: 8 | B36: 41687 | C36: Prépa | D36: Long | E36: Bijouterie | F36: Souffre | G36: FAG | H36: Aspect défaut tissage trame | I36: 1 | J36: =INDEX(Feuil1!D:D,MATCH('Liste Répas'!L36,Feuil1!G:G,0),1) -> #N/A | K36: =CONCATENATE(D36,E36,G36) -> LongBijouterie FAG | L36: =SUBSTITUTE(K36," ","") -> LongBijouterieFAG
A37: 8 | B37: 41687 | C37: Prépa | D37: Long | E37: Bijouterie | F37: Souffre | G37: FAG | H37: Aspect trame coupée | I37: 1 | J37: =INDEX(Feuil1!D:D,MATCH('Liste Répas'!L37,Feuil1!G:G,0),1) -> #N/A | K37: =CONCATENATE(D37,E37,G37) -> LongBijouterie FAG | L37: =SUBSTITUTE(K37," ","") -> LongBijouterieFAG
A38: 8 | B38: 41687 | C38: Prépa | D38: Long | E38: Veau EPS | F38: Etoupe | G38: Corps | H38: Epi visible après parure | I38: 2 | J38: =INDEX(Feuil1!D:D,MATCH('Liste Répas'!L38,Feuil1!G:G,0),1) -> 0.0437 | K38: =CONCATENATE(D38,E38,G38) -> LongVeau EPSCorps | L38: =SUBSTITUTE(K38," ","") -> LongVeauEPSCorps
A39: 8 | B39: 41687 | C39: Prépa | D39: GM | E39: Soie | F39: Capu collier de chien | G39: Poche droite | I39: 1 | J39: =INDEX(Feuil1!D:D,MATCH('Liste Répas'!L39,Feuil1!G:G,0),1) -> 0.0208 | K39: =CONCATENATE(D39,E39,G39) -> GMSoiePoche droite | L39: =SUBSTITUTE(K39," ","") -> GMSoiePochedroite
A40: 8 | B40: 41687 | C40: Prépa | D40: Long | E40: Veau EPS | F40: Etoupe | G40: Corps | H40: Robot/trace | I40: 2 | J40: =INDEX(Feuil1!D:D,MATCH('Liste Répas'!L40,Feuil1!G:G,0),1) -> 0.0437 | K40: =CONCATENATE(D40,E40,G40) -> LongVeau EPSCorps | L40: =SUBSTITUTE(K40," ","") -> LongVeauEPSCorps
A41: 8 | B41: 41687 | C41: Prépa | D41: Long | E41: RFT triplure | G41: Corps | H41: Robot/trace | I41: 2 | J41: =INDEX(Feuil1!D:D,MATCH('Liste Répas'!L41,Feuil1!G:G,0),1) -> 0.0373 | K41: =CONCATENATE(D41,E41,G41) -> LongRFT triplureCorps | L41: =SUBSTITUTE(K41," ","") -> LongRFTtriplureCorps
A42: 8 | B42: 41687 | C42: Prépa | D42: Long | E42: RFT triplure | G42: Corps | H42: Parure | I42: 1 | J42: =INDEX(Feuil1!D:D,MATCH('Liste Répas'!L42,Feuil1!G:G,0),1) -> 0.0373 | K42: =CONCATENATE(D42,E42,G42) -> LongRFT triplureCorps | L42: =SUBSTITUTE(K42," ","") -> LongRFTtriplureCorps
A43: 8 | B43: 41687 | C43: Prépa | D43: Long | E43: Veau EPS | F43: Flamingo | G43: Corps | H43: Refente | I43: 1 | J43: =INDEX(Feuil1!D:D,MATCH('Liste Répas'!L43,Feuil1!G:G,0),1) -> 0.0437 | K43: =CONCATENATE(D43,E43,G43) -> LongVeau EPSCorps | L43: =SUBSTITUTE(K43," ","") -> LongVeauEPSCorps
A44: 8 | B44: 41687 | C44: Prépa | D44: Long | E44: Soie | F44: Pink astro | G44: Double poche CC | H44: Parure | I44: 1 | J44: =INDEX(Feuil1!D:D,MATCH('Liste Répas'!L44,Feuil1!G:G,0),1) -> #N/A | K44: =CONCATENATE(D44,E44,G44) -> LongSoieDouble poche CC | L44: =SUBSTITUTE(K44," ","") -> LongSoieDoublepocheCC

Sheet BILAN S8
B1: Total | C1: Totale (%) | D1: Veau EPS | E1: Répartition (%) | F1: Soie | G1: Répartition (%) | H1: RFT triplure | I1: Répartition (%) | J1: RFT viledon | K1: Répartition (%) | L1: Bijouterie | M1: Répartition (%) | N1: Synderm | O1: Répartition (%) | P1: Mousse | Q1: Répartition (%)
A2: Cellule 1
A3: Cellule 2
A4: Cellule 3
A5: Cellule 4
A6: Coupe
A7: Préparation
A8: Matière
A13: Montage | B13: Cellule 1 | D13: Cellule 2 | F13: Cellule 3 | H13: Cellule 4
A14: Piqûre
A18: Veau epson | D18: Soie
A19: Brique | D19: Argil
A20: Saphir | D20: B hydra
A21: Flamingo | D21: Brique
A22: Souffre | D22: B izmir
A23: Cognac | D23: Rouge coq
A24: Jaipur | D24: Couverture
A25: Etain | D25: Gris tourterelle
A26: Bleu malte | D26: Pink astro
D27: Turquoise
D28: Capu collier
D29: Capu chaîne

Sheet Feuil1
A1: Trotter | B1: RFT triplure | C1: Corps | D1: 0.0532 | F1: =CONCATENATE(A1,B1,C1,) -> TrotterRFT triplureCorps | G1: =SUBSTITUTE(F1," ","") -> TrotterRFTtriplureCorps
A2: Trotter | B2: Veau EPS | C2: Ecusson | D2: 0.0007 | F2: =CONCATENATE(A2,B2,C2,) -> TrotterVeau EPSEcusson | G2: =SUBSTITUTE(F2," ","") -> TrotterVeauEPSEcusson
A3: Trotter | B3: Veau EPS | C3: Passant stylo | D3: 0.0009 | F3: =CONCATENATE(A3,B3,C3,) -> TrotterVeau EPSPassant stylo | G3: =SUBSTITUTE(F3," ","") -> TrotterVeauEPSPassantstylo
A4: Trotter | B4: Veau EPS | C4: Bande d'épingle | D4: 0.0044 | F4: =CONCATENATE(A4,B4,C4,) -> TrotterVeau EPSBande d'épingle | G4: =SUBSTITUTE(F4," ","") -> TrotterVeauEPSBanded'épingle
A5: Trotter | B5: Veau EPS | C5: Corps | D5: 0.0604 | F5: =CONCATENATE(A5,B5,C5,) -> TrotterVeau EPSCorps | G5: =SUBSTITUTE(F5," ","") -> TrotterVeauEPSCorps
A6: Trotter | B6: Soie | C6: Tirette | D6: 0.0011 | F6: =CONCATENATE(A6,B6,C6,) -> TrotterSoieTirette | G6: =SUBSTITUTE(F6," ","") -> TrotterSoieTirette
A7: Trotter | B7: Soie | C7: Gorge | D7: 0.0613 | F7: =CONCATENATE(A7,B7,C7,) -> TrotterSoieGorge | G7: =SUBSTITUTE(F7," ","") -> TrotterSoieGorge
A8: Trotter | B8: Soie | C8: Poche CC | D8: 0.0309 | F8: =CONCATENATE(A8,B8,C8,) -> TrotterSoiePoche CC | G8: =SUBSTITUTE(F8," ","") -> TrotterSoiePocheCC
A9: Trotter | B9: Soie | C9: Poche gauche | D9: 0.041 | F9: =CONCATENATE(A9,B9,C9,) -> TrotterSoiePoche gauche | G9: =SUBSTITUTE(F9," ","") -> TrotterSoiePochegauche
A10: Trotter | B10: Soie | C10: Poche droite | D10: 0.0436 | F10: =CONCATENATE(A10,B10,C10,) -> TrotterSoiePoche droite | G10: =SUBSTITUTE(F10," ","") -> TrotterSoiePochedroite
A11: Trotter | B11: RFT mousse | C11: Tirette | D11: 0.0003 | F11: =CONCATENATE(A11,B11,C11,) -> TrotterRFT mousseTirette | G11: =SUBSTITUTE(F11," ","") -> TrotterRFTmousseTirette
A12: Trotter | B12: RFT viledon | C12: Gorge | D12: 0.0569 | F12: =CONCATENATE(A12,B12,C12,) -> TrotterRFT viledonGorge | G12: =SUBSTITUTE(F12," ","") -> TrotterRFTviledonGorge
... A14: Trotter | B14: RFT viledon | C14: Poche droite | D14: 0.0291 | F14: =CONCATENATE(A14,B14,C14,) -> TrotterRFT viledonPoche droite | G14: =SUBSTITUTE(F14," ","") -> TrotterRFTviledonPochedroite
F15: =CONCATENATE(A15,B15,C15,) | G15: =SUBSTITUTE(F15," ","")
A16: PM | B16: RFT triplure | C16: Corps | D16: 0.0149 | F16: =CONCATENATE(A16,B16,C16,) -> PMRFT triplureCorps | G16: =SUBSTITUTE(F16," ","") -> PMRFTtriplureCorps
A17: PM | B17: Veau EPS | C17: Ecusson | D17: 0.0007 | F17: =CONCATENATE(A17,B17,C17,) -> PMVeau EPSEcusson | G17: =SUBSTITUTE(F17," ","") -> PMVeauEPSEcusson
A18: PM | B18: Veau EPS | C18: Corps | D18: 0.0178 | F18: =CONCATENATE(A18,B18,C18,) -> PMVeau EPSCorps | G18: =SUBSTITUTE(F18," ","") -> PMVeauEPSCorps
A19: PM | B19: Veau EPS | C19: Bande d'épingle | D19: 0.002 | F19: =CONCATENATE(A19,B19,C19,) -> PMVeau EPSBande d'épingle | G19: =SUBSTITUTE(F19," ","") -> PMVeauEPSBanded'épingle
A20: PM | B20: Veau EPS | C20: Passant stylo | D20: 0.0008 | F20: =CONCATENATE(A20,B20,C20,) -> PMVeau EPSPassant stylo | G20: =SUBSTITUTE(F20," ","") -> PMVeauEPSPassantstylo
A21: PM | B21: Soie | C21: Tirette | D21: 0.0011 | F21: =CONCATENATE(A21,B21,C21,) -> PMSoieTirette | G21: =SUBSTITUTE(F21," ","") -> PMSoieTirette
A22: PM | B22: Soie | C22: Gorge | D22: 0.0185 | F22: =CONCATENATE(A22,B22,C22,) -> PMSoieGorge | G22: =SUBSTITUTE(F22," ","") -> PMSoieGorge
A23: PM | B23: Soie | C23: Poche CC | D23: 0.0245 | F23: =CONCATENATE(A23,B23,C23,) -> PMSoiePoche CC | G23: =SUBSTITUTE(F23," ","") -> PMSoiePocheCC
A24: PM | B24: Soie | C24: Poche droite | D24: 0.0141 | F24: =CONCATENATE(A24,B24,C24,) -> PMSoiePoche droite | G24: =SUBSTITUTE(F24," ","") -> PMSoiePochedroite
A25: PM | B25: RFT mouse | C25: Tirette | D25: 0.0003 | F25: =CONCATENATE(A25,B25,C25,) -> PMRFT mouseTirette | G25: =SUBSTITUTE(F25," ","") -> PMRFTmouseTirette
A26: PM | B26: RFT viledon | C26: Poche CC | D26: 0.0041 | F26: =CONCATENATE(A26,B26,C26,) -> PMRFT viledonPoche CC | G26: =SUBSTITUTE(F26," ","") -> PMRFTviledonPocheCC
A27: PM | B27: RFT viledon | C27: Poche CC dos | D27: 0.006 | F27: =CONCATENATE(A27,B27,C27,) -> PMRFT viledonPoche CC dos | G27: =SUBSTITUTE(F27," ","") -> PMRFTviledonPocheCCdos
... A29: PM | B29: RFT viledon | C29: Gorge | D29: 0.017 | F29: =CONCATENATE(A29,B29,C29,) -> PMRFT viledonGorge | G29: =SUBSTITUTE(F29," ","") -> PMRFTviledonGorge
F30: =CONCATENATE(A30,B30,C30,) | G30: =SUBSTITUTE(F30," ","")
A31: Vision | B31: RFT triplure | C31: Corps | D31: 0.0361 | F31: =CONCATENATE(A31,B31,C31,) -> VisionRFT triplureCorps | G31: =SUBSTITUTE(F31," ","") -> VisionRFTtriplureCorps
A32: Vision | B32: Veau EPS | C32: Ecusson | D32: 0.0007 | F32: =CONCATENATE(A32,B32,C32,) -> VisionVeau EPSEcusson | G32: =SUBSTITUTE(F32," ","") -> VisionVeauEPSEcusson
A33: Vision | B33: Veau EPS | C33: Corps | D33: 0.0418 | F33: =CONCATENATE(A33,B33,C33,) -> VisionVeau EPSCorps | G33: =SUBSTITUTE(F33," ","") -> VisionVeauEPSCorps
A34: Vision | B34: Veau EPS | C34: Bande d'épingle | D34: 0.0017 | F34: =CONCATENATE(A34,B34,C34,) -> VisionVeau EPSBande d'épingle | G34: =SUBSTITUTE(F34," ","") -> VisionVeauEPSBanded'épingle
A35: Vision | B35: Veau EPS | C35: Passant stylo | D35: 0.0009 | F35: =CONCATENATE(A35,B35,C35,) -> VisionVeau EPSPassant stylo | G35: =SUBSTITUTE(F35," ","") -> VisionVeauEPSPassantstylo
A36: Vision | B36: Soie | C36: Tirette | D36: 0.0003 | F36: =CONCATENATE(A36,B36,C36,) -> VisionSoieTirette | G36: =SUBSTITUTE(F36," ","") -> VisionSoieTirette
A37: Vision | B37: Soie | C37: Gorge | D37: 0.0422 | F37: =CONCATENATE(A37,B37,C37,) -> VisionSoieGorge | G37: =SUBSTITUTE(F37," ","") -> VisionSoieGorge
A38: Vision | B38: Soie | C38: Poche CC | D38: 0.0283 | F38: =CONCATENATE(A38,B38,C38,) -> VisionSoiePoche CC | G38: =SUBSTITUTE(F38," ","") -> VisionSoiePocheCC
A39: Vision | B39: Soie | C39: Poche gauche | D39: 0.0349 | F39: =CONCATENATE(A39,B39,C39,) -> VisionSoiePoche gauche | G39: =SUBSTITUTE(F39," ","") -> VisionSoiePochegauche
A40: Vision | B40: Soie | C40: Poche droite | D40: 0.0283 | F40: =CONCATENATE(A40,B40,C40,) -> VisionSoiePoche droite | G40: =SUBSTITUTE(F40," ","") -> VisionSoiePochedroite
A41: Vision | B41: RFT mouse | C41: Tirette | D41: 0.0003 | F41: =CONCATENATE(A41,B41,C41,) -> VisionRFT mouseTirette | G41: =SUBSTITUTE(F41," ","") -> VisionRFTmouseTirette
A42: Vision | B42: RFT viledon | C42: Gorge | D42: 0.0404 | F42: =CONCATENATE(A42,B42,C42,) -> VisionRFT viledonGorge | G42: =SUBSTITUTE(F42," ","") -> VisionRFTviledonGorge
... A45: Vision | B45: RFT viledon | C45: Poche gauche | D45: 0.0162 | F45: =CONCATENATE(A45,B45,C45,) -> VisionRFT viledonPoche gauche | G45: =SUBSTITUTE(F45," ","") -> VisionRFTviledonPochegauche
F46: =CONCATENATE(A46,B46,C46,) | G46: =SUBSTITUTE(F46," ","")
A47: GM | B47: RFT triplure | C47: Corps | D47: 0.0266 | F47: =CONCATENATE(A47,B47,C47,) -> GMRFT triplureCorps | G47: =SUBSTITUTE(F47," ","") -> GMRFTtriplureCorps
A48: GM | B48: Veau EPS | C48: Ecusson | D48: 0.0007 | F48: =CONCATENATE(A48,B48,C48,) -> GMVeau EPSEcusson | G48: =SUBSTITUTE(F48," ","") -> GMVeauEPSEcusson
A49: GM | B49: Veau EPS | C49: Corps | D49: 0.0306 | F49: =CONCATENATE(A49,B49,C49,) -> GMVeau EPSCorps | G49: =SUBSTITUTE(F49," ","") -> GMVeauEPSCorps
A50: GM | B50: Veau EPS | C50: Bande d'épingle | D50: 0.0014 | F50: =CONCATENATE(A50,B50,C50,) -> GMVeau EPSBande d'épingle | G50: =SUBSTITUTE(F50," ","") -> GMVeauEPSBanded'épingle
A51: GM | B51: Veau EPS | C51: Passant stylo | D51: 0.0008 | F51: =CONCATENATE(A51,B51,C51,) -> GMVeau EPSPassant stylo | G51: =SUBSTITUTE(F51," ","") -> GMVeauEPSPassantstylo
A52: GM | B52: Soie | C52: Tirette | D52: 0.0011 | F52: =CONCATENATE(A52,B52,C52,) -> GMSoieTirette | G52: =SUBSTITUTE(F52," ","") -> GMSoieTirette
A53: GM | B53: Soie | C53: Gorge | D53: 0.0313 | F53: =CONCATENATE(A53,B53,C53,) -> GMSoieGorge | G53: =SUBSTITUTE(F53," ","") -> GMSoieGorge
A54: GM | B54: Soie | C54: Poche CC | D54: 0.0208 | F54: =CONCATENATE(A54,B54,C54,) -> GMSoiePoche CC | G54: =SUBSTITUTE(F54," ","") -> GMSoiePocheCC
A55: GM | B55: Soie | C55: Poche gauche | D55: 0.0258 | F55: =CONCATENATE(A55,B55,C55,) -> GMSoiePoche gauche | G55: =SUBSTITUTE(F55," ","") -> GMSoiePochegauche
A56: GM | B56: Soie | C56: Poche droite | D56: 0.0208 | F56: =CONCATENATE(A56,B56,C56,) -> GMSoiePoche droite | G56: =SUBSTITUTE(F56," ","") -> GMSoiePochedroite
A57: GM | B57: RFT mousse | C57: Tirette | D57: 0.0003 | F57: =CONCATENATE(A57,B57,C57,) -> GMRFT mousseTirette | G57: =SUBSTITUTE(F57," ","") -> GMRFTmousseTirette
A58: GM | B58: RFT viledon | C58: Gorge | D58: 0.0295 | F58: =CONCATENATE(A58,B58,C58,) -> GMRFT viledonGorge | G58: =SUBSTITUTE(F58," ","") -> GMRFTviledonGorge
... A61: GM | B61: RFT viledon | C61: Poche gauche | D61: 0.0118 | F61: =CONCATENATE(A61,B61,C61,) -> GMRFT viledonPoche gauche | G61: =SUBSTITUTE(F61," ","") -> GMRFTviledonPochegauche
F62: =CONCATENATE(A62,B62,C62,) | G62: =SUBSTITUTE(F62," ","")
A63: Semainier | B63: RFT triplure | C63: Corps | D63: 0.0928 | F63: =CONCATENATE(A63,B63,C63,) -> SemainierRFT triplureCorps | G63: =SUBSTITUTE(F63," ","") -> SemainierRFTtriplureCorps
A64: Semainier | B64: Veau EPS | C64: Ecusson | D64: 0.0007 | F64: =CONCATENATE(A64,B64,C64,) -> SemainierVeau EPSEcusson | G64: =SUBSTITUTE(F64," ","") -> SemainierVeauEPSEcusson
A65: Semainier | B65: Veau EPS | C65: Corps | D65: 0.0992 | F65: =CONCATENATE(A65,B65,C65,) -> SemainierVeau EPSCorps | G65: =SUBSTITUTE(F65," ","") -> SemainierVeauEPSCorps
A66: Semainier | B66: Veau EPS | C66: Bande d'épingle | D66: 0.0027 | F66: =CONCATENATE(A66,B66,C66,) -> SemainierVeau EPSBande d'épingle | G66: =SUBSTITUTE(F66," ","") -> SemainierVeauEPSBanded'épingle
A67: Semainier | B67: Veau EPS | C67: Passant stylo | D67: 0.0009 | F67: =CONCATENATE(A67,B67,C67,) -> SemainierVeau EPSPassant stylo | G67: =SUBSTITUTE(F67," ","") -> SemainierVeauEPSPassantstylo
A68: Semainier | B68: Soie | C68: Tirette | D68: 0.0011 | F68: =CONCATENATE(A68,B68,C68,) -> SemainierSoieTirette | G68: =SUBSTITUTE(F68," ","") -> SemainierSoieTirette
A69: Semainier | B69: Soie | C69: Gorge | D69: 0.1012 | F69: =CONCATENATE(A69,B69,C69,) -> SemainierSoieGorge | G69: =SUBSTITUTE(F69," ","") -> SemainierSoieGorge
A70: Semainier | B70: Soie | C70: Poche gauche | D70: 0.0565 | F70: =CONCATENATE(A70,B70,C70,) -> SemainierSoiePoche gauche | G70: =SUBSTITUTE(F70," ","") -> SemainierSoiePochegauche
A71: Semainier | B71: Soie | C71: Poche CC | D71: 0.0375 | F71: =CONCATENATE(A71,B71,C71,) -> SemainierSoiePoche CC | G71: =SUBSTITUTE(F71," ","") -> SemainierSoiePocheCC
A72: Semainier | B72: Soie | C72: Poche droite | D72: 0.0594 | F72: =CONCATENATE(A72,B72,C72,) -> SemainierSoiePoche droite | G72: =SUBSTITUTE(F72," ","") -> SemainierSoiePochedroite
A73: Semainier | B73: RFT mouse | C73: Tirette | D73: 0.0005 | F73: =CONCATENATE(A73,B73,C73,) -> SemainierRFT mouseTirette | G73: =SUBSTITUTE(F73," ","") -> SemainierRFTmouseTirette
A74: Semainier | B74: RFT viledon | C74: Gorge | D74: 0.0973 | F74: =CONCATENATE(A74,B74,C74,) -> SemainierRFT viledonGorge | G74: =SUBSTITUTE(F74," ","") -> SemainierRFTviledonGorge
... A77: Semainier | B77: RFT viledon | C77: Poche droite | D77: 0.055 | F77: =CONCATENATE(A77,B77,C77,) -> SemainierRFT viledonPoche droite | G77: =SUBSTITUTE(F77," ","") -> SemainierRFTviledonPochedroite
F78: =CONCATENATE(A78,B78,C78,) | G78: =SUBSTITUTE(F78," ","")
A79: Long | B79: RFT triplure | C79: Corps | D79: 0.0373 | F79: =CONCATENATE(A79,B79,C79,) -> LongRFT triplureCorps | G79: =SUBSTITUTE(F79," ","") -> LongRFTtriplureCorps
A80: Long | B80: Veau EPS | C80: Corps | D80: 0.0437 | F80: =CONCATENATE(A80,B80,C80,) -> LongVeau EPSCorps | G80: =SUBSTITUTE(F80," ","") -> LongVeauEPSCorps
A81: Long | B81: Veau EPS | C81: Ecusson | D81: 0.0007 | F81: =CONCATENATE(A81,B81,C81,) -> LongVeau EPSEcusson | G81: =SUBSTITUTE(F81," ","") -> LongVeauEPSEcusson
A82: Long | B82: Soie | C82: Gorge | D82: 0.047 | F82: =CONCATENATE(A82,B82,C82,) -> LongSoieGorge | G82: =SUBSTITUTE(F82," ","") -> LongSoieGorge
A83: Long | B83: Soie | C83: Poche CC | D83: 0.1837 | F83: =CONCATENATE(A83,B83,C83,) -> LongSoiePoche CC | G83: =SUBSTITUTE(F83," ","") -> LongSoiePocheCC
A84: Long | B84: Soie | C84: Ext poche FE | D84: 0.0336 | F84: =CONCATENATE(A84,B84,C84,) -> LongSoieExt poche FE | G84: =SUBSTITUTE(F84," ","") -> LongSoieExtpocheFE
A85: Long | B85: Soie | C85: Int poche FE | D85: 0.0314 | F85: =CONCATENATE(A85,B85,C85,) -> LongSoieInt poche FE | G85: =SUBSTITUTE(F85," ","") -> LongSoieIntpocheFE
A86: Long | B86: Soie | C86: Soufflet droit | D86: 0.0118 | F86: =CONCATENATE(A86,B86,C86,) -> LongSoieSoufflet droit | G86: =SUBSTITUTE(F86," ","") -> LongSoieSouffletdroit
A87: Long | B87: Soie | C87: Soufflet gauche | D87: 0.0123 | F87: =CONCATENATE(A87,B87,C87,) -> LongSoieSoufflet gauche | G87: =SUBSTITUTE(F87," ","") -> LongSoieSouffletgauche
A88: Long | B88: Soie | C88: Tirette | D88: 0.0011 | F88: =CONCATENATE(A88,B88,C88,) -> LongSoieTirette | G88: =SUBSTITUTE(F88," ","") -> LongSoieTirette
A89: Long | B89: RFT mousse | C89: Tirette | D89: 0.0003 | F89: =CONCATENATE(A89,B89,C89,) -> LongRFT mousseTirette | G89: =SUBSTITUTE(F89," ","") -> LongRFTmousseTirette
A90: Long | B90: RFT synderm | C90: Haut gorge | D90: 0.005 | F90: =CONCATENATE(A90,B90,C90,) -> LongRFT syndermHaut gorge | G90: =SUBSTITUTE(F90," ","") -> LongRFTsyndermHautgorge
... A93: Long | B93: RFT viledon | C93: Poche CC | D93: 0.0537 | F93: =CONCATENATE(A93,B93,C93,) -> LongRFT viledonPoche CC | G93: =SUBSTITUTE(F93," ","") -> LongRFTviledonPocheCC
A94: Long | B94: RFT viledon | C94: Poche CC trapèze | D94: =0.0302*3 -> 0.0906 | F94: =CONCATENATE(A94,B94,C94,) -> LongRFT viledonPoche CC trapèze | G94: =SUBSTITUTE(F94," ","") -> LongRFTviledonPocheCCtrapèze
A95: Long | B95: RFT viledon | C95: Poche FE | D95: 0.0289 | F95: =CONCATENATE(A95,B95,C95,) -> LongRFT viledonPoche FE | G95: =SUBSTITUTE(F95," ","") -> LongRFTviledonPocheFE
F96: =CONCATENATE(A96,B96,C96,) | G96: =SUBSTITUTE(F96," ","")
A97: Compact | B97: RFT triplure | C97: Corps | D97: 0.0185 | F97: =CONCATENATE(A97,B97,C97,) -> CompactRFT triplureCorps | G97: =SUBSTITUTE(F97," ","") -> CompactRFTtriplureCorps
A98: Compact | B98: Veau EPS | C98: Corps | D98: 0.0212 | F98: =CONCATENATE(A98,B98,C98,) -> CompactVeau EPSCorps | G98: =SUBSTITUTE(F98," ","") -> CompactVeauEPSCorps
A99: Compact | B99: Veau EPS | C99: Ecusson | D99: 0.0007 | F99: =CONCATENATE(A99,B99,C99,) -> CompactVeau EPSEcusson | G99: =SUBSTITUTE(F99," ","") -> CompactVeauEPSEcusson
A100: Compact | B100: Soie | C100: Gorge | D100: 0.0237 | F100: =CONCATENATE(A100,B100,C100,) -> CompactSoieGorge | G100: =SUBSTITUTE(F100," ","") -> CompactSoieGorge
A101: Compact | B101: Soie | C101: Poche CC | D101: 0.0751 | F101: =CONCATENATE(A101,B101,C101,) -> CompactSoiePoche CC | G101: =SUBSTITUTE(F101," ","") -> CompactSoiePocheCC
A102: Compact | B102: Soie | C102: Ext poche FE | D102: 0.0169 | F102: =CONCATENATE(A102,B102,C102,) -> CompactSoieExt poche FE | G102: =SUBSTITUTE(F102," ","") -> CompactSoieExtpocheFE
A103: Compact | B103: Soie | C103: Int poche FE | D103: 0.0156 | F103: =CONCATENATE(A103,B103,C103,) -> CompactSoieInt poche FE | G103: =SUBSTITUTE(F103," ","") -> CompactSoieIntpocheFE
A104: Compact | B104: Soie | C104: Soufflet gauche | D104: 0.0144 | F104: =CONCATENATE(A104,B104,C104,) -> CompactSoieSoufflet gauche | G104: =SUBSTITUTE(F104," ","") -> CompactSoieSouffletgauche
A105: Compact | B105: Soie | C105: Souffet droit | D105: 0.0121 | F105: =CONCATENATE(A105,B105,C105,) -> CompactSoieSouffet droit | G105: =SUBSTITUTE(F105," ","") -> CompactSoieSouffetdroit
A106: Compact | B106: Soie | C106: Tirette | D106: 0.0011 | F106: =CONCATENATE(A106,B106,C106,) -> CompactSoieTirette | G106: =SUBSTITUTE(F106," ","") -> CompactSoieTirette
A107: Compact | B107: RFT mousse | C107: Tirette | D107: 0.0003 | F107: =CONCATENATE(A107,B107,C107,) -> CompactRFT mousseTirette | G107: =SUBSTITUTE(F107," ","") -> CompactRFTmousseTirette
A108: Compact | B108: RFT synderm | C108: FAG | D108: 0.0186 | F108: =CONCATENATE(A108,B108,C108,) -> CompactRFT syndermFAG | G108: =SUBSTITUTE(F108," ","") -> CompactRFTsyndermFAG
... A112: Compact | B112: RFT viledon | C112: Poche FE | D112: 0.0142 | F112: =CONCATENATE(A112,B112,C112,) -> CompactRFT viledonPoche FE | G112: =SUBSTITUTE(F112," ","") -> CompactRFTviledonPocheFE
F113: =CONCATENATE(A113,B113,C113,) | G113: =SUBSTITUTE(F113," ","")
...
