Workbook

Sheet Accueil
A1: FONGECIF FRANCHE-COMTE
A3: Gestion des ressources humaines
A6: Année : | B6: 2014
A9: Liste du personnel : | G9: Positions journalières
A11: Valérie | B11: PARIS | D11: VP | G11: PR | H11: Présent
A12: Jocelyne | B12: RUFFINONI | D12: JR | G12: AT | H12: Accident du travail
A13: Annie | B13: BOUCLANS | D13: AB | G13: FO | H13: Formation
A14: Claude | B14: CHATELAIN | D14: CC | G14: CP | H14: Congés / RTT
A15: Marie-Pierre | B15: EUVRARD-AMIOTTE | D15: MPEA | G15: AC | H15: Autres congés / jours fériés / jours non travaillés
A16: Brigitte | B16: FAIVRE-CHALON | D16: BFC | G16: MA | H16: Maladie
A17: Monique | B17: FERHAT | D17: MF | G17: PE | H17: Permanences
A18: Nathalie | B18: HENRY | D18: NH
A19: Christophe | B19: JEANNET | D19: CJ
A20: Damien | B20: PANOUILLOT | D20: DP
A21: Nathalie | B21: PERROT-VIEILLARD | D21: NPV
A22: Valérie | B22: SIMPLOT | D22: VS
A23: Nathalie | B23: VANDEKERKHOVE | D23: NVDK

Sheet TRIMESTRE 1
C1: JANVIER | P1: 1 | Q1: FEVRIER | AD1: 2 | AE1: MARS | AR1: 3
C2: {=TRANSPOSE(Accueil!$D$11:$D$23)} -> VP | D2: JR | E2: AB | F2: CC | G2: MPEA | H2: BFC | I2: MF | J2: NH | K2: CJ | L2: DP | M2: NPV | N2: VS | O2: NVDK | Q2: {=TRANSPOSE(Accueil!$D$11:$D$23)} -> VP | R2: JR | S2: AB | T2: CC | U2: MPEA | V2: BFC | W2: MF | X2: NH | Y2: CJ | Z2: DP | AA2: NPV | AB2: VS | AC2: NVDK | AE2: {=TRANSPOSE(Accueil!$D$11:$D$23)} -> VP | AF2: JR | AG2: AB | AH2: CC | AI2: MPEA | AJ2: BFC | AK2: MF | AL2: NH | AM2: CJ | AN2: DP | AO2: NPV | AP2: VS | AQ2: NVDK
A3: 1 | B3: m | C3: PR | P3: =WEEKDAY(DATEVALUE($A3&"/"&P$1&"/"&Accueil!$B$6)) -> 4 | AD3: =WEEKDAY(DATEVALUE($A3&"/"&AD$1&"/"&Accueil!$B$6)) -> 7 | AR3: =WEEKDAY(DATEVALUE($A3&"/"&AR$1&"/"&Accueil!$B$6)) -> 7
B4: am | C4: PR | P4: =P3 -> 4 | AD4: =AD3 -> 7 | AR4: =AR3 -> 7
C5: =IF(AND(C3="PR",C4="PR")=TRUE,1,0) -> 1
A6: 2 | B6: m | C6: PR | P6: =WEEKDAY(DATEVALUE(A6&"/"&P$1&"/"&Accueil!$B$6)) -> 5 | AD6: =WEEKDAY(DATEVALUE($A6&"/"&AD$1&"/"&Accueil!$B$6)) -> 1 | AR6: =WEEKDAY(DATEVALUE($A6&"/"&AR$1&"/"&Accueil!$B$6)) -> 1
B7: am | C7: PR | P7: =P6 -> 5 | AD7: =AD6 -> 1 | AR7: =AR6 -> 1
C8: =IF(AND(C6="PR",C7="PR")=TRUE,1,0) -> 1
A9: 3 | B9: m | C9: PR | P9: =WEEKDAY(DATEVALUE(A9&"/"&P$1&"/"&Accueil!$B$6)) -> 6 | AD9: =WEEKDAY(DATEVALUE($A9&"/"&AD$1&"/"&Accueil!$B$6)) -> 2 | AR9: =WEEKDAY(DATEVALUE($A9&"/"&AR$1&"/"&Accueil!$B$6)) -> 2
B10: am | P10: =P9 -> 6 | AD10: =AD9 -> 2 | AR10: =AR9 -> 2
C11: =IF(AND(C9="PR",C10="PR")=TRUE,1,0) -> 0
A12: 4 | B12: m | P12: =WEEKDAY(DATEVALUE(A12&"/"&P$1&"/"&Accueil!$B$6)) -> 7 | AD12: =WEEKDAY(DATEVALUE($A12&"/"&AD$1&"/"&Accueil!$B$6)) -> 3 | AR12: =WEEKDAY(DATEVALUE($A12&"/"&AR$1&"/"&Accueil!$B$6)) -> 3
B13: am | P13: =P12 -> 7 | AD13: =AD12 -> 3 | AR13: =AR12 -> 3
C14: =IF(AND(C12="PR",C13="PR")=TRUE,1,0) -> 0
A15: 5 | B15: m | P15: =WEEKDAY(DATEVALUE(A15&"/"&P$1&"/"&Accueil!$B$6)) -> 1 | AD15: =WEEKDAY(DATEVALUE($A15&"/"&AD$1&"/"&Accueil!$B$6)) -> 4 | AR15: =WEEKDAY(DATEVALUE($A15&"/"&AR$1&"/"&Accueil!$B$6)) -> 4
B16: am | P16: =P15 -> 1 | AD16: =AD15 -> 4 | AR16: =AR15 -> 4
C17: =IF(AND(C15="PR",C16="PR")=TRUE,1,0) -> 0
A18: 6 | B18: m | P18: =WEEKDAY(DATEVALUE(A18&"/"&P$1&"/"&Accueil!$B$6)) -> 2 | AD18: =WEEKDAY(DATEVALUE($A18&"/"&AD$1&"/"&Accueil!$B$6)) -> 5 | AR18: =WEEKDAY(DATEVALUE($A18&"/"&AR$1&"/"&Accueil!$B$6)) -> 5
B19: am | C19: PR | P19: =P18 -> 2 | AD19: =AD18 -> 5 | AR19: =AR18 -> 5
C20: =IF(AND(C18="PR",C19="PR")=TRUE,1,0) -> 0
A21: 7 | B21: m | P21: =WEEKDAY(DATEVALUE(A21&"/"&P$1&"/"&Accueil!$B$6)) -> 3 | AD21: =WEEKDAY(DATEVALUE($A21&"/"&AD$1&"/"&Accueil!$B$6)) -> 6 | AR21: =WEEKDAY(DATEVALUE($A21&"/"&AR$1&"/"&Accueil!$B$6)) -> 6
B22: am | P22: =P21 -> 3 | AD22: =AD21 -> 6 | AR22: =AR21 -> 6
C23: =IF(AND(C21="PR",C22="PR")=TRUE,1,0) -> 0
A24: 8 | B24: m | P24: =WEEKDAY(DATEVALUE(A24&"/"&P$1&"/"&Accueil!$B$6)) -> 4 | AD24: =WEEKDAY(DATEVALUE($A24&"/"&AD$1&"/"&Accueil!$B$6)) -> 7 | AR24: =WEEKDAY(DATEVALUE($A24&"/"&AR$1&"/"&Accueil!$B$6)) -> 7
B25: am | P25: =P24 -> 4 | AD25: =AD24 -> 7 | AR25: =AR24 -> 7
C26: =IF(AND(C24="PR",C25="PR")=TRUE,1,0) -> 0
A27: 9 | B27: m | P27: =WEEKDAY(DATEVALUE(A27&"/"&P$1&"/"&Accueil!$B$6)) -> 5 | AD27: =WEEKDAY(DATEVALUE($A27&"/"&AD$1&"/"&Accueil!$B$6)) -> 1 | AR27: =WEEKDAY(DATEVALUE($A27&"/"&AR$1&"/"&Accueil!$B$6)) -> 1
B28: am | P28: =P27 -> 5 | AD28: =AD27 -> 1 | AR28: =AR27 -> 1
C29: =IF(AND(C27="PR",C28="PR")=TRUE,1,0) -> 0
A30: 10 | B30: m | P30: =WEEKDAY(DATEVALUE(A30&"/"&P$1&"/"&Accueil!$B$6)) -> 6 | AD30: =WEEKDAY(DATEVALUE($A30&"/"&AD$1&"/"&Accueil!$B$6)) -> 2 | AR30: =WEEKDAY(DATEVALUE($A30&"/"&AR$1&"/"&Accueil!$B$6)) -> 2
B31: am | P31: =P30 -> 6 | AD31: =AD30 -> 2 | AR31: =AR30 -> 2
C32: =IF(AND(C30="PR",C31="PR")=TRUE,1,0) -> 0
A33: 11 | B33: m | P33: =WEEKDAY(DATEVALUE(A33&"/"&P$1&"/"&Accueil!$B$6)) -> 7 | AD33: =WEEKDAY(DATEVALUE($A33&"/"&AD$1&"/"&Accueil!$B$6)) -> 3 | AR33: =WEEKDAY(DATEVALUE($A33&"/"&AR$1&"/"&Accueil!$B$6)) -> 3
B34: am | P34: =P33 -> 7 | AD34: =AD33 -> 3 | AR34: =AR33 -> 3
C35: =IF(AND(C33="PR",C34="PR")=TRUE,1,0) -> 0
A36: 12 | B36: m | P36: =WEEKDAY(DATEVALUE(A36&"/"&P$1&"/"&Accueil!$B$6)) -> 1 | AD36: =WEEKDAY(DATEVALUE($A36&"/"&AD$1&"/"&Accueil!$B$6)) -> 4 | AR36: =WEEKDAY(DATEVALUE($A36&"/"&AR$1&"/"&Accueil!$B$6)) -> 4
B37: am | P37: =P36 -> 1 | AD37: =AD36 -> 4 | AR37: =AR36 -> 4
C38: =IF(AND(C36="PR",C37="PR")=TRUE,1,0) -> 0
A39: 13 | B39: m | P39: =WEEKDAY(DATEVALUE(A39&"/"&P$1&"/"&Accueil!$B$6)) -> 2 | AD39: =WEEKDAY(DATEVALUE($A39&"/"&AD$1&"/"&Accueil!$B$6)) -> 5 | AR39: =WEEKDAY(DATEVALUE($A39&"/"&AR$1&"/"&Accueil!$B$6)) -> 5
B40: am | P40: =P39 -> 2 | AD40: =AD39 -> 5 | AR40: =AR39 -> 5
C41: =IF(AND(C39="PR",C40="PR")=TRUE,1,0) -> 0
A42: 14 | B42: m | P42: =WEEKDAY(DATEVALUE(A42&"/"&P$1&"/"&Accueil!$B$6)) -> 3 | AD42: =WEEKDAY(DATEVALUE($A42&"/"&AD$1&"/"&Accueil!$B$6)) -> 6 | AR42: =WEEKDAY(DATEVALUE($A42&"/"&AR$1&"/"&Accueil!$B$6)) -> 6
B43: am | P43: =P42 -> 3 | AD43: =AD42 -> 6 | AR43: =AR42 -> 6
C44: =IF(AND(C42="PR",C43="PR")=TRUE,1,0) -> 0
A45: 15 | B45: m | P45: =WEEKDAY(DATEVALUE(A45&"/"&P$1&"/"&Accueil!$B$6)) -> 4 | AD45: =WEEKDAY(DATEVALUE($A45&"/"&AD$1&"/"&Accueil!$B$6)) -> 7 | AR45: =WEEKDAY(DATEVALUE($A45&"/"&AR$1&"/"&Accueil!$B$6)) -> 7
B46: am | P46: =P45 -> 4 | AD46: =AD45 -> 7 | AR46: =AR45 -> 7
C47: =IF(AND(C45="PR",C46="PR")=TRUE,1,0) -> 0
A48: 16 | B48: m | P48: =WEEKDAY(DATEVALUE(A48&"/"&P$1&"/"&Accueil!$B$6)) -> 5 | AD48: =WEEKDAY(DATEVALUE($A48&"/"&AD$1&"/"&Accueil!$B$6)) -> 1 | AR48: =WEEKDAY(DATEVALUE($A48&"/"&AR$1&"/"&Accueil!$B$6)) -> 1
B49: am | P49: =P48 -> 5 | AD49: =AD48 -> 1 | AR49: =AR48 -> 1
C50: =IF(AND(C48="PR",C49="PR")=TRUE,1,0) -> 0
A51: 17 | B51: m | P51: =WEEKDAY(DATEVALUE(A51&"/"&P$1&"/"&Accueil!$B$6)) -> 6 | AD51: =WEEKDAY(DATEVALUE($A51&"/"&AD$1&"/"&Accueil!$B$6)) -> 2 | AR51: =WEEKDAY(DATEVALUE($A51&"/"&AR$1&"/"&Accueil!$B$6)) -> 2
B52: am | P52: =P51 -> 6 | AD52: =AD51 -> 2 | AR52: =AR51 -> 2
C53: =IF(AND(C51="PR",C52="PR")=TRUE,1,0) -> 0
A54: 18 | B54: m | P54: =WEEKDAY(DATEVALUE(A54&"/"&P$1&"/"&Accueil!$B$6)) -> 7 | AD54: =WEEKDAY(DATEVALUE($A54&"/"&AD$1&"/"&Accueil!$B$6)) -> 3 | AR54: =WEEKDAY(DATEVALUE($A54&"/"&AR$1&"/"&Accueil!$B$6)) -> 3
B55: am | P55: =P54 -> 7 | AD55: =AD54 -> 3 | AR55: =AR54 -> 3
C56: =IF(AND(C54="PR",C55="PR")=TRUE,1,0) -> 0
A57: 19 | B57: m | P57: =WEEKDAY(DATEVALUE(A57&"/"&P$1&"/"&Accueil!$B$6)) -> 1 | AD57: =WEEKDAY(DATEVALUE($A57&"/"&AD$1&"/"&Accueil!$B$6)) -> 4 | AR57: =WEEKDAY(DATEVALUE($A57&"/"&AR$1&"/"&Accueil!$B$6)) -> 4
B58: am | P58: =P57 -> 1 | AD58: =AD57 -> 4 | AR58: =AR57 -> 4
C59: =IF(AND(C57="PR",C58="PR")=TRUE,1,0) -> 0
A60: 20 | B60: m | P60: =WEEKDAY(DATEVALUE(A60&"/"&P$1&"/"&Accueil!$B$6)) -> 2 | AD60: =WEEKDAY(DATEVALUE($A60&"/"&AD$1&"/"&Accueil!$B$6)) -> 5 | AR60: =WEEKDAY(DATEVALUE($A60&"/"&AR$1&"/"&Accueil!$B$6)) -> 5
B61: am | P61: =P60 -> 2 | AD61: =AD60 -> 5 | AR61: =AR60 -> 5
C62: =IF(AND(C60="PR",C61="PR")=TRUE,1,0) -> 0
A63: 21 | B63: m | P63: =WEEKDAY(DATEVALUE(A63&"/"&P$1&"/"&Accueil!$B$6)) -> 3 | AD63: =WEEKDAY(DATEVALUE($A63&"/"&AD$1&"/"&Accueil!$B$6)) -> 6 | AR63: =WEEKDAY(DATEVALUE($A63&"/"&AR$1&"/"&Accueil!$B$6)) -> 6
B64: am | P64: =P63 -> 3 | AD64: =AD63 -> 6 | AR64: =AR63 -> 6
C65: =IF(AND(C63="PR",C64="PR")=TRUE,1,0) -> 0
A66: 22 | B66: m | P66: =WEEKDAY(DATEVALUE(A66&"/"&P$1&"/"&Accueil!$B$6)) -> 4 | AD66: =WEEKDAY(DATEVALUE($A66&"/"&AD$1&"/"&Accueil!$B$6)) -> 7 | AR66: =WEEKDAY(DATEVALUE($A66&"/"&AR$1&"/"&Accueil!$B$6)) -> 7
B67: am | P67: =P66 -> 4 | AD67: =AD66 -> 7 | AR67: =AR66 -> 7
C68: =IF(AND(C66="PR",C67="PR")=TRUE,1,0) -> 0
A69: 23 | B69: m | P69: =WEEKDAY(DATEVALUE(A69&"/"&P$1&"/"&Accueil!$B$6)) -> 5 | AD69: =WEEKDAY(DATEVALUE($A69&"/"&AD$1&"/"&Accueil!$B$6)) -> 1 | AR69: =WEEKDAY(DATEVALUE($A69&"/"&AR$1&"/"&Accueil!$B$6)) -> 1
B70: am | P70: =P69 -> 5 | AD70: =AD69 -> 1 | AR70: =AR69 -> 1
C71: =IF(AND(C69="PR",C70="PR")=TRUE,1,0) -> 0
A72: 24 | B72: m | P72: =WEEKDAY(DATEVALUE(A72&"/"&P$1&"/"&Accueil!$B$6)) -> 6 | AD72: =WEEKDAY(DATEVALUE($A72&"/"&AD$1&"/"&Accueil!$B$6)) -> 2 | AR72: =WEEKDAY(DATEVALUE($A72&"/"&AR$1&"/"&Accueil!$B$6)) -> 2
B73: am | P73: =P72 -> 6 | AD73: =AD72 -> 2 | AR73: =AR72 -> 2
C74: =IF(AND(C72="PR",C73="PR")=TRUE,1,0) -> 0
A75: 25 | B75: m | P75: =WEEKDAY(DATEVALUE(A75&"/"&P$1&"/"&Accueil!$B$6)) -> 7 | AD75: =WEEKDAY(DATEVALUE($A75&"/"&AD$1&"/"&Accueil!$B$6)) -> 3 | AR75: =WEEKDAY(DATEVALUE($A75&"/"&AR$1&"/"&Accueil!$B$6)) -> 3
B76: am | P76: =P75 -> 7 | AD76: =AD75 -> 3 | AR76: =AR75 -> 3
C77: =IF(AND(C75="PR",C76="PR")=TRUE,1,0) -> 0
A78: 26 | B78: m | P78: =WEEKDAY(DATEVALUE(A78&"/"&P$1&"/"&Accueil!$B$6)) -> 1 | AD78: =WEEKDAY(DATEVALUE($A78&"/"&AD$1&"/"&Accueil!$B$6)) -> 4 | AR78: =WEEKDAY(DATEVALUE($A78&"/"&AR$1&"/"&Accueil!$B$6)) -> 4
B79: am | P79: =P78 -> 1 | AD79: =AD78 -> 4 | AR79: =AR78 -> 4
C80: =IF(AND(C78="PR",C79="PR")=TRUE,1,0) -> 0
A81: 27 | B81: m | P81: =WEEKDAY(DATEVALUE(A81&"/"&P$1&"/"&Accueil!$B$6)) -> 2 | AD81: =WEEKDAY(DATEVALUE($A81&"/"&AD$1&"/"&Accueil!$B$6)) -> 5 | AR81: =WEEKDAY(DATEVALUE($A81&"/"&AR$1&"/"&Accueil!$B$6)) -> 5
B82: am | P82: =P81 -> 2 | AD82: =AD81 -> 5 | AR82: =AR81 -> 5
C83: =IF(AND(C81="PR",C82="PR")=TRUE,1,0) -> 0
A84: 28 | B84: m | P84: =WEEKDAY(DATEVALUE(A84&"/"&P$1&"/"&Accueil!$B$6)) -> 3 | AD84: =WEEKDAY(DATEVALUE($A84&"/"&AD$1&"/"&Accueil!$B$6)) -> 6 | AR84: =WEEKDAY(DATEVALUE($A84&"/"&AR$1&"/"&Accueil!$B$6)) -> 6
B85: am | P85: =P84 -> 3 | AD85: =AD84 -> 6 | AR85: =AR84 -> 6
C86: =IF(AND(C84="PR",C85="PR")=TRUE,1,0) -> 0
A87: 29 | B87: m | P87: =WEEKDAY(DATEVALUE(A87&"/"&P$1&"/"&Accueil!$B$6)) -> 4 | AD87: =WEEKDAY(DATEVALUE($A87&"/"&AD$1&"/"&Accueil!$B$6)) -> #VALUE! | AR87: =WEEKDAY(DATEVALUE($A87&"/"&AR$1&"/"&Accueil!$B$6)) -> 7
B88: am | P88: =P87 -> 4 | AD88: =AD87 -> #VALUE! | AR88: =AR87 -> 7
C89: =IF(AND(C87="PR",C88="PR")=TRUE,1,0) -> 0
A90: 30 | B90: m | P90: =WEEKDAY(DATEVALUE(A90&"/"&P$1&"/"&Accueil!$B$6)) -> 5 | AD90: =WEEKDAY(DATEVALUE($A90&"/"&AD$1&"/"&Accueil!$B$6)) -> #VALUE! | AR90: =WEEKDAY(DATEVALUE($A90&"/"&AR$1&"/"&Accueil!$B$6)) -> 1
B91: am | P91: =P90 -> 5 | AD91: =AD90 -> #VALUE! | AR91: =AR90 -> 1
C92: =IF(AND(C90="PR",C91="PR")=TRUE,1,0) -> 0
A93: 31 | B93: m | P93: =WEEKDAY(DATEVALUE(A93&"/"&P$1&"/"&Accueil!$B$6)) -> 6 | AD93: =WEEKDAY(DATEVALUE($A93&"/"&AD$1&"/"&Accueil!$B$6)) -> #VALUE! | AR93: =WEEKDAY(DATEVALUE($A93&"/"&AR$1&"/"&Accueil!$B$6)) -> 2
B94: am | P94: =P93 -> 6 | AD94: =AD93 -> #VALUE! | AR94: =AR93 -> 2
C95: =IF(AND(C93="PR",C94="PR")=TRUE,1,0) -> 0
C97: =C2 -> VP | D97: =D2 -> JR | E97: =E2 -> AB | F97: =F2 -> CC | G97: =G2 -> MPEA | H97: =H2 -> BFC | I97: =I2 -> MF | J97: =J2 -> NH | K97: FJ | L97: =L2 -> DP | M97: =M2 -> NPV | N97: =N2 -> VS | O97: =O2 -> NVDK | Q97: =Q2 -> VP | R97: =R2 -> JR | S97: =S2 -> AB | T97: =T2 -> CC | U97: =U2 -> MPEA | V97: =V2 -> BFC | W97: =W2 -> MF | X97: =X2 -> NH | Y97: FJ | Z97: =Z2 -> DP | AA97: =AA2 -> NPV | AB97: =AB2 -> VS | AC97: =AC2 -> NVDK | AE97: =AE2 -> VP | AF97: =AF2 -> JR | AG97: =AG2 -> AB | AH97: =AH2 -> CC | AI97: =AI2 -> MPEA | AJ97: =AJ2 -> BFC | AK97: =AK2 -> MF | AL97: =AL2 -> NH | AM97: FJ | AN97: =AN2 -> DP | AO97: =AO2 -> NPV | AP97: =AP2 -> VS | AQ97: =AQ2 -> NVDK
A98: =Accueil!G11 -> PR | C98: =C5+C8+C11+C14+C17+C20+C23+C26+C29+C32+C35+C38+C41+C44+C47+C50+C53+C56+C59+C62+C65+C68+C71+C74+C77+C80+C83+C86+C89+C92+C95 -> 2 | Q98: =IF(AND(Q$3="PR",Q$4="PR")=TRUE,1,0) -> 0 | R98: =IF(AND(R$3="PR",R$4="PR")=TRUE,1,0) -> 0 | S98: =IF(AND(S$3="PR",S$4="PR")=TRUE,1,0) -> 0 | T98: =IF(AND(T$3="PR",T$4="PR")=TRUE,1,0) -> 0 | U98: =IF(AND(U$3="PR",U$4="PR")=TRUE,1,0) -> 0 | V98: =IF(AND(V$3="PR",V$4="PR")=TRUE,1,0) -> 0 | W98: =IF(AND(W$3="PR",W$4="PR")=TRUE,1,0) -> 0 | X98: =IF(AND(X$3="PR",X$4="PR")=TRUE,1,0) -> 0 | ... AC98: =IF(AND(AC$3="PR",AC$4="PR")=TRUE,1,0) -> 0 | AE98: =IF(AND(AE$3="PR",AE$4="PR")=TRUE,1,0) -> 0 | AF98: =IF(AND(AF$3="PR",AF$4="PR")=TRUE,1,0) -> 0 | AG98: =IF(AND(AG$3="PR",AG$4="PR")=TRUE,1,0) -> 0 | AH98: =IF(AND(AH$3="PR",AH$4="PR")=TRUE,1,0) -> 0 | AI98: =IF(AND(AI$3="PR",AI$4="PR")=TRUE,1,0) -> 0 | AJ98: =IF(AND(AJ$3="PR",AJ$4="PR")=TRUE,1,0) -> 0 | AK98: =IF(AND(AK$3="PR",AK$4="PR")=TRUE,1,0) -> 0 | AL98: =IF(AND(AL$3="PR",AL$4="PR")=TRUE,1,0) -> 0 | ... AQ98: =IF(AND(AQ$3="PR",AQ$4="PR")=TRUE,1,0) -> 0
A99: =Accueil!G12 -> AT | Q99: =IF(AND(Q$6="PR",Q$7="PR")=TRUE,1,0) -> 0 | R99: =IF(AND(R$6="PR",R$7="PR")=TRUE,1,0) -> 0 | S99: =IF(AND(S$6="PR",S$7="PR")=TRUE,1,0) -> 0 | T99: =IF(AND(T$6="PR",T$7="PR")=TRUE,1,0) -> 0 | U99: =IF(AND(U$6="PR",U$7="PR")=TRUE,1,0) -> 0 | V99: =IF(AND(V$6="PR",V$7="PR")=TRUE,1,0) -> 0 | W99: =IF(AND(W$6="PR",W$7="PR")=TRUE,1,0) -> 0 | X99: =IF(AND(X$6="PR",X$7="PR")=TRUE,1,0) -> 0 | ... AC99: =IF(AND(AC$6="PR",AC$7="PR")=TRUE,1,0) -> 0 | AE99: =IF(AND(AE$6="PR",AE$7="PR")=TRUE,1,0) -> 0 | AF99: =IF(AND(AF$6="PR",AF$7="PR")=TRUE,1,0) -> 0 | AG99: =IF(AND(AG$6="PR",AG$7="PR")=TRUE,1,0) -> 0 | AH99: =IF(AND(AH$6="PR",AH$7="PR")=TRUE,1,0) -> 0 | AI99: =IF(AND(AI$6="PR",AI$7="PR")=TRUE,1,0) -> 0 | AJ99: =IF(AND(AJ$6="PR",AJ$7="PR")=TRUE,1,0) -> 0 | AK99: =IF(AND(AK$6="PR",AK$7="PR")=TRUE,1,0) -> 0 | AL99: =IF(AND(AL$6="PR",AL$7="PR")=TRUE,1,0) -> 0 | ... AQ99: =IF(AND(AQ$6="PR",AQ$7="PR")=TRUE,1,0) -> 0
A100: =Accueil!G13 -> FO | Q100: =IF(AND(Q$9="PR",Q$10="PR")=TRUE,1,0) -> 0 | R100: =IF(AND(R$9="PR",R$10="PR")=TRUE,1,0) -> 0 | S100: =IF(AND(S$9="PR",S$10="PR")=TRUE,1,0) -> 0 | T100: =IF(AND(T$9="PR",T$10="PR")=TRUE,1,0) -> 0 | U100: =IF(AND(U$9="PR",U$10="PR")=TRUE,1,0) -> 0 | V100: =IF(AND(V$9="PR",V$10="PR")=TRUE,1,0) -> 0 | W100: =IF(AND(W$9="PR",W$10="PR")=TRUE,1,0) -> 0 | X100: =IF(AND(X$9="PR",X$10="PR")=TRUE,1,0) -> 0 | ... AC100: =IF(AND(AC$9="PR",AC$10="PR")=TRUE,1,0) -> 0 | AE100: =IF(AND(AE$9="PR",AE$10="PR")=TRUE,1,0) -> 0 | AF100: =IF(AND(AF$9="PR",AF$10="PR")=TRUE,1,0) -> 0 | AG100: =IF(AND(AG$9="PR",AG$10="PR")=TRUE,1,0) -> 0 | AH100: =IF(AND(AH$9="PR",AH$10="PR")=TRUE,1,0) -> 0 | AI100: =IF(AND(AI$9="PR",AI$10="PR")=TRUE,1,0) -> 0 | AJ100: =IF(AND(AJ$9="PR",AJ$10="PR")=TRUE,1,0) -> 0 | AK100: =IF(AND(AK$9="PR",AK$10="PR")=TRUE,1,0) -> 0 | AL100: =IF(AND(AL$9="PR",AL$10="PR")=TRUE,1,0) -> 0 | ... AQ100: =IF(AND(AQ$9="PR",AQ$10="PR")=TRUE,1,0) -> 0
A101: =Accueil!G14 -> CP | Q101: =IF(AND(Q$12="PR",Q$13="PR")=TRUE,1,0) -> 0 | R101: =IF(AND(R$12="PR",R$13="PR")=TRUE,1,0) -> 0 | S101: =IF(AND(S$12="PR",S$13="PR")=TRUE,1,0) -> 0 | T101: =IF(AND(T$12="PR",T$13="PR")=TRUE,1,0) -> 0 | U101: =IF(AND(U$12="PR",U$13="PR")=TRUE,1,0) -> 0 | V101: =IF(AND(V$12="PR",V$13="PR")=TRUE,1,0) -> 0 | W101: =IF(AND(W$12="PR",W$13="PR")=TRUE,1,0) -> 0 | X101: =IF(AND(X$12="PR",X$13="PR")=TRUE,1,0) -> 0 | ... AC101: =IF(AND(AC$12="PR",AC$13="PR")=TRUE,1,0) -> 0 | AE101: =IF(AND(AE$12="PR",AE$13="PR")=TRUE,1,0) -> 0 | AF101: =COUNTIF(AF$3:AF$94,$A101) -> 0 | AG101: =COUNTIF(AG$3:AG$94,$A101) -> 0 | AH101: =COUNTIF(AH$3:AH$94,$A101) -> 0 | AI101: =COUNTIF(AI$3:AI$94,$A101) -> 0 | AJ101: =COUNTIF(AJ$3:AJ$94,$A101) -> 0 | AK101: =COUNTIF(AK$3:AK$94,$A101) -> 0 | AL101: =COUNTIF(AL$3:AL$94,$A101) -> 0 | AM101: =COUNTIF(AM$3:AM$94,$A101) -> 0 | ... AQ101: =COUNTIF(AQ$3:AQ$94,$A101) -> 0
...

Sheet TRIMESTRE 2
C1: AVRIL | P1: 4 | Q1: MAI | AD1: 5 | AE1: JUIN | AR1: 6
C2: {=TRANSPOSE(Accueil!$D$11:$D$23)} -> VP | D2: JR | E2: AB | F2: CC | G2: MPEA | H2: BFC | I2: MF | J2: NH | K2: CJ | L2: DP | M2: NPV | N2: VS | O2: NVDK | Q2: {=TRANSPOSE(Accueil!$D$11:$D$23)} -> VP | R2: JR | S2: AB | T2: CC | U2: MPEA | V2: BFC | W2: MF | X2: NH | Y2: CJ | Z2: DP | AA2: NPV | AB2: VS | AC2: NVDK | AE2: {=TRANSPOSE(Accueil!$D$11:$D$23)} -> VP | AF2: JR | AG2: AB | AH2: CC | AI2: MPEA | AJ2: BFC | AK2: MF | AL2: NH | AM2: CJ | AN2: DP | AO2: NPV | AP2: VS | AQ2: NVDK
A3: 1 | B3: m | P3: =WEEKDAY(DATEVALUE($A3&"/"&P$1&"/"&Accueil!$B$6)) -> 3 | AD3: =WEEKDAY(DATEVALUE($A3&"/"&AD$1&"/"&Accueil!$B$6)) -> 5 | AR3: =WEEKDAY(DATEVALUE($A3&"/"&AR$1&"/"&Accueil!$B$6)) -> 1
B4: am | P4: =P3 -> 3 | AD4: =AD3 -> 5 | AR4: =AR3 -> 1
A5: 2 | B5: m | P5: =WEEKDAY(DATEVALUE(A5&"/"&P$1&"/"&Accueil!$B$6)) -> 4 | AD5: =WEEKDAY(DATEVALUE($A5&"/"&AD$1&"/"&Accueil!$B$6)) -> 6 | AR5: =WEEKDAY(DATEVALUE($A5&"/"&AR$1&"/"&Accueil!$B$6)) -> 2
B6: am | P6: =P5 -> 4 | AD6: =AD5 -> 6 | AR6: =AR5 -> 2
A7: 3 | B7: m | P7: =WEEKDAY(DATEVALUE(A7&"/"&P$1&"/"&Accueil!$B$6)) -> 5 | AD7: =WEEKDAY(DATEVALUE($A7&"/"&AD$1&"/"&Accueil!$B$6)) -> 7 | AR7: =WEEKDAY(DATEVALUE($A7&"/"&AR$1&"/"&Accueil!$B$6)) -> 3
B8: am | P8: =P7 -> 5 | AD8: =AD7 -> 7 | AR8: =AR7 -> 3
A9: 4 | B9: m | P9: =WEEKDAY(DATEVALUE(A9&"/"&P$1&"/"&Accueil!$B$6)) -> 6 | AD9: =WEEKDAY(DATEVALUE($A9&"/"&AD$1&"/"&Accueil!$B$6)) -> 1 | AR9: =WEEKDAY(DATEVALUE($A9&"/"&AR$1&"/"&Accueil!$B$6)) -> 4
B10: am | P10: =P9 -> 6 | AD10: =AD9 -> 1 | AR10: =AR9 -> 4
A11: 5 | B11: m | P11: =WEEKDAY(DATEVALUE(A11&"/"&P$1&"/"&Accueil!$B$6)) -> 7 | AD11: =WEEKDAY(DATEVALUE($A11&"/"&AD$1&"/"&Accueil!$B$6)) -> 2 | AR11: =WEEKDAY(DATEVALUE($A11&"/"&AR$1&"/"&Accueil!$B$6)) -> 5
B12: am | P12: =P11 -> 7 | AD12: =AD11 -> 2 | AR12: =AR11 -> 5
A13: 6 | B13: m | P13: =WEEKDAY(DATEVALUE(A13&"/"&P$1&"/"&Accueil!$B$6)) -> 1 | AD13: =WEEKDAY(DATEVALUE($A13&"/"&AD$1&"/"&Accueil!$B$6)) -> 3 | AR13: =WEEKDAY(DATEVALUE($A13&"/"&AR$1&"/"&Accueil!$B$6)) -> 6
B14: am | P14: =P13 -> 1 | AD14: =AD13 -> 3 | AR14: =AR13 -> 6
A15: 7 | B15: m | P15: =WEEKDAY(DATEVALUE(A15&"/"&P$1&"/"&Accueil!$B$6)) -> 2 | AD15: =WEEKDAY(DATEVALUE($A15&"/"&AD$1&"/"&Accueil!$B$6)) -> 4 | AR15: =WEEKDAY(DATEVALUE($A15&"/"&AR$1&"/"&Accueil!$B$6)) -> 7
B16: am | P16: =P15 -> 2 | AD16: =AD15 -> 4 | AR16: =AR15 -> 7
A17: 8 | B17: m | P17: =WEEKDAY(DATEVALUE(A17&"/"&P$1&"/"&Accueil!$B$6)) -> 3 | AD17: =WEEKDAY(DATEVALUE($A17&"/"&AD$1&"/"&Accueil!$B$6)) -> 5 | AR17: =WEEKDAY(DATEVALUE($A17&"/"&AR$1&"/"&Accueil!$B$6)) -> 1
B18: am | P18: =P17 -> 3 | AD18: =AD17 -> 5 | AR18: =AR17 -> 1
A19: 9 | B19: m | P19: =WEEKDAY(DATEVALUE(A19&"/"&P$1&"/"&Accueil!$B$6)) -> 4 | AD19: =WEEKDAY(DATEVALUE($A19&"/"&AD$1&"/"&Accueil!$B$6)) -> 6 | AR19: =WEEKDAY(DATEVALUE($A19&"/"&AR$1&"/"&Accueil!$B$6)) -> 2
B20: am | P20: =P19 -> 4 | AD20: =AD19 -> 6 | AR20: =AR19 -> 2
A21: 10 | B21: m | P21: =WEEKDAY(DATEVALUE(A21&"/"&P$1&"/"&Accueil!$B$6)) -> 5 | AD21: =WEEKDAY(DATEVALUE($A21&"/"&AD$1&"/"&Accueil!$B$6)) -> 7 | AR21: =WEEKDAY(DATEVALUE($A21&"/"&AR$1&"/"&Accueil!$B$6)) -> 3
B22: am | P22: =P21 -> 5 | AD22: =AD21 -> 7 | AR22: =AR21 -> 3
A23: 11 | B23: m | P23: =WEEKDAY(DATEVALUE(A23&"/"&P$1&"/"&Accueil!$B$6)) -> 6 | AD23: =WEEKDAY(DATEVALUE($A23&"/"&AD$1&"/"&Accueil!$B$6)) -> 1 | AR23: =WEEKDAY(DATEVALUE($A23&"/"&AR$1&"/"&Accueil!$B$6)) -> 4
B24: am | P24: =P23 -> 6 | AD24: =AD23 -> 1 | AR24: =AR23 -> 4
A25: 12 | B25: m | P25: =WEEKDAY(DATEVALUE(A25&"/"&P$1&"/"&Accueil!$B$6)) -> 7 | AD25: =WEEKDAY(DATEVALUE($A25&"/"&AD$1&"/"&Accueil!$B$6)) -> 2 | AR25: =WEEKDAY(DATEVALUE($A25&"/"&AR$1&"/"&Accueil!$B$6)) -> 5
B26: am | P26: =P25 -> 7 | AD26: =AD25 -> 2 | AR26: =AR25 -> 5
A27: 13 | B27: m | P27: =WEEKDAY(DATEVALUE(A27&"/"&P$1&"/"&Accueil!$B$6)) -> 1 | AD27: =WEEKDAY(DATEVALUE($A27&"/"&AD$1&"/"&Accueil!$B$6)) -> 3 | AR27: =WEEKDAY(DATEVALUE($A27&"/"&AR$1&"/"&Accueil!$B$6)) -> 6
B28: am | P28: =P27 -> 1 | AD28: =AD27 -> 3 | AR28: =AR27 -> 6
A29: 14 | B29: m | P29: =WEEKDAY(DATEVALUE(A29&"/"&P$1&"/"&Accueil!$B$6)) -> 2 | AD29: =WEEKDAY(DATEVALUE($A29&"/"&AD$1&"/"&Accueil!$B$6)) -> 4 | AR29: =WEEKDAY(DATEVALUE($A29&"/"&AR$1&"/"&Accueil!$B$6)) -> 7
B30: am | P30: =P29 -> 2 | AD30: =AD29 -> 4 | AR30: =AR29 -> 7
A31: 15 | B31: m | P31: =WEEKDAY(DATEVALUE(A31&"/"&P$1&"/"&Accueil!$B$6)) -> 3 | AD31: =WEEKDAY(DATEVALUE($A31&"/"&AD$1&"/"&Accueil!$B$6)) -> 5 | AR31: =WEEKDAY(DATEVALUE($A31&"/"&AR$1&"/"&Accueil!$B$6)) -> 1
B32: am | P32: =P31 -> 3 | AD32: =AD31 -> 5 | AR32: =AR31 -> 1
A33: 16 | B33: m | P33: =WEEKDAY(DATEVALUE(A33&"/"&P$1&"/"&Accueil!$B$6)) -> 4 | AD33: =WEEKDAY(DATEVALUE($A33&"/"&AD$1&"/"&Accueil!$B$6)) -> 6 | AR33: =WEEKDAY(DATEVALUE($A33&"/"&AR$1&"/"&Accueil!$B$6)) -> 2
B34: am | P34: =P33 -> 4 | AD34: =AD33 -> 6 | AR34: =AR33 -> 2
A35: 17 | B35: m | P35: =WEEKDAY(DATEVALUE(A35&"/"&P$1&"/"&Accueil!$B$6)) -> 5 | AD35: =WEEKDAY(DATEVALUE($A35&"/"&AD$1&"/"&Accueil!$B$6)) -> 7 | AR35: =WEEKDAY(DATEVALUE($A35&"/"&AR$1&"/"&Accueil!$B$6)) -> 3
B36: am | P36: =P35 -> 5 | AD36: =AD35 -> 7 | AR36: =AR35 -> 3
A37: 18 | B37: m | P37: =WEEKDAY(DATEVALUE(A37&"/"&P$1&"/"&Accueil!$B$6)) -> 6 | AD37: =WEEKDAY(DATEVALUE($A37&"/"&AD$1&"/"&Accueil!$B$6)) -> 1 | AR37: =WEEKDAY(DATEVALUE($A37&"/"&AR$1&"/"&Accueil!$B$6)) -> 4
B38: am | P38: =P37 -> 6 | AD38: =AD37 -> 1 | AR38: =AR37 -> 4
A39: 19 | B39: m | P39: =WEEKDAY(DATEVALUE(A39&"/"&P$1&"/"&Accueil!$B$6)) -> 7 | AD39: =WEEKDAY(DATEVALUE($A39&"/"&AD$1&"/"&Accueil!$B$6)) -> 2 | AR39: =WEEKDAY(DATEVALUE($A39&"/"&AR$1&"/"&Accueil!$B$6)) -> 5
B40: am | P40: =P39 -> 7 | AD40: =AD39 -> 2 | AR40: =AR39 -> 5
A41: 20 | B41: m | P41: =WEEKDAY(DATEVALUE(A41&"/"&P$1&"/"&Accueil!$B$6)) -> 1 | AD41: =WEEKDAY(DATEVALUE($A41&"/"&AD$1&"/"&Accueil!$B$6)) -> 3 | AR41: =WEEKDAY(DATEVALUE($A41&"/"&AR$1&"/"&Accueil!$B$6)) -> 6
B42: am | P42: =P41 -> 1 | AD42: =AD41 -> 3 | AR42: =AR41 -> 6
A43: 21 | B43: m | P43: =WEEKDAY(DATEVALUE(A43&"/"&P$1&"/"&Accueil!$B$6)) -> 2 | AD43: =WEEKDAY(DATEVALUE($A43&"/"&AD$1&"/"&Accueil!$B$6)) -> 4 | AR43: =WEEKDAY(DATEVALUE($A43&"/"&AR$1&"/"&Accueil!$B$6)) -> 7
B44: am | P44: =P43 -> 2 | AD44: =AD43 -> 4 | AR44: =AR43 -> 7
A45: 22 | B45: m | P45: =WEEKDAY(DATEVALUE(A45&"/"&P$1&"/"&Accueil!$B$6)) -> 3 | AD45: =WEEKDAY(DATEVALUE($A45&"/"&AD$1&"/"&Accueil!$B$6)) -> 5 | AR45: =WEEKDAY(DATEVALUE($A45&"/"&AR$1&"/"&Accueil!$B$6)) -> 1
B46: am | P46: =P45 -> 3 | AD46: =AD45 -> 5 | AR46: =AR45 -> 1
A47: 23 | B47: m | P47: =WEEKDAY(DATEVALUE(A47&"/"&P$1&"/"&Accueil!$B$6)) -> 4 | AD47: =WEEKDAY(DATEVALUE($A47&"/"&AD$1&"/"&Accueil!$B$6)) -> 6 | AR47: =WEEKDAY(DATEVALUE($A47&"/"&AR$1&"/"&Accueil!$B$6)) -> 2
B48: am | P48: =P47 -> 4 | AD48: =AD47 -> 6 | AR48: =AR47 -> 2
A49: 24 | B49: m | P49: =WEEKDAY(DATEVALUE(A49&"/"&P$1&"/"&Accueil!$B$6)) -> 5 | AD49: =WEEKDAY(DATEVALUE($A49&"/"&AD$1&"/"&Accueil!$B$6)) -> 7 | AR49: =WEEKDAY(DATEVALUE($A49&"/"&AR$1&"/"&Accueil!$B$6)) -> 3
B50: am | P50: =P49 -> 5 | AD50: =AD49 -> 7 | AR50: =AR49 -> 3
A51: 25 | B51: m | P51: =WEEKDAY(DATEVALUE(A51&"/"&P$1&"/"&Accueil!$B$6)) -> 6 | AD51: =WEEKDAY(DATEVALUE($A51&"/"&AD$1&"/"&Accueil!$B$6)) -> 1 | AR51: =WEEKDAY(DATEVALUE($A51&"/"&AR$1&"/"&Accueil!$B$6)) -> 4
B52: am | P52: =P51 -> 6 | AD52: =AD51 -> 1 | AR52: =AR51 -> 4
A53: 26 | B53: m | P53: =WEEKDAY(DATEVALUE(A53&"/"&P$1&"/"&Accueil!$B$6)) -> 7 | AD53: =WEEKDAY(DATEVALUE($A53&"/"&AD$1&"/"&Accueil!$B$6)) -> 2 | AR53: =WEEKDAY(DATEVALUE($A53&"/"&AR$1&"/"&Accueil!$B$6)) -> 5
B54: am | P54: =P53 -> 7 | AD54: =AD53 -> 2 | AR54: =AR53 -> 5
A55: 27 | B55: m | P55: =WEEKDAY(DATEVALUE(A55&"/"&P$1&"/"&Accueil!$B$6)) -> 1 | AD55: =WEEKDAY(DATEVALUE($A55&"/"&AD$1&"/"&Accueil!$B$6)) -> 3 | AR55: =WEEKDAY(DATEVALUE($A55&"/"&AR$1&"/"&Accueil!$B$6)) -> 6
B56: am | P56: =P55 -> 1 | AD56: =AD55 -> 3 | AR56: =AR55 -> 6
A57: 28 | B57: m | P57: =WEEKDAY(DATEVALUE(A57&"/"&P$1&"/"&Accueil!$B$6)) -> 2 | AD57: =WEEKDAY(DATEVALUE($A57&"/"&AD$1&"/"&Accueil!$B$6)) -> 4 | AR57: =WEEKDAY(DATEVALUE($A57&"/"&AR$1&"/"&Accueil!$B$6)) -> 7
B58: am | P58: =P57 -> 2 | AD58: =AD57 -> 4 | AR58: =AR57 -> 7
A59: 29 | B59: m | P59: =WEEKDAY(DATEVALUE(A59&"/"&P$1&"/"&Accueil!$B$6)) -> 3 | AD59: =WEEKDAY(DATEVALUE($A59&"/"&AD$1&"/"&Accueil!$B$6)) -> 5 | AR59: =WEEKDAY(DATEVALUE($A59&"/"&AR$1&"/"&Accueil!$B$6)) -> 1
B60: am | P60: =P59 -> 3 | AD60: =AD59 -> 5 | AR60: =AR59 -> 1
A61: 30 | B61: m | P61: =WEEKDAY(DATEVALUE(A61&"/"&P$1&"/"&Accueil!$B$6)) -> 4 | AD61: =WEEKDAY(DATEVALUE($A61&"/"&AD$1&"/"&Accueil!$B$6)) -> 6 | AR61: =WEEKDAY(DATEVALUE($A61&"/"&AR$1&"/"&Accueil!$B$6)) -> 2
B62: am | P62: =P61 -> 4 | AD62: =AD61 -> 6 | AR62: =AR61 -> 2
A63: 31 | B63: m | P63: =WEEKDAY(DATEVALUE(A63&"/"&P$1&"/"&Accueil!$B$6)) -> #VALUE! | AD63: =WEEKDAY(DATEVALUE($A63&"/"&AD$1&"/"&Accueil!$B$6)) -> 7 | AR63: =WEEKDAY(DATEVALUE($A63&"/"&AR$1&"/"&Accueil!$B$6)) -> #VALUE!
B64: am | P64: =P63 -> #VALUE! | AD64: =AD63 -> 7 | AR64: =AR63 -> #VALUE!
C66: =C2 -> VP | D66: =D2 -> JR | E66: =E2 -> AB | F66: =F2 -> CC | G66: =G2 -> MPEA | H66: =H2 -> BFC | I66: =I2 -> MF | J66: =J2 -> NH | ... O66: =O2 -> NVDK | Q66: =Q2 -> VP | R66: =R2 -> JR | S66: =S2 -> AB | T66: =T2 -> CC | U66: =U2 -> MPEA | V66: =V2 -> BFC | W66: =W2 -> MF | X66: =X2 -> NH | ... AC66: =AC2 -> NVDK | AE66: =AE2 -> VP | AF66: =AF2 -> JR | AG66: =AG2 -> AB | AH66: =AH2 -> CC | AI66: =AI2 -> MPEA | AJ66: =AJ2 -> BFC | AK66: =AK2 -> MF | AL66: =AL2 -> NH | ... AQ66: =AQ2 -> NVDK
A67: =Accueil!G11 -> PR | C67: =COUNTIF(C$3:C$64,$A67) -> 0 | D67: =COUNTIF(D$3:D$64,$A67) -> 0 | E67: =COUNTIF(E$3:E$64,$A67) -> 0 | F67: =COUNTIF(F$3:F$64,$A67) -> 0 | G67: =COUNTIF(G$3:G$64,$A67) -> 0 | H67: =COUNTIF(H$3:H$64,$A67) -> 0 | I67: =COUNTIF(I$3:I$64,$A67) -> 0 | J67: =COUNTIF(J$3:J$64,$A67) -> 0 | ... O67: =COUNTIF(O$3:O$64,$A67) -> 0 | Q67: =COUNTIF(Q$3:Q$64,$A67) -> 0 | R67: =COUNTIF(R$3:R$64,$A67) -> 0 | S67: =COUNTIF(S$3:S$64,$A67) -> 0 | T67: =COUNTIF(T$3:T$64,$A67) -> 0 | U67: =COUNTIF(U$3:U$64,$A67) -> 0 | V67: =COUNTIF(V$3:V$64,$A67) -> 0 | W67: =COUNTIF(W$3:W$64,$A67) -> 0 | X67: =COUNTIF(X$3:X$64,$A67) -> 0 | ... AC67: =COUNTIF(AC$3:AC$64,$A67) -> 0 | AE67: =COUNTIF(AE$3:AE$64,$A67) -> 0 | AF67: =COUNTIF(AF$3:AF$64,$A67) -> 0 | AG67: =COUNTIF(AG$3:AG$64,$A67) -> 0 | AH67: =COUNTIF(AH$3:AH$64,$A67) -> 0 | AI67: =COUNTIF(AI$3:AI$64,$A67) -> 0 | AJ67: =COUNTIF(AJ$3:AJ$64,$A67) -> 0 | AK67: =COUNTIF(AK$3:AK$64,$A67) -> 0 | AL67: =COUNTIF(AL$3:AL$64,$A67) -> 0 | ... AQ67: =COUNTIF(AQ$3:AQ$64,$A67) -> 0
A68: =Accueil!G12 -> AT | C68: =COUNTIF(C$3:C$64,$A68) -> 0 | D68: =COUNTIF(D$3:D$64,$A68) -> 0 | E68: =COUNTIF(E$3:E$64,$A68) -> 0 | F68: =COUNTIF(F$3:F$64,$A68) -> 0 | G68: =COUNTIF(G$3:G$64,$A68) -> 0 | H68: =COUNTIF(H$3:H$64,$A68) -> 0 | I68: =COUNTIF(I$3:I$64,$A68) -> 0 | J68: =COUNTIF(J$3:J$64,$A68) -> 0 | ... O68: =COUNTIF(O$3:O$64,$A68) -> 0 | Q68: =COUNTIF(Q$3:Q$64,$A68) -> 0 | R68: =COUNTIF(R$3:R$64,$A68) -> 0 | S68: =COUNTIF(S$3:S$64,$A68) -> 0 | T68: =COUNTIF(T$3:T$64,$A68) -> 0 | U68: =COUNTIF(U$3:U$64,$A68) -> 0 | V68: =COUNTIF(V$3:V$64,$A68) -> 0 | W68: =COUNTIF(W$3:W$64,$A68) -> 0 | X68: =COUNTIF(X$3:X$64,$A68) -> 0 | ... AC68: =COUNTIF(AC$3:AC$64,$A68) -> 0 | AE68: =COUNTIF(AE$3:AE$64,$A68) -> 0 | AF68: =COUNTIF(AF$3:AF$64,$A68) -> 0 | AG68: =COUNTIF(AG$3:AG$64,$A68) -> 0 | AH68: =COUNTIF(AH$3:AH$64,$A68) -> 0 | AI68: =COUNTIF(AI$3:AI$64,$A68) -> 0 | AJ68: =COUNTIF(AJ$3:AJ$64,$A68) -> 0 | AK68: =COUNTIF(AK$3:AK$64,$A68) -> 0 | AL68: =COUNTIF(AL$3:AL$64,$A68) -> 0 | ... AQ68: =COUNTIF(AQ$3:AQ$64,$A68) -> 0
A69: =Accueil!G13 -> FO | C69: =COUNTIF(C$3:C$64,$A69) -> 0 | D69: =COUNTIF(D$3:D$64,$A69) -> 0 | E69: =COUNTIF(E$3:E$64,$A69) -> 0 | F69: =COUNTIF(F$3:F$64,$A69) -> 0 | G69: =COUNTIF(G$3:G$64,$A69) -> 0 | H69: =COUNTIF(H$3:H$64,$A69) -> 0 | I69: =COUNTIF(I$3:I$64,$A69) -> 0 | J69: =COUNTIF(J$3:J$64,$A69) -> 0 | ... O69: =COUNTIF(O$3:O$64,$A69) -> 0 | Q69: =COUNTIF(Q$3:Q$64,$A69) -> 0 | R69: =COUNTIF(R$3:R$64,$A69) -> 0 | S69: =COUNTIF(S$3:S$64,$A69) -> 0 | T69: =COUNTIF(T$3:T$64,$A69) -> 0 | U69: =COUNTIF(U$3:U$64,$A69) -> 0 | V69: =COUNTIF(V$3:V$64,$A69) -> 0 | W69: =COUNTIF(W$3:W$64,$A69) -> 0 | X69: =COUNTIF(X$3:X$64,$A69) -> 0 | ... AC69: =COUNTIF(AC$3:AC$64,$A69) -> 0 | AE69: =COUNTIF(AE$3:AE$64,$A69) -> 0 | AF69: =COUNTIF(AF$3:AF$64,$A69) -> 0 | AG69: =COUNTIF(AG$3:AG$64,$A69) -> 0 | AH69: =COUNTIF(AH$3:AH$64,$A69) -> 0 | AI69: =COUNTIF(AI$3:AI$64,$A69) -> 0 | AJ69: =COUNTIF(AJ$3:AJ$64,$A69) -> 0 | AK69: =COUNTIF(AK$3:AK$64,$A69) -> 0 | AL69: =COUNTIF(AL$3:AL$64,$A69) -> 0 | ... AQ69: =COUNTIF(AQ$3:AQ$64,$A69) -> 0
A70: =Accueil!G14 -> CP | C70: =COUNTIF(C$3:C$64,$A70) -> 0 | D70: =COUNTIF(D$3:D$64,$A70) -> 0 | E70: =COUNTIF(E$3:E$64,$A70) -> 0 | F70: =COUNTIF(F$3:F$64,$A70) -> 0 | G70: =COUNTIF(G$3:G$64,$A70) -> 0 | H70: =COUNTIF(H$3:H$64,$A70) -> 0 | I70: =COUNTIF(I$3:I$64,$A70) -> 0 | J70: =COUNTIF(J$3:J$64,$A70) -> 0 | ... O70: =COUNTIF(O$3:O$64,$A70) -> 0 | Q70: =COUNTIF(Q$3:Q$64,$A70) -> 0 | R70: =COUNTIF(R$3:R$64,$A70) -> 0 | S70: =COUNTIF(S$3:S$64,$A70) -> 0 | T70: =COUNTIF(T$3:T$64,$A70) -> 0 | U70: =COUNTIF(U$3:U$64,$A70) -> 0 | V70: =COUNTIF(V$3:V$64,$A70) -> 0 | W70: =COUNTIF(W$3:W$64,$A70) -> 0 | X70: =COUNTIF(X$3:X$64,$A70) -> 0 | ... AC70: =COUNTIF(AC$3:AC$64,$A70) -> 0 | AE70: =COUNTIF(AE$3:AE$64,$A70) -> 0 | AF70: =COUNTIF(AF$3:AF$64,$A70) -> 0 | AG70: =COUNTIF(AG$3:AG$64,$A70) -> 0 | AH70: =COUNTIF(AH$3:AH$64,$A70) -> 0 | AI70: =COUNTIF(AI$3:AI$64,$A70) -> 0 | AJ70: =COUNTIF(AJ$3:AJ$64,$A70) -> 0 | AK70: =COUNTIF(AK$3:AK$64,$A70) -> 0 | AL70: =COUNTIF(AL$3:AL$64,$A70) -> 0 | ... AQ70: =COUNTIF(AQ$3:AQ$64,$A70) -> 0
A71: =Accueil!G15 -> AC | C71: =COUNTIF(C$3:C$64,$A71) -> 0 | D71: =COUNTIF(D$3:D$64,$A71) -> 0 | E71: =COUNTIF(E$3:E$64,$A71) -> 0 | F71: =COUNTIF(F$3:F$64,$A71) -> 0 | G71: =COUNTIF(G$3:G$64,$A71) -> 0 | H71: =COUNTIF(H$3:H$64,$A71) -> 0 | I71: =COUNTIF(I$3:I$64,$A71) -> 0 | J71: =COUNTIF(J$3:J$64,$A71) -> 0 | ... O71: =COUNTIF(O$3:O$64,$A71) -> 0 | Q71: =COUNTIF(Q$3:Q$64,$A71) -> 0 | R71: =COUNTIF(R$3:R$64,$A71) -> 0 | S71: =COUNTIF(S$3:S$64,$A71) -> 0 | T71: =COUNTIF(T$3:T$64,$A71) -> 0 | U71: =COUNTIF(U$3:U$64,$A71) -> 0 | V71: =COUNTIF(V$3:V$64,$A71) -> 0 | W71: =COUNTIF(W$3:W$64,$A71) -> 0 | X71: =COUNTIF(X$3:X$64,$A71) -> 0 | ... AC71: =COUNTIF(AC$3:AC$64,$A71) -> 0 | AE71: =COUNTIF(AE$3:AE$64,$A71) -> 0 | AF71: =COUNTIF(AF$3:AF$64,$A71) -> 0 | AG71: =COUNTIF(AG$3:AG$64,$A71) -> 0 | AH71: =COUNTIF(AH$3:AH$64,$A71) -> 0 | AI71: =COUNTIF(AI$3:AI$64,$A71) -> 0 | AJ71: =COUNTIF(AJ$3:AJ$64,$A71) -> 0 | AK71: =COUNTIF(AK$3:AK$64,$A71) -> 0 | AL71: =COUNTIF(AL$3:AL$64,$A71) -> 0 | ... AQ71: =COUNTIF(AQ$3:AQ$64,$A71) -> 0
A72: =Accueil!G16 -> MA | C72: =COUNTIF(C$3:C$64,$A72) -> 0 | D72: =COUNTIF(D$3:D$64,$A72) -> 0 | E72: =COUNTIF(E$3:E$64,$A72) -> 0 | F72: =COUNTIF(F$3:F$64,$A72) -> 0 | G72: =COUNTIF(G$3:G$64,$A72) -> 0 | H72: =COUNTIF(H$3:H$64,$A72) -> 0 | I72: =COUNTIF(I$3:I$64,$A72) -> 0 | J72: =COUNTIF(J$3:J$64,$A72) -> 0 | ... O72: =COUNTIF(O$3:O$64,$A72) -> 0 | Q72: =COUNTIF(Q$3:Q$64,$A72) -> 0 | R72: =COUNTIF(R$3:R$64,$A72) -> 0 | S72: =COUNTIF(S$3:S$64,$A72) -> 0 | T72: =COUNTIF(T$3:T$64,$A72) -> 0 | U72: =COUNTIF(U$3:U$64,$A72) -> 0 | V72: =COUNTIF(V$3:V$64,$A72) -> 0 | W72: =COUNTIF(W$3:W$64,$A72) -> 0 | X72: =COUNTIF(X$3:X$64,$A72) -> 0 | ... AC72: =COUNTIF(AC$3:AC$64,$A72) -> 0 | AE72: =COUNTIF(AE$3:AE$64,$A72) -> 0 | AF72: =COUNTIF(AF$3:AF$64,$A72) -> 0 | AG72: =COUNTIF(AG$3:AG$64,$A72) -> 0 | AH72: =COUNTIF(AH$3:AH$64,$A72) -> 0 | AI72: =COUNTIF(AI$3:AI$64,$A72) -> 0 | AJ72: =COUNTIF(AJ$3:AJ$64,$A72) -> 0 | AK72: =COUNTIF(AK$3:AK$64,$A72) -> 0 | AL72: =COUNTIF(AL$3:AL$64,$A72) -> 0 | ... AQ72: =COUNTIF(AQ$3:AQ$64,$A72) -> 0
A73: =Accueil!G17 -> PE | C73: =COUNTIF(C$3:C$64,$A73) -> 0 | D73: =COUNTIF(D$3:D$64,$A73) -> 0 | E73: =COUNTIF(E$3:E$64,$A73) -> 0 | F73: =COUNTIF(F$3:F$64,$A73) -> 0 | G73: =COUNTIF(G$3:G$64,$A73) -> 0 | H73: =COUNTIF(H$3:H$64,$A73) -> 0 | I73: =COUNTIF(I$3:I$64,$A73) -> 0 | J73: =COUNTIF(J$3:J$64,$A73) -> 0 | ... O73: =COUNTIF(O$3:O$64,$A73) -> 0 | Q73: =COUNTIF(Q$3:Q$64,$A73) -> 0 | R73: =COUNTIF(R$3:R$64,$A73) -> 0 | S73: =COUNTIF(S$3:S$64,$A73) -> 0 | T73: =COUNTIF(T$3:T$64,$A73) -> 0 | U73: =COUNTIF(U$3:U$64,$A73) -> 0 | V73: =COUNTIF(V$3:V$64,$A73) -> 0 | W73: =COUNTIF(W$3:W$64,$A73) -> 0 | X73: =COUNTIF(X$3:X$64,$A73) -> 0 | ... AC73: =COUNTIF(AC$3:AC$64,$A73) -> 0 | AE73: =COUNTIF(AE$3:AE$64,$A73) -> 0 | AF73: =COUNTIF(AF$3:AF$64,$A73) -> 0 | AG73: =COUNTIF(AG$3:AG$64,$A73) -> 0 | AH73: =COUNTIF(AH$3:AH$64,$A73) -> 0 | AI73: =COUNTIF(AI$3:AI$64,$A73) -> 0 | AJ73: =COUNTIF(AJ$3:AJ$64,$A73) -> 0 | AK73: =COUNTIF(AK$3:AK$64,$A73) -> 0 | AL73: =COUNTIF(AL$3:AL$64,$A73) -> 0 | ... AQ73: =COUNTIF(AQ$3:AQ$64,$A73) -> 0
A75: TR calculés | C75: =C67/2 -> 0 | D75: =D67/2 -> 0 | E75: =E67/2 -> 0 | F75: =F67/2 -> 0 | G75: =G67/2 -> 0 | H75: =H67/2 -> 0 | I75: =I67/2 -> 0 | J75: =J67/2 -> 0 | ... O75: =O67/2 -> 0 | Q75: =Q67/2 -> 0 | R75: =R67/2 -> 0 | S75: =S67/2 -> 0 | T75: =T67/2 -> 0 | U75: =U67/2 -> 0 | V75: =V67/2 -> 0 | W75: =W67/2 -> 0 | X75: =X67/2 -> 0 | ... AC75: =AC67/2 -> 0 | AE75: =AE67/2 -> 0 | AF75: =AF67/2 -> 0 | AG75: =AG67/2 -> 0 | AH75: =AH67/2 -> 0 | AI75: =AI67/2 -> 0 | AJ75: =AJ67/2 -> 0 | AK75: =AK67/2 -> 0 | AL75: =AL67/2 -> 0 | ... AQ75: =AQ67/2 -> 0
A76: TR (Réel)

Sheet TRIMESTRE 4
C1: OCTOBRE | P1: 10 | Q1: NOVEMBRE | AD1: 11 | AE1: DECEMBRE | AR1: 12
C2: {=TRANSPOSE(Accueil!$D$11:$D$23)} -> VP | D2: JR | E2: AB | F2: CC | G2: MPEA | H2: BFC | I2: MF | J2: NH | K2: CJ | L2: DP | M2: NPV | N2: VS | O2: NVDK | Q2: {=TRANSPOSE(Accueil!$D$11:$D$23)} -> VP | R2: JR | S2: AB | T2: CC | U2: MPEA | V2: BFC | W2: MF | X2: NH | Y2: CJ | Z2: DP | AA2: NPV | AB2: VS | AC2: NVDK | AE2: {=TRANSPOSE(Accueil!$D$11:$D$23)} -> VP | AF2: JR | AG2: AB | AH2: CC | AI2: MPEA | AJ2: BFC | AK2: MF | AL2: NH | AM2: CJ | AN2: DP | AO2: NPV | AP2: VS | AQ2: NVDK
A3: 1 | B3: m | P3: =WEEKDAY(DATEVALUE($A3&"/"&P$1&"/"&Accueil!$B$6)) -> 4 | AD3: =WEEKDAY(DATEVALUE($A3&"/"&AD$1&"/"&Accueil!$B$6)) -> 7 | AR3: =WEEKDAY(DATEVALUE($A3&"/"&AR$1&"/"&Accueil!$B$6)) -> 2
B4: am | P4: =P3 -> 4 | AD4: =AD3 -> 7 | AR4: =AR3 -> 2
A5: 2 | B5: m | P5: =WEEKDAY(DATEVALUE(A5&"/"&P$1&"/"&Accueil!$B$6)) -> 5 | AD5: =WEEKDAY(DATEVALUE($A5&"/"&AD$1&"/"&Accueil!$B$6)) -> 1 | AR5: =WEEKDAY(DATEVALUE($A5&"/"&AR$1&"/"&Accueil!$B$6)) -> 3
B6: am | P6: =P5 -> 5 | AD6: =AD5 -> 1 | AR6: =AR5 -> 3
A7: 3 | B7: m | P7: =WEEKDAY(DATEVALUE(A7&"/"&P$1&"/"&Accueil!$B$6)) -> 6 | AD7: =WEEKDAY(DATEVALUE($A7&"/"&AD$1&"/"&Accueil!$B$6)) -> 2 | AR7: =WEEKDAY(DATEVALUE($A7&"/"&AR$1&"/"&Accueil!$B$6)) -> 4
B8: am | P8: =P7 -> 6 | AD8: =AD7 -> 2 | AR8: =AR7 -> 4
A9: 4 | B9: m | P9: =WEEKDAY(DATEVALUE(A9&"/"&P$1&"/"&Accueil!$B$6)) -> 7 | AD9: =WEEKDAY(DATEVALUE($A9&"/"&AD$1&"/"&Accueil!$B$6)) -> 3 | AR9: =WEEKDAY(DATEVALUE($A9&"/"&AR$1&"/"&Accueil!$B$6)) -> 5
B10: am | P10: =P9 -> 7 | AD10: =AD9 -> 3 | AR10: =AR9 -> 5
A11: 5 | B11: m | P11: =WEEKDAY(DATEVALUE(A11&"/"&P$1&"/"&Accueil!$B$6)) -> 1 | AD11: =WEEKDAY(DATEVALUE($A11&"/"&AD$1&"/"&Accueil!$B$6)) -> 4 | AR11: =WEEKDAY(DATEVALUE($A11&"/"&AR$1&"/"&Accueil!$B$6)) -> 6
B12: am | P12: =P11 -> 1 | AD12: =AD11 -> 4 | AR12: =AR11 -> 6
A13: 6 | B13: m | P13: =WEEKDAY(DATEVALUE(A13&"/"&P$1&"/"&Accueil!$B$6)) -> 2 | AD13: =WEEKDAY(DATEVALUE($A13&"/"&AD$1&"/"&Accueil!$B$6)) -> 5 | AR13: =WEEKDAY(DATEVALUE($A13&"/"&AR$1&"/"&Accueil!$B$6)) -> 7
B14: am | P14: =P13 -> 2 | AD14: =AD13 -> 5 | AR14: =AR13 -> 7
A15: 7 | B15: m | P15: =WEEKDAY(DATEVALUE(A15&"/"&P$1&"/"&Accueil!$B$6)) -> 3 | AD15: =WEEKDAY(DATEVALUE($A15&"/"&AD$1&"/"&Accueil!$B$6)) -> 6 | AR15: =WEEKDAY(DATEVALUE($A15&"/"&AR$1&"/"&Accueil!$B$6)) -> 1
B16: am | P16: =P15 -> 3 | AD16: =AD15 -> 6 | AR16: =AR15 -> 1
A17: 8 | B17: m | P17: =WEEKDAY(DATEVALUE(A17&"/"&P$1&"/"&Accueil!$B$6)) -> 4 | AD17: =WEEKDAY(DATEVALUE($A17&"/"&AD$1&"/"&Accueil!$B$6)) -> 7 | AR17: =WEEKDAY(DATEVALUE($A17&"/"&AR$1&"/"&Accueil!$B$6)) -> 2
B18: am | P18: =P17 -> 4 | AD18: =AD17 -> 7 | AR18: =AR17 -> 2
A19: 9 | B19: m | P19: =WEEKDAY(DATEVALUE(A19&"/"&P$1&"/"&Accueil!$B$6)) -> 5 | AD19: =WEEKDAY(DATEVALUE($A19&"/"&AD$1&"/"&Accueil!$B$6)) -> 1 | AR19: =WEEKDAY(DATEVALUE($A19&"/"&AR$1&"/"&Accueil!$B$6)) -> 3
B20: am | P20: =P19 -> 5 | AD20: =AD19 -> 1 | AR20: =AR19 -> 3
A21: 10 | B21: m | P21: =WEEKDAY(DATEVALUE(A21&"/"&P$1&"/"&Accueil!$B$6)) -> 6 | AD21: =WEEKDAY(DATEVALUE($A21&"/"&AD$1&"/"&Accueil!$B$6)) -> 2 | AR21: =WEEKDAY(DATEVALUE($A21&"/"&AR$1&"/"&Accueil!$B$6)) -> 4
B22: am | P22: =P21 -> 6 | AD22: =AD21 -> 2 | AR22: =AR21 -> 4
A23: 11 | B23: m | P23: =WEEKDAY(DATEVALUE(A23&"/"&P$1&"/"&Accueil!$B$6)) -> 7 | AD23: =WEEKDAY(DATEVALUE($A23&"/"&AD$1&"/"&Accueil!$B$6)) -> 3 | AR23: =WEEKDAY(DATEVALUE($A23&"/"&AR$1&"/"&Accueil!$B$6)) -> 5
B24: am | P24: =P23 -> 7 | AD24: =AD23 -> 3 | AR24: =AR23 -> 5
A25: 12 | B25: m | P25: =WEEKDAY(DATEVALUE(A25&"/"&P$1&"/"&Accueil!$B$6)) -> 1 | AD25: =WEEKDAY(DATEVALUE($A25&"/"&AD$1&"/"&Accueil!$B$6)) -> 4 | AR25: =WEEKDAY(DATEVALUE($A25&"/"&AR$1&"/"&Accueil!$B$6)) -> 6
B26: am | P26: =P25 -> 1 | AD26: =AD25 -> 4 | AR26: =AR25 -> 6
A27: 13 | B27: m | P27: =WEEKDAY(DATEVALUE(A27&"/"&P$1&"/"&Accueil!$B$6)) -> 2 | AD27: =WEEKDAY(DATEVALUE($A27&"/"&AD$1&"/"&Accueil!$B$6)) -> 5 | AR27: =WEEKDAY(DATEVALUE($A27&"/"&AR$1&"/"&Accueil!$B$6)) -> 7
B28: am | P28: =P27 -> 2 | AD28: =AD27 -> 5 | AR28: =AR27 -> 7
A29: 14 | B29: m | P29: =WEEKDAY(DATEVALUE(A29&"/"&P$1&"/"&Accueil!$B$6)) -> 3 | AD29: =WEEKDAY(DATEVALUE($A29&"/"&AD$1&"/"&Accueil!$B$6)) -> 6 | AR29: =WEEKDAY(DATEVALUE($A29&"/"&AR$1&"/"&Accueil!$B$6)) -> 1
B30: am | P30: =P29 -> 3 | AD30: =AD29 -> 6 | AR30: =AR29 -> 1
A31: 15 | B31: m | P31: =WEEKDAY(DATEVALUE(A31&"/"&P$1&"/"&Accueil!$B$6)) -> 4 | AD31: =WEEKDAY(DATEVALUE($A31&"/"&AD$1&"/"&Accueil!$B$6)) -> 7 | AR31: =WEEKDAY(DATEVALUE($A31&"/"&AR$1&"/"&Accueil!$B$6)) -> 2
B32: am | P32: =P31 -> 4 | AD32: =AD31 -> 7 | AR32: =AR31 -> 2
A33: 16 | B33: m | P33: =WEEKDAY(DATEVALUE(A33&"/"&P$1&"/"&Accueil!$B$6)) -> 5 | AD33: =WEEKDAY(DATEVALUE($A33&"/"&AD$1&"/"&Accueil!$B$6)) -> 1 | AR33: =WEEKDAY(DATEVALUE($A33&"/"&AR$1&"/"&Accueil!$B$6)) -> 3
B34: am | P34: =P33 -> 5 | AD34: =AD33 -> 1 | AR34: =AR33 -> 3
A35: 17 | B35: m | P35: =WEEKDAY(DATEVALUE(A35&"/"&P$1&"/"&Accueil!$B$6)) -> 6 | AD35: =WEEKDAY(DATEVALUE($A35&"/"&AD$1&"/"&Accueil!$B$6)) -> 2 | AR35: =WEEKDAY(DATEVALUE($A35&"/"&AR$1&"/"&Accueil!$B$6)) -> 4
B36: am | P36: =P35 -> 6 | AD36: =AD35 -> 2 | AR36: =AR35 -> 4
A37: 18 | B37: m | P37: =WEEKDAY(DATEVALUE(A37&"/"&P$1&"/"&Accueil!$B$6)) -> 7 | AD37: =WEEKDAY(DATEVALUE($A37&"/"&AD$1&"/"&Accueil!$B$6)) -> 3 | AR37: =WEEKDAY(DATEVALUE($A37&"/"&AR$1&"/"&Accueil!$B$6)) -> 5
B38: am | P38: =P37 -> 7 | AD38: =AD37 -> 3 | AR38: =AR37 -> 5
A39: 19 | B39: m | P39: =WEEKDAY(DATEVALUE(A39&"/"&P$1&"/"&Accueil!$B$6)) -> 1 | AD39: =WEEKDAY(DATEVALUE($A39&"/"&AD$1&"/"&Accueil!$B$6)) -> 4 | AR39: =WEEKDAY(DATEVALUE($A39&"/"&AR$1&"/"&Accueil!$B$6)) -> 6
B40: am | P40: =P39 -> 1 | AD40: =AD39 -> 4 | AR40: =AR39 -> 6
A41: 20 | B41: m | P41: =WEEKDAY(DATEVALUE(A41&"/"&P$1&"/"&Accueil!$B$6)) -> 2 | AD41: =WEEKDAY(DATEVALUE($A41&"/"&AD$1&"/"&Accueil!$B$6)) -> 5 | AR41: =WEEKDAY(DATEVALUE($A41&"/"&AR$1&"/"&Accueil!$B$6)) -> 7
B42: am | P42: =P41 -> 2 | AD42: =AD41 -> 5 | AR42: =AR41 -> 7
A43: 21 | B43: m | P43: =WEEKDAY(DATEVALUE(A43&"/"&P$1&"/"&Accueil!$B$6)) -> 3 | AD43: =WEEKDAY(DATEVALUE($A43&"/"&AD$1&"/"&Accueil!$B$6)) -> 6 | AR43: =WEEKDAY(DATEVALUE($A43&"/"&AR$1&"/"&Accueil!$B$6)) -> 1
B44: am | P44: =P43 -> 3 | AD44: =AD43 -> 6 | AR44: =AR43 -> 1
A45: 22 | B45: m | P45: =WEEKDAY(DATEVALUE(A45&"/"&P$1&"/"&Accueil!$B$6)) -> 4 | AD45: =WEEKDAY(DATEVALUE($A45&"/"&AD$1&"/"&Accueil!$B$6)) -> 7 | AR45: =WEEKDAY(DATEVALUE($A45&"/"&AR$1&"/"&Accueil!$B$6)) -> 2
B46: am | P46: =P45 -> 4 | AD46: =AD45 -> 7 | AR46: =AR45 -> 2
A47: 23 | B47: m | P47: =WEEKDAY(DATEVALUE(A47&"/"&P$1&"/"&Accueil!$B$6)) -> 5 | AD47: =WEEKDAY(DATEVALUE($A47&"/"&AD$1&"/"&Accueil!$B$6)) -> 1 | AR47: =WEEKDAY(DATEVALUE($A47&"/"&AR$1&"/"&Accueil!$B$6)) -> 3
B48: am | P48: =P47 -> 5 | AD48: =AD47 -> 1 | AR48: =AR47 -> 3
A49: 24 | B49: m | P49: =WEEKDAY(DATEVALUE(A49&"/"&P$1&"/"&Accueil!$B$6)) -> 6 | AD49: =WEEKDAY(DATEVALUE($A49&"/"&AD$1&"/"&Accueil!$B$6)) -> 2 | AR49: =WEEKDAY(DATEVALUE($A49&"/"&AR$1&"/"&Accueil!$B$6)) -> 4
B50: am | P50: =P49 -> 6 | AD50: =AD49 -> 2 | AR50: =AR49 -> 4
A51: 25 | B51: m | P51: =WEEKDAY(DATEVALUE(A51&"/"&P$1&"/"&Accueil!$B$6)) -> 7 | AD51: =WEEKDAY(DATEVALUE($A51&"/"&AD$1&"/"&Accueil!$B$6)) -> 3 | AR51: =WEEKDAY(DATEVALUE($A51&"/"&AR$1&"/"&Accueil!$B$6)) -> 5
B52: am | P52: =P51 -> 7 | AD52: =AD51 -> 3 | AR52: =AR51 -> 5
A53: 26 | B53: m | P53: =WEEKDAY(DATEVALUE(A53&"/"&P$1&"/"&Accueil!$B$6)) -> 1 | AD53: =WEEKDAY(DATEVALUE($A53&"/"&AD$1&"/"&Accueil!$B$6)) -> 4 | AR53: =WEEKDAY(DATEVALUE($A53&"/"&AR$1&"/"&Accueil!$B$6)) -> 6
B54: am | P54: =P53 -> 1 | AD54: =AD53 -> 4 | AR54: =AR53 -> 6
A55: 27 | B55: m | P55: =WEEKDAY(DATEVALUE(A55&"/"&P$1&"/"&Accueil!$B$6)) -> 2 | AD55: =WEEKDAY(DATEVALUE($A55&"/"&AD$1&"/"&Accueil!$B$6)) -> 5 | AR55: =WEEKDAY(DATEVALUE($A55&"/"&AR$1&"/"&Accueil!$B$6)) -> 7
B56: am | P56: =P55 -> 2 | AD56: =AD55 -> 5 | AR56: =AR55 -> 7
A57: 28 | B57: m | P57: =WEEKDAY(DATEVALUE(A57&"/"&P$1&"/"&Accueil!$B$6)) -> 3 | AD57: =WEEKDAY(DATEVALUE($A57&"/"&AD$1&"/"&Accueil!$B$6)) -> 6 | AR57: =WEEKDAY(DATEVALUE($A57&"/"&AR$1&"/"&Accueil!$B$6)) -> 1
B58: am | P58: =P57 -> 3 | AD58: =AD57 -> 6 | AR58: =AR57 -> 1
A59: 29 | B59: m | P59: =WEEKDAY(DATEVALUE(A59&"/"&P$1&"/"&Accueil!$B$6)) -> 4 | AD59: =WEEKDAY(DATEVALUE($A59&"/"&AD$1&"/"&Accueil!$B$6)) -> 7 | AR59: =WEEKDAY(DATEVALUE($A59&"/"&AR$1&"/"&Accueil!$B$6)) -> 2
B60: am | P60: =P59 -> 4 | AD60: =AD59 -> 7 | AR60: =AR59 -> 2
A61: 30 | B61: m | P61: =WEEKDAY(DATEVALUE(A61&"/"&P$1&"/"&Accueil!$B$6)) -> 5 | AD61: =WEEKDAY(DATEVALUE($A61&"/"&AD$1&"/"&Accueil!$B$6)) -> 1 | AR61: =WEEKDAY(DATEVALUE($A61&"/"&AR$1&"/"&Accueil!$B$6)) -> 3
B62: am | P62: =P61 -> 5 | AD62: =AD61 -> 1 | AR62: =AR61 -> 3
A63: 31 | B63: m | P63: =WEEKDAY(DATEVALUE(A63&"/"&P$1&"/"&Accueil!$B$6)) -> 6 | AD63: =WEEKDAY(DATEVALUE($A63&"/"&AD$1&"/"&Accueil!$B$6)) -> #VALUE! | AR63: =WEEKDAY(DATEVALUE($A63&"/"&AR$1&"/"&Accueil!$B$6)) -> 4
B64: am | P64: =P63 -> 6 | AD64: =AD63 -> #VALUE! | AR64: =AR63 -> 4
C66: =C2 -> VP | D66: =D2 -> JR | E66: =E2 -> AB | F66: =F2 -> CC | G66: =G2 -> MPEA | H66: =H2 -> BFC | I66: =I2 -> MF | J66: =J2 -> NH | ... O66: =O2 -> NVDK | Q66: =Q2 -> VP | R66: =R2 -> JR | S66: =S2 -> AB | T66: =T2 -> CC | U66: =U2 -> MPEA | V66: =V2 -> BFC | W66: =W2 -> MF | X66: =X2 -> NH | ... AC66: =AC2 -> NVDK | AE66: =AE2 -> VP | AF66: =AF2 -> JR | AG66: =AG2 -> AB | AH66: =AH2 -> CC | AI66: =AI2 -> MPEA | AJ66: =AJ2 -> BFC | AK66: =AK2 -> MF | AL66: =AL2 -> NH | ... AQ66: =AQ2 -> NVDK
A67: =Accueil!G11 -> PR | C67: =COUNTIF(C$3:C$64,$A67) -> 0 | D67: =COUNTIF(D$3:D$64,$A67) -> 0 | E67: =COUNTIF(E$3:E$64,$A67) -> 0 | F67: =COUNTIF(F$3:F$64,$A67) -> 0 | G67: =COUNTIF(G$3:G$64,$A67) -> 0 | H67: =COUNTIF(H$3:H$64,$A67) -> 0 | I67: =COUNTIF(I$3:I$64,$A67) -> 0 | J67: =COUNTIF(J$3:J$64,$A67) -> 0 | ... O67: =COUNTIF(O$3:O$64,$A67) -> 0 | Q67: =COUNTIF(Q$3:Q$64,$A67) -> 0 | R67: =COUNTIF(R$3:R$64,$A67) -> 0 | S67: =COUNTIF(S$3:S$64,$A67) -> 0 | T67: =COUNTIF(T$3:T$64,$A67) -> 0 | U67: =COUNTIF(U$3:U$64,$A67) -> 0 | V67: =COUNTIF(V$3:V$64,$A67) -> 0 | W67: =COUNTIF(W$3:W$64,$A67) -> 0 | X67: =COUNTIF(X$3:X$64,$A67) -> 0 | ... AC67: =COUNTIF(AC$3:AC$64,$A67) -> 0 | AE67: =COUNTIF(AE$3:AE$64,$A67) -> 0 | AF67: =COUNTIF(AF$3:AF$64,$A67) -> 0 | AG67: =COUNTIF(AG$3:AG$64,$A67) -> 0 | AH67: =COUNTIF(AH$3:AH$64,$A67) -> 0 | AI67: =COUNTIF(AI$3:AI$64,$A67) -> 0 | AJ67: =COUNTIF(AJ$3:AJ$64,$A67) -> 0 | AK67: =COUNTIF(AK$3:AK$64,$A67) -> 0 | AL67: =COUNTIF(AL$3:AL$64,$A67) -> 0 | ... AQ67: =COUNTIF(AQ$3:AQ$64,$A67) -> 0
A68: =Accueil!G12 -> AT | C68: =COUNTIF(C$3:C$64,$A68) -> 0 | D68: =COUNTIF(D$3:D$64,$A68) -> 0 | E68: =COUNTIF(E$3:E$64,$A68) -> 0 | F68: =COUNTIF(F$3:F$64,$A68) -> 0 | G68: =COUNTIF(G$3:G$64,$A68) -> 0 | H68: =COUNTIF(H$3:H$64,$A68) -> 0 | I68: =COUNTIF(I$3:I$64,$A68) -> 0 | J68: =COUNTIF(J$3:J$64,$A68) -> 0 | ... O68: =COUNTIF(O$3:O$64,$A68) -> 0 | Q68: =COUNTIF(Q$3:Q$64,$A68) -> 0 | R68: =COUNTIF(R$3:R$64,$A68) -> 0 | S68: =COUNTIF(S$3:S$64,$A68) -> 0 | T68: =COUNTIF(T$3:T$64,$A68) -> 0 | U68: =COUNTIF(U$3:U$64,$A68) -> 0 | V68: =COUNTIF(V$3:V$64,$A68) -> 0 | W68: =COUNTIF(W$3:W$64,$A68) -> 0 | X68: =COUNTIF(X$3:X$64,$A68) -> 0 | ... AC68: =COUNTIF(AC$3:AC$64,$A68) -> 0 | AE68: =COUNTIF(AE$3:AE$64,$A68) -> 0 | AF68: =COUNTIF(AF$3:AF$64,$A68) -> 0 | AG68: =COUNTIF(AG$3:AG$64,$A68) -> 0 | AH68: =COUNTIF(AH$3:AH$64,$A68) -> 0 | AI68: =COUNTIF(AI$3:AI$64,$A68) -> 0 | AJ68: =COUNTIF(AJ$3:AJ$64,$A68) -> 0 | AK68: =COUNTIF(AK$3:AK$64,$A68) -> 0 | AL68: =COUNTIF(AL$3:AL$64,$A68) -> 0 | ... AQ68: =COUNTIF(AQ$3:AQ$64,$A68) -> 0
A69: =Accueil!G13 -> FO | C69: =COUNTIF(C$3:C$64,$A69) -> 0 | D69: =COUNTIF(D$3:D$64,$A69) -> 0 | E69: =COUNTIF(E$3:E$64,$A69) -> 0 | F69: =COUNTIF(F$3:F$64,$A69) -> 0 | G69: =COUNTIF(G$3:G$64,$A69) -> 0 | H69: =COUNTIF(H$3:H$64,$A69) -> 0 | I69: =COUNTIF(I$3:I$64,$A69) -> 0 | J69: =COUNTIF(J$3:J$64,$A69) -> 0 | ... O69: =COUNTIF(O$3:O$64,$A69) -> 0 | Q69: =COUNTIF(Q$3:Q$64,$A69) -> 0 | R69: =COUNTIF(R$3:R$64,$A69) -> 0 | S69: =COUNTIF(S$3:S$64,$A69) -> 0 | T69: =COUNTIF(T$3:T$64,$A69) -> 0 | U69: =COUNTIF(U$3:U$64,$A69) -> 0 | V69: =COUNTIF(V$3:V$64,$A69) -> 0 | W69: =COUNTIF(W$3:W$64,$A69) -> 0 | X69: =COUNTIF(X$3:X$64,$A69) -> 0 | ... AC69: =COUNTIF(AC$3:AC$64,$A69) -> 0 | AE69: =COUNTIF(AE$3:AE$64,$A69) -> 0 | AF69: =COUNTIF(AF$3:AF$64,$A69) -> 0 | AG69: =COUNTIF(AG$3:AG$64,$A69) -> 0 | AH69: =COUNTIF(AH$3:AH$64,$A69) -> 0 | AI69: =COUNTIF(AI$3:AI$64,$A69) -> 0 | AJ69: =COUNTIF(AJ$3:AJ$64,$A69) -> 0 | AK69: =COUNTIF(AK$3:AK$64,$A69) -> 0 | AL69: =COUNTIF(AL$3:AL$64,$A69) -> 0 | ... AQ69: =COUNTIF(AQ$3:AQ$64,$A69) -> 0
A70: =Accueil!G14 -> CP | C70: =COUNTIF(C$3:C$64,$A70) -> 0 | D70: =COUNTIF(D$3:D$64,$A70) -> 0 | E70: =COUNTIF(E$3:E$64,$A70) -> 0 | F70: =COUNTIF(F$3:F$64,$A70) -> 0 | G70: =COUNTIF(G$3:G$64,$A70) -> 0 | H70: =COUNTIF(H$3:H$64,$A70) -> 0 | I70: =COUNTIF(I$3:I$64,$A70) -> 0 | J70: =COUNTIF(J$3:J$64,$A70) -> 0 | ... O70: =COUNTIF(O$3:O$64,$A70) -> 0 | Q70: =COUNTIF(Q$3:Q$64,$A70) -> 0 | R70: =COUNTIF(R$3:R$64,$A70) -> 0 | S70: =COUNTIF(S$3:S$64,$A70) -> 0 | T70: =COUNTIF(T$3:T$64,$A70) -> 0 | U70: =COUNTIF(U$3:U$64,$A70) -> 0 | V70: =COUNTIF(V$3:V$64,$A70) -> 0 | W70: =COUNTIF(W$3:W$64,$A70) -> 0 | X70: =COUNTIF(X$3:X$64,$A70) -> 0 | ... AC70: =COUNTIF(AC$3:AC$64,$A70) -> 0 | AE70: =COUNTIF(AE$3:AE$64,$A70) -> 0 | AF70: =COUNTIF(AF$3:AF$64,$A70) -> 0 | AG70: =COUNTIF(AG$3:AG$64,$A70) -> 0 | AH70: =COUNTIF(AH$3:AH$64,$A70) -> 0 | AI70: =COUNTIF(AI$3:AI$64,$A70) -> 0 | AJ70: =COUNTIF(AJ$3:AJ$64,$A70) -> 0 | AK70: =COUNTIF(AK$3:AK$64,$A70) -> 0 | AL70: =COUNTIF(AL$3:AL$64,$A70) -> 0 | ... AQ70: =COUNTIF(AQ$3:AQ$64,$A70) -> 0
A71: =Accueil!G15 -> AC | C71: =COUNTIF(C$3:C$64,$A71) -> 0 | D71: =COUNTIF(D$3:D$64,$A71) -> 0 | E71: =COUNTIF(E$3:E$64,$A71) -> 0 | F71: =COUNTIF(F$3:F$64,$A71) -> 0 | G71: =COUNTIF(G$3:G$64,$A71) -> 0 | H71: =COUNTIF(H$3:H$64,$A71) -> 0 | I71: =COUNTIF(I$3:I$64,$A71) -> 0 | J71: =COUNTIF(J$3:J$64,$A71) -> 0 | ... O71: =COUNTIF(O$3:O$64,$A71) -> 0 | Q71: =COUNTIF(Q$3:Q$64,$A71) -> 0 | R71: =COUNTIF(R$3:R$64,$A71) -> 0 | S71: =COUNTIF(S$3:S$64,$A71) -> 0 | T71: =COUNTIF(T$3:T$64,$A71) -> 0 | U71: =COUNTIF(U$3:U$64,$A71) -> 0 | V71: =COUNTIF(V$3:V$64,$A71) -> 0 | W71: =COUNTIF(W$3:W$64,$A71) -> 0 | X71: =COUNTIF(X$3:X$64,$A71) -> 0 | ... AC71: =COUNTIF(AC$3:AC$64,$A71) -> 0 | AE71: =COUNTIF(AE$3:AE$64,$A71) -> 0 | AF71: =COUNTIF(AF$3:AF$64,$A71) -> 0 | AG71: =COUNTIF(AG$3:AG$64,$A71) -> 0 | AH71: =COUNTIF(AH$3:AH$64,$A71) -> 0 | AI71: =COUNTIF(AI$3:AI$64,$A71) -> 0 | AJ71: =COUNTIF(AJ$3:AJ$64,$A71) -> 0 | AK71: =COUNTIF(AK$3:AK$64,$A71) -> 0 | AL71: =COUNTIF(AL$3:AL$64,$A71) -> 0 | ... AQ71: =COUNTIF(AQ$3:AQ$64,$A71) -> 0
A72: =Accueil!G16 -> MA | C72: =COUNTIF(C$3:C$64,$A72) -> 0 | D72: =COUNTIF(D$3:D$64,$A72) -> 0 | E72: =COUNTIF(E$3:E$64,$A72) -> 0 | F72: =COUNTIF(F$3:F$64,$A72) -> 0 | G72: =COUNTIF(G$3:G$64,$A72) -> 0 | H72: =COUNTIF(H$3:H$64,$A72) -> 0 | I72: =COUNTIF(I$3:I$64,$A72) -> 0 | J72: =COUNTIF(J$3:J$64,$A72) -> 0 | ... O72: =COUNTIF(O$3:O$64,$A72) -> 0 | Q72: =COUNTIF(Q$3:Q$64,$A72) -> 0 | R72: =COUNTIF(R$3:R$64,$A72) -> 0 | S72: =COUNTIF(S$3:S$64,$A72) -> 0 | T72: =COUNTIF(T$3:T$64,$A72) -> 0 | U72: =COUNTIF(U$3:U$64,$A72) -> 0 | V72: =COUNTIF(V$3:V$64,$A72) -> 0 | W72: =COUNTIF(W$3:W$64,$A72) -> 0 | X72: =COUNTIF(X$3:X$64,$A72) -> 0 | ... AC72: =COUNTIF(AC$3:AC$64,$A72) -> 0 | AE72: =COUNTIF(AE$3:AE$64,$A72) -> 0 | AF72: =COUNTIF(AF$3:AF$64,$A72) -> 0 | AG72: =COUNTIF(AG$3:AG$64,$A72) -> 0 | AH72: =COUNTIF(AH$3:AH$64,$A72) -> 0 | AI72: =COUNTIF(AI$3:AI$64,$A72) -> 0 | AJ72: =COUNTIF(AJ$3:AJ$64,$A72) -> 0 | AK72: =COUNTIF(AK$3:AK$64,$A72) -> 0 | AL72: =COUNTIF(AL$3:AL$64,$A72) -> 0 | ... AQ72: =COUNTIF(AQ$3:AQ$64,$A72) -> 0
A73: =Accueil!G17 -> PE | C73: =COUNTIF(C$3:C$64,$A73) -> 0 | D73: =COUNTIF(D$3:D$64,$A73) -> 0 | E73: =COUNTIF(E$3:E$64,$A73) -> 0 | F73: =COUNTIF(F$3:F$64,$A73) -> 0 | G73: =COUNTIF(G$3:G$64,$A73) -> 0 | H73: =COUNTIF(H$3:H$64,$A73) -> 0 | I73: =COUNTIF(I$3:I$64,$A73) -> 0 | J73: =COUNTIF(J$3:J$64,$A73) -> 0 | ... O73: =COUNTIF(O$3:O$64,$A73) -> 0 | Q73: =COUNTIF(Q$3:Q$64,$A73) -> 0 | R73: =COUNTIF(R$3:R$64,$A73) -> 0 | S73: =COUNTIF(S$3:S$64,$A73) -> 0 | T73: =COUNTIF(T$3:T$64,$A73) -> 0 | U73: =COUNTIF(U$3:U$64,$A73) -> 0 | V73: =COUNTIF(V$3:V$64,$A73) -> 0 | W73: =COUNTIF(W$3:W$64,$A73) -> 0 | X73: =COUNTIF(X$3:X$64,$A73) -> 0 | ... AC73: =COUNTIF(AC$3:AC$64,$A73) -> 0 | AE73: =COUNTIF(AE$3:AE$64,$A73) -> 0 | AF73: =COUNTIF(AF$3:AF$64,$A73) -> 0 | AG73: =COUNTIF(AG$3:AG$64,$A73) -> 0 | AH73: =COUNTIF(AH$3:AH$64,$A73) -> 0 | AI73: =COUNTIF(AI$3:AI$64,$A73) -> 0 | AJ73: =COUNTIF(AJ$3:AJ$64,$A73) -> 0 | AK73: =COUNTIF(AK$3:AK$64,$A73) -> 0 | AL73: =COUNTIF(AL$3:AL$64,$A73) -> 0 | ... AQ73: =COUNTIF(AQ$3:AQ$64,$A73) -> 0
A75: TR calculés | C75: =C67/2 -> 0 | D75: =D67/2 -> 0 | E75: =E67/2 -> 0 | F75: =F67/2 -> 0 | G75: =G67/2 -> 0 | H75: =H67/2 -> 0 | I75: =I67/2 -> 0 | J75: =J67/2 -> 0 | ... O75: =O67/2 -> 0 | Q75: =Q67/2 -> 0 | R75: =R67/2 -> 0 | S75: =S67/2 -> 0 | T75: =T67/2 -> 0 | U75: =U67/2 -> 0 | V75: =V67/2 -> 0 | W75: =W67/2 -> 0 | X75: =X67/2 -> 0 | ... AC75: =AC67/2 -> 0 | AE75: =AE67/2 -> 0 | AF75: =AF67/2 -> 0 | AG75: =AG67/2 -> 0 | AH75: =AH67/2 -> 0 | AI75: =AI67/2 -> 0 | AJ75: =AJ67/2 -> 0 | AK75: =AK67/2 -> 0 | AL75: =AL67/2 -> 0 | ... AQ75: =AQ67/2 -> 0
A76: TR (Réel)

Sheet TRIMESTRE 3
C1: JUILLET | P1: 7 | Q1: AOUT | AD1: 8 | AE1: SEPTEMBRE | AR1: 9
C2: {=TRANSPOSE(Accueil!$D$11:$D$23)} -> VP | D2: JR | E2: AB | F2: CC | G2: MPEA | H2: BFC | I2: MF | J2: NH | K2: CJ | L2: DP | M2: NPV | N2: VS | O2: NVDK | Q2: {=TRANSPOSE(Accueil!$D$11:$D$23)} -> VP | R2: JR | S2: AB | T2: CC | U2: MPEA | V2: BFC | W2: MF | X2: NH | Y2: CJ | Z2: DP | AA2: NPV | AB2: VS | AC2: NVDK | AE2: {=TRANSPOSE(Accueil!$D$11:$D$23)} -> VP | AF2: JR | AG2: AB | AH2: CC | AI2: MPEA | AJ2: BFC | AK2: MF | AL2: NH | AM2: CJ | AN2: DP | AO2: NPV | AP2: VS | AQ2: NVDK
A3: 1 | B3: m | P3: =WEEKDAY(DATEVALUE($A3&"/"&P$1&"/"&Accueil!$B$6)) -> 3 | AD3: =WEEKDAY(DATEVALUE($A3&"/"&AD$1&"/"&Accueil!$B$6)) -> 6 | AR3: =WEEKDAY(DATEVALUE($A3&"/"&AR$1&"/"&Accueil!$B$6)) -> 2
B4: am | P4: =P3 -> 3 | AD4: =AD3 -> 6 | AR4: =AR3 -> 2
A5: 2 | B5: m | P5: =WEEKDAY(DATEVALUE(A5&"/"&P$1&"/"&Accueil!$B$6)) -> 4 | AD5: =WEEKDAY(DATEVALUE($A5&"/"&AD$1&"/"&Accueil!$B$6)) -> 7 | AR5: =WEEKDAY(DATEVALUE($A5&"/"&AR$1&"/"&Accueil!$B$6)) -> 3
B6: am | P6: =P5 -> 4 | AD6: =AD5 -> 7 | AR6: =AR5 -> 3
A7: 3 | B7: m | P7: =WEEKDAY(DATEVALUE(A7&"/"&P$1&"/"&Accueil!$B$6)) -> 5 | AD7: =WEEKDAY(DATEVALUE($A7&"/"&AD$1&"/"&Accueil!$B$6)) -> 1 | AR7: =WEEKDAY(DATEVALUE($A7&"/"&AR$1&"/"&Accueil!$B$6)) -> 4
B8: am | P8: =P7 -> 5 | AD8: =AD7 -> 1 | AR8: =AR7 -> 4
A9: 4 | B9: m | P9: =WEEKDAY(DATEVALUE(A9&"/"&P$1&"/"&Accueil!$B$6)) -> 6 | AD9: =WEEKDAY(DATEVALUE($A9&"/"&AD$1&"/"&Accueil!$B$6)) -> 2 | AR9: =WEEKDAY(DATEVALUE($A9&"/"&AR$1&"/"&Accueil!$B$6)) -> 5
B10: am | P10: =P9 -> 6 | AD10: =AD9 -> 2 | AR10: =AR9 -> 5
A11: 5 | B11: m | P11: =WEEKDAY(DATEVALUE(A11&"/"&P$1&"/"&Accueil!$B$6)) -> 7 | AD11: =WEEKDAY(DATEVALUE($A11&"/"&AD$1&"/"&Accueil!$B$6)) -> 3 | AR11: =WEEKDAY(DATEVALUE($A11&"/"&AR$1&"/"&Accueil!$B$6)) -> 6
B12: am | P12: =P11 -> 7 | AD12: =AD11 -> 3 | AR12: =AR11 -> 6
A13: 6 | B13: m | P13: =WEEKDAY(DATEVALUE(A13&"/"&P$1&"/"&Accueil!$B$6)) -> 1 | AD13: =WEEKDAY(DATEVALUE($A13&"/"&AD$1&"/"&Accueil!$B$6)) -> 4 | AR13: =WEEKDAY(DATEVALUE($A13&"/"&AR$1&"/"&Accueil!$B$6)) -> 7
B14: am | P14: =P13 -> 1 | AD14: =AD13 -> 4 | AR14: =AR13 -> 7
A15: 7 | B15: m | P15: =WEEKDAY(DATEVALUE(A15&"/"&P$1&"/"&Accueil!$B$6)) -> 2 | AD15: =WEEKDAY(DATEVALUE($A15&"/"&AD$1&"/"&Accueil!$B$6)) -> 5 | AR15: =WEEKDAY(DATEVALUE($A15&"/"&AR$1&"/"&Accueil!$B$6)) -> 1
B16: am | P16: =P15 -> 2 | AD16: =AD15 -> 5 | AR16: =AR15 -> 1
A17: 8 | B17: m | P17: =WEEKDAY(DATEVALUE(A17&"/"&P$1&"/"&Accueil!$B$6)) -> 3 | AD17: =WEEKDAY(DATEVALUE($A17&"/"&AD$1&"/"&Accueil!$B$6)) -> 6 | AR17: =WEEKDAY(DATEVALUE($A17&"/"&AR$1&"/"&Accueil!$B$6)) -> 2
B18: am | P18: =P17 -> 3 | AD18: =AD17 -> 6 | AR18: =AR17 -> 2
A19: 9 | B19: m | P19: =WEEKDAY(DATEVALUE(A19&"/"&P$1&"/"&Accueil!$B$6)) -> 4 | AD19: =WEEKDAY(DATEVALUE($A19&"/"&AD$1&"/"&Accueil!$B$6)) -> 7 | AR19: =WEEKDAY(DATEVALUE($A19&"/"&AR$1&"/"&Accueil!$B$6)) -> 3
B20: am | P20: =P19 -> 4 | AD20: =AD19 -> 7 | AR20: =AR19 -> 3
A21: 10 | B21: m | P21: =WEEKDAY(DATEVALUE(A21&"/"&P$1&"/"&Accueil!$B$6)) -> 5 | AD21: =WEEKDAY(DATEVALUE($A21&"/"&AD$1&"/"&Accueil!$B$6)) -> 1 | AR21: =WEEKDAY(DATEVALUE($A21&"/"&AR$1&"/"&Accueil!$B$6)) -> 4
B22: am | P22: =P21 -> 5 | AD22: =AD21 -> 1 | AR22: =AR21 -> 4
A23: 11 | B23: m | P23: =WEEKDAY(DATEVALUE(A23&"/"&P$1&"/"&Accueil!$B$6)) -> 6 | AD23: =WEEKDAY(DATEVALUE($A23&"/"&AD$1&"/"&Accueil!$B$6)) -> 2 | AR23: =WEEKDAY(DATEVALUE($A23&"/"&AR$1&"/"&Accueil!$B$6)) -> 5
B24: am | P24: =P23 -> 6 | AD24: =AD23 -> 2 | AR24: =AR23 -> 5
A25: 12 | B25: m | P25: =WEEKDAY(DATEVALUE(A25&"/"&P$1&"/"&Accueil!$B$6)) -> 7 | AD25: =WEEKDAY(DATEVALUE($A25&"/"&AD$1&"/"&Accueil!$B$6)) -> 3 | AR25: =WEEKDAY(DATEVALUE($A25&"/"&AR$1&"/"&Accueil!$B$6)) -> 6
B26: am | P26: =P25 -> 7 | AD26: =AD25 -> 3 | AR26: =AR25 -> 6
A27: 13 | B27: m | P27: =WEEKDAY(DATEVALUE(A27&"/"&P$1&"/"&Accueil!$B$6)) -> 1 | AD27: =WEEKDAY(DATEVALUE($A27&"/"&AD$1&"/"&Accueil!$B$6)) -> 4 | AR27: =WEEKDAY(DATEVALUE($A27&"/"&AR$1&"/"&Accueil!$B$6)) -> 7
B28: am | P28: =P27 -> 1 | AD28: =AD27 -> 4 | AR28: =AR27 -> 7
A29: 14 | B29: m | P29: =WEEKDAY(DATEVALUE(A29&"/"&P$1&"/"&Accueil!$B$6)) -> 2 | AD29: =WEEKDAY(DATEVALUE($A29&"/"&AD$1&"/"&Accueil!$B$6)) -> 5 | AR29: =WEEKDAY(DATEVALUE($A29&"/"&AR$1&"/"&Accueil!$B$6)) -> 1
B30: am | P30: =P29 -> 2 | AD30: =AD29 -> 5 | AR30: =AR29 -> 1
A31: 15 | B31: m | P31: =WEEKDAY(DATEVALUE(A31&"/"&P$1&"/"&Accueil!$B$6)) -> 3 | AD31: =WEEKDAY(DATEVALUE($A31&"/"&AD$1&"/"&Accueil!$B$6)) -> 6 | AR31: =WEEKDAY(DATEVALUE($A31&"/"&AR$1&"/"&Accueil!$B$6)) -> 2
B32: am | P32: =P31 -> 3 | AD32: =AD31 -> 6 | AR32: =AR31 -> 2
A33: 16 | B33: m | P33: =WEEKDAY(DATEVALUE(A33&"/"&P$1&"/"&Accueil!$B$6)) -> 4 | AD33: =WEEKDAY(DATEVALUE($A33&"/"&AD$1&"/"&Accueil!$B$6)) -> 7 | AR33: =WEEKDAY(DATEVALUE($A33&"/"&AR$1&"/"&Accueil!$B$6)) -> 3
B34: am | P34: =P33 -> 4 | AD34: =AD33 -> 7 | AR34: =AR33 -> 3
A35: 17 | B35: m | P35: =WEEKDAY(DATEVALUE(A35&"/"&P$1&"/"&Accueil!$B$6)) -> 5 | AD35: =WEEKDAY(DATEVALUE($A35&"/"&AD$1&"/"&Accueil!$B$6)) -> 1 | AR35: =WEEKDAY(DATEVALUE($A35&"/"&AR$1&"/"&Accueil!$B$6)) -> 4
B36: am | P36: =P35 -> 5 | AD36: =AD35 -> 1 | AR36: =AR35 -> 4
A37: 18 | B37: m | P37: =WEEKDAY(DATEVALUE(A37&"/"&P$1&"/"&Accueil!$B$6)) -> 6 | AD37: =WEEKDAY(DATEVALUE($A37&"/"&AD$1&"/"&Accueil!$B$6)) -> 2 | AR37: =WEEKDAY(DATEVALUE($A37&"/"&AR$1&"/"&Accueil!$B$6)) -> 5
B38: am | P38: =P37 -> 6 | AD38: =AD37 -> 2 | AR38: =AR37 -> 5
A39: 19 | B39: m | P39: =WEEKDAY(DATEVALUE(A39&"/"&P$1&"/"&Accueil!$B$6)) -> 7 | AD39: =WEEKDAY(DATEVALUE($A39&"/"&AD$1&"/"&Accueil!$B$6)) -> 3 | AR39: =WEEKDAY(DATEVALUE($A39&"/"&AR$1&"/"&Accueil!$B$6)) -> 6
B40: am | P40: =P39 -> 7 | AD40: =AD39 -> 3 | AR40: =AR39 -> 6
A41: 20 | B41: m | P41: =WEEKDAY(DATEVALUE(A41&"/"&P$1&"/"&Accueil!$B$6)) -> 1 | AD41: =WEEKDAY(DATEVALUE($A41&"/"&AD$1&"/"&Accueil!$B$6)) -> 4 | AR41: =WEEKDAY(DATEVALUE($A41&"/"&AR$1&"/"&Accueil!$B$6)) -> 7
B42: am | P42: =P41 -> 1 | AD42: =AD41 -> 4 | AR42: =AR41 -> 7
A43: 21 | B43: m | P43: =WEEKDAY(DATEVALUE(A43&"/"&P$1&"/"&Accueil!$B$6)) -> 2 | AD43: =WEEKDAY(DATEVALUE($A43&"/"&AD$1&"/"&Accueil!$B$6)) -> 5 | AR43: =WEEKDAY(DATEVALUE($A43&"/"&AR$1&"/"&Accueil!$B$6)) -> 1
B44: am | P44: =P43 -> 2 | AD44: =AD43 -> 5 | AR44: =AR43 -> 1
A45: 22 | B45: m | P45: =WEEKDAY(DATEVALUE(A45&"/"&P$1&"/"&Accueil!$B$6)) -> 3 | AD45: =WEEKDAY(DATEVALUE($A45&"/"&AD$1&"/"&Accueil!$B$6)) -> 6 | AR45: =WEEKDAY(DATEVALUE($A45&"/"&AR$1&"/"&Accueil!$B$6)) -> 2
B46: am | P46: =P45 -> 3 | AD46: =AD45 -> 6 | AR46: =AR45 -> 2
A47: 23 | B47: m | P47: =WEEKDAY(DATEVALUE(A47&"/"&P$1&"/"&Accueil!$B$6)) -> 4 | AD47: =WEEKDAY(DATEVALUE($A47&"/"&AD$1&"/"&Accueil!$B$6)) -> 7 | AR47: =WEEKDAY(DATEVALUE($A47&"/"&AR$1&"/"&Accueil!$B$6)) -> 3
B48: am | P48: =P47 -> 4 | AD48: =AD47 -> 7 | AR48: =AR47 -> 3
A49: 24 | B49: m | P49: =WEEKDAY(DATEVALUE(A49&"/"&P$1&"/"&Accueil!$B$6)) -> 5 | AD49: =WEEKDAY(DATEVALUE($A49&"/"&AD$1&"/"&Accueil!$B$6)) -> 1 | AR49: =WEEKDAY(DATEVALUE($A49&"/"&AR$1&"/"&Accueil!$B$6)) -> 4
B50: am | P50: =P49 -> 5 | AD50: =AD49 -> 1 | AR50: =AR49 -> 4
A51: 25 | B51: m | P51: =WEEKDAY(DATEVALUE(A51&"/"&P$1&"/"&Accueil!$B$6)) -> 6 | AD51: =WEEKDAY(DATEVALUE($A51&"/"&AD$1&"/"&Accueil!$B$6)) -> 2 | AR51: =WEEKDAY(DATEVALUE($A51&"/"&AR$1&"/"&Accueil!$B$6)) -> 5
B52: am | P52: =P51 -> 6 | AD52: =AD51 -> 2 | AR52: =AR51 -> 5
A53: 26 | B53: m | P53: =WEEKDAY(DATEVALUE(A53&"/"&P$1&"/"&Accueil!$B$6)) -> 7 | AD53: =WEEKDAY(DATEVALUE($A53&"/"&AD$1&"/"&Accueil!$B$6)) -> 3 | AR53: =WEEKDAY(DATEVALUE($A53&"/"&AR$1&"/"&Accueil!$B$6)) -> 6
B54: am | P54: =P53 -> 7 | AD54: =AD53 -> 3 | AR54: =AR53 -> 6
A55: 27 | B55: m | P55: =WEEKDAY(DATEVALUE(A55&"/"&P$1&"/"&Accueil!$B$6)) -> 1 | AD55: =WEEKDAY(DATEVALUE($A55&"/"&AD$1&"/"&Accueil!$B$6)) -> 4 | AR55: =WEEKDAY(DATEVALUE($A55&"/"&AR$1&"/"&Accueil!$B$6)) -> 7
B56: am | P56: =P55 -> 1 | AD56: =AD55 -> 4 | AR56: =AR55 -> 7
A57: 28 | B57: m | P57: =WEEKDAY(DATEVALUE(A57&"/"&P$1&"/"&Accueil!$B$6)) -> 2 | AD57: =WEEKDAY(DATEVALUE($A57&"/"&AD$1&"/"&Accueil!$B$6)) -> 5 | AR57: =WEEKDAY(DATEVALUE($A57&"/"&AR$1&"/"&Accueil!$B$6)) -> 1
B58: am | P58: =P57 -> 2 | AD58: =AD57 -> 5 | AR58: =AR57 -> 1
A59: 29 | B59: m | P59: =WEEKDAY(DATEVALUE(A59&"/"&P$1&"/"&Accueil!$B$6)) -> 3 | AD59: =WEEKDAY(DATEVALUE($A59&"/"&AD$1&"/"&Accueil!$B$6)) -> 6 | AR59: =WEEKDAY(DATEVALUE($A59&"/"&AR$1&"/"&Accueil!$B$6)) -> 2
B60: am | P60: =P59 -> 3 | AD60: =AD59 -> 6 | AR60: =AR59 -> 2
A61: 30 | B61: m | P61: =WEEKDAY(DATEVALUE(A61&"/"&P$1&"/"&Accueil!$B$6)) -> 4 | AD61: =WEEKDAY(DATEVALUE($A61&"/"&AD$1&"/"&Accueil!$B$6)) -> 7 | AR61: =WEEKDAY(DATEVALUE($A61&"/"&AR$1&"/"&Accueil!$B$6)) -> 3
B62: am | P62: =P61 -> 4 | AD62: =AD61 -> 7 | AR62: =AR61 -> 3
A63: 31 | B63: m | P63: =WEEKDAY(DATEVALUE(A63&"/"&P$1&"/"&Accueil!$B$6)) -> 5 | AD63: =WEEKDAY(DATEVALUE($A63&"/"&AD$1&"/"&Accueil!$B$6)) -> 1 | AR63: =WEEKDAY(DATEVALUE($A63&"/"&AR$1&"/"&Accueil!$B$6)) -> #VALUE!
B64: am | P64: =P63 -> 5 | AD64: =AD63 -> 1 | AR64: =AR63 -> #VALUE!
C66: =C2 -> VP | D66: =D2 -> JR | E66: =E2 -> AB | F66: =F2 -> CC | G66: =G2 -> MPEA | H66: =H2 -> BFC | I66: =I2 -> MF | J66: =J2 -> NH | ... O66: =O2 -> NVDK | Q66: =Q2 -> VP | R66: =R2 -> JR | S66: =S2 -> AB | T66: =T2 -> CC | U66: =U2 -> MPEA | V66: =V2 -> BFC | W66: =W2 -> MF | X66: =X2 -> NH | ... AC66: =AC2 -> NVDK | AE66: =AE2 -> VP | AF66: =AF2 -> JR | AG66: =AG2 -> AB | AH66: =AH2 -> CC | AI66: =AI2 -> MPEA | AJ66: =AJ2 -> BFC | AK66: =AK2 -> MF | AL66: =AL2 -> NH | ... AQ66: =AQ2 -> NVDK
A67: =Accueil!G11 -> PR | C67: =COUNTIF(C$3:C$64,$A67) -> 0 | D67: =COUNTIF(D$3:D$64,$A67) -> 0 | E67: =COUNTIF(E$3:E$64,$A67) -> 0 | F67: =COUNTIF(F$3:F$64,$A67) -> 0 | G67: =COUNTIF(G$3:G$64,$A67) -> 0 | H67: =COUNTIF(H$3:H$64,$A67) -> 0 | I67: =COUNTIF(I$3:I$64,$A67) -> 0 | J67: =COUNTIF(J$3:J$64,$A67) -> 0 | ... O67: =COUNTIF(O$3:O$64,$A67) -> 0 | Q67: =COUNTIF(Q$3:Q$64,$A67) -> 0 | R67: =COUNTIF(R$3:R$64,$A67) -> 0 | S67: =COUNTIF(S$3:S$64,$A67) -> 0 | T67: =COUNTIF(T$3:T$64,$A67) -> 0 | U67: =COUNTIF(U$3:U$64,$A67) -> 0 | V67: =COUNTIF(V$3:V$64,$A67) -> 0 | W67: =COUNTIF(W$3:W$64,$A67) -> 0 | X67: =COUNTIF(X$3:X$64,$A67) -> 0 | ... AC67: =COUNTIF(AC$3:AC$64,$A67) -> 0 | AE67: =COUNTIF(AE$3:AE$64,$A67) -> 0 | AF67: =COUNTIF(AF$3:AF$64,$A67) -> 0 | AG67: =COUNTIF(AG$3:AG$64,$A67) -> 0 | AH67: =COUNTIF(AH$3:AH$64,$A67) -> 0 | AI67: =COUNTIF(AI$3:AI$64,$A67) -> 0 | AJ67: =COUNTIF(AJ$3:AJ$64,$A67) -> 0 | AK67: =COUNTIF(AK$3:AK$64,$A67) -> 0 | AL67: =COUNTIF(AL$3:AL$64,$A67) -> 0 | ... AQ67: =COUNTIF(AQ$3:AQ$64,$A67) -> 0
A68: =Accueil!G12 -> AT | C68: =COUNTIF(C$3:C$64,$A68) -> 0 | D68: =COUNTIF(D$3:D$64,$A68) -> 0 | E68: =COUNTIF(E$3:E$64,$A68) -> 0 | F68: =COUNTIF(F$3:F$64,$A68) -> 0 | G68: =COUNTIF(G$3:G$64,$A68) -> 0 | H68: =COUNTIF(H$3:H$64,$A68) -> 0 | I68: =COUNTIF(I$3:I$64,$A68) -> 0 | J68: =COUNTIF(J$3:J$64,$A68) -> 0 | ... O68: =COUNTIF(O$3:O$64,$A68) -> 0 | Q68: =COUNTIF(Q$3:Q$64,$A68) -> 0 | R68: =COUNTIF(R$3:R$64,$A68) -> 0 | S68: =COUNTIF(S$3:S$64,$A68) -> 0 | T68: =COUNTIF(T$3:T$64,$A68) -> 0 | U68: =COUNTIF(U$3:U$64,$A68) -> 0 | V68: =COUNTIF(V$3:V$64,$A68) -> 0 | W68: =COUNTIF(W$3:W$64,$A68) -> 0 | X68: =COUNTIF(X$3:X$64,$A68) -> 0 | ... AC68: =COUNTIF(AC$3:AC$64,$A68) -> 0 | AE68: =COUNTIF(AE$3:AE$64,$A68) -> 0 | AF68: =COUNTIF(AF$3:AF$64,$A68) -> 0 | AG68: =COUNTIF(AG$3:AG$64,$A68) -> 0 | AH68: =COUNTIF(AH$3:AH$64,$A68) -> 0 | AI68: =COUNTIF(AI$3:AI$64,$A68) -> 0 | AJ68: =COUNTIF(AJ$3:AJ$64,$A68) -> 0 | AK68: =COUNTIF(AK$3:AK$64,$A68) -> 0 | AL68: =COUNTIF(AL$3:AL$64,$A68) -> 0 | ... AQ68: =COUNTIF(AQ$3:AQ$64,$A68) -> 0
A69: =Accueil!G13 -> FO | C69: =COUNTIF(C$3:C$64,$A69) -> 0 | D69: =COUNTIF(D$3:D$64,$A69) -> 0 | E69: =COUNTIF(E$3:E$64,$A69) -> 0 | F69: =COUNTIF(F$3:F$64,$A69) -> 0 | G69: =COUNTIF(G$3:G$64,$A69) -> 0 | H69: =COUNTIF(H$3:H$64,$A69) -> 0 | I69: =COUNTIF(I$3:I$64,$A69) -> 0 | J69: =COUNTIF(J$3:J$64,$A69) -> 0 | ... O69: =COUNTIF(O$3:O$64,$A69) -> 0 | Q69: =COUNTIF(Q$3:Q$64,$A69) -> 0 | R69: =COUNTIF(R$3:R$64,$A69) -> 0 | S69: =COUNTIF(S$3:S$64,$A69) -> 0 | T69: =COUNTIF(T$3:T$64,$A69) -> 0 | U69: =COUNTIF(U$3:U$64,$A69) -> 0 | V69: =COUNTIF(V$3:V$64,$A69) -> 0 | W69: =COUNTIF(W$3:W$64,$A69) -> 0 | X69: =COUNTIF(X$3:X$64,$A69) -> 0 | ... AC69: =COUNTIF(AC$3:AC$64,$A69) -> 0 | AE69: =COUNTIF(AE$3:AE$64,$A69) -> 0 | AF69: =COUNTIF(AF$3:AF$64,$A69) -> 0 | AG69: =COUNTIF(AG$3:AG$64,$A69) -> 0 | AH69: =COUNTIF(AH$3:AH$64,$A69) -> 0 | AI69: =COUNTIF(AI$3:AI$64,$A69) -> 0 | AJ69: =COUNTIF(AJ$3:AJ$64,$A69) -> 0 | AK69: =COUNTIF(AK$3:AK$64,$A69) -> 0 | AL69: =COUNTIF(AL$3:AL$64,$A69) -> 0 | ... AQ69: =COUNTIF(AQ$3:AQ$64,$A69) -> 0
A70: =Accueil!G14 -> CP | C70: =COUNTIF(C$3:C$64,$A70) -> 0 | D70: =COUNTIF(D$3:D$64,$A70) -> 0 | E70: =COUNTIF(E$3:E$64,$A70) -> 0 | F70: =COUNTIF(F$3:F$64,$A70) -> 0 | G70: =COUNTIF(G$3:G$64,$A70) -> 0 | H70: =COUNTIF(H$3:H$64,$A70) -> 0 | I70: =COUNTIF(I$3:I$64,$A70) -> 0 | J70: =COUNTIF(J$3:J$64,$A70) -> 0 | ... O70: =COUNTIF(O$3:O$64,$A70) -> 0 | Q70: =COUNTIF(Q$3:Q$64,$A70) -> 0 | R70: =COUNTIF(R$3:R$64,$A70) -> 0 | S70: =COUNTIF(S$3:S$64,$A70) -> 0 | T70: =COUNTIF(T$3:T$64,$A70) -> 0 | U70: =COUNTIF(U$3:U$64,$A70) -> 0 | V70: =COUNTIF(V$3:V$64,$A70) -> 0 | W70: =COUNTIF(W$3:W$64,$A70) -> 0 | X70: =COUNTIF(X$3:X$64,$A70) -> 0 | ... AC70: =COUNTIF(AC$3:AC$64,$A70) -> 0 | AE70: =COUNTIF(AE$3:AE$64,$A70) -> 0 | AF70: =COUNTIF(AF$3:AF$64,$A70) -> 0 | AG70: =COUNTIF(AG$3:AG$64,$A70) -> 0 | AH70: =COUNTIF(AH$3:AH$64,$A70) -> 0 | AI70: =COUNTIF(AI$3:AI$64,$A70) -> 0 | AJ70: =COUNTIF(AJ$3:AJ$64,$A70) -> 0 | AK70: =COUNTIF(AK$3:AK$64,$A70) -> 0 | AL70: =COUNTIF(AL$3:AL$64,$A70) -> 0 | ... AQ70: =COUNTIF(AQ$3:AQ$64,$A70) -> 0
A71: =Accueil!G15 -> AC | C71: =COUNTIF(C$3:C$64,$A71) -> 0 | D71: =COUNTIF(D$3:D$64,$A71) -> 0 | E71: =COUNTIF(E$3:E$64,$A71) -> 0 | F71: =COUNTIF(F$3:F$64,$A71) -> 0 | G71: =COUNTIF(G$3:G$64,$A71) -> 0 | H71: =COUNTIF(H$3:H$64,$A71) -> 0 | I71: =COUNTIF(I$3:I$64,$A71) -> 0 | J71: =COUNTIF(J$3:J$64,$A71) -> 0 | ... O71: =COUNTIF(O$3:O$64,$A71) -> 0 | Q71: =COUNTIF(Q$3:Q$64,$A71) -> 0 | R71: =COUNTIF(R$3:R$64,$A71) -> 0 | S71: =COUNTIF(S$3:S$64,$A71) -> 0 | T71: =COUNTIF(T$3:T$64,$A71) -> 0 | U71: =COUNTIF(U$3:U$64,$A71) -> 0 | V71: =COUNTIF(V$3:V$64,$A71) -> 0 | W71: =COUNTIF(W$3:W$64,$A71) -> 0 | X71: =COUNTIF(X$3:X$64,$A71) -> 0 | ... AC71: =COUNTIF(AC$3:AC$64,$A71) -> 0 | AE71: =COUNTIF(AE$3:AE$64,$A71) -> 0 | AF71: =COUNTIF(AF$3:AF$64,$A71) -> 0 | AG71: =COUNTIF(AG$3:AG$64,$A71) -> 0 | AH71: =COUNTIF(AH$3:AH$64,$A71) -> 0 | AI71: =COUNTIF(AI$3:AI$64,$A71) -> 0 | AJ71: =COUNTIF(AJ$3:AJ$64,$A71) -> 0 | AK71: =COUNTIF(AK$3:AK$64,$A71) -> 0 | AL71: =COUNTIF(AL$3:AL$64,$A71) -> 0 | ... AQ71: =COUNTIF(AQ$3:AQ$64,$A71) -> 0
A72: =Accueil!G16 -> MA | C72: =COUNTIF(C$3:C$64,$A72) -> 0 | D72: =COUNTIF(D$3:D$64,$A72) -> 0 | E72: =COUNTIF(E$3:E$64,$A72) -> 0 | F72: =COUNTIF(F$3:F$64,$A72) -> 0 | G72: =COUNTIF(G$3:G$64,$A72) -> 0 | H72: =COUNTIF(H$3:H$64,$A72) -> 0 | I72: =COUNTIF(I$3:I$64,$A72) -> 0 | J72: =COUNTIF(J$3:J$64,$A72) -> 0 | ... O72: =COUNTIF(O$3:O$64,$A72) -> 0 | Q72: =COUNTIF(Q$3:Q$64,$A72) -> 0 | R72: =COUNTIF(R$3:R$64,$A72) -> 0 | S72: =COUNTIF(S$3:S$64,$A72) -> 0 | T72: =COUNTIF(T$3:T$64,$A72) -> 0 | U72: =COUNTIF(U$3:U$64,$A72) -> 0 | V72: =COUNTIF(V$3:V$64,$A72) -> 0 | W72: =COUNTIF(W$3:W$64,$A72) -> 0 | X72: =COUNTIF(X$3:X$64,$A72) -> 0 | ... AC72: =COUNTIF(AC$3:AC$64,$A72) -> 0 | AE72: =COUNTIF(AE$3:AE$64,$A72) -> 0 | AF72: =COUNTIF(AF$3:AF$64,$A72) -> 0 | AG72: =COUNTIF(AG$3:AG$64,$A72) -> 0 | AH72: =COUNTIF(AH$3:AH$64,$A72) -> 0 | AI72: =COUNTIF(AI$3:AI$64,$A72) -> 0 | AJ72: =COUNTIF(AJ$3:AJ$64,$A72) -> 0 | AK72: =COUNTIF(AK$3:AK$64,$A72) -> 0 | AL72: =COUNTIF(AL$3:AL$64,$A72) -> 0 | ... AQ72: =COUNTIF(AQ$3:AQ$64,$A72) -> 0
A73: =Accueil!G17 -> PE | C73: =COUNTIF(C$3:C$64,$A73) -> 0 | D73: =COUNTIF(D$3:D$64,$A73) -> 0 | E73: =COUNTIF(E$3:E$64,$A73) -> 0 | F73: =COUNTIF(F$3:F$64,$A73) -> 0 | G73: =COUNTIF(G$3:G$64,$A73) -> 0 | H73: =COUNTIF(H$3:H$64,$A73) -> 0 | I73: =COUNTIF(I$3:I$64,$A73) -> 0 | J73: =COUNTIF(J$3:J$64,$A73) -> 0 | ... O73: =COUNTIF(O$3:O$64,$A73) -> 0 | Q73: =COUNTIF(Q$3:Q$64,$A73) -> 0 | R73: =COUNTIF(R$3:R$64,$A73) -> 0 | S73: =COUNTIF(S$3:S$64,$A73) -> 0 | T73: =COUNTIF(T$3:T$64,$A73) -> 0 | U73: =COUNTIF(U$3:U$64,$A73) -> 0 | V73: =COUNTIF(V$3:V$64,$A73) -> 0 | W73: =COUNTIF(W$3:W$64,$A73) -> 0 | X73: =COUNTIF(X$3:X$64,$A73) -> 0 | ... AC73: =COUNTIF(AC$3:AC$64,$A73) -> 0 | AE73: =COUNTIF(AE$3:AE$64,$A73) -> 0 | AF73: =COUNTIF(AF$3:AF$64,$A73) -> 0 | AG73: =COUNTIF(AG$3:AG$64,$A73) -> 0 | AH73: =COUNTIF(AH$3:AH$64,$A73) -> 0 | AI73: =COUNTIF(AI$3:AI$64,$A73) -> 0 | AJ73: =COUNTIF(AJ$3:AJ$64,$A73) -> 0 | AK73: =COUNTIF(AK$3:AK$64,$A73) -> 0 | AL73: =COUNTIF(AL$3:AL$64,$A73) -> 0 | ... AQ73: =COUNTIF(AQ$3:AQ$64,$A73) -> 0
A75: TR calculés | C75: =C67/2 -> 0 | D75: =D67/2 -> 0 | E75: =E67/2 -> 0 | F75: =F67/2 -> 0 | G75: =G67/2 -> 0 | H75: =H67/2 -> 0 | I75: =I67/2 -> 0 | J75: =J67/2 -> 0 | ... O75: =O67/2 -> 0 | Q75: =Q67/2 -> 0 | R75: =R67/2 -> 0 | S75: =S67/2 -> 0 | T75: =T67/2 -> 0 | U75: =U67/2 -> 0 | V75: =V67/2 -> 0 | W75: =W67/2 -> 0 | X75: =X67/2 -> 0 | ... AC75: =AC67/2 -> 0 | AE75: =AE67/2 -> 0 | AF75: =AF67/2 -> 0 | AG75: =AG67/2 -> 0 | AH75: =AH67/2 -> 0 | AI75: =AI67/2 -> 0 | AJ75: =AJ67/2 -> 0 | AK75: =AK67/2 -> 0 | AL75: =AL67/2 -> 0 | ... AQ75: =AQ67/2 -> 0
A76: TR (Réel)

Sheet Synthèse annuelle
D2: {=TRANSPOSE(Accueil!$D$11:$D$23)} -> VP | E2: JR | F2: AB | G2: CC | H2: MPEA | I2: BFC | J2: MF | K2: NH | L2: CJ | M2: DP | N2: NPV | O2: VS | P2: NVDK
B5: =+Accueil!G11 -> PR | D5: ='TRIMESTRE 1'!C98+'TRIMESTRE 1'!Q98+'TRIMESTRE 1'!AE98+'TRIMESTRE 2'!C67+'TRIMESTRE 2'!Q67+'TRIMESTRE 2'!AE67+'TRIMESTRE 3'!C67+'TRIMESTRE 3'!Q67+'TRIMESTRE 3'!AE67+'TRIMESTRE 4'!C67+'TRIMESTRE 4'!Q67+'TRIMESTRE 4'!AE67 -> 2 | E5: ='TRIMESTRE 1'!D98+'TRIMESTRE 1'!R98+'TRIMESTRE 1'!AF98+'TRIMESTRE 2'!D67+'TRIMESTRE 2'!R67+'TRIMESTRE 2'!AF67+'TRIMESTRE 3'!D67+'TRIMESTRE 3'!R67+'TRIMESTRE 3'!AF67+'TRIMESTRE 4'!D67+'TRIMESTRE 4'!R67+'TRIMESTRE 4'!AF67 -> 0 | F5: ='TRIMESTRE 1'!E98+'TRIMESTRE 1'!S98+'TRIMESTRE 1'!AG98+'TRIMESTRE 2'!E67+'TRIMESTRE 2'!S67+'TRIMESTRE 2'!AG67+'TRIMESTRE 3'!E67+'TRIMESTRE 3'!S67+'TRIMESTRE 3'!AG67+'TRIMESTRE 4'!E67+'TRIMESTRE 4'!S67+'TRIMESTRE 4'!AG67 -> 0 | G5: ='TRIMESTRE 1'!F98+'TRIMESTRE 1'!T98+'TRIMESTRE 1'!AH98+'TRIMESTRE 2'!F67+'TRIMESTRE 2'!T67+'TRIMESTRE 2'!AH67+'TRIMESTRE 3'!F67+'TRIMESTRE 3'!T67+'TRIMESTRE 3'!AH67+'TRIMESTRE 4'!F67+'TRIMESTRE 4'!T67+'TRIMESTRE 4'!AH67 -> 0 | H5: ='TRIMESTRE 1'!G98+'TRIMESTRE 1'!U98+'TRIMESTRE 1'!AI98+'TRIMESTRE 2'!G67+'TRIMESTRE 2'!U67+'TRIMESTRE 2'!AI67+'TRIMESTRE 3'!G67+'TRIMESTRE 3'!U67+'TRIMESTRE 3'!AI67+'TRIMESTRE 4'!G67+'TRIMESTRE 4'!U67+'TRIMESTRE 4'!AI67 -> 0 | I5: ='TRIMESTRE 1'!H98+'TRIMESTRE 1'!V98+'TRIMESTRE 1'!AJ98+'TRIMESTRE 2'!H67+'TRIMESTRE 2'!V67+'TRIMESTRE 2'!AJ67+'TRIMESTRE 3'!H67+'TRIMESTRE 3'!V67+'TRIMESTRE 3'!AJ67+'TRIMESTRE 4'!H67+'TRIMESTRE 4'!V67+'TRIMESTRE 4'!AJ67 -> 0 | J5: ='TRIMESTRE 1'!I98+'TRIMESTRE 1'!W98+'TRIMESTRE 1'!AK98+'TRIMESTRE 2'!I67+'TRIMESTRE 2'!W67+'TRIMESTRE 2'!AK67+'TRIMESTRE 3'!I67+'TRIMESTRE 3'!W67+'TRIMESTRE 3'!AK67+'TRIMESTRE 4'!I67+'TRIMESTRE 4'!W67+'TRIMESTRE 4'!AK67 -> 0 | K5: ='TRIMESTRE 1'!J98+'TRIMESTRE 1'!X98+'TRIMESTRE 1'!AL98+'TRIMESTRE 2'!J67+'TRIMESTRE 2'!X67+'TRIMESTRE 2'!AL67+'TRIMESTRE 3'!J67+'TRIMESTRE 3'!X67+'TRIMESTRE 3'!AL67+'TRIMESTRE 4'!J67+'TRIMESTRE 4'!X67+'TRIMESTRE 4'!AL67 -> 0 | ... P5: ='TRIMESTRE 1'!O98+'TRIMESTRE 1'!AC98+'TRIMESTRE 1'!AQ98+'TRIMESTRE 2'!O67+'TRIMESTRE 2'!AC67+'TRIMESTRE 2'!AQ67+'TRIMESTRE 3'!O67+'TRIMESTRE 3'!AC67+'TRIMESTRE 3'!AQ67+'TRIMESTRE 4'!O67+'TRIMESTRE 4'!AC67+'TRIMESTRE 4'!AQ67 -> 0
B6: =+Accueil!G12 -> AT | D6: ='TRIMESTRE 1'!C99+'TRIMESTRE 1'!Q99+'TRIMESTRE 1'!AE99+'TRIMESTRE 2'!C68+'TRIMESTRE 2'!Q68+'TRIMESTRE 2'!AE68+'TRIMESTRE 3'!C68+'TRIMESTRE 3'!Q68+'TRIMESTRE 3'!AE68+'TRIMESTRE 4'!C68+'TRIMESTRE 4'!Q68+'TRIMESTRE 4'!AE68 -> 0 | E6: ='TRIMESTRE 1'!D99+'TRIMESTRE 1'!R99+'TRIMESTRE 1'!AF99+'TRIMESTRE 2'!D68+'TRIMESTRE 2'!R68+'TRIMESTRE 2'!AF68+'TRIMESTRE 3'!D68+'TRIMESTRE 3'!R68+'TRIMESTRE 3'!AF68+'TRIMESTRE 4'!D68+'TRIMESTRE 4'!R68+'TRIMESTRE 4'!AF68 -> 0 | F6: ='TRIMESTRE 1'!E99+'TRIMESTRE 1'!S99+'TRIMESTRE 1'!AG99+'TRIMESTRE 2'!E68+'TRIMESTRE 2'!S68+'TRIMESTRE 2'!AG68+'TRIMESTRE 3'!E68+'TRIMESTRE 3'!S68+'TRIMESTRE 3'!AG68+'TRIMESTRE 4'!E68+'TRIMESTRE 4'!S68+'TRIMESTRE 4'!AG68 -> 0 | G6: ='TRIMESTRE 1'!F99+'TRIMESTRE 1'!T99+'TRIMESTRE 1'!AH99+'TRIMESTRE 2'!F68+'TRIMESTRE 2'!T68+'TRIMESTRE 2'!AH68+'TRIMESTRE 3'!F68+'TRIMESTRE 3'!T68+'TRIMESTRE 3'!AH68+'TRIMESTRE 4'!F68+'TRIMESTRE 4'!T68+'TRIMESTRE 4'!AH68 -> 0 | H6: ='TRIMESTRE 1'!G99+'TRIMESTRE 1'!U99+'TRIMESTRE 1'!AI99+'TRIMESTRE 2'!G68+'TRIMESTRE 2'!U68+'TRIMESTRE 2'!AI68+'TRIMESTRE 3'!G68+'TRIMESTRE 3'!U68+'TRIMESTRE 3'!AI68+'TRIMESTRE 4'!G68+'TRIMESTRE 4'!U68+'TRIMESTRE 4'!AI68 -> 0 | I6: ='TRIMESTRE 1'!H99+'TRIMESTRE 1'!V99+'TRIMESTRE 1'!AJ99+'TRIMESTRE 2'!H68+'TRIMESTRE 2'!V68+'TRIMESTRE 2'!AJ68+'TRIMESTRE 3'!H68+'TRIMESTRE 3'!V68+'TRIMESTRE 3'!AJ68+'TRIMESTRE 4'!H68+'TRIMESTRE 4'!V68+'TRIMESTRE 4'!AJ68 -> 0 | J6: ='TRIMESTRE 1'!I99+'TRIMESTRE 1'!W99+'TRIMESTRE 1'!AK99+'TRIMESTRE 2'!I68+'TRIMESTRE 2'!W68+'TRIMESTRE 2'!AK68+'TRIMESTRE 3'!I68+'TRIMESTRE 3'!W68+'TRIMESTRE 3'!AK68+'TRIMESTRE 4'!I68+'TRIMESTRE 4'!W68+'TRIMESTRE 4'!AK68 -> 0 | K6: ='TRIMESTRE 1'!J99+'TRIMESTRE 1'!X99+'TRIMESTRE 1'!AL99+'TRIMESTRE 2'!J68+'TRIMESTRE 2'!X68+'TRIMESTRE 2'!AL68+'TRIMESTRE 3'!J68+'TRIMESTRE 3'!X68+'TRIMESTRE 3'!AL68+'TRIMESTRE 4'!J68+'TRIMESTRE 4'!X68+'TRIMESTRE 4'!AL68 -> 0 | ... P6: ='TRIMESTRE 1'!O99+'TRIMESTRE 1'!AC99+'TRIMESTRE 1'!AQ99+'TRIMESTRE 2'!O68+'TRIMESTRE 2'!AC68+'TRIMESTRE 2'!AQ68+'TRIMESTRE 3'!O68+'TRIMESTRE 3'!AC68+'TRIMESTRE 3'!AQ68+'TRIMESTRE 4'!O68+'TRIMESTRE 4'!AC68+'TRIMESTRE 4'!AQ68 -> 0
B7: =+Accueil!G13 -> FO | D7: ='TRIMESTRE 1'!C100+'TRIMESTRE 1'!Q100+'TRIMESTRE 1'!AE100+'TRIMESTRE 2'!C69+'TRIMESTRE 2'!Q69+'TRIMESTRE 2'!AE69+'TRIMESTRE 3'!C69+'TRIMESTRE 3'!Q69+'TRIMESTRE 3'!AE69+'TRIMESTRE 4'!C69+'TRIMESTRE 4'!Q69+'TRIMESTRE 4'!AE69 -> 0 | E7: ='TRIMESTRE 1'!D100+'TRIMESTRE 1'!R100+'TRIMESTRE 1'!AF100+'TRIMESTRE 2'!D69+'TRIMESTRE 2'!R69+'TRIMESTRE 2'!AF69+'TRIMESTRE 3'!D69+'TRIMESTRE 3'!R69+'TRIMESTRE 3'!AF69+'TRIMESTRE 4'!D69+'TRIMESTRE 4'!R69+'TRIMESTRE 4'!AF69 -> 0 | F7: ='TRIMESTRE 1'!E100+'TRIMESTRE 1'!S100+'TRIMESTRE 1'!AG100+'TRIMESTRE 2'!E69+'TRIMESTRE 2'!S69+'TRIMESTRE 2'!AG69+'TRIMESTRE 3'!E69+'TRIMESTRE 3'!S69+'TRIMESTRE 3'!AG69+'TRIMESTRE 4'!E69+'TRIMESTRE 4'!S69+'TRIMESTRE 4'!AG69 -> 0 | G7: ='TRIMESTRE 1'!F100+'TRIMESTRE 1'!T100+'TRIMESTRE 1'!AH100+'TRIMESTRE 2'!F69+'TRIMESTRE 2'!T69+'TRIMESTRE 2'!AH69+'TRIMESTRE 3'!F69+'TRIMESTRE 3'!T69+'TRIMESTRE 3'!AH69+'TRIMESTRE 4'!F69+'TRIMESTRE 4'!T69+'TRIMESTRE 4'!AH69 -> 0 | H7: ='TRIMESTRE 1'!G100+'TRIMESTRE 1'!U100+'TRIMESTRE 1'!AI100+'TRIMESTRE 2'!G69+'TRIMESTRE 2'!U69+'TRIMESTRE 2'!AI69+'TRIMESTRE 3'!G69+'TRIMESTRE 3'!U69+'TRIMESTRE 3'!AI69+'TRIMESTRE 4'!G69+'TRIMESTRE 4'!U69+'TRIMESTRE 4'!AI69 -> 0 | I7: ='TRIMESTRE 1'!H100+'TRIMESTRE 1'!V100+'TRIMESTRE 1'!AJ100+'TRIMESTRE 2'!H69+'TRIMESTRE 2'!V69+'TRIMESTRE 2'!AJ69+'TRIMESTRE 3'!H69+'TRIMESTRE 3'!V69+'TRIMESTRE 3'!AJ69+'TRIMESTRE 4'!H69+'TRIMESTRE 4'!V69+'TRIMESTRE 4'!AJ69 -> 0 | J7: ='TRIMESTRE 1'!I100+'TRIMESTRE 1'!W100+'TRIMESTRE 1'!AK100+'TRIMESTRE 2'!I69+'TRIMESTRE 2'!W69+'TRIMESTRE 2'!AK69+'TRIMESTRE 3'!I69+'TRIMESTRE 3'!W69+'TRIMESTRE 3'!AK69+'TRIMESTRE 4'!I69+'TRIMESTRE 4'!W69+'TRIMESTRE 4'!AK69 -> 0 | K7: ='TRIMESTRE 1'!J100+'TRIMESTRE 1'!X100+'TRIMESTRE 1'!AL100+'TRIMESTRE 2'!J69+'TRIMESTRE 2'!X69+'TRIMESTRE 2'!AL69+'TRIMESTRE 3'!J69+'TRIMESTRE 3'!X69+'TRIMESTRE 3'!AL69+'TRIMESTRE 4'!J69+'TRIMESTRE 4'!X69+'TRIMESTRE 4'!AL69 -> 0 | ... P7: ='TRIMESTRE 1'!O100+'TRIMESTRE 1'!AC100+'TRIMESTRE 1'!AQ100+'TRIMESTRE 2'!O69+'TRIMESTRE 2'!AC69+'TRIMESTRE 2'!AQ69+'TRIMESTRE 3'!O69+'TRIMESTRE 3'!AC69+'TRIMESTRE 3'!AQ69+'TRIMESTRE 4'!O69+'TRIMESTRE 4'!AC69+'TRIMESTRE 4'!AQ69 -> 0
B8: =+Accueil!G14 -> CP | D8: ='TRIMESTRE 1'!C101+'TRIMESTRE 1'!Q101+'TRIMESTRE 1'!AE101+'TRIMESTRE 2'!C70+'TRIMESTRE 2'!Q70+'TRIMESTRE 2'!AE70+'TRIMESTRE 3'!C70+'TRIMESTRE 3'!Q70+'TRIMESTRE 3'!AE70+'TRIMESTRE 4'!C70+'TRIMESTRE 4'!Q70+'TRIMESTRE 4'!AE70 -> 0 | E8: ='TRIMESTRE 1'!D101+'TRIMESTRE 1'!R101+'TRIMESTRE 1'!AF101+'TRIMESTRE 2'!D70+'TRIMESTRE 2'!R70+'TRIMESTRE 2'!AF70+'TRIMESTRE 3'!D70+'TRIMESTRE 3'!R70+'TRIMESTRE 3'!AF70+'TRIMESTRE 4'!D70+'TRIMESTRE 4'!R70+'TRIMESTRE 4'!AF70 -> 0 | F8: ='TRIMESTRE 1'!E101+'TRIMESTRE 1'!S101+'TRIMESTRE 1'!AG101+'TRIMESTRE 2'!E70+'TRIMESTRE 2'!S70+'TRIMESTRE 2'!AG70+'TRIMESTRE 3'!E70+'TRIMESTRE 3'!S70+'TRIMESTRE 3'!AG70+'TRIMESTRE 4'!E70+'TRIMESTRE 4'!S70+'TRIMESTRE 4'!AG70 -> 0 | G8: ='TRIMESTRE 1'!F101+'TRIMESTRE 1'!T101+'TRIMESTRE 1'!AH101+'TRIMESTRE 2'!F70+'TRIMESTRE 2'!T70+'TRIMESTRE 2'!AH70+'TRIMESTRE 3'!F70+'TRIMESTRE 3'!T70+'TRIMESTRE 3'!AH70+'TRIMESTRE 4'!F70+'TRIMESTRE 4'!T70+'TRIMESTRE 4'!AH70 -> 0 | H8: ='TRIMESTRE 1'!G101+'TRIMESTRE 1'!U101+'TRIMESTRE 1'!AI101+'TRIMESTRE 2'!G70+'TRIMESTRE 2'!U70+'TRIMESTRE 2'!AI70+'TRIMESTRE 3'!G70+'TRIMESTRE 3'!U70+'TRIMESTRE 3'!AI70+'TRIMESTRE 4'!G70+'TRIMESTRE 4'!U70+'TRIMESTRE 4'!AI70 -> 0 | I8: ='TRIMESTRE 1'!H101+'TRIMESTRE 1'!V101+'TRIMESTRE 1'!AJ101+'TRIMESTRE 2'!H70+'TRIMESTRE 2'!V70+'TRIMESTRE 2'!AJ70+'TRIMESTRE 3'!H70+'TRIMESTRE 3'!V70+'TRIMESTRE 3'!AJ70+'TRIMESTRE 4'!H70+'TRIMESTRE 4'!V70+'TRIMESTRE 4'!AJ70 -> 0 | J8: ='TRIMESTRE 1'!I101+'TRIMESTRE 1'!W101+'TRIMESTRE 1'!AK101+'TRIMESTRE 2'!I70+'TRIMESTRE 2'!W70+'TRIMESTRE 2'!AK70+'TRIMESTRE 3'!I70+'TRIMESTRE 3'!W70+'TRIMESTRE 3'!AK70+'TRIMESTRE 4'!I70+'TRIMESTRE 4'!W70+'TRIMESTRE 4'!AK70 -> 0 | K8: ='TRIMESTRE 1'!J101+'TRIMESTRE 1'!X101+'TRIMESTRE 1'!AL101+'TRIMESTRE 2'!J70+'TRIMESTRE 2'!X70+'TRIMESTRE 2'!AL70+'TRIMESTRE 3'!J70+'TRIMESTRE 3'!X70+'TRIMESTRE 3'!AL70+'TRIMESTRE 4'!J70+'TRIMESTRE 4'!X70+'TRIMESTRE 4'!AL70 -> 0 | ... P8: ='TRIMESTRE 1'!O101+'TRIMESTRE 1'!AC101+'TRIMESTRE 1'!AQ101+'TRIMESTRE 2'!O70+'TRIMESTRE 2'!AC70+'TRIMESTRE 2'!AQ70+'TRIMESTRE 3'!O70+'TRIMESTRE 3'!AC70+'TRIMESTRE 3'!AQ70+'TRIMESTRE 4'!O70+'TRIMESTRE 4'!AC70+'TRIMESTRE 4'!AQ70 -> 0
B9: =+Accueil!G15 -> AC | D9: ='TRIMESTRE 1'!C102+'TRIMESTRE 1'!Q102+'TRIMESTRE 1'!AE102+'TRIMESTRE 2'!C71+'TRIMESTRE 2'!Q71+'TRIMESTRE 2'!AE71+'TRIMESTRE 3'!C71+'TRIMESTRE 3'!Q71+'TRIMESTRE 3'!AE71+'TRIMESTRE 4'!C71+'TRIMESTRE 4'!Q71+'TRIMESTRE 4'!AE71 -> 0 | E9: ='TRIMESTRE 1'!D102+'TRIMESTRE 1'!R102+'TRIMESTRE 1'!AF102+'TRIMESTRE 2'!D71+'TRIMESTRE 2'!R71+'TRIMESTRE 2'!AF71+'TRIMESTRE 3'!D71+'TRIMESTRE 3'!R71+'TRIMESTRE 3'!AF71+'TRIMESTRE 4'!D71+'TRIMESTRE 4'!R71+'TRIMESTRE 4'!AF71 -> 0 | F9: ='TRIMESTRE 1'!E102+'TRIMESTRE 1'!S102+'TRIMESTRE 1'!AG102+'TRIMESTRE 2'!E71+'TRIMESTRE 2'!S71+'TRIMESTRE 2'!AG71+'TRIMESTRE 3'!E71+'TRIMESTRE 3'!S71+'TRIMESTRE 3'!AG71+'TRIMESTRE 4'!E71+'TRIMESTRE 4'!S71+'TRIMESTRE 4'!AG71 -> 0 | G9: ='TRIMESTRE 1'!F102+'TRIMESTRE 1'!T102+'TRIMESTRE 1'!AH102+'TRIMESTRE 2'!F71+'TRIMESTRE 2'!T71+'TRIMESTRE 2'!AH71+'TRIMESTRE 3'!F71+'TRIMESTRE 3'!T71+'TRIMESTRE 3'!AH71+'TRIMESTRE 4'!F71+'TRIMESTRE 4'!T71+'TRIMESTRE 4'!AH71 -> 0 | H9: ='TRIMESTRE 1'!G102+'TRIMESTRE 1'!U102+'TRIMESTRE 1'!AI102+'TRIMESTRE 2'!G71+'TRIMESTRE 2'!U71+'TRIMESTRE 2'!AI71+'TRIMESTRE 3'!G71+'TRIMESTRE 3'!U71+'TRIMESTRE 3'!AI71+'TRIMESTRE 4'!G71+'TRIMESTRE 4'!U71+'TRIMESTRE 4'!AI71 -> 0 | I9: ='TRIMESTRE 1'!H102+'TRIMESTRE 1'!V102+'TRIMESTRE 1'!AJ102+'TRIMESTRE 2'!H71+'TRIMESTRE 2'!V71+'TRIMESTRE 2'!AJ71+'TRIMESTRE 3'!H71+'TRIMESTRE 3'!V71+'TRIMESTRE 3'!AJ71+'TRIMESTRE 4'!H71+'TRIMESTRE 4'!V71+'TRIMESTRE 4'!AJ71 -> 0 | J9: ='TRIMESTRE 1'!I102+'TRIMESTRE 1'!W102+'TRIMESTRE 1'!AK102+'TRIMESTRE 2'!I71+'TRIMESTRE 2'!W71+'TRIMESTRE 2'!AK71+'TRIMESTRE 3'!I71+'TRIMESTRE 3'!W71+'TRIMESTRE 3'!AK71+'TRIMESTRE 4'!I71+'TRIMESTRE 4'!W71+'TRIMESTRE 4'!AK71 -> 0 | K9: ='TRIMESTRE 1'!J102+'TRIMESTRE 1'!X102+'TRIMESTRE 1'!AL102+'TRIMESTRE 2'!J71+'TRIMESTRE 2'!X71+'TRIMESTRE 2'!AL71+'TRIMESTRE 3'!J71+'TRIMESTRE 3'!X71+'TRIMESTRE 3'!AL71+'TRIMESTRE 4'!J71+'TRIMESTRE 4'!X71+'TRIMESTRE 4'!AL71 -> 0 | ... P9: ='TRIMESTRE 1'!O102+'TRIMESTRE 1'!AC102+'TRIMESTRE 1'!AQ102+'TRIMESTRE 2'!O71+'TRIMESTRE 2'!AC71+'TRIMESTRE 2'!AQ71+'TRIMESTRE 3'!O71+'TRIMESTRE 3'!AC71+'TRIMESTRE 3'!AQ71+'TRIMESTRE 4'!O71+'TRIMESTRE 4'!AC71+'TRIMESTRE 4'!AQ71 -> 0
B10: =+Accueil!G16 -> MA | D10: ='TRIMESTRE 1'!C103+'TRIMESTRE 1'!Q103+'TRIMESTRE 1'!AE103+'TRIMESTRE 2'!C72+'TRIMESTRE 2'!Q72+'TRIMESTRE 2'!AE72+'TRIMESTRE 3'!C72+'TRIMESTRE 3'!Q72+'TRIMESTRE 3'!AE72+'TRIMESTRE 4'!C72+'TRIMESTRE 4'!Q72+'TRIMESTRE 4'!AE72 -> 0 | E10: ='TRIMESTRE 1'!D103+'TRIMESTRE 1'!R103+'TRIMESTRE 1'!AF103+'TRIMESTRE 2'!D72+'TRIMESTRE 2'!R72+'TRIMESTRE 2'!AF72+'TRIMESTRE 3'!D72+'TRIMESTRE 3'!R72+'TRIMESTRE 3'!AF72+'TRIMESTRE 4'!D72+'TRIMESTRE 4'!R72+'TRIMESTRE 4'!AF72 -> 0 | F10: ='TRIMESTRE 1'!E103+'TRIMESTRE 1'!S103+'TRIMESTRE 1'!AG103+'TRIMESTRE 2'!E72+'TRIMESTRE 2'!S72+'TRIMESTRE 2'!AG72+'TRIMESTRE 3'!E72+'TRIMESTRE 3'!S72+'TRIMESTRE 3'!AG72+'TRIMESTRE 4'!E72+'TRIMESTRE 4'!S72+'TRIMESTRE 4'!AG72 -> 0 | G10: ='TRIMESTRE 1'!F103+'TRIMESTRE 1'!T103+'TRIMESTRE 1'!AH103+'TRIMESTRE 2'!F72+'TRIMESTRE 2'!T72+'TRIMESTRE 2'!AH72+'TRIMESTRE 3'!F72+'TRIMESTRE 3'!T72+'TRIMESTRE 3'!AH72+'TRIMESTRE 4'!F72+'TRIMESTRE 4'!T72+'TRIMESTRE 4'!AH72 -> 0 | H10: ='TRIMESTRE 1'!G103+'TRIMESTRE 1'!U103+'TRIMESTRE 1'!AI103+'TRIMESTRE 2'!G72+'TRIMESTRE 2'!U72+'TRIMESTRE 2'!AI72+'TRIMESTRE 3'!G72+'TRIMESTRE 3'!U72+'TRIMESTRE 3'!AI72+'TRIMESTRE 4'!G72+'TRIMESTRE 4'!U72+'TRIMESTRE 4'!AI72 -> 0 | I10: ='TRIMESTRE 1'!H103+'TRIMESTRE 1'!V103+'TRIMESTRE 1'!AJ103+'TRIMESTRE 2'!H72+'TRIMESTRE 2'!V72+'TRIMESTRE 2'!AJ72+'TRIMESTRE 3'!H72+'TRIMESTRE 3'!V72+'TRIMESTRE 3'!AJ72+'TRIMESTRE 4'!H72+'TRIMESTRE 4'!V72+'TRIMESTRE 4'!AJ72 -> 0 | J10: ='TRIMESTRE 1'!I103+'TRIMESTRE 1'!W103+'TRIMESTRE 1'!AK103+'TRIMESTRE 2'!I72+'TRIMESTRE 2'!W72+'TRIMESTRE 2'!AK72+'TRIMESTRE 3'!I72+'TRIMESTRE 3'!W72+'TRIMESTRE 3'!AK72+'TRIMESTRE 4'!I72+'TRIMESTRE 4'!W72+'TRIMESTRE 4'!AK72 -> 0 | K10: ='TRIMESTRE 1'!J103+'TRIMESTRE 1'!X103+'TRIMESTRE 1'!AL103+'TRIMESTRE 2'!J72+'TRIMESTRE 2'!X72+'TRIMESTRE 2'!AL72+'TRIMESTRE 3'!J72+'TRIMESTRE 3'!X72+'TRIMESTRE 3'!AL72+'TRIMESTRE 4'!J72+'TRIMESTRE 4'!X72+'TRIMESTRE 4'!AL72 -> 0 | ... P10: ='TRIMESTRE 1'!O103+'TRIMESTRE 1'!AC103+'TRIMESTRE 1'!AQ103+'TRIMESTRE 2'!O72+'TRIMESTRE 2'!AC72+'TRIMESTRE 2'!AQ72+'TRIMESTRE 3'!O72+'TRIMESTRE 3'!AC72+'TRIMESTRE 3'!AQ72+'TRIMESTRE 4'!O72+'TRIMESTRE 4'!AC72+'TRIMESTRE 4'!AQ72 -> 0
B11: =+Accueil!G17 -> PE | D11: ='TRIMESTRE 1'!C104+'TRIMESTRE 1'!Q104+'TRIMESTRE 1'!AE104+'TRIMESTRE 2'!C73+'TRIMESTRE 2'!Q73+'TRIMESTRE 2'!AE73+'TRIMESTRE 3'!C73+'TRIMESTRE 3'!Q73+'TRIMESTRE 3'!AE73+'TRIMESTRE 4'!C73+'TRIMESTRE 4'!Q73+'TRIMESTRE 4'!AE73 -> 0 | E11: ='TRIMESTRE 1'!D104+'TRIMESTRE 1'!R104+'TRIMESTRE 1'!AF104+'TRIMESTRE 2'!D73+'TRIMESTRE 2'!R73+'TRIMESTRE 2'!AF73+'TRIMESTRE 3'!D73+'TRIMESTRE 3'!R73+'TRIMESTRE 3'!AF73+'TRIMESTRE 4'!D73+'TRIMESTRE 4'!R73+'TRIMESTRE 4'!AF73 -> 0 | F11: ='TRIMESTRE 1'!E104+'TRIMESTRE 1'!S104+'TRIMESTRE 1'!AG104+'TRIMESTRE 2'!E73+'TRIMESTRE 2'!S73+'TRIMESTRE 2'!AG73+'TRIMESTRE 3'!E73+'TRIMESTRE 3'!S73+'TRIMESTRE 3'!AG73+'TRIMESTRE 4'!E73+'TRIMESTRE 4'!S73+'TRIMESTRE 4'!AG73 -> 0 | G11: ='TRIMESTRE 1'!F104+'TRIMESTRE 1'!T104+'TRIMESTRE 1'!AH104+'TRIMESTRE 2'!F73+'TRIMESTRE 2'!T73+'TRIMESTRE 2'!AH73+'TRIMESTRE 3'!F73+'TRIMESTRE 3'!T73+'TRIMESTRE 3'!AH73+'TRIMESTRE 4'!F73+'TRIMESTRE 4'!T73+'TRIMESTRE 4'!AH73 -> 0 | H11: ='TRIMESTRE 1'!G104+'TRIMESTRE 1'!U104+'TRIMESTRE 1'!AI104+'TRIMESTRE 2'!G73+'TRIMESTRE 2'!U73+'TRIMESTRE 2'!AI73+'TRIMESTRE 3'!G73+'TRIMESTRE 3'!U73+'TRIMESTRE 3'!AI73+'TRIMESTRE 4'!G73+'TRIMESTRE 4'!U73+'TRIMESTRE 4'!AI73 -> 0 | I11: ='TRIMESTRE 1'!H104+'TRIMESTRE 1'!V104+'TRIMESTRE 1'!AJ104+'TRIMESTRE 2'!H73+'TRIMESTRE 2'!V73+'TRIMESTRE 2'!AJ73+'TRIMESTRE 3'!H73+'TRIMESTRE 3'!V73+'TRIMESTRE 3'!AJ73+'TRIMESTRE 4'!H73+'TRIMESTRE 4'!V73+'TRIMESTRE 4'!AJ73 -> 0 | J11: ='TRIMESTRE 1'!I104+'TRIMESTRE 1'!W104+'TRIMESTRE 1'!AK104+'TRIMESTRE 2'!I73+'TRIMESTRE 2'!W73+'TRIMESTRE 2'!AK73+'TRIMESTRE 3'!I73+'TRIMESTRE 3'!W73+'TRIMESTRE 3'!AK73+'TRIMESTRE 4'!I73+'TRIMESTRE 4'!W73+'TRIMESTRE 4'!AK73 -> 0 | K11: ='TRIMESTRE 1'!J104+'TRIMESTRE 1'!X104+'TRIMESTRE 1'!AL104+'TRIMESTRE 2'!J73+'TRIMESTRE 2'!X73+'TRIMESTRE 2'!AL73+'TRIMESTRE 3'!J73+'TRIMESTRE 3'!X73+'TRIMESTRE 3'!AL73+'TRIMESTRE 4'!J73+'TRIMESTRE 4'!X73+'TRIMESTRE 4'!AL73 -> 0 | ... P11: ='TRIMESTRE 1'!O104+'TRIMESTRE 1'!AC104+'TRIMESTRE 1'!AQ104+'TRIMESTRE 2'!O73+'TRIMESTRE 2'!AC73+'TRIMESTRE 2'!AQ73+'TRIMESTRE 3'!O73+'TRIMESTRE 3'!AC73+'TRIMESTRE 3'!AQ73+'TRIMESTRE 4'!O73+'TRIMESTRE 4'!AC73+'TRIMESTRE 4'!AQ73 -> 0
B13: TR | C13: calculés | D13: ='TRIMESTRE 1'!C106+'TRIMESTRE 1'!Q106+'TRIMESTRE 1'!AE106+'TRIMESTRE 2'!C75+'TRIMESTRE 2'!Q75+'TRIMESTRE 2'!AE75+'TRIMESTRE 3'!C75+'TRIMESTRE 3'!Q75+'TRIMESTRE 3'!AE75+'TRIMESTRE 4'!C75+'TRIMESTRE 4'!Q75+'TRIMESTRE 4'!AE75 -> 2 | E13: ='TRIMESTRE 1'!D106+'TRIMESTRE 1'!R106+'TRIMESTRE 1'!AF106+'TRIMESTRE 2'!D75+'TRIMESTRE 2'!R75+'TRIMESTRE 2'!AF75+'TRIMESTRE 3'!D75+'TRIMESTRE 3'!R75+'TRIMESTRE 3'!AF75+'TRIMESTRE 4'!D75+'TRIMESTRE 4'!R75+'TRIMESTRE 4'!AF75 -> 0 | F13: ='TRIMESTRE 1'!E106+'TRIMESTRE 1'!S106+'TRIMESTRE 1'!AG106+'TRIMESTRE 2'!E75+'TRIMESTRE 2'!S75+'TRIMESTRE 2'!AG75+'TRIMESTRE 3'!E75+'TRIMESTRE 3'!S75+'TRIMESTRE 3'!AG75+'TRIMESTRE 4'!E75+'TRIMESTRE 4'!S75+'TRIMESTRE 4'!AG75 -> 0 | G13: ='TRIMESTRE 1'!F106+'TRIMESTRE 1'!T106+'TRIMESTRE 1'!AH106+'TRIMESTRE 2'!F75+'TRIMESTRE 2'!T75+'TRIMESTRE 2'!AH75+'TRIMESTRE 3'!F75+'TRIMESTRE 3'!T75+'TRIMESTRE 3'!AH75+'TRIMESTRE 4'!F75+'TRIMESTRE 4'!T75+'TRIMESTRE 4'!AH75 -> 0 | H13: ='TRIMESTRE 1'!G106+'TRIMESTRE 1'!U106+'TRIMESTRE 1'!AI106+'TRIMESTRE 2'!G75+'TRIMESTRE 2'!U75+'TRIMESTRE 2'!AI75+'TRIMESTRE 3'!G75+'TRIMESTRE 3'!U75+'TRIMESTRE 3'!AI75+'TRIMESTRE 4'!G75+'TRIMESTRE 4'!U75+'TRIMESTRE 4'!AI75 -> 0 | I13: ='TRIMESTRE 1'!H106+'TRIMESTRE 1'!V106+'TRIMESTRE 1'!AJ106+'TRIMESTRE 2'!H75+'TRIMESTRE 2'!V75+'TRIMESTRE 2'!AJ75+'TRIMESTRE 3'!H75+'TRIMESTRE 3'!V75+'TRIMESTRE 3'!AJ75+'TRIMESTRE 4'!H75+'TRIMESTRE 4'!V75+'TRIMESTRE 4'!AJ75 -> 0 | J13: ='TRIMESTRE 1'!I106+'TRIMESTRE 1'!W106+'TRIMESTRE 1'!AK106+'TRIMESTRE 2'!I75+'TRIMESTRE 2'!W75+'TRIMESTRE 2'!AK75+'TRIMESTRE 3'!I75+'TRIMESTRE 3'!W75+'TRIMESTRE 3'!AK75+'TRIMESTRE 4'!I75+'TRIMESTRE 4'!W75+'TRIMESTRE 4'!AK75 -> 0 | K13: ='TRIMESTRE 1'!J106+'TRIMESTRE 1'!X106+'TRIMESTRE 1'!AL106+'TRIMESTRE 2'!J75+'TRIMESTRE 2'!X75+'TRIMESTRE 2'!AL75+'TRIMESTRE 3'!J75+'TRIMESTRE 3'!X75+'TRIMESTRE 3'!AL75+'TRIMESTRE 4'!J75+'TRIMESTRE 4'!X75+'TRIMESTRE 4'!AL75 -> 0 | ... P13: ='TRIMESTRE 1'!O106+'TRIMESTRE 1'!AC106+'TRIMESTRE 1'!AQ106+'TRIMESTRE 2'!O75+'TRIMESTRE 2'!AC75+'TRIMESTRE 2'!AQ75+'TRIMESTRE 3'!O75+'TRIMESTRE 3'!AC75+'TRIMESTRE 3'!AQ75+'TRIMESTRE 4'!O75+'TRIMESTRE 4'!AC75+'TRIMESTRE 4'!AQ75 -> 0
B14: TR | C14: Réels | D14: ='TRIMESTRE 1'!C107+'TRIMESTRE 1'!Q107+'TRIMESTRE 1'!AE107+'TRIMESTRE 2'!C76+'TRIMESTRE 2'!Q76+'TRIMESTRE 2'!AE76+'TRIMESTRE 3'!C76+'TRIMESTRE 3'!Q76+'TRIMESTRE 3'!AE76+'TRIMESTRE 4'!C76+'TRIMESTRE 4'!Q76+'TRIMESTRE 4'!AE76 -> 0 | E14: ='TRIMESTRE 1'!D107+'TRIMESTRE 1'!R107+'TRIMESTRE 1'!AF107+'TRIMESTRE 2'!D76+'TRIMESTRE 2'!R76+'TRIMESTRE 2'!AF76+'TRIMESTRE 3'!D76+'TRIMESTRE 3'!R76+'TRIMESTRE 3'!AF76+'TRIMESTRE 4'!D76+'TRIMESTRE 4'!R76+'TRIMESTRE 4'!AF76 -> 0 | F14: ='TRIMESTRE 1'!E107+'TRIMESTRE 1'!S107+'TRIMESTRE 1'!AG107+'TRIMESTRE 2'!E76+'TRIMESTRE 2'!S76+'TRIMESTRE 2'!AG76+'TRIMESTRE 3'!E76+'TRIMESTRE 3'!S76+'TRIMESTRE 3'!AG76+'TRIMESTRE 4'!E76+'TRIMESTRE 4'!S76+'TRIMESTRE 4'!AG76 -> 0 | G14: ='TRIMESTRE 1'!F107+'TRIMESTRE 1'!T107+'TRIMESTRE 1'!AH107+'TRIMESTRE 2'!F76+'TRIMESTRE 2'!T76+'TRIMESTRE 2'!AH76+'TRIMESTRE 3'!F76+'TRIMESTRE 3'!T76+'TRIMESTRE 3'!AH76+'TRIMESTRE 4'!F76+'TRIMESTRE 4'!T76+'TRIMESTRE 4'!AH76 -> 0 | H14: ='TRIMESTRE 1'!G107+'TRIMESTRE 1'!U107+'TRIMESTRE 1'!AI107+'TRIMESTRE 2'!G76+'TRIMESTRE 2'!U76+'TRIMESTRE 2'!AI76+'TRIMESTRE 3'!G76+'TRIMESTRE 3'!U76+'TRIMESTRE 3'!AI76+'TRIMESTRE 4'!G76+'TRIMESTRE 4'!U76+'TRIMESTRE 4'!AI76 -> 0 | I14: ='TRIMESTRE 1'!H107+'TRIMESTRE 1'!V107+'TRIMESTRE 1'!AJ107+'TRIMESTRE 2'!H76+'TRIMESTRE 2'!V76+'TRIMESTRE 2'!AJ76+'TRIMESTRE 3'!H76+'TRIMESTRE 3'!V76+'TRIMESTRE 3'!AJ76+'TRIMESTRE 4'!H76+'TRIMESTRE 4'!V76+'TRIMESTRE 4'!AJ76 -> 0 | J14: ='TRIMESTRE 1'!I107+'TRIMESTRE 1'!W107+'TRIMESTRE 1'!AK107+'TRIMESTRE 2'!I76+'TRIMESTRE 2'!W76+'TRIMESTRE 2'!AK76+'TRIMESTRE 3'!I76+'TRIMESTRE 3'!W76+'TRIMESTRE 3'!AK76+'TRIMESTRE 4'!I76+'TRIMESTRE 4'!W76+'TRIMESTRE 4'!AK76 -> 0 | K14: ='TRIMESTRE 1'!J107+'TRIMESTRE 1'!X107+'TRIMESTRE 1'!AL107+'TRIMESTRE 2'!J76+'TRIMESTRE 2'!X76+'TRIMESTRE 2'!AL76+'TRIMESTRE 3'!J76+'TRIMESTRE 3'!X76+'TRIMESTRE 3'!AL76+'TRIMESTRE 4'!J76+'TRIMESTRE 4'!X76+'TRIMESTRE 4'!AL76 -> 0 | ... P14: ='TRIMESTRE 1'!O107+'TRIMESTRE 1'!AC107+'TRIMESTRE 1'!AQ107+'TRIMESTRE 2'!O76+'TRIMESTRE 2'!AC76+'TRIMESTRE 2'!AQ76+'TRIMESTRE 3'!O76+'TRIMESTRE 3'!AC76+'TRIMESTRE 3'!AQ76+'TRIMESTRE 4'!O76+'TRIMESTRE 4'!AC76+'TRIMESTRE 4'!AQ76 -> 0
