Workbook

Sheet Accueil
A1: FONGECIF FRANCHE-COMTE
A3: Gestion des ressources humaines
A6: Année : | B6: 2014
A9: Liste du personnel : | G9: Positions journalières
A11: Valérie | B11: PARIS | D11: VP | G11: PR | H11: Présent
A12: Jocelyne | B12: RUFFINONI | D12: JR | G12: AT | H12: Accident du travail
A13: Annie | B13: BOUCLANS | D13: AB | G13: FO | H13: Formation
A14: Claude | B14: CHATELAIN | D14: CC | G14: CP | H14: Congés / RTT
A15: Marie-Pierre | B15: EUVRARD-AMIOTTE | D15: MPEA | G15: AC | H15: Autres congés / jours fériés / jours non travaillés
A16: Brigitte | B16: FAIVRE-CHALON | D16: BFC | G16: MA | H16: Maladie
A17: Monique | B17: FERHAT | D17: MF | G17: PE | H17: Permanences
A18: Nathalie | B18: HENRY | D18: NH
A19: Christophe | B19: JEANNET | D19: CJ
A20: Damien | B20: PANOUILLOT | D20: DP
A21: Nathalie | B21: PERROT-VIEILLARD | D21: NPV
A22: Valérie | B22: SIMPLOT | D22: VS
A23: Nathalie | B23: VANDEKERKHOVE | D23: NVDK

Sheet TRIMESTRE 1
C1: JANVIER | P1: 1 | Q1: FEVRIER | AD1: 2 | AE1: MARS | AR1: 3
C2: {=TRANSPOSE(Accueil!$D$11:$D$23)} -> VP | D2: JR | E2: AB | F2: CC | G2: MPEA | H2: BFC | I2: MF | J2: NH | K2: CJ | L2: DP | M2: NPV | N2: VS | O2: NVDK | Q2: {=TRANSPOSE(Accueil!$D$11:$D$23)} -> VP | R2: JR | S2: AB | T2: CC | U2: MPEA | V2: BFC | W2: MF | X2: NH | Y2: CJ | Z2: DP | AA2: NPV | AB2: VS | AC2: NVDK | AE2: {=TRANSPOSE(Accueil!$D$11:$D$23)} -> VP | AF2: JR | AG2: AB | AH2: CC | AI2: MPEA | AJ2: BFC | AK2: MF | AL2: NH | AM2: CJ | AN2: DP | AO2: NPV | AP2: VS | AQ2: NVDK
A3: 1 | B3: m | C3: PR | P3: =WEEKDAY(DATEVALUE($A3&"/"&P$1&"/"&Accueil!$B$6)) -> 4 | AD3: =WEEKDAY(DATEVALUE($A3&"/"&AD$1&"/"&Accueil!$B$6)) -> 7 | AR3: =WEEKDAY(DATEVALUE($A3&"/"&AR$1&"/"&Accueil!$B$6)) -> 7
B4: am | C4: PR | P4: =P3 -> 4 | AD4: =AD3 -> 7 | AR4: =AR3 -> 7
C5: =IF(AND(C3="PR",C4="PR")=TRUE,1,0) -> 1
A6: 2 | B6: m | C6: PR | P6: =WEEKDAY(DATEVALUE(A6&"/"&P$1&"/"&Accueil!$B$6)) -> 5 | AD6: =WEEKDAY(DATEVALUE($A6&"/"&AD$1&"/"&Accueil!$B$6)) -> 1 | AR6: =WEEKDAY(DATEVALUE($A6&"/"&AR$1&"/"&Accueil!$B$6)) -> 1
B7: am | C7: PR | P7: =P6 -> 5 | AD7: =AD6 -> 1 | AR7: =AR6 -> 1
C8: =IF(AND(C6="PR",C7="PR")=TRUE,1,0) -> 1
A9: 3 | B9: m | C9: PR | P9: =WEEKDAY(DATEVALUE(A9&"/"&P$1&"/"&Accueil!$B$6)) -> 6 | AD9: =WEEKDAY(DATEVALUE($A9&"/"&AD$1&"/"&Accueil!$B$6)) -> 2 | AR9: =WEEKDAY(DATEVALUE($A9&"/"&AR$1&"/"&Accueil!$B$6)) -> 2
B10: am | P10: =P9 -> 6 | AD10: =AD9 -> 2 | AR10: =AR9 -> 2
C11: =IF(AND(C9="PR",C10="PR")=TRUE,1,0) -> 0
A12: 4 | B12: m | P12: =WEEKDAY(DATEVALUE(A12&"/"&P$1&"/"&Accueil!$B$6)) -> 7 | AD12: =WEEKDAY(DATEVALUE($A12&"/"&AD$1&"/"&Accueil!$B$6)) -> 3 | AR12: =WEEKDAY(DATEVALUE($A12&"/"&AR$1&"/"&Accueil!$B$6)) -> 3
B13: am | P13: =P12 -> 7 | AD13: =AD12 -> 3 | AR13: =AR12 -> 3
C14: =IF(AND(C12="PR",C13="PR")=TRUE,1,0) -> 0
A15: 5 | B15: m | P15: =WEEKDAY(DATEVALUE(A15&"/"&P$1&"/"&Accueil!$B$6)) -> 1 | AD15: =WEEKDAY(DATEVALUE($A15&"/"&AD$1&"/"&Accueil!$B$6)) -> 4 | AR15: =WEEKDAY(DATEVALUE($A15&"/"&AR$1&"/"&Accueil!$B$6)) -> 4
B16: am | P16: =P15 -> 1 | AD16: =AD15 -> 4 | AR16: =AR15 -> 4
C17: =IF(AND(C15="PR",C16="PR")=TRUE,1,0) -> 0
A18: 6 | B18: m | P18: =WEEKDAY(DATEVALUE(A18&"/"&P$1&"/"&Accueil!$B$6)) -> 2 | AD18: =WEEKDAY(DATEVALUE($A18&"/"&AD$1&"/"&Accueil!$B$6)) -> 5 | AR18: =WEEKDAY(DATEVALUE($A18&"/"&AR$1&"/"&Accueil!$B$6)) -> 5
B19: am | C19: PR | P19: =P18 -> 2 | AD19: =AD18 -> 5 | AR19: =AR18 -> 5
C20: =IF(AND(C18="PR",C19="PR")=TRUE,1,0) -> 0
A21: 7 | B21: m | P21: =WEEKDAY(DATEVALUE(A21&"/"&P$1&"/"&Accueil!$B$6)) -> 3 | AD21: =WEEKDAY(DATEVALUE($A21&"/"&AD$1&"/"&Accueil!$B$6)) -> 6 | AR21: =WEEKDAY(DATEVALUE($A21&"/"&AR$1&"/"&Accueil!$B$6)) -> 6
B22: am | P22: =P21 -> 3 | AD22: =AD21 -> 6 | AR22: =AR21 -> 6
C23: =IF(AND(C21="PR",C22="PR")=TRUE,1,0) -> 0
A24: 8 | B24: m | P24: =WEEKDAY(DATEVALUE(A24&"/"&P$1&"/"&Accueil!$B$6)) -> 4 | AD24: =WEEKDAY(DATEVALUE($A24&"/"&AD$1&"/"&Accueil!$B$6)) -> 7 | AR24: =WEEKDAY(DATEVALUE($A24&"/"&AR$1&"/"&Accueil!$B$6)) -> 7
B25: am | P25: =P24 -> 4 | AD25: =AD24 -> 7 | AR25: =AR24 -> 7
C26: =IF(AND(C24="PR",C25="PR")=TRUE,1,0) -> 0
A27: 9 | B27: m | P27: =WEEKDAY(DATEVALUE(A27&"/"&P$1&"/"&Accueil!$B$6)) -> 5 | AD27: =WEEKDAY(DATEVALUE($A27&"/"&AD$1&"/"&Accueil!$B$6)) -> 1 | AR27: =WEEKDAY(DATEVALUE($A27&"/"&AR$1&"/"&Accueil!$B$6)) -> 1
B28: am | P28: =P27 -> 5 | AD28: =AD27 -> 1 | AR28: =AR27 -> 1
C29: =IF(AND(C27="PR",C28="PR")=TRUE,1,0) -> 0
A30: 10 | B30: m | P30: =WEEKDAY(DATEVALUE(A30&"/"&P$1&"/"&Accueil!$B$6)) -> 6 | AD30: =WEEKDAY(DATEVALUE($A30&"/"&AD$1&"/"&Accueil!$B$6)) -> 2 | AR30: =WEEKDAY(DATEVALUE($A30&"/"&AR$1&"/"&Accueil!$B$6)) -> 2
B31: am | P31: =P30 -> 6 | AD31: =AD30 -> 2 | AR31: =AR30 -> 2
C32: =IF(AND(C30="PR",C31="PR")=TRUE,1,0) -> 0
A33: 11 | B33: m | P33: =WEEKDAY(DATEVALUE(A33&"/"&P$1&"/"&Accueil!$B$6)) -> 7 | AD33: =WEEKDAY(DATEVALUE($A33&"/"&AD$1&"/"&Accueil!$B$6)) -> 3 | AR33: =WEEKDAY(DATEVALUE($A33&"/"&AR$1&"/"&Accueil!$B$6)) -> 3
B34: am | P34: =P33 -> 7 | AD34: =AD33 -> 3 | AR34: =AR33 -> 3
C35: =IF(AND(C33="PR",C34="PR")=TRUE,1,0) -> 0
A36: 12 | B36: m | P36: =WEEKDAY(DATEVALUE(A36&"/"&P$1&"/"&Accueil!$B$6)) -> 1 | AD36: =WEEKDAY(DATEVALUE($A36&"/"&AD$1&"/"&Accueil!$B$6)) -> 4 | AR36: =WEEKDAY(DATEVALUE($A36&"/"&AR$1&"/"&Accueil!$B$6)) -> 4
B37: am | P37: =P36 -> 1 | AD37: =AD36 -> 4 | AR37: =AR36 -> 4
C38: =IF(AND(C36="PR",C37="PR")=TRUE,1,0) -> 0
A39: 13 | B39: m | P39: =WEEKDAY(DATEVALUE(A39&"/"&P$1&"/"&Accueil!$B$6)) -> 2 | AD39: =WEEKDAY(DATEVALUE($A39&"/"&AD$1&"/"&Accueil!$B$6)) -> 5 | AR39: =WEEKDAY(DATEVALUE($A39&"/"&AR$1&"/"&Accueil!$B$6)) -> 5
B40: am | P40: =P39 -> 2 | AD40: =AD39 -> 5 | AR40: =AR39 -> 5
...

Sheet TRIMESTRE 2
C1: AVRIL | P1: 4 | Q1: MAI | AD1: 5 | AE1: JUIN | AR1: 6
C2: {=TRANSPOSE(Accueil!$D$11:$D$23)} -> VP | D2: JR | E2: AB | F2: CC | G2: MPEA | H2: BFC | I2: MF | J2: NH | K2: CJ | L2: DP | M2: NPV | N2: VS | O2: NVDK | Q2: {=TRANSPOSE(Accueil!$D$11:$D$23)} -> VP | R2: JR | S2: AB | T2: CC | U2: MPEA | V2: BFC | W2: MF | X2: NH | Y2: CJ | Z2: DP | AA2: NPV | AB2: VS | AC2: NVDK | AE2: {=TRANSPOSE(Accueil!$D$11:$D$23)} -> VP | AF2: JR | AG2: AB | AH2: CC | AI2: MPEA | AJ2: BFC | AK2: MF | AL2: NH | AM2: CJ | AN2: DP | AO2: NPV | AP2: VS | AQ2: NVDK
A3: 1 | B3: m | P3: =WEEKDAY(DATEVALUE($A3&"/"&P$1&"/"&Accueil!$B$6)) -> 3 | AD3: =WEEKDAY(DATEVALUE($A3&"/"&AD$1&"/"&Accueil!$B$6)) -> 5 | AR3: =WEEKDAY(DATEVALUE($A3&"/"&AR$1&"/"&Accueil!$B$6)) -> 1
B4: am | P4: =P3 -> 3 | AD4: =AD3 -> 5 | AR4: =AR3 -> 1
A5: 2 | B5: m | P5: =WEEKDAY(DATEVALUE(A5&"/"&P$1&"/"&Accueil!$B$6)) -> 4 | AD5: =WEEKDAY(DATEVALUE($A5&"/"&AD$1&"/"&Accueil!$B$6)) -> 6 | AR5: =WEEKDAY(DATEVALUE($A5&"/"&AR$1&"/"&Accueil!$B$6)) -> 2
B6: am | P6: =P5 -> 4 | AD6: =AD5 -> 6 | AR6: =AR5 -> 2
A7: 3 | B7: m | P7: =WEEKDAY(DATEVALUE(A7&"/"&P$1&"/"&Accueil!$B$6)) -> 5 | AD7: =WEEKDAY(DATEVALUE($A7&"/"&AD$1&"/"&Accueil!$B$6)) -> 7 | AR7: =WEEKDAY(DATEVALUE($A7&"/"&AR$1&"/"&Accueil!$B$6)) -> 3
B8: am | P8: =P7 -> 5 | AD8: =AD7 -> 7 | AR8: =AR7 -> 3
A9: 4 | B9: m | P9: =WEEKDAY(DATEVALUE(A9&"/"&P$1&"/"&Accueil!$B$6)) -> 6 | AD9: =WEEKDAY(DATEVALUE($A9&"/"&AD$1&"/"&Accueil!$B$6)) -> 1 | AR9: =WEEKDAY(DATEVALUE($A9&"/"&AR$1&"/"&Accueil!$B$6)) -> 4
B10: am | P10: =P9 -> 6 | AD10: =AD9 -> 1 | AR10: =AR9 -> 4
A11: 5 | B11: m | P11: =WEEKDAY(DATEVALUE(A11&"/"&P$1&"/"&Accueil!$B$6)) -> 7 | AD11: =WEEKDAY(DATEVALUE($A11&"/"&AD$1&"/"&Accueil!$B$6)) -> 2 | AR11: =WEEKDAY(DATEVALUE($A11&"/"&AR$1&"/"&Accueil!$B$6)) -> 5
B12: am | P12: =P11 -> 7 | AD12: =AD11 -> 2 | AR12: =AR11 -> 5
A13: 6 | B13: m | P13: =WEEKDAY(DATEVALUE(A13&"/"&P$1&"/"&Accueil!$B$6)) -> 1 | AD13: =WEEKDAY(DATEVALUE($A13&"/"&AD$1&"/"&Accueil!$B$6)) -> 3 | AR13: =WEEKDAY(DATEVALUE($A13&"/"&AR$1&"/"&Accueil!$B$6)) -> 6
B14: am | P14: =P13 -> 1 | AD14: =AD13 -> 3 | AR14: =AR13 -> 6
A15: 7 | B15: m | P15: =WEEKDAY(DATEVALUE(A15&"/"&P$1&"/"&Accueil!$B$6)) -> 2 | AD15: =WEEKDAY(DATEVALUE($A15&"/"&AD$1&"/"&Accueil!$B$6)) -> 4 | AR15: =WEEKDAY(DATEVALUE($A15&"/"&AR$1&"/"&Accueil!$B$6)) -> 7
B16: am | P16: =P15 -> 2 | AD16: =AD15 -> 4 | AR16: =AR15 -> 7
A17: 8 | B17: m | P17: =WEEKDAY(DATEVALUE(A17&"/"&P$1&"/"&Accueil!$B$6)) -> 3 | AD17: =WEEKDAY(DATEVALUE($A17&"/"&AD$1&"/"&Accueil!$B$6)) -> 5 | AR17: =WEEKDAY(DATEVALUE($A17&"/"&AR$1&"/"&Accueil!$B$6)) -> 1
B18: am | P18: =P17 -> 3 | AD18: =AD17 -> 5 | AR18: =AR17 -> 1
A19: 9 | B19: m | P19: =WEEKDAY(DATEVALUE(A19&"/"&P$1&"/"&Accueil!$B$6)) -> 4 | AD19: =WEEKDAY(DATEVALUE($A19&"/"&AD$1&"/"&Accueil!$B$6)) -> 6 | AR19: =WEEKDAY(DATEVALUE($A19&"/"&AR$1&"/"&Accueil!$B$6)) -> 2
B20: am | P20: =P19 -> 4 | AD20: =AD19 -> 6 | AR20: =AR19 -> 2
A21: 10 | B21: m | P21: =WEEKDAY(DATEVALUE(A21&"/"&P$1&"/"&Accueil!$B$6)) -> 5 | AD21: =WEEKDAY(DATEVALUE($A21&"/"&AD$1&"/"&Accueil!$B$6)) -> 7 | AR21: =WEEKDAY(DATEVALUE($A21&"/"&AR$1&"/"&Accueil!$B$6)) -> 3
B22: am | P22: =P21 -> 5 | AD22: =AD21 -> 7 | AR22: =AR21 -> 3
A23: 11 | B23: m | P23: =WEEKDAY(DATEVALUE(A23&"/"&P$1&"/"&Accueil!$B$6)) -> 6 | AD23: =WEEKDAY(DATEVALUE($A23&"/"&AD$1&"/"&Accueil!$B$6)) -> 1 | AR23: =WEEKDAY(DATEVALUE($A23&"/"&AR$1&"/"&Accueil!$B$6)) -> 4
B24: am | P24: =P23 -> 6 | AD24: =AD23 -> 1 | AR24: =AR23 -> 4
A25: 12 | B25: m | P25: =WEEKDAY(DATEVALUE(A25&"/"&P$1&"/"&Accueil!$B$6)) -> 7 | AD25: =WEEKDAY(DATEVALUE($A25&"/"&AD$1&"/"&Accueil!$B$6)) -> 2 | AR25: =WEEKDAY(DATEVALUE($A25&"/"&AR$1&"/"&Accueil!$B$6)) -> 5
B26: am | P26: =P25 -> 7 | AD26: =AD25 -> 2 | AR26: =AR25 -> 5
A27: 13 | B27: m | P27: =WEEKDAY(DATEVALUE(A27&"/"&P$1&"/"&Accueil!$B$6)) -> 1 | AD27: =WEEKDAY(DATEVALUE($A27&"/"&AD$1&"/"&Accueil!$B$6)) -> 3 | AR27: =WEEKDAY(DATEVALUE($A27&"/"&AR$1&"/"&Accueil!$B$6)) -> 6
B28: am | P28: =P27 -> 1 | AD28: =AD27 -> 3 | AR28: =AR27 -> 6
A29: 14 | B29: m | P29: =WEEKDAY(DATEVALUE(A29&"/"&P$1&"/"&Accueil!$B$6)) -> 2 | AD29: =WEEKDAY(DATEVALUE($A29&"/"&AD$1&"/"&Accueil!$B$6)) -> 4 | AR29: =WEEKDAY(DATEVALUE($A29&"/"&AR$1&"/"&Accueil!$B$6)) -> 7
B30: am | P30: =P29 -> 2 | AD30: =AD29 -> 4 | AR30: =AR29 -> 7
A31: 15 | B31: m | P31: =WEEKDAY(DATEVALUE(A31&"/"&P$1&"/"&Accueil!$B$6)) -> 3 | AD31: =WEEKDAY(DATEVALUE($A31&"/"&AD$1&"/"&Accueil!$B$6)) -> 5 | AR31: =WEEKDAY(DATEVALUE($A31&"/"&AR$1&"/"&Accueil!$B$6)) -> 1
B32: am | P32: =P31 -> 3 | AD32: =AD31 -> 5 | AR32: =AR31 -> 1
A33: 16 | B33: m | P33: =WEEKDAY(DATEVALUE(A33&"/"&P$1&"/"&Accueil!$B$6)) -> 4 | AD33: =WEEKDAY(DATEVALUE($A33&"/"&AD$1&"/"&Accueil!$B$6)) -> 6 | AR33: =WEEKDAY(DATEVALUE($A33&"/"&AR$1&"/"&Accueil!$B$6)) -> 2
B34: am | P34: =P33 -> 4 | AD34: =AD33 -> 6 | AR34: =AR33 -> 2
A35: 17 | B35: m | P35: =WEEKDAY(DATEVALUE(A35&"/"&P$1&"/"&Accueil!$B$6)) -> 5 | AD35: =WEEKDAY(DATEVALUE($A35&"/"&AD$1&"/"&Accueil!$B$6)) -> 7 | AR35: =WEEKDAY(DATEVALUE($A35&"/"&AR$1&"/"&Accueil!$B$6)) -> 3
B36: am | P36: =P35 -> 5 | AD36: =AD35 -> 7 | AR36: =AR35 -> 3
A37: 18 | B37: m | P37: =WEEKDAY(DATEVALUE(A37&"/"&P$1&"/"&Accueil!$B$6)) -> 6 | AD37: =WEEKDAY(DATEVALUE($A37&"/"&AD$1&"/"&Accueil!$B$6)) -> 1 | AR37: =WEEKDAY(DATEVALUE($A37&"/"&AR$1&"/"&Accueil!$B$6)) -> 4
B38: am | P38: =P37 -> 6 | AD38: =AD37 -> 1 | AR38: =AR37 -> 4
A39: 19 | B39: m | P39: =WEEKDAY(DATEVALUE(A39&"/"&P$1&"/"&Accueil!$B$6)) -> 7 | AD39: =WEEKDAY(DATEVALUE($A39&"/"&AD$1&"/"&Accueil!$B$6)) -> 2 | AR39: =WEEKDAY(DATEVALUE($A39&"/"&AR$1&"/"&Accueil!$B$6)) -> 5
B40: am | P40: =P39 -> 7 | AD40: =AD39 -> 2 | AR40: =AR39 -> 5
...

Sheet TRIMESTRE 4
C1: OCTOBRE | P1: 10 | Q1: NOVEMBRE | AD1: 11 | AE1: DECEMBRE | AR1: 12
C2: {=TRANSPOSE(Accueil!$D$11:$D$23)} -> VP | D2: JR | E2: AB | F2: CC | G2: MPEA | H2: BFC | I2: MF | J2: NH | K2: CJ | L2: DP | M2: NPV | N2: VS | O2: NVDK | Q2: {=TRANSPOSE(Accueil!$D$11:$D$23)} -> VP | R2: JR | S2: AB | T2: CC | U2: MPEA | V2: BFC | W2: MF | X2: NH | Y2: CJ | Z2: DP | AA2: NPV | AB2: VS | AC2: NVDK | AE2: {=TRANSPOSE(Accueil!$D$11:$D$23)} -> VP | AF2: JR | AG2: AB | AH2: CC | AI2: MPEA | AJ2: BFC | AK2: MF | AL2: NH | AM2: CJ | AN2: DP | AO2: NPV | AP2: VS | AQ2: NVDK
A3: 1 | B3: m | P3: =WEEKDAY(DATEVALUE($A3&"/"&P$1&"/"&Accueil!$B$6)) -> 4 | AD3: =WEEKDAY(DATEVALUE($A3&"/"&AD$1&"/"&Accueil!$B$6)) -> 7 | AR3: =WEEKDAY(DATEVALUE($A3&"/"&AR$1&"/"&Accueil!$B$6)) -> 2
B4: am | P4: =P3 -> 4 | AD4: =AD3 -> 7 | AR4: =AR3 -> 2
A5: 2 | B5: m | P5: =WEEKDAY(DATEVALUE(A5&"/"&P$1&"/"&Accueil!$B$6)) -> 5 | AD5: =WEEKDAY(DATEVALUE($A5&"/"&AD$1&"/"&Accueil!$B$6)) -> 1 | AR5: =WEEKDAY(DATEVALUE($A5&"/"&AR$1&"/"&Accueil!$B$6)) -> 3
B6: am | P6: =P5 -> 5 | AD6: =AD5 -> 1 | AR6: =AR5 -> 3
A7: 3 | B7: m | P7: =WEEKDAY(DATEVALUE(A7&"/"&P$1&"/"&Accueil!$B$6)) -> 6 | AD7: =WEEKDAY(DATEVALUE($A7&"/"&AD$1&"/"&Accueil!$B$6)) -> 2 | AR7: =WEEKDAY(DATEVALUE($A7&"/"&AR$1&"/"&Accueil!$B$6)) -> 4
B8: am | P8: =P7 -> 6 | AD8: =AD7 -> 2 | AR8: =AR7 -> 4
A9: 4 | B9: m | P9: =WEEKDAY(DATEVALUE(A9&"/"&P$1&"/"&Accueil!$B$6)) -> 7 | AD9: =WEEKDAY(DATEVALUE($A9&"/"&AD$1&"/"&Accueil!$B$6)) -> 3 | AR9: =WEEKDAY(DATEVALUE($A9&"/"&AR$1&"/"&Accueil!$B$6)) -> 5
B10: am | P10: =P9 -> 7 | AD10: =AD9 -> 3 | AR10: =AR9 -> 5
A11: 5 | B11: m | P11: =WEEKDAY(DATEVALUE(A11&"/"&P$1&"/"&Accueil!$B$6)) -> 1 | AD11: =WEEKDAY(DATEVALUE($A11&"/"&AD$1&"/"&Accueil!$B$6)) -> 4 | AR11: =WEEKDAY(DATEVALUE($A11&"/"&AR$1&"/"&Accueil!$B$6)) -> 6
B12: am | P12: =P11 -> 1 | AD12: =AD11 -> 4 | AR12: =AR11 -> 6
A13: 6 | B13: m | P13: =WEEKDAY(DATEVALUE(A13&"/"&P$1&"/"&Accueil!$B$6)) -> 2 | AD13: =WEEKDAY(DATEVALUE($A13&"/"&AD$1&"/"&Accueil!$B$6)) -> 5 | AR13: =WEEKDAY(DATEVALUE($A13&"/"&AR$1&"/"&Accueil!$B$6)) -> 7
B14: am | P14: =P13 -> 2 | AD14: =AD13 -> 5 | AR14: =AR13 -> 7
A15: 7 | B15: m | P15: =WEEKDAY(DATEVALUE(A15&"/"&P$1&"/"&Accueil!$B$6)) -> 3 | AD15: =WEEKDAY(DATEVALUE($A15&"/"&AD$1&"/"&Accueil!$B$6)) -> 6 | AR15: =WEEKDAY(DATEVALUE($A15&"/"&AR$1&"/"&Accueil!$B$6)) -> 1
B16: am | P16: =P15 -> 3 | AD16: =AD15 -> 6 | AR16: =AR15 -> 1
A17: 8 | B17: m | P17: =WEEKDAY(DATEVALUE(A17&"/"&P$1&"/"&Accueil!$B$6)) -> 4 | AD17: =WEEKDAY(DATEVALUE($A17&"/"&AD$1&"/"&Accueil!$B$6)) -> 7 | AR17: =WEEKDAY(DATEVALUE($A17&"/"&AR$1&"/"&Accueil!$B$6)) -> 2
B18: am | P18: =P17 -> 4 | AD18: =AD17 -> 7 | AR18: =AR17 -> 2
A19: 9 | B19: m | P19: =WEEKDAY(DATEVALUE(A19&"/"&P$1&"/"&Accueil!$B$6)) -> 5 | AD19: =WEEKDAY(DATEVALUE($A19&"/"&AD$1&"/"&Accueil!$B$6)) -> 1 | AR19: =WEEKDAY(DATEVALUE($A19&"/"&AR$1&"/"&Accueil!$B$6)) -> 3
B20: am | P20: =P19 -> 5 | AD20: =AD19 -> 1 | AR20: =AR19 -> 3
A21: 10 | B21: m | P21: =WEEKDAY(DATEVALUE(A21&"/"&P$1&"/"&Accueil!$B$6)) -> 6 | AD21: =WEEKDAY(DATEVALUE($A21&"/"&AD$1&"/"&Accueil!$B$6)) -> 2 | AR21: =WEEKDAY(DATEVALUE($A21&"/"&AR$1&"/"&Accueil!$B$6)) -> 4
B22: am | P22: =P21 -> 6 | AD22: =AD21 -> 2 | AR22: =AR21 -> 4
A23: 11 | B23: m | P23: =WEEKDAY(DATEVALUE(A23&"/"&P$1&"/"&Accueil!$B$6)) -> 7 | AD23: =WEEKDAY(DATEVALUE($A23&"/"&AD$1&"/"&Accueil!$B$6)) -> 3 | AR23: =WEEKDAY(DATEVALUE($A23&"/"&AR$1&"/"&Accueil!$B$6)) -> 5
B24: am | P24: =P23 -> 7 | AD24: =AD23 -> 3 | AR24: =AR23 -> 5
A25: 12 | B25: m | P25: =WEEKDAY(DATEVALUE(A25&"/"&P$1&"/"&Accueil!$B$6)) -> 1 | AD25: =WEEKDAY(DATEVALUE($A25&"/"&AD$1&"/"&Accueil!$B$6)) -> 4 | AR25: =WEEKDAY(DATEVALUE($A25&"/"&AR$1&"/"&Accueil!$B$6)) -> 6
B26: am | P26: =P25 -> 1 | AD26: =AD25 -> 4 | AR26: =AR25 -> 6
A27: 13 | B27: m | P27: =WEEKDAY(DATEVALUE(A27&"/"&P$1&"/"&Accueil!$B$6)) -> 2 | AD27: =WEEKDAY(DATEVALUE($A27&"/"&AD$1&"/"&Accueil!$B$6)) -> 5 | AR27: =WEEKDAY(DATEVALUE($A27&"/"&AR$1&"/"&Accueil!$B$6)) -> 7
B28: am | P28: =P27 -> 2 | AD28: =AD27 -> 5 | AR28: =AR27 -> 7
A29: 14 | B29: m | P29: =WEEKDAY(DATEVALUE(A29&"/"&P$1&"/"&Accueil!$B$6)) -> 3 | AD29: =WEEKDAY(DATEVALUE($A29&"/"&AD$1&"/"&Accueil!$B$6)) -> 6 | AR29: =WEEKDAY(DATEVALUE($A29&"/"&AR$1&"/"&Accueil!$B$6)) -> 1
B30: am | P30: =P29 -> 3 | AD30: =AD29 -> 6 | AR30: =AR29 -> 1
A31: 15 | B31: m | P31: =WEEKDAY(DATEVALUE(A31&"/"&P$1&"/"&Accueil!$B$6)) -> 4 | AD31: =WEEKDAY(DATEVALUE($A31&"/"&AD$1&"/"&Accueil!$B$6)) -> 7 | AR31: =WEEKDAY(DATEVALUE($A31&"/"&AR$1&"/"&Accueil!$B$6)) -> 2
B32: am | P32: =P31 -> 4 | AD32: =AD31 -> 7 | AR32: =AR31 -> 2
A33: 16 | B33: m | P33: =WEEKDAY(DATEVALUE(A33&"/"&P$1&"/"&Accueil!$B$6)) -> 5 | AD33: =WEEKDAY(DATEVALUE($A33&"/"&AD$1&"/"&Accueil!$B$6)) -> 1 | AR33: =WEEKDAY(DATEVALUE($A33&"/"&AR$1&"/"&Accueil!$B$6)) -> 3
B34: am | P34: =P33 -> 5 | AD34: =AD33 -> 1 | AR34: =AR33 -> 3
A35: 17 | B35: m | P35: =WEEKDAY(DATEVALUE(A35&"/"&P$1&"/"&Accueil!$B$6)) -> 6 | AD35: =WEEKDAY(DATEVALUE($A35&"/"&AD$1&"/"&Accueil!$B$6)) -> 2 | AR35: =WEEKDAY(DATEVALUE($A35&"/"&AR$1&"/"&Accueil!$B$6)) -> 4
B36: am | P36: =P35 -> 6 | AD36: =AD35 -> 2 | AR36: =AR35 -> 4
A37: 18 | B37: m | P37: =WEEKDAY(DATEVALUE(A37&"/"&P$1&"/"&Accueil!$B$6)) -> 7 | AD37: =WEEKDAY(DATEVALUE($A37&"/"&AD$1&"/"&Accueil!$B$6)) -> 3 | AR37: =WEEKDAY(DATEVALUE($A37&"/"&AR$1&"/"&Accueil!$B$6)) -> 5
B38: am | P38: =P37 -> 7 | AD38: =AD37 -> 3 | AR38: =AR37 -> 5
A39: 19 | B39: m | P39: =WEEKDAY(DATEVALUE(A39&"/"&P$1&"/"&Accueil!$B$6)) -> 1 | AD39: =WEEKDAY(DATEVALUE($A39&"/"&AD$1&"/"&Accueil!$B$6)) -> 4 | AR39: =WEEKDAY(DATEVALUE($A39&"/"&AR$1&"/"&Accueil!$B$6)) -> 6
B40: am | P40: =P39 -> 1 | AD40: =AD39 -> 4 | AR40: =AR39 -> 6
...

Sheet TRIMESTRE 3
C1: JUILLET | P1: 7 | Q1: AOUT | AD1: 8 | AE1: SEPTEMBRE | AR1: 9
C2: {=TRANSPOSE(Accueil!$D$11:$D$23)} -> VP | D2: JR | E2: AB | F2: CC | G2: MPEA | H2: BFC | I2: MF | J2: NH | K2: CJ | L2: DP | M2: NPV | N2: VS | O2: NVDK | Q2: {=TRANSPOSE(Accueil!$D$11:$D$23)} -> VP | R2: JR | S2: AB | T2: CC | U2: MPEA | V2: BFC | W2: MF | X2: NH | Y2: CJ | Z2: DP | AA2: NPV | AB2: VS | AC2: NVDK | AE2: {=TRANSPOSE(Accueil!$D$11:$D$23)} -> VP | AF2: JR | AG2: AB | AH2: CC | AI2: MPEA | AJ2: BFC | AK2: MF | AL2: NH | AM2: CJ | AN2: DP | AO2: NPV | AP2: VS | AQ2: NVDK
A3: 1 | B3: m | P3: =WEEKDAY(DATEVALUE($A3&"/"&P$1&"/"&Accueil!$B$6)) -> 3 | AD3: =WEEKDAY(DATEVALUE($A3&"/"&AD$1&"/"&Accueil!$B$6)) -> 6 | AR3: =WEEKDAY(DATEVALUE($A3&"/"&AR$1&"/"&Accueil!$B$6)) -> 2
B4: am | P4: =P3 -> 3 | AD4: =AD3 -> 6 | AR4: =AR3 -> 2
A5: 2 | B5: m | P5: =WEEKDAY(DATEVALUE(A5&"/"&P$1&"/"&Accueil!$B$6)) -> 4 | AD5: =WEEKDAY(DATEVALUE($A5&"/"&AD$1&"/"&Accueil!$B$6)) -> 7 | AR5: =WEEKDAY(DATEVALUE($A5&"/"&AR$1&"/"&Accueil!$B$6)) -> 3
B6: am | P6: =P5 -> 4 | AD6: =AD5 -> 7 | AR6: =AR5 -> 3
A7: 3 | B7: m | P7: =WEEKDAY(DATEVALUE(A7&"/"&P$1&"/"&Accueil!$B$6)) -> 5 | AD7: =WEEKDAY(DATEVALUE($A7&"/"&AD$1&"/"&Accueil!$B$6)) -> 1 | AR7: =WEEKDAY(DATEVALUE($A7&"/"&AR$1&"/"&Accueil!$B$6)) -> 4
B8: am | P8: =P7 -> 5 | AD8: =AD7 -> 1 | AR8: =AR7 -> 4
A9: 4 | B9: m | P9: =WEEKDAY(DATEVALUE(A9&"/"&P$1&"/"&Accueil!$B$6)) -> 6 | AD9: =WEEKDAY(DATEVALUE($A9&"/"&AD$1&"/"&Accueil!$B$6)) -> 2 | AR9: =WEEKDAY(DATEVALUE($A9&"/"&AR$1&"/"&Accueil!$B$6)) -> 5
B10: am | P10: =P9 -> 6 | AD10: =AD9 -> 2 | AR10: =AR9 -> 5
A11: 5 | B11: m | P11: =WEEKDAY(DATEVALUE(A11&"/"&P$1&"/"&Accueil!$B$6)) -> 7 | AD11: =WEEKDAY(DATEVALUE($A11&"/"&AD$1&"/"&Accueil!$B$6)) -> 3 | AR11: =WEEKDAY(DATEVALUE($A11&"/"&AR$1&"/"&Accueil!$B$6)) -> 6
B12: am | P12: =P11 -> 7 | AD12: =AD11 -> 3 | AR12: =AR11 -> 6
A13: 6 | B13: m | P13: =WEEKDAY(DATEVALUE(A13&"/"&P$1&"/"&Accueil!$B$6)) -> 1 | AD13: =WEEKDAY(DATEVALUE($A13&"/"&AD$1&"/"&Accueil!$B$6)) -> 4 | AR13: =WEEKDAY(DATEVALUE($A13&"/"&AR$1&"/"&Accueil!$B$6)) -> 7
B14: am | P14: =P13 -> 1 | AD14: =AD13 -> 4 | AR14: =AR13 -> 7
A15: 7 | B15: m | P15: =WEEKDAY(DATEVALUE(A15&"/"&P$1&"/"&Accueil!$B$6)) -> 2 | AD15: =WEEKDAY(DATEVALUE($A15&"/"&AD$1&"/"&Accueil!$B$6)) -> 5 | AR15: =WEEKDAY(DATEVALUE($A15&"/"&AR$1&"/"&Accueil!$B$6)) -> 1
B16: am | P16: =P15 -> 2 | AD16: =AD15 -> 5 | AR16: =AR15 -> 1
A17: 8 | B17: m | P17: =WEEKDAY(DATEVALUE(A17&"/"&P$1&"/"&Accueil!$B$6)) -> 3 | AD17: =WEEKDAY(DATEVALUE($A17&"/"&AD$1&"/"&Accueil!$B$6)) -> 6 | AR17: =WEEKDAY(DATEVALUE($A17&"/"&AR$1&"/"&Accueil!$B$6)) -> 2
B18: am | P18: =P17 -> 3 | AD18: =AD17 -> 6 | AR18: =AR17 -> 2
A19: 9 | B19: m | P19: =WEEKDAY(DATEVALUE(A19&"/"&P$1&"/"&Accueil!$B$6)) -> 4 | AD19: =WEEKDAY(DATEVALUE($A19&"/"&AD$1&"/"&Accueil!$B$6)) -> 7 | AR19: =WEEKDAY(DATEVALUE($A19&"/"&AR$1&"/"&Accueil!$B$6)) -> 3
B20: am | P20: =P19 -> 4 | AD20: =AD19 -> 7 | AR20: =AR19 -> 3
A21: 10 | B21: m | P21: =WEEKDAY(DATEVALUE(A21&"/"&P$1&"/"&Accueil!$B$6)) -> 5 | AD21: =WEEKDAY(DATEVALUE($A21&"/"&AD$1&"/"&Accueil!$B$6)) -> 1 | AR21: =WEEKDAY(DATEVALUE($A21&"/"&AR$1&"/"&Accueil!$B$6)) -> 4
B22: am | P22: =P21 -> 5 | AD22: =AD21 -> 1 | AR22: =AR21 -> 4
A23: 11 | B23: m | P23: =WEEKDAY(DATEVALUE(A23&"/"&P$1&"/"&Accueil!$B$6)) -> 6 | AD23: =WEEKDAY(DATEVALUE($A23&"/"&AD$1&"/"&Accueil!$B$6)) -> 2 | AR23: =WEEKDAY(DATEVALUE($A23&"/"&AR$1&"/"&Accueil!$B$6)) -> 5
B24: am | P24: =P23 -> 6 | AD24: =AD23 -> 2 | AR24: =AR23 -> 5
A25: 12 | B25: m | P25: =WEEKDAY(DATEVALUE(A25&"/"&P$1&"/"&Accueil!$B$6)) -> 7 | AD25: =WEEKDAY(DATEVALUE($A25&"/"&AD$1&"/"&Accueil!$B$6)) -> 3 | AR25: =WEEKDAY(DATEVALUE($A25&"/"&AR$1&"/"&Accueil!$B$6)) -> 6
B26: am | P26: =P25 -> 7 | AD26: =AD25 -> 3 | AR26: =AR25 -> 6
A27: 13 | B27: m | P27: =WEEKDAY(DATEVALUE(A27&"/"&P$1&"/"&Accueil!$B$6)) -> 1 | AD27: =WEEKDAY(DATEVALUE($A27&"/"&AD$1&"/"&Accueil!$B$6)) -> 4 | AR27: =WEEKDAY(DATEVALUE($A27&"/"&AR$1&"/"&Accueil!$B$6)) -> 7
B28: am | P28: =P27 -> 1 | AD28: =AD27 -> 4 | AR28: =AR27 -> 7
A29: 14 | B29: m | P29: =WEEKDAY(DATEVALUE(A29&"/"&P$1&"/"&Accueil!$B$6)) -> 2 | AD29: =WEEKDAY(DATEVALUE($A29&"/"&AD$1&"/"&Accueil!$B$6)) -> 5 | AR29: =WEEKDAY(DATEVALUE($A29&"/"&AR$1&"/"&Accueil!$B$6)) -> 1
B30: am | P30: =P29 -> 2 | AD30: =AD29 -> 5 | AR30: =AR29 -> 1
A31: 15 | B31: m | P31: =WEEKDAY(DATEVALUE(A31&"/"&P$1&"/"&Accueil!$B$6)) -> 3 | AD31: =WEEKDAY(DATEVALUE($A31&"/"&AD$1&"/"&Accueil!$B$6)) -> 6 | AR31: =WEEKDAY(DATEVALUE($A31&"/"&AR$1&"/"&Accueil!$B$6)) -> 2
B32: am | P32: =P31 -> 3 | AD32: =AD31 -> 6 | AR32: =AR31 -> 2
A33: 16 | B33: m | P33: =WEEKDAY(DATEVALUE(A33&"/"&P$1&"/"&Accueil!$B$6)) -> 4 | AD33: =WEEKDAY(DATEVALUE($A33&"/"&AD$1&"/"&Accueil!$B$6)) -> 7 | AR33: =WEEKDAY(DATEVALUE($A33&"/"&AR$1&"/"&Accueil!$B$6)) -> 3
B34: am | P34: =P33 -> 4 | AD34: =AD33 -> 7 | AR34: =AR33 -> 3
A35: 17 | B35: m | P35: =WEEKDAY(DATEVALUE(A35&"/"&P$1&"/"&Accueil!$B$6)) -> 5 | AD35: =WEEKDAY(DATEVALUE($A35&"/"&AD$1&"/"&Accueil!$B$6)) -> 1 | AR35: =WEEKDAY(DATEVALUE($A35&"/"&AR$1&"/"&Accueil!$B$6)) -> 4
B36: am | P36: =P35 -> 5 | AD36: =AD35 -> 1 | AR36: =AR35 -> 4
A37: 18 | B37: m | P37: =WEEKDAY(DATEVALUE(A37&"/"&P$1&"/"&Accueil!$B$6)) -> 6 | AD37: =WEEKDAY(DATEVALUE($A37&"/"&AD$1&"/"&Accueil!$B$6)) -> 2 | AR37: =WEEKDAY(DATEVALUE($A37&"/"&AR$1&"/"&Accueil!$B$6)) -> 5
B38: am | P38: =P37 -> 6 | AD38: =AD37 -> 2 | AR38: =AR37 -> 5
A39: 19 | B39: m | P39: =WEEKDAY(DATEVALUE(A39&"/"&P$1&"/"&Accueil!$B$6)) -> 7 | AD39: =WEEKDAY(DATEVALUE($A39&"/"&AD$1&"/"&Accueil!$B$6)) -> 3 | AR39: =WEEKDAY(DATEVALUE($A39&"/"&AR$1&"/"&Accueil!$B$6)) -> 6
B40: am | P40: =P39 -> 7 | AD40: =AD39 -> 3 | AR40: =AR39 -> 6
...

Sheet Synthèse annuelle
D2: {=TRANSPOSE(Accueil!$D$11:$D$23)} -> VP | E2: JR | F2: AB | G2: CC | H2: MPEA | I2: BFC | J2: MF | K2: NH | L2: CJ | M2: DP | N2: NPV | O2: VS | P2: NVDK
B5: =+Accueil!G11 -> PR | D5: ='TRIMESTRE 1'!C98+'TRIMESTRE 1'!Q98+'TRIMESTRE 1'!AE98+'TRIMESTRE 2'!C67+'TRIMESTRE 2'!Q67+'TRIMESTRE 2'!AE67+'TRIMESTRE 3'!C67+'TRIMESTRE 3'!Q67+'TRIMESTRE 3'!AE67+'TRIMESTRE 4'!C67+'TRIMESTRE 4'!Q67+'TRIMESTRE 4'!AE67 -> 2 | E5: ='TRIMESTRE 1'!D98+'TRIMESTRE 1'!R98+'TRIMESTRE 1'!AF98+'TRIMESTRE 2'!D67+'TRIMESTRE 2'!R67+'TRIMESTRE 2'!AF67+'TRIMESTRE 3'!D67+'TRIMESTRE 3'!R67+'TRIMESTRE 3'!AF67+'TRIMESTRE 4'!D67+'TRIMESTRE 4'!R67+'TRIMESTRE 4'!AF67 -> 0 | F5: ='TRIMESTRE 1'!E98+'TRIMESTRE 1'!S98+'TRIMESTRE 1'!AG98+'TRIMESTRE 2'!E67+'TRIMESTRE 2'!S67+'TRIMESTRE 2'!AG67+'TRIMESTRE 3'!E67+'TRIMESTRE 3'!S67+'TRIMESTRE 3'!AG67+'TRIMESTRE 4'!E67+'TRIMESTRE 4'!S67+'TRIMESTRE 4'!AG67 -> 0 | G5: ='TRIMESTRE 1'!F98+'TRIMESTRE 1'!T98+'TRIMESTRE 1'!AH98+'TRIMESTRE 2'!F67+'TRIMESTRE 2'!T67+'TRIMESTRE 2'!AH67+'TRIMESTRE 3'!F67+'TRIMESTRE 3'!T67+'TRIMESTRE 3'!AH67+'TRIMESTRE 4'!F67+'TRIMESTRE 4'!T67+'TRIMESTRE 4'!AH67 -> 0 | H5: ='TRIMESTRE 1'!G98+'TRIMESTRE 1'!U98+'TRIMESTRE 1'!AI98+'TRIMESTRE 2'!G67+'TRIMESTRE 2'!U67+'TRIMESTRE 2'!AI67+'TRIMESTRE 3'!G67+'TRIMESTRE 3'!U67+'TRIMESTRE 3'!AI67+'TRIMESTRE 4'!G67+'TRIMESTRE 4'!U67+'TRIMESTRE 4'!AI67 -> 0 | I5: ='TRIMESTRE 1'!H98+'TRIMESTRE 1'!V98+'TRIMESTRE 1'!AJ98+'TRIMESTRE 2'!H67+'TRIMESTRE 2'!V67+'TRIMESTRE 2'!AJ67+'TRIMESTRE 3'!H67+'TRIMESTRE 3'!V67+'TRIMESTRE 3'!AJ67+'TRIMESTRE 4'!H67+'TRIMESTRE 4'!V67+'TRIMESTRE 4'!AJ67 -> 0 | J5: ='TRIMESTRE 1'!I98+'TRIMESTRE 1'!W98+'TRIMESTRE 1'!AK98+'TRIMESTRE 2'!I67+'TRIMESTRE 2'!W67+'TRIMESTRE 2'!AK67+'TRIMESTRE 3'!I67+'TRIMESTRE 3'!W67+'TRIMESTRE 3'!AK67+'TRIMESTRE 4'!I67+'TRIMESTRE 4'!W67+'TRIMESTRE 4'!AK67 -> 0 | K5: ='TRIMESTRE 1'!J98+'TRIMESTRE 1'!X98+'TRIMESTRE 1'!AL98+'TRIMESTRE 2'!J67+'TRIMESTRE 2'!X67+'TRIMESTRE 2'!AL67+'TRIMESTRE 3'!J67+'TRIMESTRE 3'!X67+'TRIMESTRE 3'!AL67+'TRIMESTRE 4'!J67+'TRIMESTRE 4'!X67+'TRIMESTRE 4'!AL67 -> 0 | ... P5: ='TRIMESTRE 1'!O98+'TRIMESTRE 1'!AC98+'TRIMESTRE 1'!AQ98+'TRIMESTRE 2'!O67+'TRIMESTRE 2'!AC67+'TRIMESTRE 2'!AQ67+'TRIMESTRE 3'!O67+'TRIMESTRE 3'!AC67+'TRIMESTRE 3'!AQ67+'TRIMESTRE 4'!O67+'TRIMESTRE 4'!AC67+'TRIMESTRE 4'!AQ67 -> 0
B6: =+Accueil!G12 -> AT | D6: ='TRIMESTRE 1'!C99+'TRIMESTRE 1'!Q99+'TRIMESTRE 1'!AE99+'TRIMESTRE 2'!C68+'TRIMESTRE 2'!Q68+'TRIMESTRE 2'!AE68+'TRIMESTRE 3'!C68+'TRIMESTRE 3'!Q68+'TRIMESTRE 3'!AE68+'TRIMESTRE 4'!C68+'TRIMESTRE 4'!Q68+'TRIMESTRE 4'!AE68 -> 0 | E6: ='TRIMESTRE 1'!D99+'TRIMESTRE 1'!R99+'TRIMESTRE 1'!AF99+'TRIMESTRE 2'!D68+'TRIMESTRE 2'!R68+'TRIMESTRE 2'!AF68+'TRIMESTRE 3'!D68+'TRIMESTRE 3'!R68+'TRIMESTRE 3'!AF68+'TRIMESTRE 4'!D68+'TRIMESTRE 4'!R68+'TRIMESTRE 4'!AF68 -> 0 | F6: ='TRIMESTRE 1'!E99+'TRIMESTRE 1'!S99+'TRIMESTRE 1'!AG99+'TRIMESTRE 2'!E68+'TRIMESTRE 2'!S68+'TRIMESTRE 2'!AG68+'TRIMESTRE 3'!E68+'TRIMESTRE 3'!S68+'TRIMESTRE 3'!AG68+'TRIMESTRE 4'!E68+'TRIMESTRE 4'!S68+'TRIMESTRE 4'!AG68 -> 0 | G6: ='TRIMESTRE 1'!F99+'TRIMESTRE 1'!T99+'TRIMESTRE 1'!AH99+'TRIMESTRE 2'!F68+'TRIMESTRE 2'!T68+'TRIMESTRE 2'!AH68+'TRIMESTRE 3'!F68+'TRIMESTRE 3'!T68+'TRIMESTRE 3'!AH68+'TRIMESTRE 4'!F68+'TRIMESTRE 4'!T68+'TRIMESTRE 4'!AH68 -> 0 | H6: ='TRIMESTRE 1'!G99+'TRIMESTRE 1'!U99+'TRIMESTRE 1'!AI99+'TRIMESTRE 2'!G68+'TRIMESTRE 2'!U68+'TRIMESTRE 2'!AI68+'TRIMESTRE 3'!G68+'TRIMESTRE 3'!U68+'TRIMESTRE 3'!AI68+'TRIMESTRE 4'!G68+'TRIMESTRE 4'!U68+'TRIMESTRE 4'!AI68 -> 0 | I6: ='TRIMESTRE 1'!H99+'TRIMESTRE 1'!V99+'TRIMESTRE 1'!AJ99+'TRIMESTRE 2'!H68+'TRIMESTRE 2'!V68+'TRIMESTRE 2'!AJ68+'TRIMESTRE 3'!H68+'TRIMESTRE 3'!V68+'TRIMESTRE 3'!AJ68+'TRIMESTRE 4'!H68+'TRIMESTRE 4'!V68+'TRIMESTRE 4'!AJ68 -> 0 | J6: ='TRIMESTRE 1'!I99+'TRIMESTRE 1'!W99+'TRIMESTRE 1'!AK99+'TRIMESTRE 2'!I68+'TRIMESTRE 2'!W68+'TRIMESTRE 2'!AK68+'TRIMESTRE 3'!I68+'TRIMESTRE 3'!W68+'TRIMESTRE 3'!AK68+'TRIMESTRE 4'!I68+'TRIMESTRE 4'!W68+'TRIMESTRE 4'!AK68 -> 0 | K6: ='TRIMESTRE 1'!J99+'TRIMESTRE 1'!X99+'TRIMESTRE 1'!AL99+'TRIMESTRE 2'!J68+'TRIMESTRE 2'!X68+'TRIMESTRE 2'!AL68+'TRIMESTRE 3'!J68+'TRIMESTRE 3'!X68+'TRIMESTRE 3'!AL68+'TRIMESTRE 4'!J68+'TRIMESTRE 4'!X68+'TRIMESTRE 4'!AL68 -> 0 | ... P6: ='TRIMESTRE 1'!O99+'TRIMESTRE 1'!AC99+'TRIMESTRE 1'!AQ99+'TRIMESTRE 2'!O68+'TRIMESTRE 2'!AC68+'TRIMESTRE 2'!AQ68+'TRIMESTRE 3'!O68+'TRIMESTRE 3'!AC68+'TRIMESTRE 3'!AQ68+'TRIMESTRE 4'!O68+'TRIMESTRE 4'!AC68+'TRIMESTRE 4'!AQ68 -> 0
B7: =+Accueil!G13 -> FO | D7: ='TRIMESTRE 1'!C100+'TRIMESTRE 1'!Q100+'TRIMESTRE 1'!AE100+'TRIMESTRE 2'!C69+'TRIMESTRE 2'!Q69+'TRIMESTRE 2'!AE69+'TRIMESTRE 3'!C69+'TRIMESTRE 3'!Q69+'TRIMESTRE 3'!AE69+'TRIMESTRE 4'!C69+'TRIMESTRE 4'!Q69+'TRIMESTRE 4'!AE69 -> 0 | E7: ='TRIMESTRE 1'!D100+'TRIMESTRE 1'!R100+'TRIMESTRE 1'!AF100+'TRIMESTRE 2'!D69+'TRIMESTRE 2'!R69+'TRIMESTRE 2'!AF69+'TRIMESTRE 3'!D69+'TRIMESTRE 3'!R69+'TRIMESTRE 3'!AF69+'TRIMESTRE 4'!D69+'TRIMESTRE 4'!R69+'TRIMESTRE 4'!AF69 -> 0 | F7: ='TRIMESTRE 1'!E100+'TRIMESTRE 1'!S100+'TRIMESTRE 1'!AG100+'TRIMESTRE 2'!E69+'TRIMESTRE 2'!S69+'TRIMESTRE 2'!AG69+'TRIMESTRE 3'!E69+'TRIMESTRE 3'!S69+'TRIMESTRE 3'!AG69+'TRIMESTRE 4'!E69+'TRIMESTRE 4'!S69+'TRIMESTRE 4'!AG69 -> 0 | G7: ='TRIMESTRE 1'!F100+'TRIMESTRE 1'!T100+'TRIMESTRE 1'!AH100+'TRIMESTRE 2'!F69+'TRIMESTRE 2'!T69+'TRIMESTRE 2'!AH69+'TRIMESTRE 3'!F69+'TRIMESTRE 3'!T69+'TRIMESTRE 3'!AH69+'TRIMESTRE 4'!F69+'TRIMESTRE 4'!T69+'TRIMESTRE 4'!AH69 -> 0 | H7: ='TRIMESTRE 1'!G100+'TRIMESTRE 1'!U100+'TRIMESTRE 1'!AI100+'TRIMESTRE 2'!G69+'TRIMESTRE 2'!U69+'TRIMESTRE 2'!AI69+'TRIMESTRE 3'!G69+'TRIMESTRE 3'!U69+'TRIMESTRE 3'!AI69+'TRIMESTRE 4'!G69+'TRIMESTRE 4'!U69+'TRIMESTRE 4'!AI69 -> 0 | I7: ='TRIMESTRE 1'!H100+'TRIMESTRE 1'!V100+'TRIMESTRE 1'!AJ100+'TRIMESTRE 2'!H69+'TRIMESTRE 2'!V69+'TRIMESTRE 2'!AJ69+'TRIMESTRE 3'!H69+'TRIMESTRE 3'!V69+'TRIMESTRE 3'!AJ69+'TRIMESTRE 4'!H69+'TRIMESTRE 4'!V69+'TRIMESTRE 4'!AJ69 -> 0 | J7: ='TRIMESTRE 1'!I100+'TRIMESTRE 1'!W100+'TRIMESTRE 1'!AK100+'TRIMESTRE 2'!I69+'TRIMESTRE 2'!W69+'TRIMESTRE 2'!AK69+'TRIMESTRE 3'!I69+'TRIMESTRE 3'!W69+'TRIMESTRE 3'!AK69+'TRIMESTRE 4'!I69+'TRIMESTRE 4'!W69+'TRIMESTRE 4'!AK69 -> 0 | K7: ='TRIMESTRE 1'!J100+'TRIMESTRE 1'!X100+'TRIMESTRE 1'!AL100+'TRIMESTRE 2'!J69+'TRIMESTRE 2'!X69+'TRIMESTRE 2'!AL69+'TRIMESTRE 3'!J69+'TRIMESTRE 3'!X69+'TRIMESTRE 3'!AL69+'TRIMESTRE 4'!J69+'TRIMESTRE 4'!X69+'TRIMESTRE 4'!AL69 -> 0 | ... P7: ='TRIMESTRE 1'!O100+'TRIMESTRE 1'!AC100+'TRIMESTRE 1'!AQ100+'TRIMESTRE 2'!O69+'TRIMESTRE 2'!AC69+'TRIMESTRE 2'!AQ69+'TRIMESTRE 3'!O69+'TRIMESTRE 3'!AC69+'TRIMESTRE 3'!AQ69+'TRIMESTRE 4'!O69+'TRIMESTRE 4'!AC69+'TRIMESTRE 4'!AQ69 -> 0
B8: =+Accueil!G14 -> CP | D8: ='TRIMESTRE 1'!C101+'TRIMESTRE 1'!Q101+'TRIMESTRE 1'!AE101+'TRIMESTRE 2'!C70+'TRIMESTRE 2'!Q70+'TRIMESTRE 2'!AE70+'TRIMESTRE 3'!C70+'TRIMESTRE 3'!Q70+'TRIMESTRE 3'!AE70+'TRIMESTRE 4'!C70+'TRIMESTRE 4'!Q70+'TRIMESTRE 4'!AE70 -> 0 | E8: ='TRIMESTRE 1'!D101+'TRIMESTRE 1'!R101+'TRIMESTRE 1'!AF101+'TRIMESTRE 2'!D70+'TRIMESTRE 2'!R70+'TRIMESTRE 2'!AF70+'TRIMESTRE 3'!D70+'TRIMESTRE 3'!R70+'TRIMESTRE 3'!AF70+'TRIMESTRE 4'!D70+'TRIMESTRE 4'!R70+'TRIMESTRE 4'!AF70 -> 0 | F8: ='TRIMESTRE 1'!E101+'TRIMESTRE 1'!S101+'TRIMESTRE 1'!AG101+'TRIMESTRE 2'!E70+'TRIMESTRE 2'!S70+'TRIMESTRE 2'!AG70+'TRIMESTRE 3'!E70+'TRIMESTRE 3'!S70+'TRIMESTRE 3'!AG70+'TRIMESTRE 4'!E70+'TRIMESTRE 4'!S70+'TRIMESTRE 4'!AG70 -> 0 | G8: ='TRIMESTRE 1'!F101+'TRIMESTRE 1'!T101+'TRIMESTRE 1'!AH101+'TRIMESTRE 2'!F70+'TRIMESTRE 2'!T70+'TRIMESTRE 2'!AH70+'TRIMESTRE 3'!F70+'TRIMESTRE 3'!T70+'TRIMESTRE 3'!AH70+'TRIMESTRE 4'!F70+'TRIMESTRE 4'!T70+'TRIMESTRE 4'!AH70 -> 0 | H8: ='TRIMESTRE 1'!G101+'TRIMESTRE 1'!U101+'TRIMESTRE 1'!AI101+'TRIMESTRE 2'!G70+'TRIMESTRE 2'!U70+'TRIMESTRE 2'!AI70+'TRIMESTRE 3'!G70+'TRIMESTRE 3'!U70+'TRIMESTRE 3'!AI70+'TRIMESTRE 4'!G70+'TRIMESTRE 4'!U70+'TRIMESTRE 4'!AI70 -> 0 | I8: ='TRIMESTRE 1'!H101+'TRIMESTRE 1'!V101+'TRIMESTRE 1'!AJ101+'TRIMESTRE 2'!H70+'TRIMESTRE 2'!V70+'TRIMESTRE 2'!AJ70+'TRIMESTRE 3'!H70+'TRIMESTRE 3'!V70+'TRIMESTRE 3'!AJ70+'TRIMESTRE 4'!H70+'TRIMESTRE 4'!V70+'TRIMESTRE 4'!AJ70 -> 0 | J8: ='TRIMESTRE 1'!I101+'TRIMESTRE 1'!W101+'TRIMESTRE 1'!AK101+'TRIMESTRE 2'!I70+'TRIMESTRE 2'!W70+'TRIMESTRE 2'!AK70+'TRIMESTRE 3'!I70+'TRIMESTRE 3'!W70+'TRIMESTRE 3'!AK70+'TRIMESTRE 4'!I70+'TRIMESTRE 4'!W70+'TRIMESTRE 4'!AK70 -> 0 | K8: ='TRIMESTRE 1'!J101+'TRIMESTRE 1'!X101+'TRIMESTRE 1'!AL101+'TRIMESTRE 2'!J70+'TRIMESTRE 2'!X70+'TRIMESTRE 2'!AL70+'TRIMESTRE 3'!J70+'TRIMESTRE 3'!X70+'TRIMESTRE 3'!AL70+'TRIMESTRE 4'!J70+'TRIMESTRE 4'!X70+'TRIMESTRE 4'!AL70 -> 0 | ... P8: ='TRIMESTRE 1'!O101+'TRIMESTRE 1'!AC101+'TRIMESTRE 1'!AQ101+'TRIMESTRE 2'!O70+'TRIMESTRE 2'!AC70+'TRIMESTRE 2'!AQ70+'TRIMESTRE 3'!O70+'TRIMESTRE 3'!AC70+'TRIMESTRE 3'!AQ70+'TRIMESTRE 4'!O70+'TRIMESTRE 4'!AC70+'TRIMESTRE 4'!AQ70 -> 0
B9: =+Accueil!G15 -> AC | D9: ='TRIMESTRE 1'!C102+'TRIMESTRE 1'!Q102+'TRIMESTRE 1'!AE102+'TRIMESTRE 2'!C71+'TRIMESTRE 2'!Q71+'TRIMESTRE 2'!AE71+'TRIMESTRE 3'!C71+'TRIMESTRE 3'!Q71+'TRIMESTRE 3'!AE71+'TRIMESTRE 4'!C71+'TRIMESTRE 4'!Q71+'TRIMESTRE 4'!AE71 -> 0 | E9: ='TRIMESTRE 1'!D102+'TRIMESTRE 1'!R102+'TRIMESTRE 1'!AF102+'TRIMESTRE 2'!D71+'TRIMESTRE 2'!R71+'TRIMESTRE 2'!AF71+'TRIMESTRE 3'!D71+'TRIMESTRE 3'!R71+'TRIMESTRE 3'!AF71+'TRIMESTRE 4'!D71+'TRIMESTRE 4'!R71+'TRIMESTRE 4'!AF71 -> 0 | F9: ='TRIMESTRE 1'!E102+'TRIMESTRE 1'!S102+'TRIMESTRE 1'!AG102+'TRIMESTRE 2'!E71+'TRIMESTRE 2'!S71+'TRIMESTRE 2'!AG71+'TRIMESTRE 3'!E71+'TRIMESTRE 3'!S71+'TRIMESTRE 3'!AG71+'TRIMESTRE 4'!E71+'TRIMESTRE 4'!S71+'TRIMESTRE 4'!AG71 -> 0 | G9: ='TRIMESTRE 1'!F102+'TRIMESTRE 1'!T102+'TRIMESTRE 1'!AH102+'TRIMESTRE 2'!F71+'TRIMESTRE 2'!T71+'TRIMESTRE 2'!AH71+'TRIMESTRE 3'!F71+'TRIMESTRE 3'!T71+'TRIMESTRE 3'!AH71+'TRIMESTRE 4'!F71+'TRIMESTRE 4'!T71+'TRIMESTRE 4'!AH71 -> 0 | H9: ='TRIMESTRE 1'!G102+'TRIMESTRE 1'!U102+'TRIMESTRE 1'!AI102+'TRIMESTRE 2'!G71+'TRIMESTRE 2'!U71+'TRIMESTRE 2'!AI71+'TRIMESTRE 3'!G71+'TRIMESTRE 3'!U71+'TRIMESTRE 3'!AI71+'TRIMESTRE 4'!G71+'TRIMESTRE 4'!U71+'TRIMESTRE 4'!AI71 -> 0 | I9: ='TRIMESTRE 1'!H102+'TRIMESTRE 1'!V102+'TRIMESTRE 1'!AJ102+'TRIMESTRE 2'!H71+'TRIMESTRE 2'!V71+'TRIMESTRE 2'!AJ71+'TRIMESTRE 3'!H71+'TRIMESTRE 3'!V71+'TRIMESTRE 3'!AJ71+'TRIMESTRE 4'!H71+'TRIMESTRE 4'!V71+'TRIMESTRE 4'!AJ71 -> 0 | J9: ='TRIMESTRE 1'!I102+'TRIMESTRE 1'!W102+'TRIMESTRE 1'!AK102+'TRIMESTRE 2'!I71+'TRIMESTRE 2'!W71+'TRIMESTRE 2'!AK71+'TRIMESTRE 3'!I71+'TRIMESTRE 3'!W71+'TRIMESTRE 3'!AK71+'TRIMESTRE 4'!I71+'TRIMESTRE 4'!W71+'TRIMESTRE 4'!AK71 -> 0 | K9: ='TRIMESTRE 1'!J102+'TRIMESTRE 1'!X102+'TRIMESTRE 1'!AL102+'TRIMESTRE 2'!J71+'TRIMESTRE 2'!X71+'TRIMESTRE 2'!AL71+'TRIMESTRE 3'!J71+'TRIMESTRE 3'!X71+'TRIMESTRE 3'!AL71+'TRIMESTRE 4'!J71+'TRIMESTRE 4'!X71+'TRIMESTRE 4'!AL71 -> 0 | ... P9: ='TRIMESTRE 1'!O102+'TRIMESTRE 1'!AC102+'TRIMESTRE 1'!AQ102+'TRIMESTRE 2'!O71+'TRIMESTRE 2'!AC71+'TRIMESTRE 2'!AQ71+'TRIMESTRE 3'!O71+'TRIMESTRE 3'!AC71+'TRIMESTRE 3'!AQ71+'TRIMESTRE 4'!O71+'TRIMESTRE 4'!AC71+'TRIMESTRE 4'!AQ71 -> 0
B10: =+Accueil!G16 -> MA | D10: ='TRIMESTRE 1'!C103+'TRIMESTRE 1'!Q103+'TRIMESTRE 1'!AE103+'TRIMESTRE 2'!C72+'TRIMESTRE 2'!Q72+'TRIMESTRE 2'!AE72+'TRIMESTRE 3'!C72+'TRIMESTRE 3'!Q72+'TRIMESTRE 3'!AE72+'TRIMESTRE 4'!C72+'TRIMESTRE 4'!Q72+'TRIMESTRE 4'!AE72 -> 0 | E10: ='TRIMESTRE 1'!D103+'TRIMESTRE 1'!R103+'TRIMESTRE 1'!AF103+'TRIMESTRE 2'!D72+'TRIMESTRE 2'!R72+'TRIMESTRE 2'!AF72+'TRIMESTRE 3'!D72+'TRIMESTRE 3'!R72+'TRIMESTRE 3'!AF72+'TRIMESTRE 4'!D72+'TRIMESTRE 4'!R72+'TRIMESTRE 4'!AF72 -> 0 | F10: ='TRIMESTRE 1'!E103+'TRIMESTRE 1'!S103+'TRIMESTRE 1'!AG103+'TRIMESTRE 2'!E72+'TRIMESTRE 2'!S72+'TRIMESTRE 2'!AG72+'TRIMESTRE 3'!E72+'TRIMESTRE 3'!S72+'TRIMESTRE 3'!AG72+'TRIMESTRE 4'!E72+'TRIMESTRE 4'!S72+'TRIMESTRE 4'!AG72 -> 0 | G10: ='TRIMESTRE 1'!F103+'TRIMESTRE 1'!T103+'TRIMESTRE 1'!AH103+'TRIMESTRE 2'!F72+'TRIMESTRE 2'!T72+'TRIMESTRE 2'!AH72+'TRIMESTRE 3'!F72+'TRIMESTRE 3'!T72+'TRIMESTRE 3'!AH72+'TRIMESTRE 4'!F72+'TRIMESTRE 4'!T72+'TRIMESTRE 4'!AH72 -> 0 | H10: ='TRIMESTRE 1'!G103+'TRIMESTRE 1'!U103+'TRIMESTRE 1'!AI103+'TRIMESTRE 2'!G72+'TRIMESTRE 2'!U72+'TRIMESTRE 2'!AI72+'TRIMESTRE 3'!G72+'TRIMESTRE 3'!U72+'TRIMESTRE 3'!AI72+'TRIMESTRE 4'!G72+'TRIMESTRE 4'!U72+'TRIMESTRE 4'!AI72 -> 0 | I10: ='TRIMESTRE 1'!H103+'TRIMESTRE 1'!V103+'TRIMESTRE 1'!AJ103+'TRIMESTRE 2'!H72+'TRIMESTRE 2'!V72+'TRIMESTRE 2'!AJ72+'TRIMESTRE 3'!H72+'TRIMESTRE 3'!V72+'TRIMESTRE 3'!AJ72+'TRIMESTRE 4'!H72+'TRIMESTRE 4'!V72+'TRIMESTRE 4'!AJ72 -> 0 | J10: ='TRIMESTRE 1'!I103+'TRIMESTRE 1'!W103+'TRIMESTRE 1'!AK103+'TRIMESTRE 2'!I72+'TRIMESTRE 2'!W72+'TRIMESTRE 2'!AK72+'TRIMESTRE 3'!I72+'TRIMESTRE 3'!W72+'TRIMESTRE 3'!AK72+'TRIMESTRE 4'!I72+'TRIMESTRE 4'!W72+'TRIMESTRE 4'!AK72 -> 0 | K10: ='TRIMESTRE 1'!J103+'TRIMESTRE 1'!X103+'TRIMESTRE 1'!AL103+'TRIMESTRE 2'!J72+'TRIMESTRE 2'!X72+'TRIMESTRE 2'!AL72+'TRIMESTRE 3'!J72+'TRIMESTRE 3'!X72+'TRIMESTRE 3'!AL72+'TRIMESTRE 4'!J72+'TRIMESTRE 4'!X72+'TRIMESTRE 4'!AL72 -> 0 | ... P10: ='TRIMESTRE 1'!O103+'TRIMESTRE 1'!AC103+'TRIMESTRE 1'!AQ103+'TRIMESTRE 2'!O72+'TRIMESTRE 2'!AC72+'TRIMESTRE 2'!AQ72+'TRIMESTRE 3'!O72+'TRIMESTRE 3'!AC72+'TRIMESTRE 3'!AQ72+'TRIMESTRE 4'!O72+'TRIMESTRE 4'!AC72+'TRIMESTRE 4'!AQ72 -> 0
B11: =+Accueil!G17 -> PE | D11: ='TRIMESTRE 1'!C104+'TRIMESTRE 1'!Q104+'TRIMESTRE 1'!AE104+'TRIMESTRE 2'!C73+'TRIMESTRE 2'!Q73+'TRIMESTRE 2'!AE73+'TRIMESTRE 3'!C73+'TRIMESTRE 3'!Q73+'TRIMESTRE 3'!AE73+'TRIMESTRE 4'!C73+'TRIMESTRE 4'!Q73+'TRIMESTRE 4'!AE73 -> 0 | E11: ='TRIMESTRE 1'!D104+'TRIMESTRE 1'!R104+'TRIMESTRE 1'!AF104+'TRIMESTRE 2'!D73+'TRIMESTRE 2'!R73+'TRIMESTRE 2'!AF73+'TRIMESTRE 3'!D73+'TRIMESTRE 3'!R73+'TRIMESTRE 3'!AF73+'TRIMESTRE 4'!D73+'TRIMESTRE 4'!R73+'TRIMESTRE 4'!AF73 -> 0 | F11: ='TRIMESTRE 1'!E104+'TRIMESTRE 1'!S104+'TRIMESTRE 1'!AG104+'TRIMESTRE 2'!E73+'TRIMESTRE 2'!S73+'TRIMESTRE 2'!AG73+'TRIMESTRE 3'!E73+'TRIMESTRE 3'!S73+'TRIMESTRE 3'!AG73+'TRIMESTRE 4'!E73+'TRIMESTRE 4'!S73+'TRIMESTRE 4'!AG73 -> 0 | G11: ='TRIMESTRE 1'!F104+'TRIMESTRE 1'!T104+'TRIMESTRE 1'!AH104+'TRIMESTRE 2'!F73+'TRIMESTRE 2'!T73+'TRIMESTRE 2'!AH73+'TRIMESTRE 3'!F73+'TRIMESTRE 3'!T73+'TRIMESTRE 3'!AH73+'TRIMESTRE 4'!F73+'TRIMESTRE 4'!T73+'TRIMESTRE 4'!AH73 -> 0 | H11: ='TRIMESTRE 1'!G104+'TRIMESTRE 1'!U104+'TRIMESTRE 1'!AI104+'TRIMESTRE 2'!G73+'TRIMESTRE 2'!U73+'TRIMESTRE 2'!AI73+'TRIMESTRE 3'!G73+'TRIMESTRE 3'!U73+'TRIMESTRE 3'!AI73+'TRIMESTRE 4'!G73+'TRIMESTRE 4'!U73+'TRIMESTRE 4'!AI73 -> 0 | I11: ='TRIMESTRE 1'!H104+'TRIMESTRE 1'!V104+'TRIMESTRE 1'!AJ104+'TRIMESTRE 2'!H73+'TRIMESTRE 2'!V73+'TRIMESTRE 2'!AJ73+'TRIMESTRE 3'!H73+'TRIMESTRE 3'!V73+'TRIMESTRE 3'!AJ73+'TRIMESTRE 4'!H73+'TRIMESTRE 4'!V73+'TRIMESTRE 4'!AJ73 -> 0 | J11: ='TRIMESTRE 1'!I104+'TRIMESTRE 1'!W104+'TRIMESTRE 1'!AK104+'TRIMESTRE 2'!I73+'TRIMESTRE 2'!W73+'TRIMESTRE 2'!AK73+'TRIMESTRE 3'!I73+'TRIMESTRE 3'!W73+'TRIMESTRE 3'!AK73+'TRIMESTRE 4'!I73+'TRIMESTRE 4'!W73+'TRIMESTRE 4'!AK73 -> 0 | K11: ='TRIMESTRE 1'!J104+'TRIMESTRE 1'!X104+'TRIMESTRE 1'!AL104+'TRIMESTRE 2'!J73+'TRIMESTRE 2'!X73+'TRIMESTRE 2'!AL73+'TRIMESTRE 3'!J73+'TRIMESTRE 3'!X73+'TRIMESTRE 3'!AL73+'TRIMESTRE 4'!J73+'TRIMESTRE 4'!X73+'TRIMESTRE 4'!AL73 -> 0 | ... P11: ='TRIMESTRE 1'!O104+'TRIMESTRE 1'!AC104+'TRIMESTRE 1'!AQ104+'TRIMESTRE 2'!O73+'TRIMESTRE 2'!AC73+'TRIMESTRE 2'!AQ73+'TRIMESTRE 3'!O73+'TRIMESTRE 3'!AC73+'TRIMESTRE 3'!AQ73+'TRIMESTRE 4'!O73+'TRIMESTRE 4'!AC73+'TRIMESTRE 4'!AQ73 -> 0
B13: TR | C13: calculés | D13: ='TRIMESTRE 1'!C106+'TRIMESTRE 1'!Q106+'TRIMESTRE 1'!AE106+'TRIMESTRE 2'!C75+'TRIMESTRE 2'!Q75+'TRIMESTRE 2'!AE75+'TRIMESTRE 3'!C75+'TRIMESTRE 3'!Q75+'TRIMESTRE 3'!AE75+'TRIMESTRE 4'!C75+'TRIMESTRE 4'!Q75+'TRIMESTRE 4'!AE75 -> 2 | E13: ='TRIMESTRE 1'!D106+'TRIMESTRE 1'!R106+'TRIMESTRE 1'!AF106+'TRIMESTRE 2'!D75+'TRIMESTRE 2'!R75+'TRIMESTRE 2'!AF75+'TRIMESTRE 3'!D75+'TRIMESTRE 3'!R75+'TRIMESTRE 3'!AF75+'TRIMESTRE 4'!D75+'TRIMESTRE 4'!R75+'TRIMESTRE 4'!AF75 -> 0 | F13: ='TRIMESTRE 1'!E106+'TRIMESTRE 1'!S106+'TRIMESTRE 1'!AG106+'TRIMESTRE 2'!E75+'TRIMESTRE 2'!S75+'TRIMESTRE 2'!AG75+'TRIMESTRE 3'!E75+'TRIMESTRE 3'!S75+'TRIMESTRE 3'!AG75+'TRIMESTRE 4'!E75+'TRIMESTRE 4'!S75+'TRIMESTRE 4'!AG75 -> 0 | G13: ='TRIMESTRE 1'!F106+'TRIMESTRE 1'!T106+'TRIMESTRE 1'!AH106+'TRIMESTRE 2'!F75+'TRIMESTRE 2'!T75+'TRIMESTRE 2'!AH75+'TRIMESTRE 3'!F75+'TRIMESTRE 3'!T75+'TRIMESTRE 3'!AH75+'TRIMESTRE 4'!F75+'TRIMESTRE 4'!T75+'TRIMESTRE 4'!AH75 -> 0 | H13: ='TRIMESTRE 1'!G106+'TRIMESTRE 1'!U106+'TRIMESTRE 1'!AI106+'TRIMESTRE 2'!G75+'TRIMESTRE 2'!U75+'TRIMESTRE 2'!AI75+'TRIMESTRE 3'!G75+'TRIMESTRE 3'!U75+'TRIMESTRE 3'!AI75+'TRIMESTRE 4'!G75+'TRIMESTRE 4'!U75+'TRIMESTRE 4'!AI75 -> 0 | I13: ='TRIMESTRE 1'!H106+'TRIMESTRE 1'!V106+'TRIMESTRE 1'!AJ106+'TRIMESTRE 2'!H75+'TRIMESTRE 2'!V75+'TRIMESTRE 2'!AJ75+'TRIMESTRE 3'!H75+'TRIMESTRE 3'!V75+'TRIMESTRE 3'!AJ75+'TRIMESTRE 4'!H75+'TRIMESTRE 4'!V75+'TRIMESTRE 4'!AJ75 -> 0 | J13: ='TRIMESTRE 1'!I106+'TRIMESTRE 1'!W106+'TRIMESTRE 1'!AK106+'TRIMESTRE 2'!I75+'TRIMESTRE 2'!W75+'TRIMESTRE 2'!AK75+'TRIMESTRE 3'!I75+'TRIMESTRE 3'!W75+'TRIMESTRE 3'!AK75+'TRIMESTRE 4'!I75+'TRIMESTRE 4'!W75+'TRIMESTRE 4'!AK75 -> 0 | K13: ='TRIMESTRE 1'!J106+'TRIMESTRE 1'!X106+'TRIMESTRE 1'!AL106+'TRIMESTRE 2'!J75+'TRIMESTRE 2'!X75+'TRIMESTRE 2'!AL75+'TRIMESTRE 3'!J75+'TRIMESTRE 3'!X75+'TRIMESTRE 3'!AL75+'TRIMESTRE 4'!J75+'TRIMESTRE 4'!X75+'TRIMESTRE 4'!AL75 -> 0 | ... P13: ='TRIMESTRE 1'!O106+'TRIMESTRE 1'!AC106+'TRIMESTRE 1'!AQ106+'TRIMESTRE 2'!O75+'TRIMESTRE 2'!AC75+'TRIMESTRE 2'!AQ75+'TRIMESTRE 3'!O75+'TRIMESTRE 3'!AC75+'TRIMESTRE 3'!AQ75+'TRIMESTRE 4'!O75+'TRIMESTRE 4'!AC75+'TRIMESTRE 4'!AQ75 -> 0
B14: TR | C14: Réels | D14: ='TRIMESTRE 1'!C107+'TRIMESTRE 1'!Q107+'TRIMESTRE 1'!AE107+'TRIMESTRE 2'!C76+'TRIMESTRE 2'!Q76+'TRIMESTRE 2'!AE76+'TRIMESTRE 3'!C76+'TRIMESTRE 3'!Q76+'TRIMESTRE 3'!AE76+'TRIMESTRE 4'!C76+'TRIMESTRE 4'!Q76+'TRIMESTRE 4'!AE76 -> 0 | E14: ='TRIMESTRE 1'!D107+'TRIMESTRE 1'!R107+'TRIMESTRE 1'!AF107+'TRIMESTRE 2'!D76+'TRIMESTRE 2'!R76+'TRIMESTRE 2'!AF76+'TRIMESTRE 3'!D76+'TRIMESTRE 3'!R76+'TRIMESTRE 3'!AF76+'TRIMESTRE 4'!D76+'TRIMESTRE 4'!R76+'TRIMESTRE 4'!AF76 -> 0 | F14: ='TRIMESTRE 1'!E107+'TRIMESTRE 1'!S107+'TRIMESTRE 1'!AG107+'TRIMESTRE 2'!E76+'TRIMESTRE 2'!S76+'TRIMESTRE 2'!AG76+'TRIMESTRE 3'!E76+'TRIMESTRE 3'!S76+'TRIMESTRE 3'!AG76+'TRIMESTRE 4'!E76+'TRIMESTRE 4'!S76+'TRIMESTRE 4'!AG76 -> 0 | G14: ='TRIMESTRE 1'!F107+'TRIMESTRE 1'!T107+'TRIMESTRE 1'!AH107+'TRIMESTRE 2'!F76+'TRIMESTRE 2'!T76+'TRIMESTRE 2'!AH76+'TRIMESTRE 3'!F76+'TRIMESTRE 3'!T76+'TRIMESTRE 3'!AH76+'TRIMESTRE 4'!F76+'TRIMESTRE 4'!T76+'TRIMESTRE 4'!AH76 -> 0 | H14: ='TRIMESTRE 1'!G107+'TRIMESTRE 1'!U107+'TRIMESTRE 1'!AI107+'TRIMESTRE 2'!G76+'TRIMESTRE 2'!U76+'TRIMESTRE 2'!AI76+'TRIMESTRE 3'!G76+'TRIMESTRE 3'!U76+'TRIMESTRE 3'!AI76+'TRIMESTRE 4'!G76+'TRIMESTRE 4'!U76+'TRIMESTRE 4'!AI76 -> 0 | I14: ='TRIMESTRE 1'!H107+'TRIMESTRE 1'!V107+'TRIMESTRE 1'!AJ107+'TRIMESTRE 2'!H76+'TRIMESTRE 2'!V76+'TRIMESTRE 2'!AJ76+'TRIMESTRE 3'!H76+'TRIMESTRE 3'!V76+'TRIMESTRE 3'!AJ76+'TRIMESTRE 4'!H76+'TRIMESTRE 4'!V76+'TRIMESTRE 4'!AJ76 -> 0 | J14: ='TRIMESTRE 1'!I107+'TRIMESTRE 1'!W107+'TRIMESTRE 1'!AK107+'TRIMESTRE 2'!I76+'TRIMESTRE 2'!W76+'TRIMESTRE 2'!AK76+'TRIMESTRE 3'!I76+'TRIMESTRE 3'!W76+'TRIMESTRE 3'!AK76+'TRIMESTRE 4'!I76+'TRIMESTRE 4'!W76+'TRIMESTRE 4'!AK76 -> 0 | K14: ='TRIMESTRE 1'!J107+'TRIMESTRE 1'!X107+'TRIMESTRE 1'!AL107+'TRIMESTRE 2'!J76+'TRIMESTRE 2'!X76+'TRIMESTRE 2'!AL76+'TRIMESTRE 3'!J76+'TRIMESTRE 3'!X76+'TRIMESTRE 3'!AL76+'TRIMESTRE 4'!J76+'TRIMESTRE 4'!X76+'TRIMESTRE 4'!AL76 -> 0 | ... P14: ='TRIMESTRE 1'!O107+'TRIMESTRE 1'!AC107+'TRIMESTRE 1'!AQ107+'TRIMESTRE 2'!O76+'TRIMESTRE 2'!AC76+'TRIMESTRE 2'!AQ76+'TRIMESTRE 3'!O76+'TRIMESTRE 3'!AC76+'TRIMESTRE 3'!AQ76+'TRIMESTRE 4'!O76+'TRIMESTRE 4'!AC76+'TRIMESTRE 4'!AQ76 -> 0
